{"text_format":"1","workbook":"xlsx","n_sheets":18,"sheets":["Sumario","DOTS_Potencial","Sistema_Analisado","analise_tabdin","graf_H_extr","analise_H_extr","analise_H","SEE_H_graph","SEE_agrg","RR_PR_PnR","Níveis de Renda por Estc","QD_agrg","UdS_agrg","UdS_TCA_graphs","SEE_data","QD_data","UdS_data","SEE_IBGE_fonte"],"not_rendered":{"charts":51,"images":1,"macros":1,"external_links":0,"defined_names":22,"comments":3,"pivot_tables":4},"unopened":[{"sheet":"graf_H_extr","index":4,"reason":"not_a_worksheet"}],"bounds":{"document_bytes":16777216,"sheet_cells":100000,"rows_first":2000,"rows_last":500,"rows_between":2000,"halvings":0,"cell_chars":16384,"cell_head_chars":4096},"cells_cut":0,"cells_raw":0,"read":"whole","date_system":"1904"}

{"sheet":"Sumario","index":0,"n_rows":18,"n_cols":2,"rows_kept":18,"cut":false,"hidden":false,"merged":[[2,1,3,1]]}
["Sumário"]
[]
["Resumo","Planilha Modelo (Template) para inserção de dados e visualização de resultados relativos à Fase 1 da Ferramenta para Avaliação do Potencial de DOTS em Corredores de Transporte.\nAutor: ITDP Brasil\nVersão: 18 de outubro de 2016"]
[]
[]
["Aba","Informação"]
["DOTS_Potencial","Lista de estações analisadas e seus respectivos resultados finais relativos à Fase 1"]
["Sistema_Analisado","Lista de corredores e estações analisadas e parâmetros adotados"]
["SEE_agrg","Informações no nível de Setores Censitários agregadas por Estação"]
["QD_agrg","Informações no nível de Quadras agregadas por Estação"]
["UdS_agrg","Informações no nível de Uso do Solo agregadas por Estação"]
["SEE_data","Base de Dados no nível de Setores Censitários"]
["QD_data","Base de Dados no nível de Quadras"]
["UdS_data","Base de Dados no nível de Uso do Solo"]
["SEE_IBGE_fonte","Tabela de Referência das Variáveis Utilizadas a nível de Setor Censitário do Censo Demográfico do IBGE"]
[]
["Legenda de Cores","célula em amarelo claro = células com dados ou informações a serem inseridas"]
[null,"célula em outras cores = células que não devem ser alteradas"]

{"sheet":"DOTS_Potencial","index":1,"n_rows":51,"n_cols":30,"rows_kept":51,"cut":false,"hidden":false,"merged":[[3,21,3,24],[3,5,3,11],[3,12,3,15],[3,16,3,20],[3,25,3,26]]}
["Pontuação Global do Corredor Analisado"]
[]
[null,"corredor","estc",null,null,"pont_dens","pont_ar_pred","pont_ar_mix","pont_ar_sub",null,"pont_ar_incomp",null,"pont_agua","pont_esgt",null,null,"pont_dens_qd","pont_segr","pont_intg",null,null,"pont_calc","pont_ilum","pont_arb",null,"pont_H_PR"]
[null,null,null,null,"Tema","Uso e Ocupação do Solo (UOS)",null,null,null,null,null,null,"Infraestrutura de Saneamento Básico (SAB)",null,null,null,"Conectividade do Espaço Urbano (CEU)",null,null,null,null,"Condições de Circulação para Transportes Ativos (ATV)",null,null,null,"Diversidade Socioeconômica (DIV)"]
[null,null,null,null,"Peso",1,1,1,1,1,null,null,1,1,2.5,null,1,1,1,2,null,1,1,1,1,1,2]
["#","Corredor","Estação","Resultado Fase 1","Métrica","Pontuação Densidade Demográfica","Pontuação Áreas Monofuncionais","Pontuação Áreas Residenciais com Atividades Complementares","Pontuação Áreas não edificadas ou subutilizadas","Total  \nTema \nUOS","Controle \nValidação Áreas Incompatíveis","Controle \nValidação Tema \nUOS","Pontuação Abastecimento de Água","Pontuação Coleta de Esgoto","Total  \nTema \nSAB","Controle \nValidação Tema \nSAB","Pontuação Densidade de Quadras","Pontuação Elementos de Segregação","Pontuação Integração Rede de TP de MA Capacidade","Total  \nTema \nCEU","Controle \nValidação Tema \nCEU","Pontuação Calçadas no Entorno","Pontuação Iluminação no Entorno","Pontuação Arborização no Entorno","Total  \nTema \nATV","Pontuação Diversidade Socioeconômica","Total  \nTema \nDIV","Pontuação\nTOTAL","Desempenho PRELIMINAR","Controle \nValidação\nTOTAL"]
[1,"Corredor 1","Estação 1",{"$f":"IF(AD7=\"VALIDADO\",AC7,\"BAIXO\")","v":{"$error":"#N/A"}},null,{"$f":"VLOOKUP($C7,SEE_agrg!D:BB,MATCH(F$3,SEE_agrg!$D$3:$BB$3,FALSE),FALSE)","v":{"$error":"#N/A"}},{"$f":"VLOOKUP($C7,UdS_agrg!$D:$P,MATCH(G$3,UdS_agrg!$D$3:$P$3,FALSE),FALSE)","v":{"$error":"#N/A"}},{"$f":"VLOOKUP($C7,UdS_agrg!$D:$P,MATCH(H$3,UdS_agrg!$D$3:$P$3,FALSE),FALSE)","v":{"$error":"#N/A"}},{"$f":"VLOOKUP($C7,UdS_agrg!$D:$P,MATCH(I$3,UdS_agrg!$D$3:$P$3,FALSE),FALSE)","v":{"$error":"#N/A"}},{"$f":"(F7*$F$5+G7*$G$5+H7*$H$5+I7*$I$5)*$J$5","v":{"$error":"#N/A"}},{"$f":"VLOOKUP($C7,UdS_agrg!$D:$P,MATCH(K$3,UdS_agrg!$D$3:$P$3,FALSE),FALSE)","v":{"$error":"#N/A"}},{"$f":"IF(COUNTIF(G7,0)=1,\"INVALIDADO\",K7)","v":{"$error":"#N/A"}},{"$f":"VLOOKUP($C7,SEE_agrg!$D:$BB,MATCH(M$3,SEE_agrg!$D$3:$BB$3,FALSE),FALSE)","v":{"$error":"#N/A"}},{"$f":"VLOOKUP($C7,SEE_agrg!$D:$BB,MATCH(N$3,SEE_agrg!$D$3:$BB$3,FALSE),FALSE)","v":{"$error":"#N/A"}},{"$f":"(M7*$M$5+N7*$N$5)*$O$5","v":{"$error":"#N/A"}},{"$f":"IF(OR(M7=0,N7=0),\"INVALIDADO\",\"VALIDADO\")","v":{"$error":"#N/A"}},{"$f":"VLOOKUP($C7,QD_agrg!$D:$M,MATCH(Q$3,QD_agrg!$D$3:$M$3,FALSE),FALSE)","v":{"$error":"#N/A"}},{"$f":"VLOOKUP($C7,QD_agrg!$D:$M,MATCH(R$3,QD_agrg!$D$3:$M$3,FALSE),FALSE)","v":{"$error":"#N/A"}},{"$f":"VLOOKUP($C7,QD_agrg!$D:$O,MATCH(S$3,QD_agrg!$D$3:$O$3,FALSE),FALSE)","v":{"$error":"#N/A"}},{"$f":"(Q7*$Q$5+R7*$R$5+S7*$S$5)*$T$5","v":{"$error":"#N/A"}},{"$f":"IF(Q7=0,\"INVALIDADO\",\"VALIDADO\")","v":{"$error":"#N/A"}},{"$f":"VLOOKUP($C7,SEE_agrg!$D:$BB,MATCH(V$3,SEE_agrg!$D$3:$BB$3,FALSE),FALSE)","v":{"$error":"#N/A"}},{"$f":"VLOOKUP($C7,SEE_agrg!$D:$BB,MATCH(W$3,SEE_agrg!$D$3:$BB$3,FALSE),FALSE)","v":{"$error":"#N/A"}},{"$f":"VLOOKUP($C7,SEE_agrg!$D:$BB,MATCH(X$3,SEE_agrg!$D$3:$BB$3,FALSE),FALSE)","v":{"$error":"#N/A"}},{"$f":"(V7*$V$5+W7*$W$5+X7*$X$5)*Y5","v":{"$error":"#N/A"}},{"$f":"VLOOKUP(C7,SEE_agrg!$D:$BB,MATCH(Z$3,SEE_agrg!$D$3:$BB$3,FALSE),FALSE)","v":{"$error":"#N/A"}},{"$f":"Z7*$AA$5","v":{"$error":"#N/A"}},{"$f":"J7+Y7+O7+T7+AA7","v":{"$error":"#N/A"}},{"$f":"IF(AB7>=60,\"ALTO\",IF(AB7>=40,\"MÉDIO\",\"BAIXO\"))","v":{"$error":"#N/A"}},{"$f":"IF(OR(L7=\"INVALIDADO\",P7=\"INVALIDADO\",U7=\"INVALIDADO\"),\"INVALIDADO\",\"VALIDADO\")","v":{"$error":"#N/A"}}]
[2,"Corredor 1","Estação 2",{"$error":"#N/A"},null,{"$f":"VLOOKUP($C8,SEE_agrg!D:BB,MATCH(F$3,SEE_agrg!$D$3:$BB$3,FALSE),FALSE)","v":{"$error":"#N/A"}},{"$f":"VLOOKUP($C8,UdS_agrg!$D:$P,MATCH(G$3,UdS_agrg!$D$3:$P$3,FALSE),FALSE)","v":{"$error":"#N/A"}},{"$f":"VLOOKUP($C8,UdS_agrg!$D:$P,MATCH(H$3,UdS_agrg!$D$3:$P$3,FALSE),FALSE)","v":{"$error":"#N/A"}},{"$f":"VLOOKUP($C8,UdS_agrg!$D:$P,MATCH(I$3,UdS_agrg!$D$3:$P$3,FALSE),FALSE)","v":{"$error":"#N/A"}},{"$f":"(F8*$F$5+G8*$G$5+H8*$H$5+I8*$I$5)*$J$5","v":{"$error":"#N/A"}},{"$f":"VLOOKUP($C8,UdS_agrg!$D:$P,MATCH(K$3,UdS_agrg!$D$3:$P$3,FALSE),FALSE)","v":{"$error":"#N/A"}},{"$f":"IF(COUNTIF(G8,0)=1,\"INVALIDADO\",K8)","v":{"$error":"#N/A"}},{"$f":"VLOOKUP($C8,SEE_agrg!$D:$BB,MATCH(M$3,SEE_agrg!$D$3:$BB$3,FALSE),FALSE)","v":{"$error":"#N/A"}},{"$f":"VLOOKUP($C8,SEE_agrg!$D:$BB,MATCH(N$3,SEE_agrg!$D$3:$BB$3,FALSE),FALSE)","v":{"$error":"#N/A"}},{"$f":"(M8*$M$5+N8*$N$5)*$O$5","v":{"$error":"#N/A"}},{"$f":"IF(OR(M8=0,N8=0),\"INVALIDADO\",\"VALIDADO\")","v":{"$error":"#N/A"}},{"$f":"VLOOKUP($C8,QD_agrg!$D:$M,MATCH(Q$3,QD_agrg!$D$3:$M$3,FALSE),FALSE)","v":{"$error":"#N/A"}},{"$f":"VLOOKUP($C8,QD_agrg!$D:$M,MATCH(R$3,QD_agrg!$D$3:$M$3,FALSE),FALSE)","v":{"$error":"#N/A"}},{"$f":"VLOOKUP($C8,QD_agrg!$D:$O,MATCH(S$3,QD_agrg!$D$3:$O$3,FALSE),FALSE)","v":{"$error":"#N/A"}},{"$f":"(Q8*$Q$5+R8*$R$5+S8*$S$5)*$T$5","v":{"$error":"#N/A"}},{"$error":"#N/A"},{"$f":"VLOOKUP($C8,SEE_agrg!$D:$BB,MATCH(V$3,SEE_agrg!$D$3:$BB$3,FALSE),FALSE)","v":{"$error":"#N/A"}},{"$f":"VLOOKUP($C8,SEE_agrg!$D:$BB,MATCH(W$3,SEE_agrg!$D$3:$BB$3,FALSE),FALSE)","v":{"$error":"#N/A"}},{"$f":"VLOOKUP($C8,SEE_agrg!$D:$BB,MATCH(X$3,SEE_agrg!$D$3:$BB$3,FALSE),FALSE)","v":{"$error":"#N/A"}},{"$f":"(V8*$V$5+W8*$W$5+X8*$X$5)*Y6","v":{"$error":"#N/A"}},{"$f":"VLOOKUP(C8,SEE_agrg!$D:$BB,MATCH(Z$3,SEE_agrg!$D$3:$BB$3,FALSE),FALSE)","v":{"$error":"#N/A"}},{"$f":"Z8*$AA$5","v":{"$error":"#N/A"}},{"$f":"J8+Y8+O8+T8+AA8","v":{"$error":"#N/A"}},{"$error":"#N/A"},{"$error":"#N/A"}]
[3,"Corredor 1","Estação 3",{"$error":"#N/A"},null,{"$f":"VLOOKUP($C9,SEE_agrg!D:BB,MATCH(F$3,SEE_agrg!$D$3:$BB$3,FALSE),FALSE)","v":{"$error":"#N/A"}},{"$f":"VLOOKUP($C9,UdS_agrg!$D:$P,MATCH(G$3,UdS_agrg!$D$3:$P$3,FALSE),FALSE)","v":{"$error":"#N/A"}},{"$f":"VLOOKUP($C9,UdS_agrg!$D:$P,MATCH(H$3,UdS_agrg!$D$3:$P$3,FALSE),FALSE)","v":{"$error":"#N/A"}},{"$f":"VLOOKUP($C9,UdS_agrg!$D:$P,MATCH(I$3,UdS_agrg!$D$3:$P$3,FALSE),FALSE)","v":{"$error":"#N/A"}},{"$error":"#N/A"},{"$f":"VLOOKUP($C9,UdS_agrg!$D:$P,MATCH(K$3,UdS_agrg!$D$3:$P$3,FALSE),FALSE)","v":{"$error":"#N/A"}},{"$error":"#N/A"},{"$f":"VLOOKUP($C9,SEE_agrg!$D:$BB,MATCH(M$3,SEE_agrg!$D$3:$BB$3,FALSE),FALSE)","v":{"$error":"#N/A"}},{"$f":"VLOOKUP($C9,SEE_agrg!$D:$BB,MATCH(N$3,SEE_agrg!$D$3:$BB$3,FALSE),FALSE)","v":{"$error":"#N/A"}},{"$error":"#N/A"},{"$error":"#N/A"},{"$f":"VLOOKUP($C9,QD_agrg!$D:$M,MATCH(Q$3,QD_agrg!$D$3:$M$3,FALSE),FALSE)","v":{"$error":"#N/A"}},{"$f":"VLOOKUP($C9,QD_agrg!$D:$M,MATCH(R$3,QD_agrg!$D$3:$M$3,FALSE),FALSE)","v":{"$error":"#N/A"}},{"$f":"VLOOKUP($C9,QD_agrg!$D:$O,MATCH(S$3,QD_agrg!$D$3:$O$3,FALSE),FALSE)","v":{"$error":"#N/A"}},{"$error":"#N/A"},{"$error":"#N/A"},{"$f":"VLOOKUP($C9,SEE_agrg!$D:$BB,MATCH(V$3,SEE_agrg!$D$3:$BB$3,FALSE),FALSE)","v":{"$error":"#N/A"}},{"$f":"VLOOKUP($C9,SEE_agrg!$D:$BB,MATCH(W$3,SEE_agrg!$D$3:$BB$3,FALSE),FALSE)","v":{"$error":"#N/A"}},{"$f":"VLOOKUP($C9,SEE_agrg!$D:$BB,MATCH(X$3,SEE_agrg!$D$3:$BB$3,FALSE),FALSE)","v":{"$error":"#N/A"}},{"$error":"#N/A"},{"$f":"VLOOKUP(C9,SEE_agrg!$D:$BB,MATCH(Z$3,SEE_agrg!$D$3:$BB$3,FALSE),FALSE)","v":{"$error":"#N/A"}},{"$error":"#N/A"},{"$error":"#N/A"},{"$error":"#N/A"},{"$error":"#N/A"}]
[4,"Corredor 1","Estação 4",{"$error":"#N/A"},null,{"$f":"VLOOKUP($C10,SEE_agrg!D:BB,MATCH(F$3,SEE_agrg!$D$3:$BB$3,FALSE),FALSE)","v":{"$error":"#N/A"}},{"$f":"VLOOKUP($C10,UdS_agrg!$D:$P,MATCH(G$3,UdS_agrg!$D$3:$P$3,FALSE),FALSE)","v":{"$error":"#N/A"}},{"$f":"VLOOKUP($C10,UdS_agrg!$D:$P,MATCH(H$3,UdS_agrg!$D$3:$P$3,FALSE),FALSE)","v":{"$error":"#N/A"}},{"$f":"VLOOKUP($C10,UdS_agrg!$D:$P,MATCH(I$3,UdS_agrg!$D$3:$P$3,FALSE),FALSE)","v":{"$error":"#N/A"}},{"$error":"#N/A"},{"$f":"VLOOKUP($C10,UdS_agrg!$D:$P,MATCH(K$3,UdS_agrg!$D$3:$P$3,FALSE),FALSE)","v":{"$error":"#N/A"}},{"$error":"#N/A"},{"$f":"VLOOKUP($C10,SEE_agrg!$D:$BB,MATCH(M$3,SEE_agrg!$D$3:$BB$3,FALSE),FALSE)","v":{"$error":"#N/A"}},{"$f":"VLOOKUP($C10,SEE_agrg!$D:$BB,MATCH(N$3,SEE_agrg!$D$3:$BB$3,FALSE),FALSE)","v":{"$error":"#N/A"}},{"$error":"#N/A"},{"$error":"#N/A"},{"$f":"VLOOKUP($C10,QD_agrg!$D:$M,MATCH(Q$3,QD_agrg!$D$3:$M$3,FALSE),FALSE)","v":{"$error":"#N/A"}},{"$f":"VLOOKUP($C10,QD_agrg!$D:$M,MATCH(R$3,QD_agrg!$D$3:$M$3,FALSE),FALSE)","v":{"$error":"#N/A"}},{"$f":"VLOOKUP($C10,QD_agrg!$D:$O,MATCH(S$3,QD_agrg!$D$3:$O$3,FALSE),FALSE)","v":{"$error":"#N/A"}},{"$error":"#N/A"},{"$error":"#N/A"},{"$f":"VLOOKUP($C10,SEE_agrg!$D:$BB,MATCH(V$3,SEE_agrg!$D$3:$BB$3,FALSE),FALSE)","v":{"$error":"#N/A"}},{"$f":"VLOOKUP($C10,SEE_agrg!$D:$BB,MATCH(W$3,SEE_agrg!$D$3:$BB$3,FALSE),FALSE)","v":{"$error":"#N/A"}},{"$f":"VLOOKUP($C10,SEE_agrg!$D:$BB,MATCH(X$3,SEE_agrg!$D$3:$BB$3,FALSE),FALSE)","v":{"$error":"#N/A"}},{"$error":"#N/A"},{"$f":"VLOOKUP(C10,SEE_agrg!$D:$BB,MATCH(Z$3,SEE_agrg!$D$3:$BB$3,FALSE),FALSE)","v":{"$error":"#N/A"}},{"$error":"#N/A"},{"$error":"#N/A"},{"$error":"#N/A"},{"$error":"#N/A"}]
[5,"Corredor 1","Estação 5",{"$error":"#N/A"},null,{"$f":"VLOOKUP($C11,SEE_agrg!D:BB,MATCH(F$3,SEE_agrg!$D$3:$BB$3,FALSE),FALSE)","v":{"$error":"#N/A"}},{"$f":"VLOOKUP($C11,UdS_agrg!$D:$P,MATCH(G$3,UdS_agrg!$D$3:$P$3,FALSE),FALSE)","v":{"$error":"#N/A"}},{"$f":"VLOOKUP($C11,UdS_agrg!$D:$P,MATCH(H$3,UdS_agrg!$D$3:$P$3,FALSE),FALSE)","v":{"$error":"#N/A"}},{"$f":"VLOOKUP($C11,UdS_agrg!$D:$P,MATCH(I$3,UdS_agrg!$D$3:$P$3,FALSE),FALSE)","v":{"$error":"#N/A"}},{"$error":"#N/A"},{"$f":"VLOOKUP($C11,UdS_agrg!$D:$P,MATCH(K$3,UdS_agrg!$D$3:$P$3,FALSE),FALSE)","v":{"$error":"#N/A"}},{"$error":"#N/A"},{"$f":"VLOOKUP($C11,SEE_agrg!$D:$BB,MATCH(M$3,SEE_agrg!$D$3:$BB$3,FALSE),FALSE)","v":{"$error":"#N/A"}},{"$f":"VLOOKUP($C11,SEE_agrg!$D:$BB,MATCH(N$3,SEE_agrg!$D$3:$BB$3,FALSE),FALSE)","v":{"$error":"#N/A"}},{"$error":"#N/A"},{"$error":"#N/A"},{"$f":"VLOOKUP($C11,QD_agrg!$D:$M,MATCH(Q$3,QD_agrg!$D$3:$M$3,FALSE),FALSE)","v":{"$error":"#N/A"}},{"$f":"VLOOKUP($C11,QD_agrg!$D:$M,MATCH(R$3,QD_agrg!$D$3:$M$3,FALSE),FALSE)","v":{"$error":"#N/A"}},{"$f":"VLOOKUP($C11,QD_agrg!$D:$O,MATCH(S$3,QD_agrg!$D$3:$O$3,FALSE),FALSE)","v":{"$error":"#N/A"}},{"$error":"#N/A"},{"$error":"#N/A"},{"$f":"VLOOKUP($C11,SEE_agrg!$D:$BB,MATCH(V$3,SEE_agrg!$D$3:$BB$3,FALSE),FALSE)","v":{"$error":"#N/A"}},{"$f":"VLOOKUP($C11,SEE_agrg!$D:$BB,MATCH(W$3,SEE_agrg!$D$3:$BB$3,FALSE),FALSE)","v":{"$error":"#N/A"}},{"$f":"VLOOKUP($C11,SEE_agrg!$D:$BB,MATCH(X$3,SEE_agrg!$D$3:$BB$3,FALSE),FALSE)","v":{"$error":"#N/A"}},{"$error":"#N/A"},{"$f":"VLOOKUP(C11,SEE_agrg!$D:$BB,MATCH(Z$3,SEE_agrg!$D$3:$BB$3,FALSE),FALSE)","v":{"$error":"#N/A"}},{"$error":"#N/A"},{"$error":"#N/A"},{"$error":"#N/A"},{"$error":"#N/A"}]
[6,"Corredor 1","Estação 6",{"$error":"#N/A"},null,{"$f":"VLOOKUP($C12,SEE_agrg!D:BB,MATCH(F$3,SEE_agrg!$D$3:$BB$3,FALSE),FALSE)","v":{"$error":"#N/A"}},{"$f":"VLOOKUP($C12,UdS_agrg!$D:$P,MATCH(G$3,UdS_agrg!$D$3:$P$3,FALSE),FALSE)","v":{"$error":"#N/A"}},{"$f":"VLOOKUP($C12,UdS_agrg!$D:$P,MATCH(H$3,UdS_agrg!$D$3:$P$3,FALSE),FALSE)","v":{"$error":"#N/A"}},{"$f":"VLOOKUP($C12,UdS_agrg!$D:$P,MATCH(I$3,UdS_agrg!$D$3:$P$3,FALSE),FALSE)","v":{"$error":"#N/A"}},{"$error":"#N/A"},{"$f":"VLOOKUP($C12,UdS_agrg!$D:$P,MATCH(K$3,UdS_agrg!$D$3:$P$3,FALSE),FALSE)","v":{"$error":"#N/A"}},{"$error":"#N/A"},{"$f":"VLOOKUP($C12,SEE_agrg!$D:$BB,MATCH(M$3,SEE_agrg!$D$3:$BB$3,FALSE),FALSE)","v":{"$error":"#N/A"}},{"$f":"VLOOKUP($C12,SEE_agrg!$D:$BB,MATCH(N$3,SEE_agrg!$D$3:$BB$3,FALSE),FALSE)","v":{"$error":"#N/A"}},{"$error":"#N/A"},{"$error":"#N/A"},{"$f":"VLOOKUP($C12,QD_agrg!$D:$M,MATCH(Q$3,QD_agrg!$D$3:$M$3,FALSE),FALSE)","v":{"$error":"#N/A"}},{"$f":"VLOOKUP($C12,QD_agrg!$D:$M,MATCH(R$3,QD_agrg!$D$3:$M$3,FALSE),FALSE)","v":{"$error":"#N/A"}},{"$f":"VLOOKUP($C12,QD_agrg!$D:$O,MATCH(S$3,QD_agrg!$D$3:$O$3,FALSE),FALSE)","v":{"$error":"#N/A"}},{"$error":"#N/A"},{"$error":"#N/A"},{"$f":"VLOOKUP($C12,SEE_agrg!$D:$BB,MATCH(V$3,SEE_agrg!$D$3:$BB$3,FALSE),FALSE)","v":{"$error":"#N/A"}},{"$f":"VLOOKUP($C12,SEE_agrg!$D:$BB,MATCH(W$3,SEE_agrg!$D$3:$BB$3,FALSE),FALSE)","v":{"$error":"#N/A"}},{"$f":"VLOOKUP($C12,SEE_agrg!$D:$BB,MATCH(X$3,SEE_agrg!$D$3:$BB$3,FALSE),FALSE)","v":{"$error":"#N/A"}},{"$error":"#N/A"},{"$f":"VLOOKUP(C12,SEE_agrg!$D:$BB,MATCH(Z$3,SEE_agrg!$D$3:$BB$3,FALSE),FALSE)","v":{"$error":"#N/A"}},{"$error":"#N/A"},{"$error":"#N/A"},{"$error":"#N/A"},{"$error":"#N/A"}]
[7,"Corredor 1","Estação 7",{"$error":"#N/A"},null,{"$f":"VLOOKUP($C13,SEE_agrg!D:BB,MATCH(F$3,SEE_agrg!$D$3:$BB$3,FALSE),FALSE)","v":{"$error":"#N/A"}},{"$f":"VLOOKUP($C13,UdS_agrg!$D:$P,MATCH(G$3,UdS_agrg!$D$3:$P$3,FALSE),FALSE)","v":{"$error":"#N/A"}},{"$f":"VLOOKUP($C13,UdS_agrg!$D:$P,MATCH(H$3,UdS_agrg!$D$3:$P$3,FALSE),FALSE)","v":{"$error":"#N/A"}},{"$f":"VLOOKUP($C13,UdS_agrg!$D:$P,MATCH(I$3,UdS_agrg!$D$3:$P$3,FALSE),FALSE)","v":{"$error":"#N/A"}},{"$error":"#N/A"},{"$f":"VLOOKUP($C13,UdS_agrg!$D:$P,MATCH(K$3,UdS_agrg!$D$3:$P$3,FALSE),FALSE)","v":{"$error":"#N/A"}},{"$error":"#N/A"},{"$f":"VLOOKUP($C13,SEE_agrg!$D:$BB,MATCH(M$3,SEE_agrg!$D$3:$BB$3,FALSE),FALSE)","v":{"$error":"#N/A"}},{"$f":"VLOOKUP($C13,SEE_agrg!$D:$BB,MATCH(N$3,SEE_agrg!$D$3:$BB$3,FALSE),FALSE)","v":{"$error":"#N/A"}},{"$error":"#N/A"},{"$error":"#N/A"},{"$f":"VLOOKUP($C13,QD_agrg!$D:$M,MATCH(Q$3,QD_agrg!$D$3:$M$3,FALSE),FALSE)","v":{"$error":"#N/A"}},{"$f":"VLOOKUP($C13,QD_agrg!$D:$M,MATCH(R$3,QD_agrg!$D$3:$M$3,FALSE),FALSE)","v":{"$error":"#N/A"}},{"$f":"VLOOKUP($C13,QD_agrg!$D:$O,MATCH(S$3,QD_agrg!$D$3:$O$3,FALSE),FALSE)","v":{"$error":"#N/A"}},{"$error":"#N/A"},{"$error":"#N/A"},{"$f":"VLOOKUP($C13,SEE_agrg!$D:$BB,MATCH(V$3,SEE_agrg!$D$3:$BB$3,FALSE),FALSE)","v":{"$error":"#N/A"}},{"$f":"VLOOKUP($C13,SEE_agrg!$D:$BB,MATCH(W$3,SEE_agrg!$D$3:$BB$3,FALSE),FALSE)","v":{"$error":"#N/A"}},{"$f":"VLOOKUP($C13,SEE_agrg!$D:$BB,MATCH(X$3,SEE_agrg!$D$3:$BB$3,FALSE),FALSE)","v":{"$error":"#N/A"}},{"$error":"#N/A"},{"$f":"VLOOKUP(C13,SEE_agrg!$D:$BB,MATCH(Z$3,SEE_agrg!$D$3:$BB$3,FALSE),FALSE)","v":{"$error":"#N/A"}},{"$error":"#N/A"},{"$error":"#N/A"},{"$error":"#N/A"},{"$error":"#N/A"}]
[8,"Corredor 1","Estação 8",{"$error":"#N/A"},null,{"$f":"VLOOKUP($C14,SEE_agrg!D:BB,MATCH(F$3,SEE_agrg!$D$3:$BB$3,FALSE),FALSE)","v":{"$error":"#N/A"}},{"$f":"VLOOKUP($C14,UdS_agrg!$D:$P,MATCH(G$3,UdS_agrg!$D$3:$P$3,FALSE),FALSE)","v":{"$error":"#N/A"}},{"$f":"VLOOKUP($C14,UdS_agrg!$D:$P,MATCH(H$3,UdS_agrg!$D$3:$P$3,FALSE),FALSE)","v":{"$error":"#N/A"}},{"$f":"VLOOKUP($C14,UdS_agrg!$D:$P,MATCH(I$3,UdS_agrg!$D$3:$P$3,FALSE),FALSE)","v":{"$error":"#N/A"}},{"$error":"#N/A"},{"$f":"VLOOKUP($C14,UdS_agrg!$D:$P,MATCH(K$3,UdS_agrg!$D$3:$P$3,FALSE),FALSE)","v":{"$error":"#N/A"}},{"$error":"#N/A"},{"$f":"VLOOKUP($C14,SEE_agrg!$D:$BB,MATCH(M$3,SEE_agrg!$D$3:$BB$3,FALSE),FALSE)","v":{"$error":"#N/A"}},{"$f":"VLOOKUP($C14,SEE_agrg!$D:$BB,MATCH(N$3,SEE_agrg!$D$3:$BB$3,FALSE),FALSE)","v":{"$error":"#N/A"}},{"$error":"#N/A"},{"$error":"#N/A"},{"$f":"VLOOKUP($C14,QD_agrg!$D:$M,MATCH(Q$3,QD_agrg!$D$3:$M$3,FALSE),FALSE)","v":{"$error":"#N/A"}},{"$f":"VLOOKUP($C14,QD_agrg!$D:$M,MATCH(R$3,QD_agrg!$D$3:$M$3,FALSE),FALSE)","v":{"$error":"#N/A"}},{"$f":"VLOOKUP($C14,QD_agrg!$D:$O,MATCH(S$3,QD_agrg!$D$3:$O$3,FALSE),FALSE)","v":{"$error":"#N/A"}},{"$error":"#N/A"},{"$error":"#N/A"},{"$f":"VLOOKUP($C14,SEE_agrg!$D:$BB,MATCH(V$3,SEE_agrg!$D$3:$BB$3,FALSE),FALSE)","v":{"$error":"#N/A"}},{"$f":"VLOOKUP($C14,SEE_agrg!$D:$BB,MATCH(W$3,SEE_agrg!$D$3:$BB$3,FALSE),FALSE)","v":{"$error":"#N/A"}},{"$f":"VLOOKUP($C14,SEE_agrg!$D:$BB,MATCH(X$3,SEE_agrg!$D$3:$BB$3,FALSE),FALSE)","v":{"$error":"#N/A"}},{"$error":"#N/A"},{"$f":"VLOOKUP(C14,SEE_agrg!$D:$BB,MATCH(Z$3,SEE_agrg!$D$3:$BB$3,FALSE),FALSE)","v":{"$error":"#N/A"}},{"$error":"#N/A"},{"$error":"#N/A"},{"$error":"#N/A"},{"$error":"#N/A"}]
[9,"Corredor 1","Estação 9",{"$error":"#N/A"},null,{"$f":"VLOOKUP($C15,SEE_agrg!D:BB,MATCH(F$3,SEE_agrg!$D$3:$BB$3,FALSE),FALSE)","v":{"$error":"#N/A"}},{"$f":"VLOOKUP($C15,UdS_agrg!$D:$P,MATCH(G$3,UdS_agrg!$D$3:$P$3,FALSE),FALSE)","v":{"$error":"#N/A"}},{"$f":"VLOOKUP($C15,UdS_agrg!$D:$P,MATCH(H$3,UdS_agrg!$D$3:$P$3,FALSE),FALSE)","v":{"$error":"#N/A"}},{"$f":"VLOOKUP($C15,UdS_agrg!$D:$P,MATCH(I$3,UdS_agrg!$D$3:$P$3,FALSE),FALSE)","v":{"$error":"#N/A"}},{"$error":"#N/A"},{"$f":"VLOOKUP($C15,UdS_agrg!$D:$P,MATCH(K$3,UdS_agrg!$D$3:$P$3,FALSE),FALSE)","v":{"$error":"#N/A"}},{"$error":"#N/A"},{"$f":"VLOOKUP($C15,SEE_agrg!$D:$BB,MATCH(M$3,SEE_agrg!$D$3:$BB$3,FALSE),FALSE)","v":{"$error":"#N/A"}},{"$f":"VLOOKUP($C15,SEE_agrg!$D:$BB,MATCH(N$3,SEE_agrg!$D$3:$BB$3,FALSE),FALSE)","v":{"$error":"#N/A"}},{"$error":"#N/A"},{"$error":"#N/A"},{"$f":"VLOOKUP($C15,QD_agrg!$D:$M,MATCH(Q$3,QD_agrg!$D$3:$M$3,FALSE),FALSE)","v":{"$error":"#N/A"}},{"$f":"VLOOKUP($C15,QD_agrg!$D:$M,MATCH(R$3,QD_agrg!$D$3:$M$3,FALSE),FALSE)","v":{"$error":"#N/A"}},{"$f":"VLOOKUP($C15,QD_agrg!$D:$O,MATCH(S$3,QD_agrg!$D$3:$O$3,FALSE),FALSE)","v":{"$error":"#N/A"}},{"$error":"#N/A"},{"$error":"#N/A"},{"$f":"VLOOKUP($C15,SEE_agrg!$D:$BB,MATCH(V$3,SEE_agrg!$D$3:$BB$3,FALSE),FALSE)","v":{"$error":"#N/A"}},{"$f":"VLOOKUP($C15,SEE_agrg!$D:$BB,MATCH(W$3,SEE_agrg!$D$3:$BB$3,FALSE),FALSE)","v":{"$error":"#N/A"}},{"$f":"VLOOKUP($C15,SEE_agrg!$D:$BB,MATCH(X$3,SEE_agrg!$D$3:$BB$3,FALSE),FALSE)","v":{"$error":"#N/A"}},{"$error":"#N/A"},{"$f":"VLOOKUP(C15,SEE_agrg!$D:$BB,MATCH(Z$3,SEE_agrg!$D$3:$BB$3,FALSE),FALSE)","v":{"$error":"#N/A"}},{"$error":"#N/A"},{"$error":"#N/A"},{"$error":"#N/A"},{"$error":"#N/A"}]
[10,"Corredor 1","Estação 10",{"$error":"#N/A"},null,{"$f":"VLOOKUP($C16,SEE_agrg!D:BB,MATCH(F$3,SEE_agrg!$D$3:$BB$3,FALSE),FALSE)","v":{"$error":"#N/A"}},{"$f":"VLOOKUP($C16,UdS_agrg!$D:$P,MATCH(G$3,UdS_agrg!$D$3:$P$3,FALSE),FALSE)","v":{"$error":"#N/A"}},{"$f":"VLOOKUP($C16,UdS_agrg!$D:$P,MATCH(H$3,UdS_agrg!$D$3:$P$3,FALSE),FALSE)","v":{"$error":"#N/A"}},{"$f":"VLOOKUP($C16,UdS_agrg!$D:$P,MATCH(I$3,UdS_agrg!$D$3:$P$3,FALSE),FALSE)","v":{"$error":"#N/A"}},{"$error":"#N/A"},{"$f":"VLOOKUP($C16,UdS_agrg!$D:$P,MATCH(K$3,UdS_agrg!$D$3:$P$3,FALSE),FALSE)","v":{"$error":"#N/A"}},{"$error":"#N/A"},{"$f":"VLOOKUP($C16,SEE_agrg!$D:$BB,MATCH(M$3,SEE_agrg!$D$3:$BB$3,FALSE),FALSE)","v":{"$error":"#N/A"}},{"$f":"VLOOKUP($C16,SEE_agrg!$D:$BB,MATCH(N$3,SEE_agrg!$D$3:$BB$3,FALSE),FALSE)","v":{"$error":"#N/A"}},{"$error":"#N/A"},{"$error":"#N/A"},{"$f":"VLOOKUP($C16,QD_agrg!$D:$M,MATCH(Q$3,QD_agrg!$D$3:$M$3,FALSE),FALSE)","v":{"$error":"#N/A"}},{"$f":"VLOOKUP($C16,QD_agrg!$D:$M,MATCH(R$3,QD_agrg!$D$3:$M$3,FALSE),FALSE)","v":{"$error":"#N/A"}},{"$f":"VLOOKUP($C16,QD_agrg!$D:$O,MATCH(S$3,QD_agrg!$D$3:$O$3,FALSE),FALSE)","v":{"$error":"#N/A"}},{"$error":"#N/A"},{"$error":"#N/A"},{"$f":"VLOOKUP($C16,SEE_agrg!$D:$BB,MATCH(V$3,SEE_agrg!$D$3:$BB$3,FALSE),FALSE)","v":{"$error":"#N/A"}},{"$f":"VLOOKUP($C16,SEE_agrg!$D:$BB,MATCH(W$3,SEE_agrg!$D$3:$BB$3,FALSE),FALSE)","v":{"$error":"#N/A"}},{"$f":"VLOOKUP($C16,SEE_agrg!$D:$BB,MATCH(X$3,SEE_agrg!$D$3:$BB$3,FALSE),FALSE)","v":{"$error":"#N/A"}},{"$error":"#N/A"},{"$f":"VLOOKUP(C16,SEE_agrg!$D:$BB,MATCH(Z$3,SEE_agrg!$D$3:$BB$3,FALSE),FALSE)","v":{"$error":"#N/A"}},{"$error":"#N/A"},{"$error":"#N/A"},{"$error":"#N/A"},{"$error":"#N/A"}]
[11,"Corredor 1","Estação 11",{"$error":"#N/A"},null,{"$f":"VLOOKUP($C17,SEE_agrg!D:BB,MATCH(F$3,SEE_agrg!$D$3:$BB$3,FALSE),FALSE)","v":{"$error":"#N/A"}},{"$f":"VLOOKUP($C17,UdS_agrg!$D:$P,MATCH(G$3,UdS_agrg!$D$3:$P$3,FALSE),FALSE)","v":{"$error":"#N/A"}},{"$f":"VLOOKUP($C17,UdS_agrg!$D:$P,MATCH(H$3,UdS_agrg!$D$3:$P$3,FALSE),FALSE)","v":{"$error":"#N/A"}},{"$f":"VLOOKUP($C17,UdS_agrg!$D:$P,MATCH(I$3,UdS_agrg!$D$3:$P$3,FALSE),FALSE)","v":{"$error":"#N/A"}},{"$error":"#N/A"},{"$f":"VLOOKUP($C17,UdS_agrg!$D:$P,MATCH(K$3,UdS_agrg!$D$3:$P$3,FALSE),FALSE)","v":{"$error":"#N/A"}},{"$error":"#N/A"},{"$f":"VLOOKUP($C17,SEE_agrg!$D:$BB,MATCH(M$3,SEE_agrg!$D$3:$BB$3,FALSE),FALSE)","v":{"$error":"#N/A"}},{"$f":"VLOOKUP($C17,SEE_agrg!$D:$BB,MATCH(N$3,SEE_agrg!$D$3:$BB$3,FALSE),FALSE)","v":{"$error":"#N/A"}},{"$error":"#N/A"},{"$error":"#N/A"},{"$f":"VLOOKUP($C17,QD_agrg!$D:$M,MATCH(Q$3,QD_agrg!$D$3:$M$3,FALSE),FALSE)","v":{"$error":"#N/A"}},{"$f":"VLOOKUP($C17,QD_agrg!$D:$M,MATCH(R$3,QD_agrg!$D$3:$M$3,FALSE),FALSE)","v":{"$error":"#N/A"}},{"$f":"VLOOKUP($C17,QD_agrg!$D:$O,MATCH(S$3,QD_agrg!$D$3:$O$3,FALSE),FALSE)","v":{"$error":"#N/A"}},{"$error":"#N/A"},{"$error":"#N/A"},{"$f":"VLOOKUP($C17,SEE_agrg!$D:$BB,MATCH(V$3,SEE_agrg!$D$3:$BB$3,FALSE),FALSE)","v":{"$error":"#N/A"}},{"$f":"VLOOKUP($C17,SEE_agrg!$D:$BB,MATCH(W$3,SEE_agrg!$D$3:$BB$3,FALSE),FALSE)","v":{"$error":"#N/A"}},{"$f":"VLOOKUP($C17,SEE_agrg!$D:$BB,MATCH(X$3,SEE_agrg!$D$3:$BB$3,FALSE),FALSE)","v":{"$error":"#N/A"}},{"$error":"#N/A"},{"$f":"VLOOKUP(C17,SEE_agrg!$D:$BB,MATCH(Z$3,SEE_agrg!$D$3:$BB$3,FALSE),FALSE)","v":{"$error":"#N/A"}},{"$error":"#N/A"},{"$error":"#N/A"},{"$error":"#N/A"},{"$error":"#N/A"}]
[12,"Corredor 1","Estação 12",{"$error":"#N/A"},null,{"$f":"VLOOKUP($C18,SEE_agrg!D:BB,MATCH(F$3,SEE_agrg!$D$3:$BB$3,FALSE),FALSE)","v":{"$error":"#N/A"}},{"$f":"VLOOKUP($C18,UdS_agrg!$D:$P,MATCH(G$3,UdS_agrg!$D$3:$P$3,FALSE),FALSE)","v":{"$error":"#N/A"}},{"$f":"VLOOKUP($C18,UdS_agrg!$D:$P,MATCH(H$3,UdS_agrg!$D$3:$P$3,FALSE),FALSE)","v":{"$error":"#N/A"}},{"$f":"VLOOKUP($C18,UdS_agrg!$D:$P,MATCH(I$3,UdS_agrg!$D$3:$P$3,FALSE),FALSE)","v":{"$error":"#N/A"}},{"$error":"#N/A"},{"$f":"VLOOKUP($C18,UdS_agrg!$D:$P,MATCH(K$3,UdS_agrg!$D$3:$P$3,FALSE),FALSE)","v":{"$error":"#N/A"}},{"$error":"#N/A"},{"$f":"VLOOKUP($C18,SEE_agrg!$D:$BB,MATCH(M$3,SEE_agrg!$D$3:$BB$3,FALSE),FALSE)","v":{"$error":"#N/A"}},{"$f":"VLOOKUP($C18,SEE_agrg!$D:$BB,MATCH(N$3,SEE_agrg!$D$3:$BB$3,FALSE),FALSE)","v":{"$error":"#N/A"}},{"$error":"#N/A"},{"$error":"#N/A"},{"$f":"VLOOKUP($C18,QD_agrg!$D:$M,MATCH(Q$3,QD_agrg!$D$3:$M$3,FALSE),FALSE)","v":{"$error":"#N/A"}},{"$f":"VLOOKUP($C18,QD_agrg!$D:$M,MATCH(R$3,QD_agrg!$D$3:$M$3,FALSE),FALSE)","v":{"$error":"#N/A"}},{"$f":"VLOOKUP($C18,QD_agrg!$D:$O,MATCH(S$3,QD_agrg!$D$3:$O$3,FALSE),FALSE)","v":{"$error":"#N/A"}},{"$error":"#N/A"},{"$error":"#N/A"},{"$f":"VLOOKUP($C18,SEE_agrg!$D:$BB,MATCH(V$3,SEE_agrg!$D$3:$BB$3,FALSE),FALSE)","v":{"$error":"#N/A"}},{"$f":"VLOOKUP($C18,SEE_agrg!$D:$BB,MATCH(W$3,SEE_agrg!$D$3:$BB$3,FALSE),FALSE)","v":{"$error":"#N/A"}},{"$f":"VLOOKUP($C18,SEE_agrg!$D:$BB,MATCH(X$3,SEE_agrg!$D$3:$BB$3,FALSE),FALSE)","v":{"$error":"#N/A"}},{"$error":"#N/A"},{"$f":"VLOOKUP(C18,SEE_agrg!$D:$BB,MATCH(Z$3,SEE_agrg!$D$3:$BB$3,FALSE),FALSE)","v":{"$error":"#N/A"}},{"$error":"#N/A"},{"$error":"#N/A"},{"$error":"#N/A"},{"$error":"#N/A"}]
[13,"Corredor 1","Estação 13",{"$error":"#N/A"},null,{"$f":"VLOOKUP($C19,SEE_agrg!D:BB,MATCH(F$3,SEE_agrg!$D$3:$BB$3,FALSE),FALSE)","v":{"$error":"#N/A"}},{"$f":"VLOOKUP($C19,UdS_agrg!$D:$P,MATCH(G$3,UdS_agrg!$D$3:$P$3,FALSE),FALSE)","v":{"$error":"#N/A"}},{"$f":"VLOOKUP($C19,UdS_agrg!$D:$P,MATCH(H$3,UdS_agrg!$D$3:$P$3,FALSE),FALSE)","v":{"$error":"#N/A"}},{"$f":"VLOOKUP($C19,UdS_agrg!$D:$P,MATCH(I$3,UdS_agrg!$D$3:$P$3,FALSE),FALSE)","v":{"$error":"#N/A"}},{"$error":"#N/A"},{"$f":"VLOOKUP($C19,UdS_agrg!$D:$P,MATCH(K$3,UdS_agrg!$D$3:$P$3,FALSE),FALSE)","v":{"$error":"#N/A"}},{"$error":"#N/A"},{"$f":"VLOOKUP($C19,SEE_agrg!$D:$BB,MATCH(M$3,SEE_agrg!$D$3:$BB$3,FALSE),FALSE)","v":{"$error":"#N/A"}},{"$f":"VLOOKUP($C19,SEE_agrg!$D:$BB,MATCH(N$3,SEE_agrg!$D$3:$BB$3,FALSE),FALSE)","v":{"$error":"#N/A"}},{"$error":"#N/A"},{"$error":"#N/A"},{"$f":"VLOOKUP($C19,QD_agrg!$D:$M,MATCH(Q$3,QD_agrg!$D$3:$M$3,FALSE),FALSE)","v":{"$error":"#N/A"}},{"$f":"VLOOKUP($C19,QD_agrg!$D:$M,MATCH(R$3,QD_agrg!$D$3:$M$3,FALSE),FALSE)","v":{"$error":"#N/A"}},{"$f":"VLOOKUP($C19,QD_agrg!$D:$O,MATCH(S$3,QD_agrg!$D$3:$O$3,FALSE),FALSE)","v":{"$error":"#N/A"}},{"$error":"#N/A"},{"$error":"#N/A"},{"$f":"VLOOKUP($C19,SEE_agrg!$D:$BB,MATCH(V$3,SEE_agrg!$D$3:$BB$3,FALSE),FALSE)","v":{"$error":"#N/A"}},{"$f":"VLOOKUP($C19,SEE_agrg!$D:$BB,MATCH(W$3,SEE_agrg!$D$3:$BB$3,FALSE),FALSE)","v":{"$error":"#N/A"}},{"$f":"VLOOKUP($C19,SEE_agrg!$D:$BB,MATCH(X$3,SEE_agrg!$D$3:$BB$3,FALSE),FALSE)","v":{"$error":"#N/A"}},{"$error":"#N/A"},{"$f":"VLOOKUP(C19,SEE_agrg!$D:$BB,MATCH(Z$3,SEE_agrg!$D$3:$BB$3,FALSE),FALSE)","v":{"$error":"#N/A"}},{"$error":"#N/A"},{"$error":"#N/A"},{"$error":"#N/A"},{"$error":"#N/A"}]
[14,"Corredor 1","Estação 14",{"$error":"#N/A"},null,{"$f":"VLOOKUP($C20,SEE_agrg!D:BB,MATCH(F$3,SEE_agrg!$D$3:$BB$3,FALSE),FALSE)","v":{"$error":"#N/A"}},{"$f":"VLOOKUP($C20,UdS_agrg!$D:$P,MATCH(G$3,UdS_agrg!$D$3:$P$3,FALSE),FALSE)","v":{"$error":"#N/A"}},{"$f":"VLOOKUP($C20,UdS_agrg!$D:$P,MATCH(H$3,UdS_agrg!$D$3:$P$3,FALSE),FALSE)","v":{"$error":"#N/A"}},{"$f":"VLOOKUP($C20,UdS_agrg!$D:$P,MATCH(I$3,UdS_agrg!$D$3:$P$3,FALSE),FALSE)","v":{"$error":"#N/A"}},{"$error":"#N/A"},{"$f":"VLOOKUP($C20,UdS_agrg!$D:$P,MATCH(K$3,UdS_agrg!$D$3:$P$3,FALSE),FALSE)","v":{"$error":"#N/A"}},{"$error":"#N/A"},{"$f":"VLOOKUP($C20,SEE_agrg!$D:$BB,MATCH(M$3,SEE_agrg!$D$3:$BB$3,FALSE),FALSE)","v":{"$error":"#N/A"}},{"$f":"VLOOKUP($C20,SEE_agrg!$D:$BB,MATCH(N$3,SEE_agrg!$D$3:$BB$3,FALSE),FALSE)","v":{"$error":"#N/A"}},{"$error":"#N/A"},{"$error":"#N/A"},{"$f":"VLOOKUP($C20,QD_agrg!$D:$M,MATCH(Q$3,QD_agrg!$D$3:$M$3,FALSE),FALSE)","v":{"$error":"#N/A"}},{"$f":"VLOOKUP($C20,QD_agrg!$D:$M,MATCH(R$3,QD_agrg!$D$3:$M$3,FALSE),FALSE)","v":{"$error":"#N/A"}},{"$f":"VLOOKUP($C20,QD_agrg!$D:$O,MATCH(S$3,QD_agrg!$D$3:$O$3,FALSE),FALSE)","v":{"$error":"#N/A"}},{"$error":"#N/A"},{"$error":"#N/A"},{"$f":"VLOOKUP($C20,SEE_agrg!$D:$BB,MATCH(V$3,SEE_agrg!$D$3:$BB$3,FALSE),FALSE)","v":{"$error":"#N/A"}},{"$f":"VLOOKUP($C20,SEE_agrg!$D:$BB,MATCH(W$3,SEE_agrg!$D$3:$BB$3,FALSE),FALSE)","v":{"$error":"#N/A"}},{"$f":"VLOOKUP($C20,SEE_agrg!$D:$BB,MATCH(X$3,SEE_agrg!$D$3:$BB$3,FALSE),FALSE)","v":{"$error":"#N/A"}},{"$error":"#N/A"},{"$f":"VLOOKUP(C20,SEE_agrg!$D:$BB,MATCH(Z$3,SEE_agrg!$D$3:$BB$3,FALSE),FALSE)","v":{"$error":"#N/A"}},{"$error":"#N/A"},{"$error":"#N/A"},{"$error":"#N/A"},{"$error":"#N/A"}]
[17,"Corredor 1","Estação 15",{"$error":"#N/A"},null,{"$f":"VLOOKUP($C21,SEE_agrg!D:BB,MATCH(F$3,SEE_agrg!$D$3:$BB$3,FALSE),FALSE)","v":{"$error":"#N/A"}},{"$f":"VLOOKUP($C21,UdS_agrg!$D:$P,MATCH(G$3,UdS_agrg!$D$3:$P$3,FALSE),FALSE)","v":{"$error":"#N/A"}},{"$f":"VLOOKUP($C21,UdS_agrg!$D:$P,MATCH(H$3,UdS_agrg!$D$3:$P$3,FALSE),FALSE)","v":{"$error":"#N/A"}},{"$f":"VLOOKUP($C21,UdS_agrg!$D:$P,MATCH(I$3,UdS_agrg!$D$3:$P$3,FALSE),FALSE)","v":{"$error":"#N/A"}},{"$error":"#N/A"},{"$f":"VLOOKUP($C21,UdS_agrg!$D:$P,MATCH(K$3,UdS_agrg!$D$3:$P$3,FALSE),FALSE)","v":{"$error":"#N/A"}},{"$error":"#N/A"},{"$f":"VLOOKUP($C21,SEE_agrg!$D:$BB,MATCH(M$3,SEE_agrg!$D$3:$BB$3,FALSE),FALSE)","v":{"$error":"#N/A"}},{"$f":"VLOOKUP($C21,SEE_agrg!$D:$BB,MATCH(N$3,SEE_agrg!$D$3:$BB$3,FALSE),FALSE)","v":{"$error":"#N/A"}},{"$error":"#N/A"},{"$error":"#N/A"},{"$f":"VLOOKUP($C21,QD_agrg!$D:$M,MATCH(Q$3,QD_agrg!$D$3:$M$3,FALSE),FALSE)","v":{"$error":"#N/A"}},{"$f":"VLOOKUP($C21,QD_agrg!$D:$M,MATCH(R$3,QD_agrg!$D$3:$M$3,FALSE),FALSE)","v":{"$error":"#N/A"}},{"$f":"VLOOKUP($C21,QD_agrg!$D:$O,MATCH(S$3,QD_agrg!$D$3:$O$3,FALSE),FALSE)","v":{"$error":"#N/A"}},{"$error":"#N/A"},{"$error":"#N/A"},{"$f":"VLOOKUP($C21,SEE_agrg!$D:$BB,MATCH(V$3,SEE_agrg!$D$3:$BB$3,FALSE),FALSE)","v":{"$error":"#N/A"}},{"$f":"VLOOKUP($C21,SEE_agrg!$D:$BB,MATCH(W$3,SEE_agrg!$D$3:$BB$3,FALSE),FALSE)","v":{"$error":"#N/A"}},{"$f":"VLOOKUP($C21,SEE_agrg!$D:$BB,MATCH(X$3,SEE_agrg!$D$3:$BB$3,FALSE),FALSE)","v":{"$error":"#N/A"}},{"$error":"#N/A"},{"$f":"VLOOKUP(C21,SEE_agrg!$D:$BB,MATCH(Z$3,SEE_agrg!$D$3:$BB$3,FALSE),FALSE)","v":{"$error":"#N/A"}},{"$error":"#N/A"},{"$error":"#N/A"},{"$error":"#N/A"},{"$error":"#N/A"}]
[15,"Corredor 1","Estação 16",{"$error":"#N/A"},null,{"$f":"VLOOKUP($C22,SEE_agrg!D:BB,MATCH(F$3,SEE_agrg!$D$3:$BB$3,FALSE),FALSE)","v":{"$error":"#N/A"}},{"$f":"VLOOKUP($C22,UdS_agrg!$D:$P,MATCH(G$3,UdS_agrg!$D$3:$P$3,FALSE),FALSE)","v":{"$error":"#N/A"}},{"$f":"VLOOKUP($C22,UdS_agrg!$D:$P,MATCH(H$3,UdS_agrg!$D$3:$P$3,FALSE),FALSE)","v":{"$error":"#N/A"}},{"$f":"VLOOKUP($C22,UdS_agrg!$D:$P,MATCH(I$3,UdS_agrg!$D$3:$P$3,FALSE),FALSE)","v":{"$error":"#N/A"}},{"$error":"#N/A"},{"$f":"VLOOKUP($C22,UdS_agrg!$D:$P,MATCH(K$3,UdS_agrg!$D$3:$P$3,FALSE),FALSE)","v":{"$error":"#N/A"}},{"$error":"#N/A"},{"$f":"VLOOKUP($C22,SEE_agrg!$D:$BB,MATCH(M$3,SEE_agrg!$D$3:$BB$3,FALSE),FALSE)","v":{"$error":"#N/A"}},{"$f":"VLOOKUP($C22,SEE_agrg!$D:$BB,MATCH(N$3,SEE_agrg!$D$3:$BB$3,FALSE),FALSE)","v":{"$error":"#N/A"}},{"$error":"#N/A"},{"$error":"#N/A"},{"$f":"VLOOKUP($C22,QD_agrg!$D:$M,MATCH(Q$3,QD_agrg!$D$3:$M$3,FALSE),FALSE)","v":{"$error":"#N/A"}},{"$f":"VLOOKUP($C22,QD_agrg!$D:$M,MATCH(R$3,QD_agrg!$D$3:$M$3,FALSE),FALSE)","v":{"$error":"#N/A"}},{"$f":"VLOOKUP($C22,QD_agrg!$D:$O,MATCH(S$3,QD_agrg!$D$3:$O$3,FALSE),FALSE)","v":{"$error":"#N/A"}},{"$error":"#N/A"},{"$error":"#N/A"},{"$f":"VLOOKUP($C22,SEE_agrg!$D:$BB,MATCH(V$3,SEE_agrg!$D$3:$BB$3,FALSE),FALSE)","v":{"$error":"#N/A"}},{"$f":"VLOOKUP($C22,SEE_agrg!$D:$BB,MATCH(W$3,SEE_agrg!$D$3:$BB$3,FALSE),FALSE)","v":{"$error":"#N/A"}},{"$f":"VLOOKUP($C22,SEE_agrg!$D:$BB,MATCH(X$3,SEE_agrg!$D$3:$BB$3,FALSE),FALSE)","v":{"$error":"#N/A"}},{"$error":"#N/A"},{"$f":"VLOOKUP(C22,SEE_agrg!$D:$BB,MATCH(Z$3,SEE_agrg!$D$3:$BB$3,FALSE),FALSE)","v":{"$error":"#N/A"}},{"$error":"#N/A"},{"$error":"#N/A"},{"$error":"#N/A"},{"$error":"#N/A"}]
[16,"Corredor 1","Estação 17",{"$error":"#N/A"},null,{"$f":"VLOOKUP($C23,SEE_agrg!D:BB,MATCH(F$3,SEE_agrg!$D$3:$BB$3,FALSE),FALSE)","v":{"$error":"#N/A"}},{"$f":"VLOOKUP($C23,UdS_agrg!$D:$P,MATCH(G$3,UdS_agrg!$D$3:$P$3,FALSE),FALSE)","v":{"$error":"#N/A"}},{"$f":"VLOOKUP($C23,UdS_agrg!$D:$P,MATCH(H$3,UdS_agrg!$D$3:$P$3,FALSE),FALSE)","v":{"$error":"#N/A"}},{"$f":"VLOOKUP($C23,UdS_agrg!$D:$P,MATCH(I$3,UdS_agrg!$D$3:$P$3,FALSE),FALSE)","v":{"$error":"#N/A"}},{"$error":"#N/A"},{"$f":"VLOOKUP($C23,UdS_agrg!$D:$P,MATCH(K$3,UdS_agrg!$D$3:$P$3,FALSE),FALSE)","v":{"$error":"#N/A"}},{"$error":"#N/A"},{"$f":"VLOOKUP($C23,SEE_agrg!$D:$BB,MATCH(M$3,SEE_agrg!$D$3:$BB$3,FALSE),FALSE)","v":{"$error":"#N/A"}},{"$f":"VLOOKUP($C23,SEE_agrg!$D:$BB,MATCH(N$3,SEE_agrg!$D$3:$BB$3,FALSE),FALSE)","v":{"$error":"#N/A"}},{"$error":"#N/A"},{"$error":"#N/A"},{"$f":"VLOOKUP($C23,QD_agrg!$D:$M,MATCH(Q$3,QD_agrg!$D$3:$M$3,FALSE),FALSE)","v":{"$error":"#N/A"}},{"$f":"VLOOKUP($C23,QD_agrg!$D:$M,MATCH(R$3,QD_agrg!$D$3:$M$3,FALSE),FALSE)","v":{"$error":"#N/A"}},{"$f":"VLOOKUP($C23,QD_agrg!$D:$O,MATCH(S$3,QD_agrg!$D$3:$O$3,FALSE),FALSE)","v":{"$error":"#N/A"}},{"$error":"#N/A"},{"$error":"#N/A"},{"$f":"VLOOKUP($C23,SEE_agrg!$D:$BB,MATCH(V$3,SEE_agrg!$D$3:$BB$3,FALSE),FALSE)","v":{"$error":"#N/A"}},{"$f":"VLOOKUP($C23,SEE_agrg!$D:$BB,MATCH(W$3,SEE_agrg!$D$3:$BB$3,FALSE),FALSE)","v":{"$error":"#N/A"}},{"$f":"VLOOKUP($C23,SEE_agrg!$D:$BB,MATCH(X$3,SEE_agrg!$D$3:$BB$3,FALSE),FALSE)","v":{"$error":"#N/A"}},{"$error":"#N/A"},{"$f":"VLOOKUP(C23,SEE_agrg!$D:$BB,MATCH(Z$3,SEE_agrg!$D$3:$BB$3,FALSE),FALSE)","v":{"$error":"#N/A"}},{"$error":"#N/A"},{"$error":"#N/A"},{"$error":"#N/A"},{"$error":"#N/A"}]
[18,"Corredor 1","Estação 18",{"$error":"#N/A"},null,{"$f":"VLOOKUP($C24,SEE_agrg!D:BB,MATCH(F$3,SEE_agrg!$D$3:$BB$3,FALSE),FALSE)","v":{"$error":"#N/A"}},{"$f":"VLOOKUP($C24,UdS_agrg!$D:$P,MATCH(G$3,UdS_agrg!$D$3:$P$3,FALSE),FALSE)","v":{"$error":"#N/A"}},{"$f":"VLOOKUP($C24,UdS_agrg!$D:$P,MATCH(H$3,UdS_agrg!$D$3:$P$3,FALSE),FALSE)","v":{"$error":"#N/A"}},{"$f":"VLOOKUP($C24,UdS_agrg!$D:$P,MATCH(I$3,UdS_agrg!$D$3:$P$3,FALSE),FALSE)","v":{"$error":"#N/A"}},{"$error":"#N/A"},{"$f":"VLOOKUP($C24,UdS_agrg!$D:$P,MATCH(K$3,UdS_agrg!$D$3:$P$3,FALSE),FALSE)","v":{"$error":"#N/A"}},{"$error":"#N/A"},{"$f":"VLOOKUP($C24,SEE_agrg!$D:$BB,MATCH(M$3,SEE_agrg!$D$3:$BB$3,FALSE),FALSE)","v":{"$error":"#N/A"}},{"$f":"VLOOKUP($C24,SEE_agrg!$D:$BB,MATCH(N$3,SEE_agrg!$D$3:$BB$3,FALSE),FALSE)","v":{"$error":"#N/A"}},{"$error":"#N/A"},{"$error":"#N/A"},{"$f":"VLOOKUP($C24,QD_agrg!$D:$M,MATCH(Q$3,QD_agrg!$D$3:$M$3,FALSE),FALSE)","v":{"$error":"#N/A"}},{"$f":"VLOOKUP($C24,QD_agrg!$D:$M,MATCH(R$3,QD_agrg!$D$3:$M$3,FALSE),FALSE)","v":{"$error":"#N/A"}},{"$f":"VLOOKUP($C24,QD_agrg!$D:$O,MATCH(S$3,QD_agrg!$D$3:$O$3,FALSE),FALSE)","v":{"$error":"#N/A"}},{"$error":"#N/A"},{"$error":"#N/A"},{"$f":"VLOOKUP($C24,SEE_agrg!$D:$BB,MATCH(V$3,SEE_agrg!$D$3:$BB$3,FALSE),FALSE)","v":{"$error":"#N/A"}},{"$f":"VLOOKUP($C24,SEE_agrg!$D:$BB,MATCH(W$3,SEE_agrg!$D$3:$BB$3,FALSE),FALSE)","v":{"$error":"#N/A"}},{"$f":"VLOOKUP($C24,SEE_agrg!$D:$BB,MATCH(X$3,SEE_agrg!$D$3:$BB$3,FALSE),FALSE)","v":{"$error":"#N/A"}},{"$error":"#N/A"},{"$f":"VLOOKUP(C24,SEE_agrg!$D:$BB,MATCH(Z$3,SEE_agrg!$D$3:$BB$3,FALSE),FALSE)","v":{"$error":"#N/A"}},{"$error":"#N/A"},{"$error":"#N/A"},{"$error":"#N/A"},{"$error":"#N/A"}]
[19,"Corredor 1","Estação 19",{"$error":"#N/A"},null,{"$f":"VLOOKUP($C25,SEE_agrg!D:BB,MATCH(F$3,SEE_agrg!$D$3:$BB$3,FALSE),FALSE)","v":{"$error":"#N/A"}},{"$f":"VLOOKUP($C25,UdS_agrg!$D:$P,MATCH(G$3,UdS_agrg!$D$3:$P$3,FALSE),FALSE)","v":{"$error":"#N/A"}},{"$f":"VLOOKUP($C25,UdS_agrg!$D:$P,MATCH(H$3,UdS_agrg!$D$3:$P$3,FALSE),FALSE)","v":{"$error":"#N/A"}},{"$f":"VLOOKUP($C25,UdS_agrg!$D:$P,MATCH(I$3,UdS_agrg!$D$3:$P$3,FALSE),FALSE)","v":{"$error":"#N/A"}},{"$error":"#N/A"},{"$f":"VLOOKUP($C25,UdS_agrg!$D:$P,MATCH(K$3,UdS_agrg!$D$3:$P$3,FALSE),FALSE)","v":{"$error":"#N/A"}},{"$error":"#N/A"},{"$f":"VLOOKUP($C25,SEE_agrg!$D:$BB,MATCH(M$3,SEE_agrg!$D$3:$BB$3,FALSE),FALSE)","v":{"$error":"#N/A"}},{"$f":"VLOOKUP($C25,SEE_agrg!$D:$BB,MATCH(N$3,SEE_agrg!$D$3:$BB$3,FALSE),FALSE)","v":{"$error":"#N/A"}},{"$error":"#N/A"},{"$error":"#N/A"},{"$f":"VLOOKUP($C25,QD_agrg!$D:$M,MATCH(Q$3,QD_agrg!$D$3:$M$3,FALSE),FALSE)","v":{"$error":"#N/A"}},{"$f":"VLOOKUP($C25,QD_agrg!$D:$M,MATCH(R$3,QD_agrg!$D$3:$M$3,FALSE),FALSE)","v":{"$error":"#N/A"}},{"$f":"VLOOKUP($C25,QD_agrg!$D:$O,MATCH(S$3,QD_agrg!$D$3:$O$3,FALSE),FALSE)","v":{"$error":"#N/A"}},{"$error":"#N/A"},{"$error":"#N/A"},{"$f":"VLOOKUP($C25,SEE_agrg!$D:$BB,MATCH(V$3,SEE_agrg!$D$3:$BB$3,FALSE),FALSE)","v":{"$error":"#N/A"}},{"$f":"VLOOKUP($C25,SEE_agrg!$D:$BB,MATCH(W$3,SEE_agrg!$D$3:$BB$3,FALSE),FALSE)","v":{"$error":"#N/A"}},{"$f":"VLOOKUP($C25,SEE_agrg!$D:$BB,MATCH(X$3,SEE_agrg!$D$3:$BB$3,FALSE),FALSE)","v":{"$error":"#N/A"}},{"$error":"#N/A"},{"$f":"VLOOKUP(C25,SEE_agrg!$D:$BB,MATCH(Z$3,SEE_agrg!$D$3:$BB$3,FALSE),FALSE)","v":{"$error":"#N/A"}},{"$error":"#N/A"},{"$error":"#N/A"},{"$error":"#N/A"},{"$error":"#N/A"}]
[20,"Corredor 1","Estação 20",{"$error":"#N/A"},null,{"$f":"VLOOKUP($C26,SEE_agrg!D:BB,MATCH(F$3,SEE_agrg!$D$3:$BB$3,FALSE),FALSE)","v":{"$error":"#N/A"}},{"$f":"VLOOKUP($C26,UdS_agrg!$D:$P,MATCH(G$3,UdS_agrg!$D$3:$P$3,FALSE),FALSE)","v":{"$error":"#N/A"}},{"$f":"VLOOKUP($C26,UdS_agrg!$D:$P,MATCH(H$3,UdS_agrg!$D$3:$P$3,FALSE),FALSE)","v":{"$error":"#N/A"}},{"$f":"VLOOKUP($C26,UdS_agrg!$D:$P,MATCH(I$3,UdS_agrg!$D$3:$P$3,FALSE),FALSE)","v":{"$error":"#N/A"}},{"$error":"#N/A"},{"$f":"VLOOKUP($C26,UdS_agrg!$D:$P,MATCH(K$3,UdS_agrg!$D$3:$P$3,FALSE),FALSE)","v":{"$error":"#N/A"}},{"$error":"#N/A"},{"$f":"VLOOKUP($C26,SEE_agrg!$D:$BB,MATCH(M$3,SEE_agrg!$D$3:$BB$3,FALSE),FALSE)","v":{"$error":"#N/A"}},{"$f":"VLOOKUP($C26,SEE_agrg!$D:$BB,MATCH(N$3,SEE_agrg!$D$3:$BB$3,FALSE),FALSE)","v":{"$error":"#N/A"}},{"$error":"#N/A"},{"$error":"#N/A"},{"$f":"VLOOKUP($C26,QD_agrg!$D:$M,MATCH(Q$3,QD_agrg!$D$3:$M$3,FALSE),FALSE)","v":{"$error":"#N/A"}},{"$f":"VLOOKUP($C26,QD_agrg!$D:$M,MATCH(R$3,QD_agrg!$D$3:$M$3,FALSE),FALSE)","v":{"$error":"#N/A"}},{"$f":"VLOOKUP($C26,QD_agrg!$D:$O,MATCH(S$3,QD_agrg!$D$3:$O$3,FALSE),FALSE)","v":{"$error":"#N/A"}},{"$error":"#N/A"},{"$error":"#N/A"},{"$f":"VLOOKUP($C26,SEE_agrg!$D:$BB,MATCH(V$3,SEE_agrg!$D$3:$BB$3,FALSE),FALSE)","v":{"$error":"#N/A"}},{"$f":"VLOOKUP($C26,SEE_agrg!$D:$BB,MATCH(W$3,SEE_agrg!$D$3:$BB$3,FALSE),FALSE)","v":{"$error":"#N/A"}},{"$f":"VLOOKUP($C26,SEE_agrg!$D:$BB,MATCH(X$3,SEE_agrg!$D$3:$BB$3,FALSE),FALSE)","v":{"$error":"#N/A"}},{"$error":"#N/A"},{"$f":"VLOOKUP(C26,SEE_agrg!$D:$BB,MATCH(Z$3,SEE_agrg!$D$3:$BB$3,FALSE),FALSE)","v":{"$error":"#N/A"}},{"$error":"#N/A"},{"$error":"#N/A"},{"$error":"#N/A"},{"$error":"#N/A"}]
[21,"Corredor 1","Estação 21",{"$error":"#N/A"},null,{"$f":"VLOOKUP($C27,SEE_agrg!D:BB,MATCH(F$3,SEE_agrg!$D$3:$BB$3,FALSE),FALSE)","v":{"$error":"#N/A"}},{"$f":"VLOOKUP($C27,UdS_agrg!$D:$P,MATCH(G$3,UdS_agrg!$D$3:$P$3,FALSE),FALSE)","v":{"$error":"#N/A"}},{"$f":"VLOOKUP($C27,UdS_agrg!$D:$P,MATCH(H$3,UdS_agrg!$D$3:$P$3,FALSE),FALSE)","v":{"$error":"#N/A"}},{"$f":"VLOOKUP($C27,UdS_agrg!$D:$P,MATCH(I$3,UdS_agrg!$D$3:$P$3,FALSE),FALSE)","v":{"$error":"#N/A"}},{"$error":"#N/A"},{"$f":"VLOOKUP($C27,UdS_agrg!$D:$P,MATCH(K$3,UdS_agrg!$D$3:$P$3,FALSE),FALSE)","v":{"$error":"#N/A"}},{"$error":"#N/A"},{"$f":"VLOOKUP($C27,SEE_agrg!$D:$BB,MATCH(M$3,SEE_agrg!$D$3:$BB$3,FALSE),FALSE)","v":{"$error":"#N/A"}},{"$f":"VLOOKUP($C27,SEE_agrg!$D:$BB,MATCH(N$3,SEE_agrg!$D$3:$BB$3,FALSE),FALSE)","v":{"$error":"#N/A"}},{"$error":"#N/A"},{"$error":"#N/A"},{"$f":"VLOOKUP($C27,QD_agrg!$D:$M,MATCH(Q$3,QD_agrg!$D$3:$M$3,FALSE),FALSE)","v":{"$error":"#N/A"}},{"$f":"VLOOKUP($C27,QD_agrg!$D:$M,MATCH(R$3,QD_agrg!$D$3:$M$3,FALSE),FALSE)","v":{"$error":"#N/A"}},{"$f":"VLOOKUP($C27,QD_agrg!$D:$O,MATCH(S$3,QD_agrg!$D$3:$O$3,FALSE),FALSE)","v":{"$error":"#N/A"}},{"$error":"#N/A"},{"$error":"#N/A"},{"$f":"VLOOKUP($C27,SEE_agrg!$D:$BB,MATCH(V$3,SEE_agrg!$D$3:$BB$3,FALSE),FALSE)","v":{"$error":"#N/A"}},{"$f":"VLOOKUP($C27,SEE_agrg!$D:$BB,MATCH(W$3,SEE_agrg!$D$3:$BB$3,FALSE),FALSE)","v":{"$error":"#N/A"}},{"$f":"VLOOKUP($C27,SEE_agrg!$D:$BB,MATCH(X$3,SEE_agrg!$D$3:$BB$3,FALSE),FALSE)","v":{"$error":"#N/A"}},{"$error":"#N/A"},{"$f":"VLOOKUP(C27,SEE_agrg!$D:$BB,MATCH(Z$3,SEE_agrg!$D$3:$BB$3,FALSE),FALSE)","v":{"$error":"#N/A"}},{"$error":"#N/A"},{"$error":"#N/A"},{"$error":"#N/A"},{"$error":"#N/A"}]
[22,"Corredor 1","Estação 22",{"$error":"#N/A"},null,{"$f":"VLOOKUP($C28,SEE_agrg!D:BB,MATCH(F$3,SEE_agrg!$D$3:$BB$3,FALSE),FALSE)","v":{"$error":"#N/A"}},{"$f":"VLOOKUP($C28,UdS_agrg!$D:$P,MATCH(G$3,UdS_agrg!$D$3:$P$3,FALSE),FALSE)","v":{"$error":"#N/A"}},{"$f":"VLOOKUP($C28,UdS_agrg!$D:$P,MATCH(H$3,UdS_agrg!$D$3:$P$3,FALSE),FALSE)","v":{"$error":"#N/A"}},{"$f":"VLOOKUP($C28,UdS_agrg!$D:$P,MATCH(I$3,UdS_agrg!$D$3:$P$3,FALSE),FALSE)","v":{"$error":"#N/A"}},{"$error":"#N/A"},{"$f":"VLOOKUP($C28,UdS_agrg!$D:$P,MATCH(K$3,UdS_agrg!$D$3:$P$3,FALSE),FALSE)","v":{"$error":"#N/A"}},{"$error":"#N/A"},{"$f":"VLOOKUP($C28,SEE_agrg!$D:$BB,MATCH(M$3,SEE_agrg!$D$3:$BB$3,FALSE),FALSE)","v":{"$error":"#N/A"}},{"$f":"VLOOKUP($C28,SEE_agrg!$D:$BB,MATCH(N$3,SEE_agrg!$D$3:$BB$3,FALSE),FALSE)","v":{"$error":"#N/A"}},{"$error":"#N/A"},{"$error":"#N/A"},{"$f":"VLOOKUP($C28,QD_agrg!$D:$M,MATCH(Q$3,QD_agrg!$D$3:$M$3,FALSE),FALSE)","v":{"$error":"#N/A"}},{"$f":"VLOOKUP($C28,QD_agrg!$D:$M,MATCH(R$3,QD_agrg!$D$3:$M$3,FALSE),FALSE)","v":{"$error":"#N/A"}},{"$f":"VLOOKUP($C28,QD_agrg!$D:$O,MATCH(S$3,QD_agrg!$D$3:$O$3,FALSE),FALSE)","v":{"$error":"#N/A"}},{"$error":"#N/A"},{"$error":"#N/A"},{"$f":"VLOOKUP($C28,SEE_agrg!$D:$BB,MATCH(V$3,SEE_agrg!$D$3:$BB$3,FALSE),FALSE)","v":{"$error":"#N/A"}},{"$f":"VLOOKUP($C28,SEE_agrg!$D:$BB,MATCH(W$3,SEE_agrg!$D$3:$BB$3,FALSE),FALSE)","v":{"$error":"#N/A"}},{"$f":"VLOOKUP($C28,SEE_agrg!$D:$BB,MATCH(X$3,SEE_agrg!$D$3:$BB$3,FALSE),FALSE)","v":{"$error":"#N/A"}},{"$error":"#N/A"},{"$f":"VLOOKUP(C28,SEE_agrg!$D:$BB,MATCH(Z$3,SEE_agrg!$D$3:$BB$3,FALSE),FALSE)","v":{"$error":"#N/A"}},{"$error":"#N/A"},{"$error":"#N/A"},{"$error":"#N/A"},{"$error":"#N/A"}]
[23,"Corredor 1","Estação 23",{"$error":"#N/A"},null,{"$f":"VLOOKUP($C29,SEE_agrg!D:BB,MATCH(F$3,SEE_agrg!$D$3:$BB$3,FALSE),FALSE)","v":{"$error":"#N/A"}},{"$f":"VLOOKUP($C29,UdS_agrg!$D:$P,MATCH(G$3,UdS_agrg!$D$3:$P$3,FALSE),FALSE)","v":{"$error":"#N/A"}},{"$f":"VLOOKUP($C29,UdS_agrg!$D:$P,MATCH(H$3,UdS_agrg!$D$3:$P$3,FALSE),FALSE)","v":{"$error":"#N/A"}},{"$f":"VLOOKUP($C29,UdS_agrg!$D:$P,MATCH(I$3,UdS_agrg!$D$3:$P$3,FALSE),FALSE)","v":{"$error":"#N/A"}},{"$error":"#N/A"},{"$f":"VLOOKUP($C29,UdS_agrg!$D:$P,MATCH(K$3,UdS_agrg!$D$3:$P$3,FALSE),FALSE)","v":{"$error":"#N/A"}},{"$error":"#N/A"},{"$f":"VLOOKUP($C29,SEE_agrg!$D:$BB,MATCH(M$3,SEE_agrg!$D$3:$BB$3,FALSE),FALSE)","v":{"$error":"#N/A"}},{"$f":"VLOOKUP($C29,SEE_agrg!$D:$BB,MATCH(N$3,SEE_agrg!$D$3:$BB$3,FALSE),FALSE)","v":{"$error":"#N/A"}},{"$error":"#N/A"},{"$error":"#N/A"},{"$f":"VLOOKUP($C29,QD_agrg!$D:$M,MATCH(Q$3,QD_agrg!$D$3:$M$3,FALSE),FALSE)","v":{"$error":"#N/A"}},{"$f":"VLOOKUP($C29,QD_agrg!$D:$M,MATCH(R$3,QD_agrg!$D$3:$M$3,FALSE),FALSE)","v":{"$error":"#N/A"}},{"$f":"VLOOKUP($C29,QD_agrg!$D:$O,MATCH(S$3,QD_agrg!$D$3:$O$3,FALSE),FALSE)","v":{"$error":"#N/A"}},{"$error":"#N/A"},{"$error":"#N/A"},{"$f":"VLOOKUP($C29,SEE_agrg!$D:$BB,MATCH(V$3,SEE_agrg!$D$3:$BB$3,FALSE),FALSE)","v":{"$error":"#N/A"}},{"$f":"VLOOKUP($C29,SEE_agrg!$D:$BB,MATCH(W$3,SEE_agrg!$D$3:$BB$3,FALSE),FALSE)","v":{"$error":"#N/A"}},{"$f":"VLOOKUP($C29,SEE_agrg!$D:$BB,MATCH(X$3,SEE_agrg!$D$3:$BB$3,FALSE),FALSE)","v":{"$error":"#N/A"}},{"$error":"#N/A"},{"$f":"VLOOKUP(C29,SEE_agrg!$D:$BB,MATCH(Z$3,SEE_agrg!$D$3:$BB$3,FALSE),FALSE)","v":{"$error":"#N/A"}},{"$error":"#N/A"},{"$error":"#N/A"},{"$error":"#N/A"},{"$error":"#N/A"}]
[24,"Corredor 1","Estação 24",{"$error":"#N/A"},null,{"$f":"VLOOKUP($C30,SEE_agrg!D:BB,MATCH(F$3,SEE_agrg!$D$3:$BB$3,FALSE),FALSE)","v":{"$error":"#N/A"}},{"$f":"VLOOKUP($C30,UdS_agrg!$D:$P,MATCH(G$3,UdS_agrg!$D$3:$P$3,FALSE),FALSE)","v":{"$error":"#N/A"}},{"$f":"VLOOKUP($C30,UdS_agrg!$D:$P,MATCH(H$3,UdS_agrg!$D$3:$P$3,FALSE),FALSE)","v":{"$error":"#N/A"}},{"$f":"VLOOKUP($C30,UdS_agrg!$D:$P,MATCH(I$3,UdS_agrg!$D$3:$P$3,FALSE),FALSE)","v":{"$error":"#N/A"}},{"$error":"#N/A"},{"$f":"VLOOKUP($C30,UdS_agrg!$D:$P,MATCH(K$3,UdS_agrg!$D$3:$P$3,FALSE),FALSE)","v":{"$error":"#N/A"}},{"$error":"#N/A"},{"$f":"VLOOKUP($C30,SEE_agrg!$D:$BB,MATCH(M$3,SEE_agrg!$D$3:$BB$3,FALSE),FALSE)","v":{"$error":"#N/A"}},{"$f":"VLOOKUP($C30,SEE_agrg!$D:$BB,MATCH(N$3,SEE_agrg!$D$3:$BB$3,FALSE),FALSE)","v":{"$error":"#N/A"}},{"$error":"#N/A"},{"$error":"#N/A"},{"$f":"VLOOKUP($C30,QD_agrg!$D:$M,MATCH(Q$3,QD_agrg!$D$3:$M$3,FALSE),FALSE)","v":{"$error":"#N/A"}},{"$f":"VLOOKUP($C30,QD_agrg!$D:$M,MATCH(R$3,QD_agrg!$D$3:$M$3,FALSE),FALSE)","v":{"$error":"#N/A"}},{"$f":"VLOOKUP($C30,QD_agrg!$D:$O,MATCH(S$3,QD_agrg!$D$3:$O$3,FALSE),FALSE)","v":{"$error":"#N/A"}},{"$error":"#N/A"},{"$error":"#N/A"},{"$f":"VLOOKUP($C30,SEE_agrg!$D:$BB,MATCH(V$3,SEE_agrg!$D$3:$BB$3,FALSE),FALSE)","v":{"$error":"#N/A"}},{"$f":"VLOOKUP($C30,SEE_agrg!$D:$BB,MATCH(W$3,SEE_agrg!$D$3:$BB$3,FALSE),FALSE)","v":{"$error":"#N/A"}},{"$f":"VLOOKUP($C30,SEE_agrg!$D:$BB,MATCH(X$3,SEE_agrg!$D$3:$BB$3,FALSE),FALSE)","v":{"$error":"#N/A"}},{"$error":"#N/A"},{"$f":"VLOOKUP(C30,SEE_agrg!$D:$BB,MATCH(Z$3,SEE_agrg!$D$3:$BB$3,FALSE),FALSE)","v":{"$error":"#N/A"}},{"$error":"#N/A"},{"$error":"#N/A"},{"$error":"#N/A"},{"$error":"#N/A"}]
[25,"Corredor 1","Estação 25",{"$error":"#N/A"},null,{"$f":"VLOOKUP($C31,SEE_agrg!D:BB,MATCH(F$3,SEE_agrg!$D$3:$BB$3,FALSE),FALSE)","v":{"$error":"#N/A"}},{"$f":"VLOOKUP($C31,UdS_agrg!$D:$P,MATCH(G$3,UdS_agrg!$D$3:$P$3,FALSE),FALSE)","v":{"$error":"#N/A"}},{"$f":"VLOOKUP($C31,UdS_agrg!$D:$P,MATCH(H$3,UdS_agrg!$D$3:$P$3,FALSE),FALSE)","v":{"$error":"#N/A"}},{"$f":"VLOOKUP($C31,UdS_agrg!$D:$P,MATCH(I$3,UdS_agrg!$D$3:$P$3,FALSE),FALSE)","v":{"$error":"#N/A"}},{"$error":"#N/A"},{"$f":"VLOOKUP($C31,UdS_agrg!$D:$P,MATCH(K$3,UdS_agrg!$D$3:$P$3,FALSE),FALSE)","v":{"$error":"#N/A"}},{"$error":"#N/A"},{"$f":"VLOOKUP($C31,SEE_agrg!$D:$BB,MATCH(M$3,SEE_agrg!$D$3:$BB$3,FALSE),FALSE)","v":{"$error":"#N/A"}},{"$f":"VLOOKUP($C31,SEE_agrg!$D:$BB,MATCH(N$3,SEE_agrg!$D$3:$BB$3,FALSE),FALSE)","v":{"$error":"#N/A"}},{"$error":"#N/A"},{"$error":"#N/A"},{"$f":"VLOOKUP($C31,QD_agrg!$D:$M,MATCH(Q$3,QD_agrg!$D$3:$M$3,FALSE),FALSE)","v":{"$error":"#N/A"}},{"$f":"VLOOKUP($C31,QD_agrg!$D:$M,MATCH(R$3,QD_agrg!$D$3:$M$3,FALSE),FALSE)","v":{"$error":"#N/A"}},{"$f":"VLOOKUP($C31,QD_agrg!$D:$O,MATCH(S$3,QD_agrg!$D$3:$O$3,FALSE),FALSE)","v":{"$error":"#N/A"}},{"$error":"#N/A"},{"$error":"#N/A"},{"$f":"VLOOKUP($C31,SEE_agrg!$D:$BB,MATCH(V$3,SEE_agrg!$D$3:$BB$3,FALSE),FALSE)","v":{"$error":"#N/A"}},{"$f":"VLOOKUP($C31,SEE_agrg!$D:$BB,MATCH(W$3,SEE_agrg!$D$3:$BB$3,FALSE),FALSE)","v":{"$error":"#N/A"}},{"$f":"VLOOKUP($C31,SEE_agrg!$D:$BB,MATCH(X$3,SEE_agrg!$D$3:$BB$3,FALSE),FALSE)","v":{"$error":"#N/A"}},{"$error":"#N/A"},{"$f":"VLOOKUP(C31,SEE_agrg!$D:$BB,MATCH(Z$3,SEE_agrg!$D$3:$BB$3,FALSE),FALSE)","v":{"$error":"#N/A"}},{"$error":"#N/A"},{"$error":"#N/A"},{"$error":"#N/A"},{"$error":"#N/A"}]
[26,"Corredor 2","Estação 26",{"$error":"#N/A"},null,{"$f":"VLOOKUP($C32,SEE_agrg!D:BB,MATCH(F$3,SEE_agrg!$D$3:$BB$3,FALSE),FALSE)","v":{"$error":"#N/A"}},{"$f":"VLOOKUP($C32,UdS_agrg!$D:$P,MATCH(G$3,UdS_agrg!$D$3:$P$3,FALSE),FALSE)","v":{"$error":"#N/A"}},{"$f":"VLOOKUP($C32,UdS_agrg!$D:$P,MATCH(H$3,UdS_agrg!$D$3:$P$3,FALSE),FALSE)","v":{"$error":"#N/A"}},{"$f":"VLOOKUP($C32,UdS_agrg!$D:$P,MATCH(I$3,UdS_agrg!$D$3:$P$3,FALSE),FALSE)","v":{"$error":"#N/A"}},{"$error":"#N/A"},{"$f":"VLOOKUP($C32,UdS_agrg!$D:$P,MATCH(K$3,UdS_agrg!$D$3:$P$3,FALSE),FALSE)","v":{"$error":"#N/A"}},{"$error":"#N/A"},{"$f":"VLOOKUP($C32,SEE_agrg!$D:$BB,MATCH(M$3,SEE_agrg!$D$3:$BB$3,FALSE),FALSE)","v":{"$error":"#N/A"}},{"$f":"VLOOKUP($C32,SEE_agrg!$D:$BB,MATCH(N$3,SEE_agrg!$D$3:$BB$3,FALSE),FALSE)","v":{"$error":"#N/A"}},{"$error":"#N/A"},{"$error":"#N/A"},{"$f":"VLOOKUP($C32,QD_agrg!$D:$M,MATCH(Q$3,QD_agrg!$D$3:$M$3,FALSE),FALSE)","v":{"$error":"#N/A"}},{"$f":"VLOOKUP($C32,QD_agrg!$D:$M,MATCH(R$3,QD_agrg!$D$3:$M$3,FALSE),FALSE)","v":{"$error":"#N/A"}},{"$f":"VLOOKUP($C32,QD_agrg!$D:$O,MATCH(S$3,QD_agrg!$D$3:$O$3,FALSE),FALSE)","v":{"$error":"#N/A"}},{"$error":"#N/A"},{"$error":"#N/A"},{"$f":"VLOOKUP($C32,SEE_agrg!$D:$BB,MATCH(V$3,SEE_agrg!$D$3:$BB$3,FALSE),FALSE)","v":{"$error":"#N/A"}},{"$f":"VLOOKUP($C32,SEE_agrg!$D:$BB,MATCH(W$3,SEE_agrg!$D$3:$BB$3,FALSE),FALSE)","v":{"$error":"#N/A"}},{"$f":"VLOOKUP($C32,SEE_agrg!$D:$BB,MATCH(X$3,SEE_agrg!$D$3:$BB$3,FALSE),FALSE)","v":{"$error":"#N/A"}},{"$error":"#N/A"},{"$f":"VLOOKUP(C32,SEE_agrg!$D:$BB,MATCH(Z$3,SEE_agrg!$D$3:$BB$3,FALSE),FALSE)","v":{"$error":"#N/A"}},{"$error":"#N/A"},{"$error":"#N/A"},{"$error":"#N/A"},{"$error":"#N/A"}]
[27,"Corredor 2","Estação 27",{"$error":"#N/A"},null,{"$f":"VLOOKUP($C33,SEE_agrg!D:BB,MATCH(F$3,SEE_agrg!$D$3:$BB$3,FALSE),FALSE)","v":{"$error":"#N/A"}},{"$f":"VLOOKUP($C33,UdS_agrg!$D:$P,MATCH(G$3,UdS_agrg!$D$3:$P$3,FALSE),FALSE)","v":{"$error":"#N/A"}},{"$f":"VLOOKUP($C33,UdS_agrg!$D:$P,MATCH(H$3,UdS_agrg!$D$3:$P$3,FALSE),FALSE)","v":{"$error":"#N/A"}},{"$f":"VLOOKUP($C33,UdS_agrg!$D:$P,MATCH(I$3,UdS_agrg!$D$3:$P$3,FALSE),FALSE)","v":{"$error":"#N/A"}},{"$error":"#N/A"},{"$f":"VLOOKUP($C33,UdS_agrg!$D:$P,MATCH(K$3,UdS_agrg!$D$3:$P$3,FALSE),FALSE)","v":{"$error":"#N/A"}},{"$error":"#N/A"},{"$f":"VLOOKUP($C33,SEE_agrg!$D:$BB,MATCH(M$3,SEE_agrg!$D$3:$BB$3,FALSE),FALSE)","v":{"$error":"#N/A"}},{"$f":"VLOOKUP($C33,SEE_agrg!$D:$BB,MATCH(N$3,SEE_agrg!$D$3:$BB$3,FALSE),FALSE)","v":{"$error":"#N/A"}},{"$error":"#N/A"},{"$error":"#N/A"},{"$f":"VLOOKUP($C33,QD_agrg!$D:$M,MATCH(Q$3,QD_agrg!$D$3:$M$3,FALSE),FALSE)","v":{"$error":"#N/A"}},{"$f":"VLOOKUP($C33,QD_agrg!$D:$M,MATCH(R$3,QD_agrg!$D$3:$M$3,FALSE),FALSE)","v":{"$error":"#N/A"}},{"$f":"VLOOKUP($C33,QD_agrg!$D:$O,MATCH(S$3,QD_agrg!$D$3:$O$3,FALSE),FALSE)","v":{"$error":"#N/A"}},{"$error":"#N/A"},{"$error":"#N/A"},{"$f":"VLOOKUP($C33,SEE_agrg!$D:$BB,MATCH(V$3,SEE_agrg!$D$3:$BB$3,FALSE),FALSE)","v":{"$error":"#N/A"}},{"$f":"VLOOKUP($C33,SEE_agrg!$D:$BB,MATCH(W$3,SEE_agrg!$D$3:$BB$3,FALSE),FALSE)","v":{"$error":"#N/A"}},{"$f":"VLOOKUP($C33,SEE_agrg!$D:$BB,MATCH(X$3,SEE_agrg!$D$3:$BB$3,FALSE),FALSE)","v":{"$error":"#N/A"}},{"$error":"#N/A"},{"$f":"VLOOKUP(C33,SEE_agrg!$D:$BB,MATCH(Z$3,SEE_agrg!$D$3:$BB$3,FALSE),FALSE)","v":{"$error":"#N/A"}},{"$error":"#N/A"},{"$error":"#N/A"},{"$error":"#N/A"},{"$error":"#N/A"}]
[28,"Corredor 2","Estação 28",{"$error":"#N/A"},null,{"$f":"VLOOKUP($C34,SEE_agrg!D:BB,MATCH(F$3,SEE_agrg!$D$3:$BB$3,FALSE),FALSE)","v":{"$error":"#N/A"}},{"$f":"VLOOKUP($C34,UdS_agrg!$D:$P,MATCH(G$3,UdS_agrg!$D$3:$P$3,FALSE),FALSE)","v":{"$error":"#N/A"}},{"$f":"VLOOKUP($C34,UdS_agrg!$D:$P,MATCH(H$3,UdS_agrg!$D$3:$P$3,FALSE),FALSE)","v":{"$error":"#N/A"}},{"$f":"VLOOKUP($C34,UdS_agrg!$D:$P,MATCH(I$3,UdS_agrg!$D$3:$P$3,FALSE),FALSE)","v":{"$error":"#N/A"}},{"$error":"#N/A"},{"$f":"VLOOKUP($C34,UdS_agrg!$D:$P,MATCH(K$3,UdS_agrg!$D$3:$P$3,FALSE),FALSE)","v":{"$error":"#N/A"}},{"$error":"#N/A"},{"$f":"VLOOKUP($C34,SEE_agrg!$D:$BB,MATCH(M$3,SEE_agrg!$D$3:$BB$3,FALSE),FALSE)","v":{"$error":"#N/A"}},{"$f":"VLOOKUP($C34,SEE_agrg!$D:$BB,MATCH(N$3,SEE_agrg!$D$3:$BB$3,FALSE),FALSE)","v":{"$error":"#N/A"}},{"$error":"#N/A"},{"$error":"#N/A"},{"$f":"VLOOKUP($C34,QD_agrg!$D:$M,MATCH(Q$3,QD_agrg!$D$3:$M$3,FALSE),FALSE)","v":{"$error":"#N/A"}},{"$f":"VLOOKUP($C34,QD_agrg!$D:$M,MATCH(R$3,QD_agrg!$D$3:$M$3,FALSE),FALSE)","v":{"$error":"#N/A"}},{"$f":"VLOOKUP($C34,QD_agrg!$D:$O,MATCH(S$3,QD_agrg!$D$3:$O$3,FALSE),FALSE)","v":{"$error":"#N/A"}},{"$error":"#N/A"},{"$error":"#N/A"},{"$f":"VLOOKUP($C34,SEE_agrg!$D:$BB,MATCH(V$3,SEE_agrg!$D$3:$BB$3,FALSE),FALSE)","v":{"$error":"#N/A"}},{"$f":"VLOOKUP($C34,SEE_agrg!$D:$BB,MATCH(W$3,SEE_agrg!$D$3:$BB$3,FALSE),FALSE)","v":{"$error":"#N/A"}},{"$f":"VLOOKUP($C34,SEE_agrg!$D:$BB,MATCH(X$3,SEE_agrg!$D$3:$BB$3,FALSE),FALSE)","v":{"$error":"#N/A"}},{"$error":"#N/A"},{"$f":"VLOOKUP(C34,SEE_agrg!$D:$BB,MATCH(Z$3,SEE_agrg!$D$3:$BB$3,FALSE),FALSE)","v":{"$error":"#N/A"}},{"$error":"#N/A"},{"$error":"#N/A"},{"$error":"#N/A"},{"$error":"#N/A"}]
[29,"Corredor 2","Estação 29",{"$error":"#N/A"},null,{"$f":"VLOOKUP($C35,SEE_agrg!D:BB,MATCH(F$3,SEE_agrg!$D$3:$BB$3,FALSE),FALSE)","v":{"$error":"#N/A"}},{"$f":"VLOOKUP($C35,UdS_agrg!$D:$P,MATCH(G$3,UdS_agrg!$D$3:$P$3,FALSE),FALSE)","v":{"$error":"#N/A"}},{"$f":"VLOOKUP($C35,UdS_agrg!$D:$P,MATCH(H$3,UdS_agrg!$D$3:$P$3,FALSE),FALSE)","v":{"$error":"#N/A"}},{"$f":"VLOOKUP($C35,UdS_agrg!$D:$P,MATCH(I$3,UdS_agrg!$D$3:$P$3,FALSE),FALSE)","v":{"$error":"#N/A"}},{"$error":"#N/A"},{"$f":"VLOOKUP($C35,UdS_agrg!$D:$P,MATCH(K$3,UdS_agrg!$D$3:$P$3,FALSE),FALSE)","v":{"$error":"#N/A"}},{"$error":"#N/A"},{"$f":"VLOOKUP($C35,SEE_agrg!$D:$BB,MATCH(M$3,SEE_agrg!$D$3:$BB$3,FALSE),FALSE)","v":{"$error":"#N/A"}},{"$f":"VLOOKUP($C35,SEE_agrg!$D:$BB,MATCH(N$3,SEE_agrg!$D$3:$BB$3,FALSE),FALSE)","v":{"$error":"#N/A"}},{"$error":"#N/A"},{"$error":"#N/A"},{"$f":"VLOOKUP($C35,QD_agrg!$D:$M,MATCH(Q$3,QD_agrg!$D$3:$M$3,FALSE),FALSE)","v":{"$error":"#N/A"}},{"$f":"VLOOKUP($C35,QD_agrg!$D:$M,MATCH(R$3,QD_agrg!$D$3:$M$3,FALSE),FALSE)","v":{"$error":"#N/A"}},{"$f":"VLOOKUP($C35,QD_agrg!$D:$O,MATCH(S$3,QD_agrg!$D$3:$O$3,FALSE),FALSE)","v":{"$error":"#N/A"}},{"$error":"#N/A"},{"$error":"#N/A"},{"$f":"VLOOKUP($C35,SEE_agrg!$D:$BB,MATCH(V$3,SEE_agrg!$D$3:$BB$3,FALSE),FALSE)","v":{"$error":"#N/A"}},{"$f":"VLOOKUP($C35,SEE_agrg!$D:$BB,MATCH(W$3,SEE_agrg!$D$3:$BB$3,FALSE),FALSE)","v":{"$error":"#N/A"}},{"$f":"VLOOKUP($C35,SEE_agrg!$D:$BB,MATCH(X$3,SEE_agrg!$D$3:$BB$3,FALSE),FALSE)","v":{"$error":"#N/A"}},{"$error":"#N/A"},{"$f":"VLOOKUP(C35,SEE_agrg!$D:$BB,MATCH(Z$3,SEE_agrg!$D$3:$BB$3,FALSE),FALSE)","v":{"$error":"#N/A"}},{"$error":"#N/A"},{"$error":"#N/A"},{"$error":"#N/A"},{"$error":"#N/A"}]
[30,"Corredor 2","Estação 30",{"$error":"#N/A"},null,{"$f":"VLOOKUP($C36,SEE_agrg!D:BB,MATCH(F$3,SEE_agrg!$D$3:$BB$3,FALSE),FALSE)","v":{"$error":"#N/A"}},{"$f":"VLOOKUP($C36,UdS_agrg!$D:$P,MATCH(G$3,UdS_agrg!$D$3:$P$3,FALSE),FALSE)","v":{"$error":"#N/A"}},{"$f":"VLOOKUP($C36,UdS_agrg!$D:$P,MATCH(H$3,UdS_agrg!$D$3:$P$3,FALSE),FALSE)","v":{"$error":"#N/A"}},{"$f":"VLOOKUP($C36,UdS_agrg!$D:$P,MATCH(I$3,UdS_agrg!$D$3:$P$3,FALSE),FALSE)","v":{"$error":"#N/A"}},{"$error":"#N/A"},{"$f":"VLOOKUP($C36,UdS_agrg!$D:$P,MATCH(K$3,UdS_agrg!$D$3:$P$3,FALSE),FALSE)","v":{"$error":"#N/A"}},{"$error":"#N/A"},{"$f":"VLOOKUP($C36,SEE_agrg!$D:$BB,MATCH(M$3,SEE_agrg!$D$3:$BB$3,FALSE),FALSE)","v":{"$error":"#N/A"}},{"$f":"VLOOKUP($C36,SEE_agrg!$D:$BB,MATCH(N$3,SEE_agrg!$D$3:$BB$3,FALSE),FALSE)","v":{"$error":"#N/A"}},{"$error":"#N/A"},{"$error":"#N/A"},{"$f":"VLOOKUP($C36,QD_agrg!$D:$M,MATCH(Q$3,QD_agrg!$D$3:$M$3,FALSE),FALSE)","v":{"$error":"#N/A"}},{"$f":"VLOOKUP($C36,QD_agrg!$D:$M,MATCH(R$3,QD_agrg!$D$3:$M$3,FALSE),FALSE)","v":{"$error":"#N/A"}},{"$f":"VLOOKUP($C36,QD_agrg!$D:$O,MATCH(S$3,QD_agrg!$D$3:$O$3,FALSE),FALSE)","v":{"$error":"#N/A"}},{"$error":"#N/A"},{"$error":"#N/A"},{"$f":"VLOOKUP($C36,SEE_agrg!$D:$BB,MATCH(V$3,SEE_agrg!$D$3:$BB$3,FALSE),FALSE)","v":{"$error":"#N/A"}},{"$f":"VLOOKUP($C36,SEE_agrg!$D:$BB,MATCH(W$3,SEE_agrg!$D$3:$BB$3,FALSE),FALSE)","v":{"$error":"#N/A"}},{"$f":"VLOOKUP($C36,SEE_agrg!$D:$BB,MATCH(X$3,SEE_agrg!$D$3:$BB$3,FALSE),FALSE)","v":{"$error":"#N/A"}},{"$error":"#N/A"},{"$f":"VLOOKUP(C36,SEE_agrg!$D:$BB,MATCH(Z$3,SEE_agrg!$D$3:$BB$3,FALSE),FALSE)","v":{"$error":"#N/A"}},{"$error":"#N/A"},{"$error":"#N/A"},{"$error":"#N/A"},{"$error":"#N/A"}]
[31,"Corredor 2","Estação 31",{"$error":"#N/A"},null,{"$f":"VLOOKUP($C37,SEE_agrg!D:BB,MATCH(F$3,SEE_agrg!$D$3:$BB$3,FALSE),FALSE)","v":{"$error":"#N/A"}},{"$f":"VLOOKUP($C37,UdS_agrg!$D:$P,MATCH(G$3,UdS_agrg!$D$3:$P$3,FALSE),FALSE)","v":{"$error":"#N/A"}},{"$f":"VLOOKUP($C37,UdS_agrg!$D:$P,MATCH(H$3,UdS_agrg!$D$3:$P$3,FALSE),FALSE)","v":{"$error":"#N/A"}},{"$f":"VLOOKUP($C37,UdS_agrg!$D:$P,MATCH(I$3,UdS_agrg!$D$3:$P$3,FALSE),FALSE)","v":{"$error":"#N/A"}},{"$error":"#N/A"},{"$f":"VLOOKUP($C37,UdS_agrg!$D:$P,MATCH(K$3,UdS_agrg!$D$3:$P$3,FALSE),FALSE)","v":{"$error":"#N/A"}},{"$error":"#N/A"},{"$f":"VLOOKUP($C37,SEE_agrg!$D:$BB,MATCH(M$3,SEE_agrg!$D$3:$BB$3,FALSE),FALSE)","v":{"$error":"#N/A"}},{"$f":"VLOOKUP($C37,SEE_agrg!$D:$BB,MATCH(N$3,SEE_agrg!$D$3:$BB$3,FALSE),FALSE)","v":{"$error":"#N/A"}},{"$error":"#N/A"},{"$error":"#N/A"},{"$f":"VLOOKUP($C37,QD_agrg!$D:$M,MATCH(Q$3,QD_agrg!$D$3:$M$3,FALSE),FALSE)","v":{"$error":"#N/A"}},{"$f":"VLOOKUP($C37,QD_agrg!$D:$M,MATCH(R$3,QD_agrg!$D$3:$M$3,FALSE),FALSE)","v":{"$error":"#N/A"}},{"$f":"VLOOKUP($C37,QD_agrg!$D:$O,MATCH(S$3,QD_agrg!$D$3:$O$3,FALSE),FALSE)","v":{"$error":"#N/A"}},{"$error":"#N/A"},{"$error":"#N/A"},{"$f":"VLOOKUP($C37,SEE_agrg!$D:$BB,MATCH(V$3,SEE_agrg!$D$3:$BB$3,FALSE),FALSE)","v":{"$error":"#N/A"}},{"$f":"VLOOKUP($C37,SEE_agrg!$D:$BB,MATCH(W$3,SEE_agrg!$D$3:$BB$3,FALSE),FALSE)","v":{"$error":"#N/A"}},{"$f":"VLOOKUP($C37,SEE_agrg!$D:$BB,MATCH(X$3,SEE_agrg!$D$3:$BB$3,FALSE),FALSE)","v":{"$error":"#N/A"}},{"$error":"#N/A"},{"$f":"VLOOKUP(C37,SEE_agrg!$D:$BB,MATCH(Z$3,SEE_agrg!$D$3:$BB$3,FALSE),FALSE)","v":{"$error":"#N/A"}},{"$error":"#N/A"},{"$error":"#N/A"},{"$error":"#N/A"},{"$error":"#N/A"}]
[32,"Corredor 2","Estação 32",{"$error":"#N/A"},null,{"$f":"VLOOKUP($C38,SEE_agrg!D:BB,MATCH(F$3,SEE_agrg!$D$3:$BB$3,FALSE),FALSE)","v":{"$error":"#N/A"}},{"$f":"VLOOKUP($C38,UdS_agrg!$D:$P,MATCH(G$3,UdS_agrg!$D$3:$P$3,FALSE),FALSE)","v":{"$error":"#N/A"}},{"$f":"VLOOKUP($C38,UdS_agrg!$D:$P,MATCH(H$3,UdS_agrg!$D$3:$P$3,FALSE),FALSE)","v":{"$error":"#N/A"}},{"$f":"VLOOKUP($C38,UdS_agrg!$D:$P,MATCH(I$3,UdS_agrg!$D$3:$P$3,FALSE),FALSE)","v":{"$error":"#N/A"}},{"$error":"#N/A"},{"$f":"VLOOKUP($C38,UdS_agrg!$D:$P,MATCH(K$3,UdS_agrg!$D$3:$P$3,FALSE),FALSE)","v":{"$error":"#N/A"}},{"$error":"#N/A"},{"$f":"VLOOKUP($C38,SEE_agrg!$D:$BB,MATCH(M$3,SEE_agrg!$D$3:$BB$3,FALSE),FALSE)","v":{"$error":"#N/A"}},{"$f":"VLOOKUP($C38,SEE_agrg!$D:$BB,MATCH(N$3,SEE_agrg!$D$3:$BB$3,FALSE),FALSE)","v":{"$error":"#N/A"}},{"$error":"#N/A"},{"$error":"#N/A"},{"$f":"VLOOKUP($C38,QD_agrg!$D:$M,MATCH(Q$3,QD_agrg!$D$3:$M$3,FALSE),FALSE)","v":{"$error":"#N/A"}},{"$f":"VLOOKUP($C38,QD_agrg!$D:$M,MATCH(R$3,QD_agrg!$D$3:$M$3,FALSE),FALSE)","v":{"$error":"#N/A"}},{"$f":"VLOOKUP($C38,QD_agrg!$D:$O,MATCH(S$3,QD_agrg!$D$3:$O$3,FALSE),FALSE)","v":{"$error":"#N/A"}},{"$error":"#N/A"},{"$error":"#N/A"},{"$f":"VLOOKUP($C38,SEE_agrg!$D:$BB,MATCH(V$3,SEE_agrg!$D$3:$BB$3,FALSE),FALSE)","v":{"$error":"#N/A"}},{"$f":"VLOOKUP($C38,SEE_agrg!$D:$BB,MATCH(W$3,SEE_agrg!$D$3:$BB$3,FALSE),FALSE)","v":{"$error":"#N/A"}},{"$f":"VLOOKUP($C38,SEE_agrg!$D:$BB,MATCH(X$3,SEE_agrg!$D$3:$BB$3,FALSE),FALSE)","v":{"$error":"#N/A"}},{"$error":"#N/A"},{"$f":"VLOOKUP(C38,SEE_agrg!$D:$BB,MATCH(Z$3,SEE_agrg!$D$3:$BB$3,FALSE),FALSE)","v":{"$error":"#N/A"}},{"$error":"#N/A"},{"$error":"#N/A"},{"$error":"#N/A"},{"$error":"#N/A"}]
[33,"Corredor 2","Estação 33",{"$error":"#N/A"},null,{"$f":"VLOOKUP($C39,SEE_agrg!D:BB,MATCH(F$3,SEE_agrg!$D$3:$BB$3,FALSE),FALSE)","v":{"$error":"#N/A"}},{"$f":"VLOOKUP($C39,UdS_agrg!$D:$P,MATCH(G$3,UdS_agrg!$D$3:$P$3,FALSE),FALSE)","v":{"$error":"#N/A"}},{"$f":"VLOOKUP($C39,UdS_agrg!$D:$P,MATCH(H$3,UdS_agrg!$D$3:$P$3,FALSE),FALSE)","v":{"$error":"#N/A"}},{"$f":"VLOOKUP($C39,UdS_agrg!$D:$P,MATCH(I$3,UdS_agrg!$D$3:$P$3,FALSE),FALSE)","v":{"$error":"#N/A"}},{"$error":"#N/A"},{"$f":"VLOOKUP($C39,UdS_agrg!$D:$P,MATCH(K$3,UdS_agrg!$D$3:$P$3,FALSE),FALSE)","v":{"$error":"#N/A"}},{"$error":"#N/A"},{"$f":"VLOOKUP($C39,SEE_agrg!$D:$BB,MATCH(M$3,SEE_agrg!$D$3:$BB$3,FALSE),FALSE)","v":{"$error":"#N/A"}},{"$f":"VLOOKUP($C39,SEE_agrg!$D:$BB,MATCH(N$3,SEE_agrg!$D$3:$BB$3,FALSE),FALSE)","v":{"$error":"#N/A"}},{"$error":"#N/A"},{"$error":"#N/A"},{"$f":"VLOOKUP($C39,QD_agrg!$D:$M,MATCH(Q$3,QD_agrg!$D$3:$M$3,FALSE),FALSE)","v":{"$error":"#N/A"}},{"$f":"VLOOKUP($C39,QD_agrg!$D:$M,MATCH(R$3,QD_agrg!$D$3:$M$3,FALSE),FALSE)","v":{"$error":"#N/A"}},{"$f":"VLOOKUP($C39,QD_agrg!$D:$O,MATCH(S$3,QD_agrg!$D$3:$O$3,FALSE),FALSE)","v":{"$error":"#N/A"}},{"$error":"#N/A"},{"$error":"#N/A"},{"$f":"VLOOKUP($C39,SEE_agrg!$D:$BB,MATCH(V$3,SEE_agrg!$D$3:$BB$3,FALSE),FALSE)","v":{"$error":"#N/A"}},{"$f":"VLOOKUP($C39,SEE_agrg!$D:$BB,MATCH(W$3,SEE_agrg!$D$3:$BB$3,FALSE),FALSE)","v":{"$error":"#N/A"}},{"$f":"VLOOKUP($C39,SEE_agrg!$D:$BB,MATCH(X$3,SEE_agrg!$D$3:$BB$3,FALSE),FALSE)","v":{"$error":"#N/A"}},{"$error":"#N/A"},{"$f":"VLOOKUP(C39,SEE_agrg!$D:$BB,MATCH(Z$3,SEE_agrg!$D$3:$BB$3,FALSE),FALSE)","v":{"$error":"#N/A"}},{"$error":"#N/A"},{"$error":"#N/A"},{"$error":"#N/A"},{"$error":"#N/A"}]
[35,"Corredor 2","Estação 34",{"$error":"#N/A"},null,{"$f":"VLOOKUP($C40,SEE_agrg!D:BB,MATCH(F$3,SEE_agrg!$D$3:$BB$3,FALSE),FALSE)","v":{"$error":"#N/A"}},{"$f":"VLOOKUP($C40,UdS_agrg!$D:$P,MATCH(G$3,UdS_agrg!$D$3:$P$3,FALSE),FALSE)","v":{"$error":"#N/A"}},{"$f":"VLOOKUP($C40,UdS_agrg!$D:$P,MATCH(H$3,UdS_agrg!$D$3:$P$3,FALSE),FALSE)","v":{"$error":"#N/A"}},{"$f":"VLOOKUP($C40,UdS_agrg!$D:$P,MATCH(I$3,UdS_agrg!$D$3:$P$3,FALSE),FALSE)","v":{"$error":"#N/A"}},{"$error":"#N/A"},{"$f":"VLOOKUP($C40,UdS_agrg!$D:$P,MATCH(K$3,UdS_agrg!$D$3:$P$3,FALSE),FALSE)","v":{"$error":"#N/A"}},{"$error":"#N/A"},{"$f":"VLOOKUP($C40,SEE_agrg!$D:$BB,MATCH(M$3,SEE_agrg!$D$3:$BB$3,FALSE),FALSE)","v":{"$error":"#N/A"}},{"$f":"VLOOKUP($C40,SEE_agrg!$D:$BB,MATCH(N$3,SEE_agrg!$D$3:$BB$3,FALSE),FALSE)","v":{"$error":"#N/A"}},{"$error":"#N/A"},{"$error":"#N/A"},{"$f":"VLOOKUP($C40,QD_agrg!$D:$M,MATCH(Q$3,QD_agrg!$D$3:$M$3,FALSE),FALSE)","v":{"$error":"#N/A"}},{"$f":"VLOOKUP($C40,QD_agrg!$D:$M,MATCH(R$3,QD_agrg!$D$3:$M$3,FALSE),FALSE)","v":{"$error":"#N/A"}},{"$f":"VLOOKUP($C40,QD_agrg!$D:$O,MATCH(S$3,QD_agrg!$D$3:$O$3,FALSE),FALSE)","v":{"$error":"#N/A"}},{"$error":"#N/A"},{"$error":"#N/A"},{"$f":"VLOOKUP($C40,SEE_agrg!$D:$BB,MATCH(V$3,SEE_agrg!$D$3:$BB$3,FALSE),FALSE)","v":{"$error":"#N/A"}},{"$f":"VLOOKUP($C40,SEE_agrg!$D:$BB,MATCH(W$3,SEE_agrg!$D$3:$BB$3,FALSE),FALSE)","v":{"$error":"#N/A"}},{"$f":"VLOOKUP($C40,SEE_agrg!$D:$BB,MATCH(X$3,SEE_agrg!$D$3:$BB$3,FALSE),FALSE)","v":{"$error":"#N/A"}},{"$error":"#N/A"},{"$f":"VLOOKUP(C40,SEE_agrg!$D:$BB,MATCH(Z$3,SEE_agrg!$D$3:$BB$3,FALSE),FALSE)","v":{"$error":"#N/A"}},{"$error":"#N/A"},{"$error":"#N/A"},{"$error":"#N/A"},{"$error":"#N/A"}]
[34,"Corredor 2","Estação 35",{"$error":"#N/A"},null,{"$f":"VLOOKUP($C41,SEE_agrg!D:BB,MATCH(F$3,SEE_agrg!$D$3:$BB$3,FALSE),FALSE)","v":{"$error":"#N/A"}},{"$f":"VLOOKUP($C41,UdS_agrg!$D:$P,MATCH(G$3,UdS_agrg!$D$3:$P$3,FALSE),FALSE)","v":{"$error":"#N/A"}},{"$f":"VLOOKUP($C41,UdS_agrg!$D:$P,MATCH(H$3,UdS_agrg!$D$3:$P$3,FALSE),FALSE)","v":{"$error":"#N/A"}},{"$f":"VLOOKUP($C41,UdS_agrg!$D:$P,MATCH(I$3,UdS_agrg!$D$3:$P$3,FALSE),FALSE)","v":{"$error":"#N/A"}},{"$error":"#N/A"},{"$f":"VLOOKUP($C41,UdS_agrg!$D:$P,MATCH(K$3,UdS_agrg!$D$3:$P$3,FALSE),FALSE)","v":{"$error":"#N/A"}},{"$error":"#N/A"},{"$f":"VLOOKUP($C41,SEE_agrg!$D:$BB,MATCH(M$3,SEE_agrg!$D$3:$BB$3,FALSE),FALSE)","v":{"$error":"#N/A"}},{"$f":"VLOOKUP($C41,SEE_agrg!$D:$BB,MATCH(N$3,SEE_agrg!$D$3:$BB$3,FALSE),FALSE)","v":{"$error":"#N/A"}},{"$error":"#N/A"},{"$error":"#N/A"},{"$f":"VLOOKUP($C41,QD_agrg!$D:$M,MATCH(Q$3,QD_agrg!$D$3:$M$3,FALSE),FALSE)","v":{"$error":"#N/A"}},{"$f":"VLOOKUP($C41,QD_agrg!$D:$M,MATCH(R$3,QD_agrg!$D$3:$M$3,FALSE),FALSE)","v":{"$error":"#N/A"}},{"$f":"VLOOKUP($C41,QD_agrg!$D:$O,MATCH(S$3,QD_agrg!$D$3:$O$3,FALSE),FALSE)","v":{"$error":"#N/A"}},{"$error":"#N/A"},{"$error":"#N/A"},{"$f":"VLOOKUP($C41,SEE_agrg!$D:$BB,MATCH(V$3,SEE_agrg!$D$3:$BB$3,FALSE),FALSE)","v":{"$error":"#N/A"}},{"$f":"VLOOKUP($C41,SEE_agrg!$D:$BB,MATCH(W$3,SEE_agrg!$D$3:$BB$3,FALSE),FALSE)","v":{"$error":"#N/A"}},{"$f":"VLOOKUP($C41,SEE_agrg!$D:$BB,MATCH(X$3,SEE_agrg!$D$3:$BB$3,FALSE),FALSE)","v":{"$error":"#N/A"}},{"$error":"#N/A"},{"$f":"VLOOKUP(C41,SEE_agrg!$D:$BB,MATCH(Z$3,SEE_agrg!$D$3:$BB$3,FALSE),FALSE)","v":{"$error":"#N/A"}},{"$error":"#N/A"},{"$error":"#N/A"},{"$error":"#N/A"},{"$error":"#N/A"}]
[36,"Corredor 2","Estação 36",{"$error":"#N/A"},null,{"$f":"VLOOKUP($C42,SEE_agrg!D:BB,MATCH(F$3,SEE_agrg!$D$3:$BB$3,FALSE),FALSE)","v":{"$error":"#N/A"}},{"$f":"VLOOKUP($C42,UdS_agrg!$D:$P,MATCH(G$3,UdS_agrg!$D$3:$P$3,FALSE),FALSE)","v":{"$error":"#N/A"}},{"$f":"VLOOKUP($C42,UdS_agrg!$D:$P,MATCH(H$3,UdS_agrg!$D$3:$P$3,FALSE),FALSE)","v":{"$error":"#N/A"}},{"$f":"VLOOKUP($C42,UdS_agrg!$D:$P,MATCH(I$3,UdS_agrg!$D$3:$P$3,FALSE),FALSE)","v":{"$error":"#N/A"}},{"$error":"#N/A"},{"$f":"VLOOKUP($C42,UdS_agrg!$D:$P,MATCH(K$3,UdS_agrg!$D$3:$P$3,FALSE),FALSE)","v":{"$error":"#N/A"}},{"$error":"#N/A"},{"$f":"VLOOKUP($C42,SEE_agrg!$D:$BB,MATCH(M$3,SEE_agrg!$D$3:$BB$3,FALSE),FALSE)","v":{"$error":"#N/A"}},{"$f":"VLOOKUP($C42,SEE_agrg!$D:$BB,MATCH(N$3,SEE_agrg!$D$3:$BB$3,FALSE),FALSE)","v":{"$error":"#N/A"}},{"$error":"#N/A"},{"$error":"#N/A"},{"$f":"VLOOKUP($C42,QD_agrg!$D:$M,MATCH(Q$3,QD_agrg!$D$3:$M$3,FALSE),FALSE)","v":{"$error":"#N/A"}},{"$f":"VLOOKUP($C42,QD_agrg!$D:$M,MATCH(R$3,QD_agrg!$D$3:$M$3,FALSE),FALSE)","v":{"$error":"#N/A"}},{"$f":"VLOOKUP($C42,QD_agrg!$D:$O,MATCH(S$3,QD_agrg!$D$3:$O$3,FALSE),FALSE)","v":{"$error":"#N/A"}},{"$error":"#N/A"},{"$error":"#N/A"},{"$f":"VLOOKUP($C42,SEE_agrg!$D:$BB,MATCH(V$3,SEE_agrg!$D$3:$BB$3,FALSE),FALSE)","v":{"$error":"#N/A"}},{"$f":"VLOOKUP($C42,SEE_agrg!$D:$BB,MATCH(W$3,SEE_agrg!$D$3:$BB$3,FALSE),FALSE)","v":{"$error":"#N/A"}},{"$f":"VLOOKUP($C42,SEE_agrg!$D:$BB,MATCH(X$3,SEE_agrg!$D$3:$BB$3,FALSE),FALSE)","v":{"$error":"#N/A"}},{"$error":"#N/A"},{"$f":"VLOOKUP(C42,SEE_agrg!$D:$BB,MATCH(Z$3,SEE_agrg!$D$3:$BB$3,FALSE),FALSE)","v":{"$error":"#N/A"}},{"$error":"#N/A"},{"$error":"#N/A"},{"$error":"#N/A"},{"$error":"#N/A"}]
[37,"Corredor 2","Estação 37",{"$error":"#N/A"},null,{"$f":"VLOOKUP($C43,SEE_agrg!D:BB,MATCH(F$3,SEE_agrg!$D$3:$BB$3,FALSE),FALSE)","v":{"$error":"#N/A"}},{"$f":"VLOOKUP($C43,UdS_agrg!$D:$P,MATCH(G$3,UdS_agrg!$D$3:$P$3,FALSE),FALSE)","v":{"$error":"#N/A"}},{"$f":"VLOOKUP($C43,UdS_agrg!$D:$P,MATCH(H$3,UdS_agrg!$D$3:$P$3,FALSE),FALSE)","v":{"$error":"#N/A"}},{"$f":"VLOOKUP($C43,UdS_agrg!$D:$P,MATCH(I$3,UdS_agrg!$D$3:$P$3,FALSE),FALSE)","v":{"$error":"#N/A"}},{"$error":"#N/A"},{"$f":"VLOOKUP($C43,UdS_agrg!$D:$P,MATCH(K$3,UdS_agrg!$D$3:$P$3,FALSE),FALSE)","v":{"$error":"#N/A"}},{"$error":"#N/A"},{"$f":"VLOOKUP($C43,SEE_agrg!$D:$BB,MATCH(M$3,SEE_agrg!$D$3:$BB$3,FALSE),FALSE)","v":{"$error":"#N/A"}},{"$f":"VLOOKUP($C43,SEE_agrg!$D:$BB,MATCH(N$3,SEE_agrg!$D$3:$BB$3,FALSE),FALSE)","v":{"$error":"#N/A"}},{"$error":"#N/A"},{"$error":"#N/A"},{"$f":"VLOOKUP($C43,QD_agrg!$D:$M,MATCH(Q$3,QD_agrg!$D$3:$M$3,FALSE),FALSE)","v":{"$error":"#N/A"}},{"$f":"VLOOKUP($C43,QD_agrg!$D:$M,MATCH(R$3,QD_agrg!$D$3:$M$3,FALSE),FALSE)","v":{"$error":"#N/A"}},{"$f":"VLOOKUP($C43,QD_agrg!$D:$O,MATCH(S$3,QD_agrg!$D$3:$O$3,FALSE),FALSE)","v":{"$error":"#N/A"}},{"$error":"#N/A"},{"$error":"#N/A"},{"$f":"VLOOKUP($C43,SEE_agrg!$D:$BB,MATCH(V$3,SEE_agrg!$D$3:$BB$3,FALSE),FALSE)","v":{"$error":"#N/A"}},{"$f":"VLOOKUP($C43,SEE_agrg!$D:$BB,MATCH(W$3,SEE_agrg!$D$3:$BB$3,FALSE),FALSE)","v":{"$error":"#N/A"}},{"$f":"VLOOKUP($C43,SEE_agrg!$D:$BB,MATCH(X$3,SEE_agrg!$D$3:$BB$3,FALSE),FALSE)","v":{"$error":"#N/A"}},{"$error":"#N/A"},{"$f":"VLOOKUP(C43,SEE_agrg!$D:$BB,MATCH(Z$3,SEE_agrg!$D$3:$BB$3,FALSE),FALSE)","v":{"$error":"#N/A"}},{"$error":"#N/A"},{"$error":"#N/A"},{"$error":"#N/A"},{"$error":"#N/A"}]
[38,"Corredor 2","Estação 38",{"$error":"#N/A"},null,{"$f":"VLOOKUP($C44,SEE_agrg!D:BB,MATCH(F$3,SEE_agrg!$D$3:$BB$3,FALSE),FALSE)","v":{"$error":"#N/A"}},{"$f":"VLOOKUP($C44,UdS_agrg!$D:$P,MATCH(G$3,UdS_agrg!$D$3:$P$3,FALSE),FALSE)","v":{"$error":"#N/A"}},{"$f":"VLOOKUP($C44,UdS_agrg!$D:$P,MATCH(H$3,UdS_agrg!$D$3:$P$3,FALSE),FALSE)","v":{"$error":"#N/A"}},{"$f":"VLOOKUP($C44,UdS_agrg!$D:$P,MATCH(I$3,UdS_agrg!$D$3:$P$3,FALSE),FALSE)","v":{"$error":"#N/A"}},{"$error":"#N/A"},{"$f":"VLOOKUP($C44,UdS_agrg!$D:$P,MATCH(K$3,UdS_agrg!$D$3:$P$3,FALSE),FALSE)","v":{"$error":"#N/A"}},{"$error":"#N/A"},{"$f":"VLOOKUP($C44,SEE_agrg!$D:$BB,MATCH(M$3,SEE_agrg!$D$3:$BB$3,FALSE),FALSE)","v":{"$error":"#N/A"}},{"$f":"VLOOKUP($C44,SEE_agrg!$D:$BB,MATCH(N$3,SEE_agrg!$D$3:$BB$3,FALSE),FALSE)","v":{"$error":"#N/A"}},{"$error":"#N/A"},{"$error":"#N/A"},{"$f":"VLOOKUP($C44,QD_agrg!$D:$M,MATCH(Q$3,QD_agrg!$D$3:$M$3,FALSE),FALSE)","v":{"$error":"#N/A"}},{"$f":"VLOOKUP($C44,QD_agrg!$D:$M,MATCH(R$3,QD_agrg!$D$3:$M$3,FALSE),FALSE)","v":{"$error":"#N/A"}},{"$f":"VLOOKUP($C44,QD_agrg!$D:$O,MATCH(S$3,QD_agrg!$D$3:$O$3,FALSE),FALSE)","v":{"$error":"#N/A"}},{"$error":"#N/A"},{"$error":"#N/A"},{"$f":"VLOOKUP($C44,SEE_agrg!$D:$BB,MATCH(V$3,SEE_agrg!$D$3:$BB$3,FALSE),FALSE)","v":{"$error":"#N/A"}},{"$f":"VLOOKUP($C44,SEE_agrg!$D:$BB,MATCH(W$3,SEE_agrg!$D$3:$BB$3,FALSE),FALSE)","v":{"$error":"#N/A"}},{"$f":"VLOOKUP($C44,SEE_agrg!$D:$BB,MATCH(X$3,SEE_agrg!$D$3:$BB$3,FALSE),FALSE)","v":{"$error":"#N/A"}},{"$error":"#N/A"},{"$f":"VLOOKUP(C44,SEE_agrg!$D:$BB,MATCH(Z$3,SEE_agrg!$D$3:$BB$3,FALSE),FALSE)","v":{"$error":"#N/A"}},{"$error":"#N/A"},{"$error":"#N/A"},{"$error":"#N/A"},{"$error":"#N/A"}]
[40,"Corredor 2","Estação 39",{"$error":"#N/A"},null,{"$f":"VLOOKUP($C45,SEE_agrg!D:BB,MATCH(F$3,SEE_agrg!$D$3:$BB$3,FALSE),FALSE)","v":{"$error":"#N/A"}},{"$f":"VLOOKUP($C45,UdS_agrg!$D:$P,MATCH(G$3,UdS_agrg!$D$3:$P$3,FALSE),FALSE)","v":{"$error":"#N/A"}},{"$f":"VLOOKUP($C45,UdS_agrg!$D:$P,MATCH(H$3,UdS_agrg!$D$3:$P$3,FALSE),FALSE)","v":{"$error":"#N/A"}},{"$f":"VLOOKUP($C45,UdS_agrg!$D:$P,MATCH(I$3,UdS_agrg!$D$3:$P$3,FALSE),FALSE)","v":{"$error":"#N/A"}},{"$error":"#N/A"},{"$f":"VLOOKUP($C45,UdS_agrg!$D:$P,MATCH(K$3,UdS_agrg!$D$3:$P$3,FALSE),FALSE)","v":{"$error":"#N/A"}},{"$error":"#N/A"},{"$f":"VLOOKUP($C45,SEE_agrg!$D:$BB,MATCH(M$3,SEE_agrg!$D$3:$BB$3,FALSE),FALSE)","v":{"$error":"#N/A"}},{"$f":"VLOOKUP($C45,SEE_agrg!$D:$BB,MATCH(N$3,SEE_agrg!$D$3:$BB$3,FALSE),FALSE)","v":{"$error":"#N/A"}},{"$error":"#N/A"},{"$error":"#N/A"},{"$f":"VLOOKUP($C45,QD_agrg!$D:$M,MATCH(Q$3,QD_agrg!$D$3:$M$3,FALSE),FALSE)","v":{"$error":"#N/A"}},{"$f":"VLOOKUP($C45,QD_agrg!$D:$M,MATCH(R$3,QD_agrg!$D$3:$M$3,FALSE),FALSE)","v":{"$error":"#N/A"}},{"$f":"VLOOKUP($C45,QD_agrg!$D:$O,MATCH(S$3,QD_agrg!$D$3:$O$3,FALSE),FALSE)","v":{"$error":"#N/A"}},{"$error":"#N/A"},{"$error":"#N/A"},{"$f":"VLOOKUP($C45,SEE_agrg!$D:$BB,MATCH(V$3,SEE_agrg!$D$3:$BB$3,FALSE),FALSE)","v":{"$error":"#N/A"}},{"$f":"VLOOKUP($C45,SEE_agrg!$D:$BB,MATCH(W$3,SEE_agrg!$D$3:$BB$3,FALSE),FALSE)","v":{"$error":"#N/A"}},{"$f":"VLOOKUP($C45,SEE_agrg!$D:$BB,MATCH(X$3,SEE_agrg!$D$3:$BB$3,FALSE),FALSE)","v":{"$error":"#N/A"}},{"$error":"#N/A"},{"$f":"VLOOKUP(C45,SEE_agrg!$D:$BB,MATCH(Z$3,SEE_agrg!$D$3:$BB$3,FALSE),FALSE)","v":{"$error":"#N/A"}},{"$error":"#N/A"},{"$error":"#N/A"},{"$error":"#N/A"},{"$error":"#N/A"}]
[39,"Corredor 2","Estação 40",{"$error":"#N/A"},null,{"$f":"VLOOKUP($C46,SEE_agrg!D:BB,MATCH(F$3,SEE_agrg!$D$3:$BB$3,FALSE),FALSE)","v":{"$error":"#N/A"}},{"$f":"VLOOKUP($C46,UdS_agrg!$D:$P,MATCH(G$3,UdS_agrg!$D$3:$P$3,FALSE),FALSE)","v":{"$error":"#N/A"}},{"$f":"VLOOKUP($C46,UdS_agrg!$D:$P,MATCH(H$3,UdS_agrg!$D$3:$P$3,FALSE),FALSE)","v":{"$error":"#N/A"}},{"$f":"VLOOKUP($C46,UdS_agrg!$D:$P,MATCH(I$3,UdS_agrg!$D$3:$P$3,FALSE),FALSE)","v":{"$error":"#N/A"}},{"$error":"#N/A"},{"$f":"VLOOKUP($C46,UdS_agrg!$D:$P,MATCH(K$3,UdS_agrg!$D$3:$P$3,FALSE),FALSE)","v":{"$error":"#N/A"}},{"$error":"#N/A"},{"$f":"VLOOKUP($C46,SEE_agrg!$D:$BB,MATCH(M$3,SEE_agrg!$D$3:$BB$3,FALSE),FALSE)","v":{"$error":"#N/A"}},{"$f":"VLOOKUP($C46,SEE_agrg!$D:$BB,MATCH(N$3,SEE_agrg!$D$3:$BB$3,FALSE),FALSE)","v":{"$error":"#N/A"}},{"$error":"#N/A"},{"$error":"#N/A"},{"$f":"VLOOKUP($C46,QD_agrg!$D:$M,MATCH(Q$3,QD_agrg!$D$3:$M$3,FALSE),FALSE)","v":{"$error":"#N/A"}},{"$f":"VLOOKUP($C46,QD_agrg!$D:$M,MATCH(R$3,QD_agrg!$D$3:$M$3,FALSE),FALSE)","v":{"$error":"#N/A"}},{"$f":"VLOOKUP($C46,QD_agrg!$D:$O,MATCH(S$3,QD_agrg!$D$3:$O$3,FALSE),FALSE)","v":{"$error":"#N/A"}},{"$error":"#N/A"},{"$error":"#N/A"},{"$f":"VLOOKUP($C46,SEE_agrg!$D:$BB,MATCH(V$3,SEE_agrg!$D$3:$BB$3,FALSE),FALSE)","v":{"$error":"#N/A"}},{"$f":"VLOOKUP($C46,SEE_agrg!$D:$BB,MATCH(W$3,SEE_agrg!$D$3:$BB$3,FALSE),FALSE)","v":{"$error":"#N/A"}},{"$f":"VLOOKUP($C46,SEE_agrg!$D:$BB,MATCH(X$3,SEE_agrg!$D$3:$BB$3,FALSE),FALSE)","v":{"$error":"#N/A"}},{"$error":"#N/A"},{"$f":"VLOOKUP(C46,SEE_agrg!$D:$BB,MATCH(Z$3,SEE_agrg!$D$3:$BB$3,FALSE),FALSE)","v":{"$error":"#N/A"}},{"$error":"#N/A"},{"$error":"#N/A"},{"$error":"#N/A"},{"$error":"#N/A"}]
[41,"Corredor 2","Estação 41",{"$error":"#N/A"},null,{"$f":"VLOOKUP($C47,SEE_agrg!D:BB,MATCH(F$3,SEE_agrg!$D$3:$BB$3,FALSE),FALSE)","v":{"$error":"#N/A"}},{"$f":"VLOOKUP($C47,UdS_agrg!$D:$P,MATCH(G$3,UdS_agrg!$D$3:$P$3,FALSE),FALSE)","v":{"$error":"#N/A"}},{"$f":"VLOOKUP($C47,UdS_agrg!$D:$P,MATCH(H$3,UdS_agrg!$D$3:$P$3,FALSE),FALSE)","v":{"$error":"#N/A"}},{"$f":"VLOOKUP($C47,UdS_agrg!$D:$P,MATCH(I$3,UdS_agrg!$D$3:$P$3,FALSE),FALSE)","v":{"$error":"#N/A"}},{"$error":"#N/A"},{"$f":"VLOOKUP($C47,UdS_agrg!$D:$P,MATCH(K$3,UdS_agrg!$D$3:$P$3,FALSE),FALSE)","v":{"$error":"#N/A"}},{"$error":"#N/A"},{"$f":"VLOOKUP($C47,SEE_agrg!$D:$BB,MATCH(M$3,SEE_agrg!$D$3:$BB$3,FALSE),FALSE)","v":{"$error":"#N/A"}},{"$f":"VLOOKUP($C47,SEE_agrg!$D:$BB,MATCH(N$3,SEE_agrg!$D$3:$BB$3,FALSE),FALSE)","v":{"$error":"#N/A"}},{"$error":"#N/A"},{"$error":"#N/A"},{"$f":"VLOOKUP($C47,QD_agrg!$D:$M,MATCH(Q$3,QD_agrg!$D$3:$M$3,FALSE),FALSE)","v":{"$error":"#N/A"}},{"$f":"VLOOKUP($C47,QD_agrg!$D:$M,MATCH(R$3,QD_agrg!$D$3:$M$3,FALSE),FALSE)","v":{"$error":"#N/A"}},{"$f":"VLOOKUP($C47,QD_agrg!$D:$O,MATCH(S$3,QD_agrg!$D$3:$O$3,FALSE),FALSE)","v":{"$error":"#N/A"}},{"$error":"#N/A"},{"$error":"#N/A"},{"$f":"VLOOKUP($C47,SEE_agrg!$D:$BB,MATCH(V$3,SEE_agrg!$D$3:$BB$3,FALSE),FALSE)","v":{"$error":"#N/A"}},{"$f":"VLOOKUP($C47,SEE_agrg!$D:$BB,MATCH(W$3,SEE_agrg!$D$3:$BB$3,FALSE),FALSE)","v":{"$error":"#N/A"}},{"$f":"VLOOKUP($C47,SEE_agrg!$D:$BB,MATCH(X$3,SEE_agrg!$D$3:$BB$3,FALSE),FALSE)","v":{"$error":"#N/A"}},{"$error":"#N/A"},{"$f":"VLOOKUP(C47,SEE_agrg!$D:$BB,MATCH(Z$3,SEE_agrg!$D$3:$BB$3,FALSE),FALSE)","v":{"$error":"#N/A"}},{"$error":"#N/A"},{"$error":"#N/A"},{"$error":"#N/A"},{"$error":"#N/A"}]
[42,"Corredor 2","Estação 42",{"$error":"#N/A"},null,{"$f":"VLOOKUP($C48,SEE_agrg!D:BB,MATCH(F$3,SEE_agrg!$D$3:$BB$3,FALSE),FALSE)","v":{"$error":"#N/A"}},{"$f":"VLOOKUP($C48,UdS_agrg!$D:$P,MATCH(G$3,UdS_agrg!$D$3:$P$3,FALSE),FALSE)","v":{"$error":"#N/A"}},{"$f":"VLOOKUP($C48,UdS_agrg!$D:$P,MATCH(H$3,UdS_agrg!$D$3:$P$3,FALSE),FALSE)","v":{"$error":"#N/A"}},{"$f":"VLOOKUP($C48,UdS_agrg!$D:$P,MATCH(I$3,UdS_agrg!$D$3:$P$3,FALSE),FALSE)","v":{"$error":"#N/A"}},{"$error":"#N/A"},{"$f":"VLOOKUP($C48,UdS_agrg!$D:$P,MATCH(K$3,UdS_agrg!$D$3:$P$3,FALSE),FALSE)","v":{"$error":"#N/A"}},{"$error":"#N/A"},{"$f":"VLOOKUP($C48,SEE_agrg!$D:$BB,MATCH(M$3,SEE_agrg!$D$3:$BB$3,FALSE),FALSE)","v":{"$error":"#N/A"}},{"$f":"VLOOKUP($C48,SEE_agrg!$D:$BB,MATCH(N$3,SEE_agrg!$D$3:$BB$3,FALSE),FALSE)","v":{"$error":"#N/A"}},{"$error":"#N/A"},{"$error":"#N/A"},{"$f":"VLOOKUP($C48,QD_agrg!$D:$M,MATCH(Q$3,QD_agrg!$D$3:$M$3,FALSE),FALSE)","v":{"$error":"#N/A"}},{"$f":"VLOOKUP($C48,QD_agrg!$D:$M,MATCH(R$3,QD_agrg!$D$3:$M$3,FALSE),FALSE)","v":{"$error":"#N/A"}},{"$f":"VLOOKUP($C48,QD_agrg!$D:$O,MATCH(S$3,QD_agrg!$D$3:$O$3,FALSE),FALSE)","v":{"$error":"#N/A"}},{"$error":"#N/A"},{"$error":"#N/A"},{"$f":"VLOOKUP($C48,SEE_agrg!$D:$BB,MATCH(V$3,SEE_agrg!$D$3:$BB$3,FALSE),FALSE)","v":{"$error":"#N/A"}},{"$f":"VLOOKUP($C48,SEE_agrg!$D:$BB,MATCH(W$3,SEE_agrg!$D$3:$BB$3,FALSE),FALSE)","v":{"$error":"#N/A"}},{"$f":"VLOOKUP($C48,SEE_agrg!$D:$BB,MATCH(X$3,SEE_agrg!$D$3:$BB$3,FALSE),FALSE)","v":{"$error":"#N/A"}},{"$error":"#N/A"},{"$f":"VLOOKUP(C48,SEE_agrg!$D:$BB,MATCH(Z$3,SEE_agrg!$D$3:$BB$3,FALSE),FALSE)","v":{"$error":"#N/A"}},{"$error":"#N/A"},{"$error":"#N/A"},{"$error":"#N/A"},{"$error":"#N/A"}]
[43,"Corredor 2","Estação 43",{"$error":"#N/A"},null,{"$f":"VLOOKUP($C49,SEE_agrg!D:BB,MATCH(F$3,SEE_agrg!$D$3:$BB$3,FALSE),FALSE)","v":{"$error":"#N/A"}},{"$f":"VLOOKUP($C49,UdS_agrg!$D:$P,MATCH(G$3,UdS_agrg!$D$3:$P$3,FALSE),FALSE)","v":{"$error":"#N/A"}},{"$f":"VLOOKUP($C49,UdS_agrg!$D:$P,MATCH(H$3,UdS_agrg!$D$3:$P$3,FALSE),FALSE)","v":{"$error":"#N/A"}},{"$f":"VLOOKUP($C49,UdS_agrg!$D:$P,MATCH(I$3,UdS_agrg!$D$3:$P$3,FALSE),FALSE)","v":{"$error":"#N/A"}},{"$error":"#N/A"},{"$f":"VLOOKUP($C49,UdS_agrg!$D:$P,MATCH(K$3,UdS_agrg!$D$3:$P$3,FALSE),FALSE)","v":{"$error":"#N/A"}},{"$error":"#N/A"},{"$f":"VLOOKUP($C49,SEE_agrg!$D:$BB,MATCH(M$3,SEE_agrg!$D$3:$BB$3,FALSE),FALSE)","v":{"$error":"#N/A"}},{"$f":"VLOOKUP($C49,SEE_agrg!$D:$BB,MATCH(N$3,SEE_agrg!$D$3:$BB$3,FALSE),FALSE)","v":{"$error":"#N/A"}},{"$error":"#N/A"},{"$error":"#N/A"},{"$f":"VLOOKUP($C49,QD_agrg!$D:$M,MATCH(Q$3,QD_agrg!$D$3:$M$3,FALSE),FALSE)","v":{"$error":"#N/A"}},{"$f":"VLOOKUP($C49,QD_agrg!$D:$M,MATCH(R$3,QD_agrg!$D$3:$M$3,FALSE),FALSE)","v":{"$error":"#N/A"}},{"$f":"VLOOKUP($C49,QD_agrg!$D:$O,MATCH(S$3,QD_agrg!$D$3:$O$3,FALSE),FALSE)","v":{"$error":"#N/A"}},{"$error":"#N/A"},{"$error":"#N/A"},{"$f":"VLOOKUP($C49,SEE_agrg!$D:$BB,MATCH(V$3,SEE_agrg!$D$3:$BB$3,FALSE),FALSE)","v":{"$error":"#N/A"}},{"$f":"VLOOKUP($C49,SEE_agrg!$D:$BB,MATCH(W$3,SEE_agrg!$D$3:$BB$3,FALSE),FALSE)","v":{"$error":"#N/A"}},{"$f":"VLOOKUP($C49,SEE_agrg!$D:$BB,MATCH(X$3,SEE_agrg!$D$3:$BB$3,FALSE),FALSE)","v":{"$error":"#N/A"}},{"$error":"#N/A"},{"$f":"VLOOKUP(C49,SEE_agrg!$D:$BB,MATCH(Z$3,SEE_agrg!$D$3:$BB$3,FALSE),FALSE)","v":{"$error":"#N/A"}},{"$error":"#N/A"},{"$error":"#N/A"},{"$error":"#N/A"},{"$error":"#N/A"}]
[44,"Corredor 2","Estação 44",{"$error":"#N/A"},null,{"$f":"VLOOKUP($C50,SEE_agrg!D:BB,MATCH(F$3,SEE_agrg!$D$3:$BB$3,FALSE),FALSE)","v":{"$error":"#N/A"}},{"$f":"VLOOKUP($C50,UdS_agrg!$D:$P,MATCH(G$3,UdS_agrg!$D$3:$P$3,FALSE),FALSE)","v":{"$error":"#N/A"}},{"$f":"VLOOKUP($C50,UdS_agrg!$D:$P,MATCH(H$3,UdS_agrg!$D$3:$P$3,FALSE),FALSE)","v":{"$error":"#N/A"}},{"$f":"VLOOKUP($C50,UdS_agrg!$D:$P,MATCH(I$3,UdS_agrg!$D$3:$P$3,FALSE),FALSE)","v":{"$error":"#N/A"}},{"$error":"#N/A"},{"$f":"VLOOKUP($C50,UdS_agrg!$D:$P,MATCH(K$3,UdS_agrg!$D$3:$P$3,FALSE),FALSE)","v":{"$error":"#N/A"}},{"$error":"#N/A"},{"$f":"VLOOKUP($C50,SEE_agrg!$D:$BB,MATCH(M$3,SEE_agrg!$D$3:$BB$3,FALSE),FALSE)","v":{"$error":"#N/A"}},{"$f":"VLOOKUP($C50,SEE_agrg!$D:$BB,MATCH(N$3,SEE_agrg!$D$3:$BB$3,FALSE),FALSE)","v":{"$error":"#N/A"}},{"$error":"#N/A"},{"$error":"#N/A"},{"$f":"VLOOKUP($C50,QD_agrg!$D:$M,MATCH(Q$3,QD_agrg!$D$3:$M$3,FALSE),FALSE)","v":{"$error":"#N/A"}},{"$f":"VLOOKUP($C50,QD_agrg!$D:$M,MATCH(R$3,QD_agrg!$D$3:$M$3,FALSE),FALSE)","v":{"$error":"#N/A"}},{"$f":"VLOOKUP($C50,QD_agrg!$D:$O,MATCH(S$3,QD_agrg!$D$3:$O$3,FALSE),FALSE)","v":{"$error":"#N/A"}},{"$error":"#N/A"},{"$error":"#N/A"},{"$f":"VLOOKUP($C50,SEE_agrg!$D:$BB,MATCH(V$3,SEE_agrg!$D$3:$BB$3,FALSE),FALSE)","v":{"$error":"#N/A"}},{"$f":"VLOOKUP($C50,SEE_agrg!$D:$BB,MATCH(W$3,SEE_agrg!$D$3:$BB$3,FALSE),FALSE)","v":{"$error":"#N/A"}},{"$f":"VLOOKUP($C50,SEE_agrg!$D:$BB,MATCH(X$3,SEE_agrg!$D$3:$BB$3,FALSE),FALSE)","v":{"$error":"#N/A"}},{"$error":"#N/A"},{"$f":"VLOOKUP(C50,SEE_agrg!$D:$BB,MATCH(Z$3,SEE_agrg!$D$3:$BB$3,FALSE),FALSE)","v":{"$error":"#N/A"}},{"$error":"#N/A"},{"$error":"#N/A"},{"$error":"#N/A"},{"$error":"#N/A"}]
[45,"Corredor 2","Estação 45",{"$error":"#N/A"},null,{"$f":"VLOOKUP($C51,SEE_agrg!D:BB,MATCH(F$3,SEE_agrg!$D$3:$BB$3,FALSE),FALSE)","v":{"$error":"#N/A"}},{"$f":"VLOOKUP($C51,UdS_agrg!$D:$P,MATCH(G$3,UdS_agrg!$D$3:$P$3,FALSE),FALSE)","v":{"$error":"#N/A"}},{"$f":"VLOOKUP($C51,UdS_agrg!$D:$P,MATCH(H$3,UdS_agrg!$D$3:$P$3,FALSE),FALSE)","v":{"$error":"#N/A"}},{"$f":"VLOOKUP($C51,UdS_agrg!$D:$P,MATCH(I$3,UdS_agrg!$D$3:$P$3,FALSE),FALSE)","v":{"$error":"#N/A"}},{"$error":"#N/A"},{"$f":"VLOOKUP($C51,UdS_agrg!$D:$P,MATCH(K$3,UdS_agrg!$D$3:$P$3,FALSE),FALSE)","v":{"$error":"#N/A"}},{"$error":"#N/A"},{"$f":"VLOOKUP($C51,SEE_agrg!$D:$BB,MATCH(M$3,SEE_agrg!$D$3:$BB$3,FALSE),FALSE)","v":{"$error":"#N/A"}},{"$f":"VLOOKUP($C51,SEE_agrg!$D:$BB,MATCH(N$3,SEE_agrg!$D$3:$BB$3,FALSE),FALSE)","v":{"$error":"#N/A"}},{"$error":"#N/A"},{"$error":"#N/A"},{"$f":"VLOOKUP($C51,QD_agrg!$D:$M,MATCH(Q$3,QD_agrg!$D$3:$M$3,FALSE),FALSE)","v":{"$error":"#N/A"}},{"$f":"VLOOKUP($C51,QD_agrg!$D:$M,MATCH(R$3,QD_agrg!$D$3:$M$3,FALSE),FALSE)","v":{"$error":"#N/A"}},{"$f":"VLOOKUP($C51,QD_agrg!$D:$O,MATCH(S$3,QD_agrg!$D$3:$O$3,FALSE),FALSE)","v":{"$error":"#N/A"}},{"$error":"#N/A"},{"$error":"#N/A"},{"$f":"VLOOKUP($C51,SEE_agrg!$D:$BB,MATCH(V$3,SEE_agrg!$D$3:$BB$3,FALSE),FALSE)","v":{"$error":"#N/A"}},{"$f":"VLOOKUP($C51,SEE_agrg!$D:$BB,MATCH(W$3,SEE_agrg!$D$3:$BB$3,FALSE),FALSE)","v":{"$error":"#N/A"}},{"$f":"VLOOKUP($C51,SEE_agrg!$D:$BB,MATCH(X$3,SEE_agrg!$D$3:$BB$3,FALSE),FALSE)","v":{"$error":"#N/A"}},{"$error":"#N/A"},{"$f":"VLOOKUP(C51,SEE_agrg!$D:$BB,MATCH(Z$3,SEE_agrg!$D$3:$BB$3,FALSE),FALSE)","v":{"$error":"#N/A"}},{"$error":"#N/A"},{"$error":"#N/A"},{"$error":"#N/A"},{"$error":"#N/A"}]

{"sheet":"Sistema_Analisado","index":2,"n_rows":99,"n_cols":12,"rows_kept":99,"cut":false,"hidden":false,"merged":[]}
["Lista de Corredores e Estações Analisados e Parâmetros Adotados"]
[]
["ID Estação","Estação","Corredor","Empresa","Status","Seq. Corredor","Município",null,"Parâmetro","Valor","Unidade","Observação"]
[1,null,null,null,null,null,null,null,"Densidade de Referência",9000,"hab./km2 ","ONU"]
[2,null,null,null,null,null,null,null,"Densidade do Município (setores 1 e 3)",8488,"hab./km2 ","Rio de Janeiro"]
[3,null,null,null,null,null,null,null,"Tolerância Densidade",0.1]
[4]
[5]
[6]
[7]
[8]
[9]
[10]
[12]
[13]
[14]
[15]
[16]
[17]
[18]
[19]
[20]
[21]
[22]
[24]
[26]
[28]
[30]
[31]
[32]
[34]
[35]
[36]
[37]
[38]
[39]
[40]
[41]
[43]
[45]
[47]
[48]
[50]
[51]
[52]
[54]
[55]
[56]
[57]
[58]
[60]
[61]
[62]
[63]
[64]
[65]
[66]
[68]
[70]
[72]
[73]
[74]
[76]
[77]
[79]
[80]
[81]
[82]
[84]
[85]
[86]
[87]
[89]
[91]
[92]
[95]
[96]
[97]
[98]
[100]
[101]
[102]
[103]
[104]
[105]
[106]
[107]
[108]
[109]
[110]
[111]
[112]
[113]
[114]
[115]
[116]
[117]
[118]
[119]

{"sheet":"analise_tabdin","index":3,"n_rows":20,"n_cols":2,"rows_kept":20,"cut":false,"hidden":true,"merged":[]}
["Tabela Dinâmica Dados Setores Censitários"]
[]
["Rótulos de Linha","Contagem de Pontuação Densidade"]
["TransBrasil",0.14743589743589744]
[0,0.39130434782608697]
[3,0.2608695652173913]
[5,0.34782608695652173]
["TransCarioca",0.28846153846153844]
[0,0.68888888888888888]
[3,6.6666666666666666E-2]
[5,0.24444444444444444]
["TransOeste",0.4358974358974359]
[0,0.17647058823529413]
[3,0.35294117647058826]
[5,0.47058823529411764]
["TransOlmpica",0.12820512820512819]
[0,0.25]
[3,0.2]
[5,0.55000000000000004]
["Total Geral",1]

{"sheet":"analise_H_extr","index":5,"n_rows":11,"n_cols":12,"rows_kept":11,"cut":false,"hidden":true,"merged":[]}
["H_PR","(Vários itens)"]
["Corredor","(Vários itens)"]
[]
["Rótulos de Linha","H_Responsável","H_Pessoas","até 1/2 SM","até 1 SM","até 2 SM","até 3 SM","até 5 SM","até 10 SM","até 15 SM","até 20 SM","mais 20 SM"]
["Interlagos",0.95974110061527129,0.96778665797507446,1.2054338090802809E-2,0.10515735473121177,0.19823661166918188,6.3858359497647163E-2,9.3344598520552574E-2,0.18944345462287848,8.9795611269152156E-2,9.4714766266542322E-2,0.1533949053320309]
["Terminal Jd. Ocenico",0.95458447528012869,0.95796193270314323,5.5044917130280977E-3,4.2890418403353496E-2,0.17348607386146575,8.0124770936129519E-2,0.110990514479582,0.23329952638067158,8.5137590632565582E-2,0.13822108912405823,0.13034552446914568]
["Recreio Shopping",0.94734249103190615,0.95629246055174466,1.2578632721811648E-2,0.11916309316488644,0.14185986672817003,6.2361104746062844E-2,0.10853990990198496,0.26535462389360048,0.10474142075576583,0.11759524894209566,6.780609914562212E-2]
["Magara",0.78292615123927345,0.755373962656814,4.778446070988443E-2,0.4118944016862382,0.38211936461866008,8.3738352018528292E-2,5.7633730604714536E-2,1.6337542164488635E-2,4.921481974858909E-4,0,0]
["Maré",0.76142748849945552,0.73914280747131456,1.8876541087223763E-2,0.39958119832158234,0.40962549276034771,0.11430450657250121,4.4163216417539577E-2,1.2379469779279249E-2,2.3947432355471735E-4,6.451603552429725E-4,1.8494038272829499E-4]
["Pingo D'gua",0.67718353808492571,0.67869741836729824,0.11620288935305896,0.58242269379877287,0.19764453909484639,6.5471938914319586E-2,2.0580120737981884E-2,1.4511982939753067E-2,3.165835161267264E-3,0,0]
["Total Geral",5.0832052447509604,5.0552552397253896,0.21300135367580972,1.6611091601060448,1.502971948732672,0.46985903268518858,0.43525209066235548,0.73132659978067149,0.28357208033979142,0.35117626468793917,0.35173146932952704]

{"sheet":"analise_H","index":6,"n_rows":162,"n_cols":15,"rows_kept":162,"cut":false,"hidden":true,"merged":[]}
["Corredor","Estação","H_RR","H_PR","ratio","maior/menor","bloco",null,null,"Linha"]
["TransBrasil","Barros Filho",0.81096466764006547,0.77745454401903635,{"$f":"D2/C2","v":0.95867868853208527},{"$f":"IF(D2>C2,\"maior\",\"menor\")","v":"menor"},0.6,null,null,0,0]
["TransBrasil","Brs de Pina",0.79563726932535372,0.75838515606215384,{"$f":"D3/C3","v":0.95317952702895992},{"$f":"IF(D3>C3,\"maior\",\"menor\")","v":"menor"},0.65,null,null,1,1]
["TransBrasil","Carrefour",0.8860545936233305,0.86150567007195533,0.97229411852492342,"menor",0.7]
["TransBrasil","Coelho Neto",0.86416846039420447,0.83341182242273326,0.96440897882637244,"menor",0.75]
["TransBrasil","Correia Andrade",0.85730770879133167,0.82889441559710009,0.96685753212893677,"menor",0.8,null,null,"bloco","Freqüência","% cumulativo","bloco","Freqüência","% cumulativo"]
["TransBrasil","Fiocruz",0.7207062452111892,0.70648263260514377,0.98026434112295302,"menor",0.85,null,null,0.6,0,0,0.95,54,0.34838709677419355]
["TransBrasil","I.N.T.O",0.88721443738213135,0.86050624734336933,0.96989657864724477,"menor",0.9,null,null,0.65,1,6.4516129032258064E-3,0.9,39,0.6]
["TransBrasil","Iraj",0.89166204776501845,0.87692072181525904,0.98346758619287533,"menor",0.95,null,null,0.7,3,2.5806451612903226E-2,0.85,34,0.8193548387096774]
["TransBrasil","Joana Nascimento",0.86207435209913041,0.82860828029724087,0.96117959927655838,"menor",null,null,null,0.75,1,3.2258064516129031E-2,0.8,19,0.9419354838709677]
["TransBrasil","Marinha do Brasil",0.89199011490582281,0.85885877007736811,0.96285682512081117,"menor",null,null,null,0.8,19,0.15483870967741936,"Mais",4,0.967741935483871]
["TransBrasil","Marinha Mercante",0.90591305749931006,0.88492919433182649,0.97683678031376697,"menor",null,null,null,0.85,34,0.37419354838709679,0.7,3,0.98709677419354835]
["TransBrasil","Nova Holanda",0.85297353689240563,0.82585524478019756,0.96820734648930995,"menor",null,null,null,0.9,39,0.62580645161290327,0.65,1,0.99354838709677418]
["TransBrasil","Parque Vitria",0.6485502001553376,0.63126364857493689,0.97334585422028963,"menor",null,null,null,0.95,54,0.97419354838709682,0.75,1,1]
["TransBrasil","Ponto Chique",0.81967633006642548,0.78070584122164632,0.95245624716085064,"menor",null,null,null,"Mais",4,1,0.6,0,1]
["TransBrasil","Ramos",0.7569727725814912,0.72712048664854079,0.96056359354756493,"menor"]
["TransBrasil","Rubens Vaz",0.75979840649194563,0.74405748107784409,0.97928276069072218,"menor"]
["TransBrasil","So Francisco",0.82181764525354462,0.79706265575289048,0.96987775859568359,"menor"]
["TransBrasil","Terminal Amrico Fontenelle",0.77997397409631408,0.74944497972584567,0.9608589576263239,"menor"]
["TransBrasil","Terminal de Integrao BRT-VLT",0.86558633805605512,0.79853885945081982,0.9225409694475869,"menor"]
["TransBrasil","Terminal Deodoro TBR",0.84798740513697912,0.81584521019017231,0.96209590525508482,"menor"]
["TransBrasil","Terminal Margaridas",0.9159571445497634,0.89934898816287179,0.98186797659070035,"menor"]
["TransBrasil","Terminal Misses",0.82627611352456565,0.78243885901033783,0.94694599807897684,"menor"]
["TransBrasil","Terminal Procpio Ferreira",0.84251295847051999,0.81727062470391532,0.9700392338030871,"menor"]
["TransCarioca","Aeroporto de Jacarepaguá",0.82403101590775185,0.93044564367574989,1.1291391048561101,"maior"]
["TransCarioca","André Rocha",0.91454181236103338,0.89964010802851158,0.9837058250031776,"menor"]
["TransCarioca","Aracy Cabral",0.91842614579245341,0.911870545470993,0.99286213665465284,"menor"]
["TransCarioca","Arroio Pavuna",0.8476138986733277,0.83618052749123606,0.9865111093624267,"menor"]
["TransCarioca","Campinho",0.91829076664358966,0.90200139844999505,0.98226120877471823,"menor"]
["TransCarioca","Capitão Menezes",0.92529279809536147,0.92271822769602541,0.99721756139825624,"menor"]
["TransCarioca","Cardoso de Moraes - Viva Garcia",0.90385239722384247,0.88450268551782907,0.97859195620275441,"menor"]
["TransCarioca","Centro Metropolitano",0.77057898156697802,0.76794005529749154,0.99657539806741136,"menor"]
["TransCarioca","Curicica TCA",0.89876322332122416,0.87282148862241093,0.97113618578767602,"menor"]
["TransCarioca","Divina Providência",0.87911768895012288,0.84385947942949524,0.95989364113155951,"menor"]
["TransCarioca","Galeão - Tom Jobim 1",0.65629560950961829,0.83946248198406814,1.2790920277697904,"maior"]
["TransCarioca","Galeão - Tom Jobim 2",0.68875028349219436,0.84963767407566226,1.2335932114143242,"maior"]
["TransCarioca","Guaporé",0.87409296322262919,0.84299121555728262,0.96441826101576222,"menor"]
["TransCarioca","Hospital Sarah",0.80690130966693618,0.79438652792641151,0.98449031921178765,"menor"]
["TransCarioca","Ibiapina",0.91477761988892126,0.89948894925710121,0.98328700844946715,"menor"]
["TransCarioca","IPASE",0.85589408635705655,0.82937511407769338,0.96901605852631145,"menor"]
["TransCarioca","Lourenço Jorge",0.82403101590775196,0.93044564367574989,1.1291391048561099,"maior"]
["TransCarioca","Madureira",0.91497414939104227,0.90992659254894948,0.99448338857939078,"menor"]
["TransCarioca","Marambaia",0.90796790983361186,0.88594828676056803,0.97574845670803612,"menor"]
["TransCarioca","Maré",0.76142748849945552,0.73914280747131456,0.9707330226912908,"menor"]
["TransCarioca","Mercadão",0.89194471382587182,0.86864040438966794,0.97387247317578318,"menor"]
["TransCarioca","Merck-Santa Efigênia",0.90014861706200699,0.88618388666768144,0.98448619469093335,"menor"]
["TransCarioca","Olaria - Cacique de Ramos",0.9072908754536122,0.88977839325893016,0.98069805101266294,"menor"]
["TransCarioca","Otaviano",0.85935811107552385,0.83302729524576269,0.96935990305973019,"menor"]
["TransCarioca","Pastor José Santos",0.90945115360705031,0.88973340086362451,0.97831906346457254,"menor"]
["TransCarioca","Pedro Correia",0.92492264985443562,0.93950681824458238,1.0157679870770189,"maior"]
["TransCarioca","Pedro Taques",0.91217738455448638,0.89899391961199115,0.98554725740220572,"menor"]
["TransCarioca","Penha",0.91637718879542063,0.90737893747607234,0.99018062493330228,"menor"]
["TransCarioca","Pinto Teles",0.92110516518423513,0.90717169050734558,0.98487309027943337,"menor"]
["TransCarioca","Praça do Bandolim",0.9066468331469365,0.87469718210193081,0.96476064342042678,"menor"]
["TransCarioca","Praça do Carmo",0.88801331059667155,0.8665378766731,0.97581631528795232,"menor"]
["TransCarioca","Praça Seca",0.90896047661609469,0.92205051184260645,1.0144011049580985,"maior"]
["TransCarioca","Recanto das Palmeiras - Jardim São Luiz",0.80949844774379009,0.78308676101600228,0.96737277656133658,"menor"]
["TransCarioca","Rio II",0.90374280316034361,0.92846939626597913,1.0273602102491637,"maior"]
["TransCarioca","Santa Luzia",0.87979728850504413,0.84993509975488646,0.96605787589900438,"menor"]
["TransCarioca","Tanque / Terminal Mestre Candeia",0.84623387953633644,0.82460635591435227,0.97444261669854892,"menor"]
["TransCarioca","Taquara",0.91894226135115809,0.91899505275440063,1.0000574480089368,"maior"]
["TransCarioca","Terminal Alvorada TCA",0.76322642325197532,0.85434376697646097,1.1193844198111622,"maior"]
["TransCarioca","Vaz Lobo",0.87667054279482393,0.84906438910629756,0.9685102300796854,"menor"]
["TransCarioca","Via Parque",0.82403101590775196,0.93044564367574989,1.1291391048561099,"maior"]
["TransCarioca","Vicente de Carvalho",0.91727630311364738,0.89677312748137572,0.97764776484176608,"menor"]
["TransCarioca","Vila Kosmos - Nossa Senhora do Carmo",0.92672136061707033,0.914053668006783,0.98633063491505968,"menor"]
["TransCarioca","Vila Queiroz",0.87695410964630816,0.84157752094867533,{"$f":"D67/C67","v":0.95965970361675956},{"$f":"IF(D67>C67,\"maior\",\"menor\")","v":"menor"}]
["TransCarioca","Vila Sapê - IV Centenário",0.81728419913812167,0.79219468981972141,0.96930136500270192,"menor"]
["TransOeste","31 de Outubro",0.82490127578420747,0.81381997353459146,0.98656651095722769,"menor"]
["TransOeste","Amricas Park",0.86032718351888571,0.93564090198398875,1.08754078670054,"maior"]
["TransOeste","Ana Gonzaga",0.81079863286563247,0.79337137379433853,0.97850605765120713,"menor"]
["TransOeste","Barra Shopping",0.8903370019089436,0.93153148157651899,1.0462684124991455,"maior"]
["TransOeste","Benvindo de Novaes",0.94749721740523662,0.95038287774642694,1.0030455607554107,"maior"]
["TransOeste","Bosque da Barra",0.90068451365230406,0.93595530143782202,1.0391599802715534,"maior"]
["TransOeste","Cajueiros",0.83091131289700471,0.80334184667096198,0.96682020596166796,"menor"]
["TransOeste","Cesarinho",0.82364148341858445,0.79540106241674358,0.96571272626455518,"menor"]
["TransOeste","Cesaro I",0.79247627274354582,0.76150844014182373,0.96092270056930318,"menor"]
["TransOeste","Cesaro II",0.77788653285013087,0.76145606643057828,0.97887806803988198,"menor"]
["TransOeste","Cesaro III",0.79837197713638508,0.78178086563164106,0.97921882032451424,"menor"]
["TransOeste","Cetex",0.88971883816978636,0.8716434705860252,0.97968418020580139,"menor"]
["TransOeste","Citt Amrica",0.91544074864998104,0.93338887456682285,1.0196059940999025,"maior"]
["TransOeste","Cndido Magalhes",0.93473739149000035,0.931191193652253,0.99620620949794825,"menor"]
["TransOeste","Cosmos",0.87494418934931573,0.85448352306109587,0.9766148897983582,"menor"]
["TransOeste","Curral Falso",0.81887361052702301,0.78627558330502778,0.96019162566367811,"menor"]
["TransOeste","Dom Bosco",0.92010814675002539,0.90569089690310822,0.9843309181666946,"menor"]
["TransOeste","Embrapa",0.85005408328826404,0.81557747217528132,0.95944186165235879,"menor"]
["TransOeste","Freeway (2 etapa)",0.88616142950728061,0.94348146606182481,1.0646835154926739,"maior"]
["TransOeste","Gasto Rangel",0.8118010418666135,0.78183203649652999,0.96308331250576584,"menor"]
["TransOeste","Gelson Fonseca",0.95146776884927975,0.9430641167018704,0.99116769645536928,"menor"]
["TransOeste","General Olmpio",0.91401702497456916,0.89653467034454948,0.98087305361680099,"menor"]
["TransOeste","Gilka Machado",0.91584342968403498,0.9343563521949233,1.0202140692511985,"maior"]
["TransOeste","Glucio Gil",0.94322867873690808,0.94819661643328368,1.0052669493712048,"maior"]
["TransOeste","Golfe Olmpico",0.77545967267196958,0.88415964492018417,1.1401748873331756,"maior"]
["TransOeste","Guignard",0.9472275967342314,0.94901344876890259,1.0018853462893482,"maior"]
["TransOeste","Guiomar Novais",0.94790021768025567,0.94713704661538156,0.99919488248800936,"menor"]
["TransOeste","Icurana",0.82636985455003342,0.79518600036949738,0.9622640467717497,"menor"]
["TransOeste","Ilha de Guaratiba",0.85781065990633409,0.81320434923900564,0.94799981773110731,"menor"]
["TransOeste","Inhoaba",0.80273367687184805,0.78075958594652151,0.97262592618394084,"menor"]
["TransOeste","Interlagos",0.95974110061527129,0.96778665797507446,1.0083830497148087,"maior"]
["TransOeste","Julia Miguel",0.8805085924790339,0.85005996409443207,0.96541927172013731,"menor"]
["TransOeste","Largo do Corra",0.78370613012535661,0.76900509122970206,0.98124164360778565,"menor"]
["TransOeste","Magara",0.78292615123927345,0.755373962656814,0.96480870061774304,"menor"]
["TransOeste","Maria Tereza",0.92528274983490333,0.91708523045188239,0.99114052500764371,"menor"]
["TransOeste","Mato Alto",0.81212670079157057,0.79485027831545751,0.97872693699237578,"menor"]
["TransOeste","Notre Dame",0.88842320079339998,0.87242593682532654,0.98199364452235471,"menor"]
["TransOeste","Nova Barra",0.92022282598084459,0.93857046559452395,1.0199382574477251,"maior"]
["TransOeste","Novo Leblon",0.87835612112208439,0.93517160337234673,1.0646838803578684,"maior"]
["TransOeste","ParkShopping",0.87778414601029187,0.84414546609144459,0.96167773128309286,"menor"]
["TransOeste","Parque das Rosas",0.90008766780249916,0.92597315997864182,1.0287588566115347,"maior"]
["TransOeste","Parque Esperana",0.91781601405333868,0.90040487672475511,0.98102981745579809,"menor"]
["TransOeste","Parque So Paulo",0.87711352404956844,0.85011282611675931,0.96921641590002072,"menor"]
["TransOeste","Pedra de Itana",0.88842226978022387,0.93671325918751591,1.0543558970209495,"maior"]
["TransOeste","Pina Rangel",0.92069188267856927,0.91055100959724655,0.98898559521148388,"menor"]
["TransOeste","Pingo D'gua",0.67718353808492571,0.67869741836729824,1.0022355538745873,"maior"]
["TransOeste","Pontal",0.84168181872941605,0.83787207466608116,0.99547365289524015,"menor"]
["TransOeste","Pontes/ Barrasul",0.90159164012257964,0.91968297711051494,1.0200659990430652,"maior"]
["TransOeste","Porto dos Cabritos",0.91314687471770184,0.92752085712970977,1.01574115053118,"maior"]
["TransOeste","Prefeito Alim Pedro",0.92745459320320223,0.92283096241950824,0.99501470927247759,"menor"]
["TransOeste","Recanto das Garas",0.95945414117882832,0.94187538854839614,0.9816783816172453,"menor"]
["TransOeste","Recreio Shopping",0.94734249103190615,0.95629246055174466,1.0094474486308427,"maior"]
["TransOeste","Ricardo Marinho",0.89391274671906851,0.93615837910091482,1.0472592347932175,"maior"]
["TransOeste","Rio Mar",0.80138954562738363,0.91068519315293295,1.1363826719750694,"maior"]
["TransOeste","Riviera",0.9124472863444254,0.94984010944888608,1.0409808036738968,"maior"]
["TransOeste","Salvador Allende",0.90505507262320017,0.92846558277239621,1.0258663929492637,"maior"]
["TransOeste","Santa Eugnia",0.84917804322601809,0.82901121353297524,0.97625135287715481,"menor"]
["TransOeste","Santa Mnica Jardins",0.79796810132339613,0.90164543527077157,1.1299266647068109,"maior"]
["TransOeste","Santa Veridiana",0.81090900372419916,0.79230832972945064,0.97706194664343027,"menor"]
["TransOeste","So Jorge",0.90103206527523827,0.87509454300266198,0.97121354136863802,"menor"]
["TransOeste","Terminal Alvorada TOE",0.7727070166549439,0.84591865169862723,1.0947469525521034,"maior"]
["TransOeste","Terminal Campo Grande",0.93858722361193281,0.92517903124507495,0.98571449511611764,"menor"]
["TransOeste","Terminal Jd. Ocenico",0.95458447528012869,0.95796193270314323,{"$f":"D131/C131","v":1.003538144093558},{"$f":"IF(D131>C131,\"maior\",\"menor\")","v":"maior"}]
["TransOeste","Terminal Santa Cruz",0.93086119652299859,0.91484882426132019,0.98279832447470294,"menor"]
["TransOeste","Trs Pontes",0.76765993242078168,0.75787233188314529,0.98725008285013438,"menor"]
["TransOeste","Vendas de Varanda",0.78431345685481901,0.78504073235489913,1.0009272765802038,"maior"]
["TransOeste","Vila Pacincia",0.79429315256670818,0.7684967313039901,0.9675227953566532,"menor"]
["TransOeste","Vilar Carioca",0.80564189427839061,0.78017091853699827,0.9683842462485065,"menor"]
["TransOlmpica","Bandeirantes",0.83603429439306931,0.79437489607795164,0.95017022795056405,"menor"]
["TransOlmpica","Boina",0.90457231981004882,0.89229287032641746,0.98642513239161478,"menor"]
["TransOlmpica","Colonia Juliano Moreira",0.89816716042298983,0.87071626181105644,0.96943675985770239,"menor"]
["TransOlmpica","Curicica TOL",0.80526947396657389,0.78413646460327258,0.97375659944092385,"menor"]
["TransOlmpica","Equitao",0.92493662643233443,0.9259470067976544,1.0010923779386023,"maior"]
["TransOlmpica","Estaao 1",0.94666225942562665,0.96385721144363135,1.0181637662712333,"maior"]
["TransOlmpica","Estaao 2",0.90538915388015617,0.91704897027498566,1.0128782373246465,"maior"]
["TransOlmpica","Estaao 3",0.89296911926328348,0.94453160182817464,1.0577427387493883,"maior"]
["TransOlmpica","Estaao 4",0.9137856696805432,0.88509587512109689,0.96860336563444227,"menor"]
["TransOlmpica","Guerengu",0.85260329736370832,0.81879796173171016,0.96035045168541344,"menor"]
["TransOlmpica","Hospital Raphael de P. S.",0.84358659975768879,0.81172878583135344,0.96223527740307135,"menor"]
["TransOlmpica","Largo da Preguia",0.79372136100924906,0.77079459852377419,0.9711148475879211,"menor"]
["TransOlmpica","Magalhes Bastos",0.89404782952166806,0.86571291493293756,0.96830716025126951,"menor"]
["TransOlmpica","Marechal Fontenelle",0.89604268849329549,0.90574014439185591,1.0108225378356324,"maior"]
["TransOlmpica","Marechal Mallet",0.83759632431401854,0.80800512480331832,0.96467128776509969,"menor"]
["TransOlmpica","Parque Olmpico",0.90860492550874128,0.87241240829064981,0.96016693702400224,"menor"]
["TransOlmpica","RioCentro",0.89909770012594104,0.94744016584988511,1.0537677559593051,"maior"]
["TransOlmpica","Terminal Deodoro TOL",0.84791398797543949,0.8157631355053766,0.96208241292630481,"menor"]
["TransOlmpica","Terminal Recreio",0.90190470041234405,0.92773024689834793,1.028634451593607,"maior"]
["TransOlmpica","Vila Militar",0.80751791727807998,0.8993630002267855,1.1137375171293906,"maior"]
[null,null,{"$f":"AVERAGE(C2:C156)","v":0.86372858915940454},{"$f":"AVERAGE(D2:D156)","v":0.86075804920995369}]
[]
["Rótulos de Linha","Contagem de maior/menor"]
["maior",45]
["menor",110]
["Total Geral",155]

{"sheet":"SEE_H_graph","index":7,"n_rows":409,"n_cols":4,"rows_kept":409,"cut":false,"hidden":true,"merged":[]}
["Gráficos de Distribuição de Renda"]
["Gráficos Dinâmicos","https://infogr.am/distrib_renda_brt_transcarioca"]
[]
["Coluna","Estação (gemea)","Níveis de Renda","Percentual de Pessoas"]
[53,"Aeroporto de Jacarepaguá","até 1/2 SM",{"$f":"VLOOKUP(SEE_H_graph!B5,SEE_agrg!$D$4:$BB$160,A5,FALSE)","v":{"$error":"#N/A"}}]
[54,"Aeroporto de Jacarepaguá","até 1 SM",{"$f":"VLOOKUP(SEE_H_graph!B6,SEE_agrg!$D$4:$BB$160,A6,FALSE)","v":{"$error":"#N/A"}}]
[55,"Aeroporto de Jacarepaguá","até 2 SM",{"$f":"VLOOKUP(SEE_H_graph!B7,SEE_agrg!$D$4:$BB$160,A7,FALSE)","v":{"$error":"#N/A"}}]
[56,"Aeroporto de Jacarepaguá","até 3 SM",{"$f":"VLOOKUP(SEE_H_graph!B8,SEE_agrg!$D$4:$BB$160,A8,FALSE)","v":{"$error":"#N/A"}}]
[57,"Aeroporto de Jacarepaguá","até 5 SM",{"$f":"VLOOKUP(SEE_H_graph!B9,SEE_agrg!$D$4:$BB$160,A9,FALSE)","v":{"$error":"#N/A"}}]
[58,"Aeroporto de Jacarepaguá","até 10 SM",{"$f":"VLOOKUP(SEE_H_graph!B10,SEE_agrg!$D$4:$BB$160,A10,FALSE)","v":{"$error":"#N/A"}}]
[59,"Aeroporto de Jacarepaguá","até 15 SM",{"$f":"VLOOKUP(SEE_H_graph!B11,SEE_agrg!$D$4:$BB$160,A11,FALSE)","v":{"$error":"#N/A"}}]
[60,"Aeroporto de Jacarepaguá","até 20 SM",{"$f":"VLOOKUP(SEE_H_graph!B12,SEE_agrg!$D$4:$BB$160,A12,FALSE)","v":{"$error":"#N/A"}}]
[61,"Aeroporto de Jacarepaguá","mais 20 SM",{"$f":"VLOOKUP(SEE_H_graph!B13,SEE_agrg!$D$4:$BB$160,A13,FALSE)","v":{"$error":"#N/A"}}]
[53,"André Rocha","até 1/2 SM",{"$f":"VLOOKUP(SEE_H_graph!B14,SEE_agrg!$D$4:$BB$160,A14,FALSE)","v":{"$error":"#N/A"}}]
[54,"André Rocha","até 1 SM",{"$f":"VLOOKUP(SEE_H_graph!B15,SEE_agrg!$D$4:$BB$160,A15,FALSE)","v":{"$error":"#N/A"}}]
[55,"André Rocha","até 2 SM",{"$f":"VLOOKUP(SEE_H_graph!B16,SEE_agrg!$D$4:$BB$160,A16,FALSE)","v":{"$error":"#N/A"}}]
[56,"André Rocha","até 3 SM",{"$f":"VLOOKUP(SEE_H_graph!B17,SEE_agrg!$D$4:$BB$160,A17,FALSE)","v":{"$error":"#N/A"}}]
[57,"André Rocha","até 5 SM",{"$f":"VLOOKUP(SEE_H_graph!B18,SEE_agrg!$D$4:$BB$160,A18,FALSE)","v":{"$error":"#N/A"}}]
[58,"André Rocha","até 10 SM",{"$f":"VLOOKUP(SEE_H_graph!B19,SEE_agrg!$D$4:$BB$160,A19,FALSE)","v":{"$error":"#N/A"}}]
[59,"André Rocha","até 15 SM",{"$f":"VLOOKUP(SEE_H_graph!B20,SEE_agrg!$D$4:$BB$160,A20,FALSE)","v":{"$error":"#N/A"}}]
[60,"André Rocha","até 20 SM",{"$f":"VLOOKUP(SEE_H_graph!B21,SEE_agrg!$D$4:$BB$160,A21,FALSE)","v":{"$error":"#N/A"}}]
[61,"André Rocha","mais 20 SM",{"$f":"VLOOKUP(SEE_H_graph!B22,SEE_agrg!$D$4:$BB$160,A22,FALSE)","v":{"$error":"#N/A"}}]
[53,"Aracy Cabral","até 1/2 SM",{"$f":"VLOOKUP(SEE_H_graph!B23,SEE_agrg!$D$4:$BB$160,A23,FALSE)","v":{"$error":"#N/A"}}]
[54,"Aracy Cabral","até 1 SM",{"$f":"VLOOKUP(SEE_H_graph!B24,SEE_agrg!$D$4:$BB$160,A24,FALSE)","v":{"$error":"#N/A"}}]
[55,"Aracy Cabral","até 2 SM",{"$f":"VLOOKUP(SEE_H_graph!B25,SEE_agrg!$D$4:$BB$160,A25,FALSE)","v":{"$error":"#N/A"}}]
[56,"Aracy Cabral","até 3 SM",{"$f":"VLOOKUP(SEE_H_graph!B26,SEE_agrg!$D$4:$BB$160,A26,FALSE)","v":{"$error":"#N/A"}}]
[57,"Aracy Cabral","até 5 SM",{"$f":"VLOOKUP(SEE_H_graph!B27,SEE_agrg!$D$4:$BB$160,A27,FALSE)","v":{"$error":"#N/A"}}]
[58,"Aracy Cabral","até 10 SM",{"$f":"VLOOKUP(SEE_H_graph!B28,SEE_agrg!$D$4:$BB$160,A28,FALSE)","v":{"$error":"#N/A"}}]
[59,"Aracy Cabral","até 15 SM",{"$f":"VLOOKUP(SEE_H_graph!B29,SEE_agrg!$D$4:$BB$160,A29,FALSE)","v":{"$error":"#N/A"}}]
[60,"Aracy Cabral","até 20 SM",{"$f":"VLOOKUP(SEE_H_graph!B30,SEE_agrg!$D$4:$BB$160,A30,FALSE)","v":{"$error":"#N/A"}}]
[61,"Aracy Cabral","mais 20 SM",{"$f":"VLOOKUP(SEE_H_graph!B31,SEE_agrg!$D$4:$BB$160,A31,FALSE)","v":{"$error":"#N/A"}}]
[53,"Arroio Pavuna","até 1/2 SM",{"$f":"VLOOKUP(SEE_H_graph!B32,SEE_agrg!$D$4:$BB$160,A32,FALSE)","v":{"$error":"#N/A"}}]
[54,"Arroio Pavuna","até 1 SM",{"$f":"VLOOKUP(SEE_H_graph!B33,SEE_agrg!$D$4:$BB$160,A33,FALSE)","v":{"$error":"#N/A"}}]
[55,"Arroio Pavuna","até 2 SM",{"$f":"VLOOKUP(SEE_H_graph!B34,SEE_agrg!$D$4:$BB$160,A34,FALSE)","v":{"$error":"#N/A"}}]
[56,"Arroio Pavuna","até 3 SM",{"$f":"VLOOKUP(SEE_H_graph!B35,SEE_agrg!$D$4:$BB$160,A35,FALSE)","v":{"$error":"#N/A"}}]
[57,"Arroio Pavuna","até 5 SM",{"$f":"VLOOKUP(SEE_H_graph!B36,SEE_agrg!$D$4:$BB$160,A36,FALSE)","v":{"$error":"#N/A"}}]
[58,"Arroio Pavuna","até 10 SM",{"$f":"VLOOKUP(SEE_H_graph!B37,SEE_agrg!$D$4:$BB$160,A37,FALSE)","v":{"$error":"#N/A"}}]
[59,"Arroio Pavuna","até 15 SM",{"$f":"VLOOKUP(SEE_H_graph!B38,SEE_agrg!$D$4:$BB$160,A38,FALSE)","v":{"$error":"#N/A"}}]
[60,"Arroio Pavuna","até 20 SM",{"$f":"VLOOKUP(SEE_H_graph!B39,SEE_agrg!$D$4:$BB$160,A39,FALSE)","v":{"$error":"#N/A"}}]
[61,"Arroio Pavuna","mais 20 SM",{"$f":"VLOOKUP(SEE_H_graph!B40,SEE_agrg!$D$4:$BB$160,A40,FALSE)","v":{"$error":"#N/A"}}]
[53,"Campinho","até 1/2 SM",{"$f":"VLOOKUP(SEE_H_graph!B41,SEE_agrg!$D$4:$BB$160,A41,FALSE)","v":{"$error":"#N/A"}}]
[54,"Campinho","até 1 SM",{"$f":"VLOOKUP(SEE_H_graph!B42,SEE_agrg!$D$4:$BB$160,A42,FALSE)","v":{"$error":"#N/A"}}]
[55,"Campinho","até 2 SM",{"$f":"VLOOKUP(SEE_H_graph!B43,SEE_agrg!$D$4:$BB$160,A43,FALSE)","v":{"$error":"#N/A"}}]
[56,"Campinho","até 3 SM",{"$f":"VLOOKUP(SEE_H_graph!B44,SEE_agrg!$D$4:$BB$160,A44,FALSE)","v":{"$error":"#N/A"}}]
[57,"Campinho","até 5 SM",{"$f":"VLOOKUP(SEE_H_graph!B45,SEE_agrg!$D$4:$BB$160,A45,FALSE)","v":{"$error":"#N/A"}}]
[58,"Campinho","até 10 SM",{"$f":"VLOOKUP(SEE_H_graph!B46,SEE_agrg!$D$4:$BB$160,A46,FALSE)","v":{"$error":"#N/A"}}]
[59,"Campinho","até 15 SM",{"$f":"VLOOKUP(SEE_H_graph!B47,SEE_agrg!$D$4:$BB$160,A47,FALSE)","v":{"$error":"#N/A"}}]
[60,"Campinho","até 20 SM",{"$f":"VLOOKUP(SEE_H_graph!B48,SEE_agrg!$D$4:$BB$160,A48,FALSE)","v":{"$error":"#N/A"}}]
[61,"Campinho","mais 20 SM",{"$f":"VLOOKUP(SEE_H_graph!B49,SEE_agrg!$D$4:$BB$160,A49,FALSE)","v":{"$error":"#N/A"}}]
[53,"Capitão Menezes","até 1/2 SM",{"$f":"VLOOKUP(SEE_H_graph!B50,SEE_agrg!$D$4:$BB$160,A50,FALSE)","v":{"$error":"#N/A"}}]
[54,"Capitão Menezes","até 1 SM",{"$f":"VLOOKUP(SEE_H_graph!B51,SEE_agrg!$D$4:$BB$160,A51,FALSE)","v":{"$error":"#N/A"}}]
[55,"Capitão Menezes","até 2 SM",{"$f":"VLOOKUP(SEE_H_graph!B52,SEE_agrg!$D$4:$BB$160,A52,FALSE)","v":{"$error":"#N/A"}}]
[56,"Capitão Menezes","até 3 SM",{"$f":"VLOOKUP(SEE_H_graph!B53,SEE_agrg!$D$4:$BB$160,A53,FALSE)","v":{"$error":"#N/A"}}]
[57,"Capitão Menezes","até 5 SM",{"$f":"VLOOKUP(SEE_H_graph!B54,SEE_agrg!$D$4:$BB$160,A54,FALSE)","v":{"$error":"#N/A"}}]
[58,"Capitão Menezes","até 10 SM",{"$f":"VLOOKUP(SEE_H_graph!B55,SEE_agrg!$D$4:$BB$160,A55,FALSE)","v":{"$error":"#N/A"}}]
[59,"Capitão Menezes","até 15 SM",{"$f":"VLOOKUP(SEE_H_graph!B56,SEE_agrg!$D$4:$BB$160,A56,FALSE)","v":{"$error":"#N/A"}}]
[60,"Capitão Menezes","até 20 SM",{"$f":"VLOOKUP(SEE_H_graph!B57,SEE_agrg!$D$4:$BB$160,A57,FALSE)","v":{"$error":"#N/A"}}]
[61,"Capitão Menezes","mais 20 SM",{"$f":"VLOOKUP(SEE_H_graph!B58,SEE_agrg!$D$4:$BB$160,A58,FALSE)","v":{"$error":"#N/A"}}]
[53,"Cardoso de Moraes - Viva Garcia","até 1/2 SM",{"$f":"VLOOKUP(SEE_H_graph!B59,SEE_agrg!$D$4:$BB$160,A59,FALSE)","v":{"$error":"#N/A"}}]
[54,"Cardoso de Moraes - Viva Garcia","até 1 SM",{"$f":"VLOOKUP(SEE_H_graph!B60,SEE_agrg!$D$4:$BB$160,A60,FALSE)","v":{"$error":"#N/A"}}]
[55,"Cardoso de Moraes - Viva Garcia","até 2 SM",{"$f":"VLOOKUP(SEE_H_graph!B61,SEE_agrg!$D$4:$BB$160,A61,FALSE)","v":{"$error":"#N/A"}}]
[56,"Cardoso de Moraes - Viva Garcia","até 3 SM",{"$f":"VLOOKUP(SEE_H_graph!B62,SEE_agrg!$D$4:$BB$160,A62,FALSE)","v":{"$error":"#N/A"}}]
[57,"Cardoso de Moraes - Viva Garcia","até 5 SM",{"$f":"VLOOKUP(SEE_H_graph!B63,SEE_agrg!$D$4:$BB$160,A63,FALSE)","v":{"$error":"#N/A"}}]
[58,"Cardoso de Moraes - Viva Garcia","até 10 SM",{"$f":"VLOOKUP(SEE_H_graph!B64,SEE_agrg!$D$4:$BB$160,A64,FALSE)","v":{"$error":"#N/A"}}]
[59,"Cardoso de Moraes - Viva Garcia","até 15 SM",{"$f":"VLOOKUP(SEE_H_graph!B65,SEE_agrg!$D$4:$BB$160,A65,FALSE)","v":{"$error":"#N/A"}}]
[60,"Cardoso de Moraes - Viva Garcia","até 20 SM",{"$f":"VLOOKUP(SEE_H_graph!B66,SEE_agrg!$D$4:$BB$160,A66,FALSE)","v":{"$error":"#N/A"}}]
[61,"Cardoso de Moraes - Viva Garcia","mais 20 SM",{"$f":"VLOOKUP(SEE_H_graph!B67,SEE_agrg!$D$4:$BB$160,A67,FALSE)","v":{"$error":"#N/A"}}]
[53,"Centro Metropolitano","até 1/2 SM",{"$f":"VLOOKUP(SEE_H_graph!B68,SEE_agrg!$D$4:$BB$160,A68,FALSE)","v":{"$error":"#N/A"}}]
[54,"Centro Metropolitano","até 1 SM",{"$f":"VLOOKUP(SEE_H_graph!B69,SEE_agrg!$D$4:$BB$160,A69,FALSE)","v":{"$error":"#N/A"}}]
[55,"Centro Metropolitano","até 2 SM",{"$f":"VLOOKUP(SEE_H_graph!B70,SEE_agrg!$D$4:$BB$160,A70,FALSE)","v":{"$error":"#N/A"}}]
[56,"Centro Metropolitano","até 3 SM",{"$f":"VLOOKUP(SEE_H_graph!B71,SEE_agrg!$D$4:$BB$160,A71,FALSE)","v":{"$error":"#N/A"}}]
[57,"Centro Metropolitano","até 5 SM",{"$f":"VLOOKUP(SEE_H_graph!B72,SEE_agrg!$D$4:$BB$160,A72,FALSE)","v":{"$error":"#N/A"}}]
[58,"Centro Metropolitano","até 10 SM",{"$f":"VLOOKUP(SEE_H_graph!B73,SEE_agrg!$D$4:$BB$160,A73,FALSE)","v":{"$error":"#N/A"}}]
[59,"Centro Metropolitano","até 15 SM",{"$f":"VLOOKUP(SEE_H_graph!B74,SEE_agrg!$D$4:$BB$160,A74,FALSE)","v":{"$error":"#N/A"}}]
[60,"Centro Metropolitano","até 20 SM",{"$f":"VLOOKUP(SEE_H_graph!B75,SEE_agrg!$D$4:$BB$160,A75,FALSE)","v":{"$error":"#N/A"}}]
[61,"Centro Metropolitano","mais 20 SM",{"$f":"VLOOKUP(SEE_H_graph!B76,SEE_agrg!$D$4:$BB$160,A76,FALSE)","v":{"$error":"#N/A"}}]
[53,"Curicica TCA","até 1/2 SM",{"$f":"VLOOKUP(SEE_H_graph!B77,SEE_agrg!$D$4:$BB$160,A77,FALSE)","v":{"$error":"#N/A"}}]
[54,"Curicica TCA","até 1 SM",{"$f":"VLOOKUP(SEE_H_graph!B78,SEE_agrg!$D$4:$BB$160,A78,FALSE)","v":{"$error":"#N/A"}}]
[55,"Curicica TCA","até 2 SM",{"$f":"VLOOKUP(SEE_H_graph!B79,SEE_agrg!$D$4:$BB$160,A79,FALSE)","v":{"$error":"#N/A"}}]
[56,"Curicica TCA","até 3 SM",{"$f":"VLOOKUP(SEE_H_graph!B80,SEE_agrg!$D$4:$BB$160,A80,FALSE)","v":{"$error":"#N/A"}}]
[57,"Curicica TCA","até 5 SM",{"$f":"VLOOKUP(SEE_H_graph!B81,SEE_agrg!$D$4:$BB$160,A81,FALSE)","v":{"$error":"#N/A"}}]
[58,"Curicica TCA","até 10 SM",{"$f":"VLOOKUP(SEE_H_graph!B82,SEE_agrg!$D$4:$BB$160,A82,FALSE)","v":{"$error":"#N/A"}}]
[59,"Curicica TCA","até 15 SM",{"$f":"VLOOKUP(SEE_H_graph!B83,SEE_agrg!$D$4:$BB$160,A83,FALSE)","v":{"$error":"#N/A"}}]
[60,"Curicica TCA","até 20 SM",{"$f":"VLOOKUP(SEE_H_graph!B84,SEE_agrg!$D$4:$BB$160,A84,FALSE)","v":{"$error":"#N/A"}}]
[61,"Curicica TCA","mais 20 SM",{"$f":"VLOOKUP(SEE_H_graph!B85,SEE_agrg!$D$4:$BB$160,A85,FALSE)","v":{"$error":"#N/A"}}]
[53,"Divina Providência","até 1/2 SM",{"$f":"VLOOKUP(SEE_H_graph!B86,SEE_agrg!$D$4:$BB$160,A86,FALSE)","v":{"$error":"#N/A"}}]
[54,"Divina Providência","até 1 SM",{"$f":"VLOOKUP(SEE_H_graph!B87,SEE_agrg!$D$4:$BB$160,A87,FALSE)","v":{"$error":"#N/A"}}]
[55,"Divina Providência","até 2 SM",{"$f":"VLOOKUP(SEE_H_graph!B88,SEE_agrg!$D$4:$BB$160,A88,FALSE)","v":{"$error":"#N/A"}}]
[56,"Divina Providência","até 3 SM",{"$f":"VLOOKUP(SEE_H_graph!B89,SEE_agrg!$D$4:$BB$160,A89,FALSE)","v":{"$error":"#N/A"}}]
[57,"Divina Providência","até 5 SM",{"$f":"VLOOKUP(SEE_H_graph!B90,SEE_agrg!$D$4:$BB$160,A90,FALSE)","v":{"$error":"#N/A"}}]
[58,"Divina Providência","até 10 SM",{"$f":"VLOOKUP(SEE_H_graph!B91,SEE_agrg!$D$4:$BB$160,A91,FALSE)","v":{"$error":"#N/A"}}]
[59,"Divina Providência","até 15 SM",{"$f":"VLOOKUP(SEE_H_graph!B92,SEE_agrg!$D$4:$BB$160,A92,FALSE)","v":{"$error":"#N/A"}}]
[60,"Divina Providência","até 20 SM",{"$f":"VLOOKUP(SEE_H_graph!B93,SEE_agrg!$D$4:$BB$160,A93,FALSE)","v":{"$error":"#N/A"}}]
[61,"Divina Providência","mais 20 SM",{"$f":"VLOOKUP(SEE_H_graph!B94,SEE_agrg!$D$4:$BB$160,A94,FALSE)","v":{"$error":"#N/A"}}]
[53,"Galeão - Tom Jobim 1","até 1/2 SM",{"$f":"VLOOKUP(SEE_H_graph!B95,SEE_agrg!$D$4:$BB$160,A95,FALSE)","v":{"$error":"#N/A"}}]
[54,"Galeão - Tom Jobim 1","até 1 SM",{"$f":"VLOOKUP(SEE_H_graph!B96,SEE_agrg!$D$4:$BB$160,A96,FALSE)","v":{"$error":"#N/A"}}]
[55,"Galeão - Tom Jobim 1","até 2 SM",{"$f":"VLOOKUP(SEE_H_graph!B97,SEE_agrg!$D$4:$BB$160,A97,FALSE)","v":{"$error":"#N/A"}}]
[56,"Galeão - Tom Jobim 1","até 3 SM",{"$f":"VLOOKUP(SEE_H_graph!B98,SEE_agrg!$D$4:$BB$160,A98,FALSE)","v":{"$error":"#N/A"}}]
[57,"Galeão - Tom Jobim 1","até 5 SM",{"$f":"VLOOKUP(SEE_H_graph!B99,SEE_agrg!$D$4:$BB$160,A99,FALSE)","v":{"$error":"#N/A"}}]
[58,"Galeão - Tom Jobim 1","até 10 SM",{"$f":"VLOOKUP(SEE_H_graph!B100,SEE_agrg!$D$4:$BB$160,A100,FALSE)","v":{"$error":"#N/A"}}]
[59,"Galeão - Tom Jobim 1","até 15 SM",{"$f":"VLOOKUP(SEE_H_graph!B101,SEE_agrg!$D$4:$BB$160,A101,FALSE)","v":{"$error":"#N/A"}}]
[60,"Galeão - Tom Jobim 1","até 20 SM",{"$f":"VLOOKUP(SEE_H_graph!B102,SEE_agrg!$D$4:$BB$160,A102,FALSE)","v":{"$error":"#N/A"}}]
[61,"Galeão - Tom Jobim 1","mais 20 SM",{"$f":"VLOOKUP(SEE_H_graph!B103,SEE_agrg!$D$4:$BB$160,A103,FALSE)","v":{"$error":"#N/A"}}]
[53,"Galeão - Tom Jobim 2","até 1/2 SM",{"$f":"VLOOKUP(SEE_H_graph!B104,SEE_agrg!$D$4:$BB$160,A104,FALSE)","v":{"$error":"#N/A"}}]
[54,"Galeão - Tom Jobim 2","até 1 SM",{"$f":"VLOOKUP(SEE_H_graph!B105,SEE_agrg!$D$4:$BB$160,A105,FALSE)","v":{"$error":"#N/A"}}]
[55,"Galeão - Tom Jobim 2","até 2 SM",{"$f":"VLOOKUP(SEE_H_graph!B106,SEE_agrg!$D$4:$BB$160,A106,FALSE)","v":{"$error":"#N/A"}}]
[56,"Galeão - Tom Jobim 2","até 3 SM",{"$f":"VLOOKUP(SEE_H_graph!B107,SEE_agrg!$D$4:$BB$160,A107,FALSE)","v":{"$error":"#N/A"}}]
[57,"Galeão - Tom Jobim 2","até 5 SM",{"$f":"VLOOKUP(SEE_H_graph!B108,SEE_agrg!$D$4:$BB$160,A108,FALSE)","v":{"$error":"#N/A"}}]
[58,"Galeão - Tom Jobim 2","até 10 SM",{"$f":"VLOOKUP(SEE_H_graph!B109,SEE_agrg!$D$4:$BB$160,A109,FALSE)","v":{"$error":"#N/A"}}]
[59,"Galeão - Tom Jobim 2","até 15 SM",{"$f":"VLOOKUP(SEE_H_graph!B110,SEE_agrg!$D$4:$BB$160,A110,FALSE)","v":{"$error":"#N/A"}}]
[60,"Galeão - Tom Jobim 2","até 20 SM",{"$f":"VLOOKUP(SEE_H_graph!B111,SEE_agrg!$D$4:$BB$160,A111,FALSE)","v":{"$error":"#N/A"}}]
[61,"Galeão - Tom Jobim 2","mais 20 SM",{"$f":"VLOOKUP(SEE_H_graph!B112,SEE_agrg!$D$4:$BB$160,A112,FALSE)","v":{"$error":"#N/A"}}]
[53,"Guaporé","até 1/2 SM",{"$f":"VLOOKUP(SEE_H_graph!B113,SEE_agrg!$D$4:$BB$160,A113,FALSE)","v":{"$error":"#N/A"}}]
[54,"Guaporé","até 1 SM",{"$f":"VLOOKUP(SEE_H_graph!B114,SEE_agrg!$D$4:$BB$160,A114,FALSE)","v":{"$error":"#N/A"}}]
[55,"Guaporé","até 2 SM",{"$f":"VLOOKUP(SEE_H_graph!B115,SEE_agrg!$D$4:$BB$160,A115,FALSE)","v":{"$error":"#N/A"}}]
[56,"Guaporé","até 3 SM",{"$f":"VLOOKUP(SEE_H_graph!B116,SEE_agrg!$D$4:$BB$160,A116,FALSE)","v":{"$error":"#N/A"}}]
[57,"Guaporé","até 5 SM",{"$f":"VLOOKUP(SEE_H_graph!B117,SEE_agrg!$D$4:$BB$160,A117,FALSE)","v":{"$error":"#N/A"}}]
[58,"Guaporé","até 10 SM",{"$f":"VLOOKUP(SEE_H_graph!B118,SEE_agrg!$D$4:$BB$160,A118,FALSE)","v":{"$error":"#N/A"}}]
[59,"Guaporé","até 15 SM",{"$f":"VLOOKUP(SEE_H_graph!B119,SEE_agrg!$D$4:$BB$160,A119,FALSE)","v":{"$error":"#N/A"}}]
[60,"Guaporé","até 20 SM",{"$f":"VLOOKUP(SEE_H_graph!B120,SEE_agrg!$D$4:$BB$160,A120,FALSE)","v":{"$error":"#N/A"}}]
[61,"Guaporé","mais 20 SM",{"$f":"VLOOKUP(SEE_H_graph!B121,SEE_agrg!$D$4:$BB$160,A121,FALSE)","v":{"$error":"#N/A"}}]
[53,"Hospital Sarah","até 1/2 SM",{"$f":"VLOOKUP(SEE_H_graph!B122,SEE_agrg!$D$4:$BB$160,A122,FALSE)","v":{"$error":"#N/A"}}]
[54,"Hospital Sarah","até 1 SM",{"$f":"VLOOKUP(SEE_H_graph!B123,SEE_agrg!$D$4:$BB$160,A123,FALSE)","v":{"$error":"#N/A"}}]
[55,"Hospital Sarah","até 2 SM",{"$f":"VLOOKUP(SEE_H_graph!B124,SEE_agrg!$D$4:$BB$160,A124,FALSE)","v":{"$error":"#N/A"}}]
[56,"Hospital Sarah","até 3 SM",{"$f":"VLOOKUP(SEE_H_graph!B125,SEE_agrg!$D$4:$BB$160,A125,FALSE)","v":{"$error":"#N/A"}}]
[57,"Hospital Sarah","até 5 SM",{"$f":"VLOOKUP(SEE_H_graph!B126,SEE_agrg!$D$4:$BB$160,A126,FALSE)","v":{"$error":"#N/A"}}]
[58,"Hospital Sarah","até 10 SM",{"$f":"VLOOKUP(SEE_H_graph!B127,SEE_agrg!$D$4:$BB$160,A127,FALSE)","v":{"$error":"#N/A"}}]
[59,"Hospital Sarah","até 15 SM",{"$f":"VLOOKUP(SEE_H_graph!B128,SEE_agrg!$D$4:$BB$160,A128,FALSE)","v":{"$error":"#N/A"}}]
[60,"Hospital Sarah","até 20 SM",{"$f":"VLOOKUP(SEE_H_graph!B129,SEE_agrg!$D$4:$BB$160,A129,FALSE)","v":{"$error":"#N/A"}}]
[61,"Hospital Sarah","mais 20 SM",{"$f":"VLOOKUP(SEE_H_graph!B130,SEE_agrg!$D$4:$BB$160,A130,FALSE)","v":{"$error":"#N/A"}}]
[53,"Ibiapina","até 1/2 SM",{"$f":"VLOOKUP(SEE_H_graph!B131,SEE_agrg!$D$4:$BB$160,A131,FALSE)","v":{"$error":"#N/A"}}]
[54,"Ibiapina","até 1 SM",{"$f":"VLOOKUP(SEE_H_graph!B132,SEE_agrg!$D$4:$BB$160,A132,FALSE)","v":{"$error":"#N/A"}}]
[55,"Ibiapina","até 2 SM",{"$f":"VLOOKUP(SEE_H_graph!B133,SEE_agrg!$D$4:$BB$160,A133,FALSE)","v":{"$error":"#N/A"}}]
[56,"Ibiapina","até 3 SM",{"$f":"VLOOKUP(SEE_H_graph!B134,SEE_agrg!$D$4:$BB$160,A134,FALSE)","v":{"$error":"#N/A"}}]
[57,"Ibiapina","até 5 SM",{"$f":"VLOOKUP(SEE_H_graph!B135,SEE_agrg!$D$4:$BB$160,A135,FALSE)","v":{"$error":"#N/A"}}]
[58,"Ibiapina","até 10 SM",{"$f":"VLOOKUP(SEE_H_graph!B136,SEE_agrg!$D$4:$BB$160,A136,FALSE)","v":{"$error":"#N/A"}}]
[59,"Ibiapina","até 15 SM",{"$f":"VLOOKUP(SEE_H_graph!B137,SEE_agrg!$D$4:$BB$160,A137,FALSE)","v":{"$error":"#N/A"}}]
[60,"Ibiapina","até 20 SM",{"$f":"VLOOKUP(SEE_H_graph!B138,SEE_agrg!$D$4:$BB$160,A138,FALSE)","v":{"$error":"#N/A"}}]
[61,"Ibiapina","mais 20 SM",{"$f":"VLOOKUP(SEE_H_graph!B139,SEE_agrg!$D$4:$BB$160,A139,FALSE)","v":{"$error":"#N/A"}}]
[53,"IPASE","até 1/2 SM",{"$f":"VLOOKUP(SEE_H_graph!B140,SEE_agrg!$D$4:$BB$160,A140,FALSE)","v":{"$error":"#N/A"}}]
[54,"IPASE","até 1 SM",{"$f":"VLOOKUP(SEE_H_graph!B141,SEE_agrg!$D$4:$BB$160,A141,FALSE)","v":{"$error":"#N/A"}}]
[55,"IPASE","até 2 SM",{"$f":"VLOOKUP(SEE_H_graph!B142,SEE_agrg!$D$4:$BB$160,A142,FALSE)","v":{"$error":"#N/A"}}]
[56,"IPASE","até 3 SM",{"$f":"VLOOKUP(SEE_H_graph!B143,SEE_agrg!$D$4:$BB$160,A143,FALSE)","v":{"$error":"#N/A"}}]
[57,"IPASE","até 5 SM",{"$f":"VLOOKUP(SEE_H_graph!B144,SEE_agrg!$D$4:$BB$160,A144,FALSE)","v":{"$error":"#N/A"}}]
[58,"IPASE","até 10 SM",{"$f":"VLOOKUP(SEE_H_graph!B145,SEE_agrg!$D$4:$BB$160,A145,FALSE)","v":{"$error":"#N/A"}}]
[59,"IPASE","até 15 SM",{"$f":"VLOOKUP(SEE_H_graph!B146,SEE_agrg!$D$4:$BB$160,A146,FALSE)","v":{"$error":"#N/A"}}]
[60,"IPASE","até 20 SM",{"$f":"VLOOKUP(SEE_H_graph!B147,SEE_agrg!$D$4:$BB$160,A147,FALSE)","v":{"$error":"#N/A"}}]
[61,"IPASE","mais 20 SM",{"$f":"VLOOKUP(SEE_H_graph!B148,SEE_agrg!$D$4:$BB$160,A148,FALSE)","v":{"$error":"#N/A"}}]
[53,"Lourenço Jorge","até 1/2 SM",{"$f":"VLOOKUP(SEE_H_graph!B149,SEE_agrg!$D$4:$BB$160,A149,FALSE)","v":{"$error":"#N/A"}}]
[54,"Lourenço Jorge","até 1 SM",{"$f":"VLOOKUP(SEE_H_graph!B150,SEE_agrg!$D$4:$BB$160,A150,FALSE)","v":{"$error":"#N/A"}}]
[55,"Lourenço Jorge","até 2 SM",{"$f":"VLOOKUP(SEE_H_graph!B151,SEE_agrg!$D$4:$BB$160,A151,FALSE)","v":{"$error":"#N/A"}}]
[56,"Lourenço Jorge","até 3 SM",{"$f":"VLOOKUP(SEE_H_graph!B152,SEE_agrg!$D$4:$BB$160,A152,FALSE)","v":{"$error":"#N/A"}}]
[57,"Lourenço Jorge","até 5 SM",{"$f":"VLOOKUP(SEE_H_graph!B153,SEE_agrg!$D$4:$BB$160,A153,FALSE)","v":{"$error":"#N/A"}}]
[58,"Lourenço Jorge","até 10 SM",{"$f":"VLOOKUP(SEE_H_graph!B154,SEE_agrg!$D$4:$BB$160,A154,FALSE)","v":{"$error":"#N/A"}}]
[59,"Lourenço Jorge","até 15 SM",{"$f":"VLOOKUP(SEE_H_graph!B155,SEE_agrg!$D$4:$BB$160,A155,FALSE)","v":{"$error":"#N/A"}}]
[60,"Lourenço Jorge","até 20 SM",{"$f":"VLOOKUP(SEE_H_graph!B156,SEE_agrg!$D$4:$BB$160,A156,FALSE)","v":{"$error":"#N/A"}}]
[61,"Lourenço Jorge","mais 20 SM",{"$f":"VLOOKUP(SEE_H_graph!B157,SEE_agrg!$D$4:$BB$160,A157,FALSE)","v":{"$error":"#N/A"}}]
[53,"Madureira","até 1/2 SM",{"$f":"VLOOKUP(SEE_H_graph!B158,SEE_agrg!$D$4:$BB$160,A158,FALSE)","v":{"$error":"#N/A"}}]
[54,"Madureira","até 1 SM",{"$f":"VLOOKUP(SEE_H_graph!B159,SEE_agrg!$D$4:$BB$160,A159,FALSE)","v":{"$error":"#N/A"}}]
[55,"Madureira","até 2 SM",{"$f":"VLOOKUP(SEE_H_graph!B160,SEE_agrg!$D$4:$BB$160,A160,FALSE)","v":{"$error":"#N/A"}}]
[56,"Madureira","até 3 SM",{"$f":"VLOOKUP(SEE_H_graph!B161,SEE_agrg!$D$4:$BB$160,A161,FALSE)","v":{"$error":"#N/A"}}]
[57,"Madureira","até 5 SM",{"$f":"VLOOKUP(SEE_H_graph!B162,SEE_agrg!$D$4:$BB$160,A162,FALSE)","v":{"$error":"#N/A"}}]
[58,"Madureira","até 10 SM",{"$f":"VLOOKUP(SEE_H_graph!B163,SEE_agrg!$D$4:$BB$160,A163,FALSE)","v":{"$error":"#N/A"}}]
[59,"Madureira","até 15 SM",{"$f":"VLOOKUP(SEE_H_graph!B164,SEE_agrg!$D$4:$BB$160,A164,FALSE)","v":{"$error":"#N/A"}}]
[60,"Madureira","até 20 SM",{"$f":"VLOOKUP(SEE_H_graph!B165,SEE_agrg!$D$4:$BB$160,A165,FALSE)","v":{"$error":"#N/A"}}]
[61,"Madureira","mais 20 SM",{"$f":"VLOOKUP(SEE_H_graph!B166,SEE_agrg!$D$4:$BB$160,A166,FALSE)","v":{"$error":"#N/A"}}]
[53,"Marambaia","até 1/2 SM",{"$f":"VLOOKUP(SEE_H_graph!B167,SEE_agrg!$D$4:$BB$160,A167,FALSE)","v":{"$error":"#N/A"}}]
[54,"Marambaia","até 1 SM",{"$f":"VLOOKUP(SEE_H_graph!B168,SEE_agrg!$D$4:$BB$160,A168,FALSE)","v":{"$error":"#N/A"}}]
[55,"Marambaia","até 2 SM",{"$f":"VLOOKUP(SEE_H_graph!B169,SEE_agrg!$D$4:$BB$160,A169,FALSE)","v":{"$error":"#N/A"}}]
[56,"Marambaia","até 3 SM",{"$f":"VLOOKUP(SEE_H_graph!B170,SEE_agrg!$D$4:$BB$160,A170,FALSE)","v":{"$error":"#N/A"}}]
[57,"Marambaia","até 5 SM",{"$f":"VLOOKUP(SEE_H_graph!B171,SEE_agrg!$D$4:$BB$160,A171,FALSE)","v":{"$error":"#N/A"}}]
[58,"Marambaia","até 10 SM",{"$f":"VLOOKUP(SEE_H_graph!B172,SEE_agrg!$D$4:$BB$160,A172,FALSE)","v":{"$error":"#N/A"}}]
[59,"Marambaia","até 15 SM",{"$f":"VLOOKUP(SEE_H_graph!B173,SEE_agrg!$D$4:$BB$160,A173,FALSE)","v":{"$error":"#N/A"}}]
[60,"Marambaia","até 20 SM",{"$f":"VLOOKUP(SEE_H_graph!B174,SEE_agrg!$D$4:$BB$160,A174,FALSE)","v":{"$error":"#N/A"}}]
[61,"Marambaia","mais 20 SM",{"$f":"VLOOKUP(SEE_H_graph!B175,SEE_agrg!$D$4:$BB$160,A175,FALSE)","v":{"$error":"#N/A"}}]
[53,"Maré","até 1/2 SM",{"$f":"VLOOKUP(SEE_H_graph!B176,SEE_agrg!$D$4:$BB$160,A176,FALSE)","v":{"$error":"#N/A"}}]
[54,"Maré","até 1 SM",{"$f":"VLOOKUP(SEE_H_graph!B177,SEE_agrg!$D$4:$BB$160,A177,FALSE)","v":{"$error":"#N/A"}}]
[55,"Maré","até 2 SM",{"$f":"VLOOKUP(SEE_H_graph!B178,SEE_agrg!$D$4:$BB$160,A178,FALSE)","v":{"$error":"#N/A"}}]
[56,"Maré","até 3 SM",{"$f":"VLOOKUP(SEE_H_graph!B179,SEE_agrg!$D$4:$BB$160,A179,FALSE)","v":{"$error":"#N/A"}}]
[57,"Maré","até 5 SM",{"$f":"VLOOKUP(SEE_H_graph!B180,SEE_agrg!$D$4:$BB$160,A180,FALSE)","v":{"$error":"#N/A"}}]
[58,"Maré","até 10 SM",{"$f":"VLOOKUP(SEE_H_graph!B181,SEE_agrg!$D$4:$BB$160,A181,FALSE)","v":{"$error":"#N/A"}}]
[59,"Maré","até 15 SM",{"$f":"VLOOKUP(SEE_H_graph!B182,SEE_agrg!$D$4:$BB$160,A182,FALSE)","v":{"$error":"#N/A"}}]
[60,"Maré","até 20 SM",{"$f":"VLOOKUP(SEE_H_graph!B183,SEE_agrg!$D$4:$BB$160,A183,FALSE)","v":{"$error":"#N/A"}}]
[61,"Maré","mais 20 SM",{"$f":"VLOOKUP(SEE_H_graph!B184,SEE_agrg!$D$4:$BB$160,A184,FALSE)","v":{"$error":"#N/A"}}]
[53,"Mercadão","até 1/2 SM",{"$f":"VLOOKUP(SEE_H_graph!B185,SEE_agrg!$D$4:$BB$160,A185,FALSE)","v":{"$error":"#N/A"}}]
[54,"Mercadão","até 1 SM",{"$f":"VLOOKUP(SEE_H_graph!B186,SEE_agrg!$D$4:$BB$160,A186,FALSE)","v":{"$error":"#N/A"}}]
[55,"Mercadão","até 2 SM",{"$f":"VLOOKUP(SEE_H_graph!B187,SEE_agrg!$D$4:$BB$160,A187,FALSE)","v":{"$error":"#N/A"}}]
[56,"Mercadão","até 3 SM",{"$f":"VLOOKUP(SEE_H_graph!B188,SEE_agrg!$D$4:$BB$160,A188,FALSE)","v":{"$error":"#N/A"}}]
[57,"Mercadão","até 5 SM",{"$f":"VLOOKUP(SEE_H_graph!B189,SEE_agrg!$D$4:$BB$160,A189,FALSE)","v":{"$error":"#N/A"}}]
[58,"Mercadão","até 10 SM",{"$f":"VLOOKUP(SEE_H_graph!B190,SEE_agrg!$D$4:$BB$160,A190,FALSE)","v":{"$error":"#N/A"}}]
[59,"Mercadão","até 15 SM",{"$f":"VLOOKUP(SEE_H_graph!B191,SEE_agrg!$D$4:$BB$160,A191,FALSE)","v":{"$error":"#N/A"}}]
[60,"Mercadão","até 20 SM",{"$f":"VLOOKUP(SEE_H_graph!B192,SEE_agrg!$D$4:$BB$160,A192,FALSE)","v":{"$error":"#N/A"}}]
[61,"Mercadão","mais 20 SM",{"$f":"VLOOKUP(SEE_H_graph!B193,SEE_agrg!$D$4:$BB$160,A193,FALSE)","v":{"$error":"#N/A"}}]
[53,"Merck-Santa Efigênia","até 1/2 SM",{"$f":"VLOOKUP(SEE_H_graph!B194,SEE_agrg!$D$4:$BB$160,A194,FALSE)","v":{"$error":"#N/A"}}]
[54,"Merck-Santa Efigênia","até 1 SM",{"$f":"VLOOKUP(SEE_H_graph!B195,SEE_agrg!$D$4:$BB$160,A195,FALSE)","v":{"$error":"#N/A"}}]
[55,"Merck-Santa Efigênia","até 2 SM",{"$f":"VLOOKUP(SEE_H_graph!B196,SEE_agrg!$D$4:$BB$160,A196,FALSE)","v":{"$error":"#N/A"}}]
[56,"Merck-Santa Efigênia","até 3 SM",{"$f":"VLOOKUP(SEE_H_graph!B197,SEE_agrg!$D$4:$BB$160,A197,FALSE)","v":{"$error":"#N/A"}}]
[57,"Merck-Santa Efigênia","até 5 SM",{"$f":"VLOOKUP(SEE_H_graph!B198,SEE_agrg!$D$4:$BB$160,A198,FALSE)","v":{"$error":"#N/A"}}]
[58,"Merck-Santa Efigênia","até 10 SM",{"$f":"VLOOKUP(SEE_H_graph!B199,SEE_agrg!$D$4:$BB$160,A199,FALSE)","v":{"$error":"#N/A"}}]
[59,"Merck-Santa Efigênia","até 15 SM",{"$f":"VLOOKUP(SEE_H_graph!B200,SEE_agrg!$D$4:$BB$160,A200,FALSE)","v":{"$error":"#N/A"}}]
[60,"Merck-Santa Efigênia","até 20 SM",{"$f":"VLOOKUP(SEE_H_graph!B201,SEE_agrg!$D$4:$BB$160,A201,FALSE)","v":{"$error":"#N/A"}}]
[61,"Merck-Santa Efigênia","mais 20 SM",{"$f":"VLOOKUP(SEE_H_graph!B202,SEE_agrg!$D$4:$BB$160,A202,FALSE)","v":{"$error":"#N/A"}}]
[53,"Olaria - Cacique de Ramos","até 1/2 SM",{"$f":"VLOOKUP(SEE_H_graph!B203,SEE_agrg!$D$4:$BB$160,A203,FALSE)","v":{"$error":"#N/A"}}]
[54,"Olaria - Cacique de Ramos","até 1 SM",{"$f":"VLOOKUP(SEE_H_graph!B204,SEE_agrg!$D$4:$BB$160,A204,FALSE)","v":{"$error":"#N/A"}}]
[55,"Olaria - Cacique de Ramos","até 2 SM",{"$f":"VLOOKUP(SEE_H_graph!B205,SEE_agrg!$D$4:$BB$160,A205,FALSE)","v":{"$error":"#N/A"}}]
[56,"Olaria - Cacique de Ramos","até 3 SM",{"$f":"VLOOKUP(SEE_H_graph!B206,SEE_agrg!$D$4:$BB$160,A206,FALSE)","v":{"$error":"#N/A"}}]
[57,"Olaria - Cacique de Ramos","até 5 SM",{"$f":"VLOOKUP(SEE_H_graph!B207,SEE_agrg!$D$4:$BB$160,A207,FALSE)","v":{"$error":"#N/A"}}]
[58,"Olaria - Cacique de Ramos","até 10 SM",{"$f":"VLOOKUP(SEE_H_graph!B208,SEE_agrg!$D$4:$BB$160,A208,FALSE)","v":{"$error":"#N/A"}}]
[59,"Olaria - Cacique de Ramos","até 15 SM",{"$f":"VLOOKUP(SEE_H_graph!B209,SEE_agrg!$D$4:$BB$160,A209,FALSE)","v":{"$error":"#N/A"}}]
[60,"Olaria - Cacique de Ramos","até 20 SM",{"$f":"VLOOKUP(SEE_H_graph!B210,SEE_agrg!$D$4:$BB$160,A210,FALSE)","v":{"$error":"#N/A"}}]
[61,"Olaria - Cacique de Ramos","mais 20 SM",{"$f":"VLOOKUP(SEE_H_graph!B211,SEE_agrg!$D$4:$BB$160,A211,FALSE)","v":{"$error":"#N/A"}}]
[53,"Otaviano","até 1/2 SM",{"$f":"VLOOKUP(SEE_H_graph!B212,SEE_agrg!$D$4:$BB$160,A212,FALSE)","v":{"$error":"#N/A"}}]
[54,"Otaviano","até 1 SM",{"$f":"VLOOKUP(SEE_H_graph!B213,SEE_agrg!$D$4:$BB$160,A213,FALSE)","v":{"$error":"#N/A"}}]
[55,"Otaviano","até 2 SM",{"$f":"VLOOKUP(SEE_H_graph!B214,SEE_agrg!$D$4:$BB$160,A214,FALSE)","v":{"$error":"#N/A"}}]
[56,"Otaviano","até 3 SM",{"$f":"VLOOKUP(SEE_H_graph!B215,SEE_agrg!$D$4:$BB$160,A215,FALSE)","v":{"$error":"#N/A"}}]
[57,"Otaviano","até 5 SM",{"$f":"VLOOKUP(SEE_H_graph!B216,SEE_agrg!$D$4:$BB$160,A216,FALSE)","v":{"$error":"#N/A"}}]
[58,"Otaviano","até 10 SM",{"$f":"VLOOKUP(SEE_H_graph!B217,SEE_agrg!$D$4:$BB$160,A217,FALSE)","v":{"$error":"#N/A"}}]
[59,"Otaviano","até 15 SM",{"$f":"VLOOKUP(SEE_H_graph!B218,SEE_agrg!$D$4:$BB$160,A218,FALSE)","v":{"$error":"#N/A"}}]
[60,"Otaviano","até 20 SM",{"$f":"VLOOKUP(SEE_H_graph!B219,SEE_agrg!$D$4:$BB$160,A219,FALSE)","v":{"$error":"#N/A"}}]
[61,"Otaviano","mais 20 SM",{"$f":"VLOOKUP(SEE_H_graph!B220,SEE_agrg!$D$4:$BB$160,A220,FALSE)","v":{"$error":"#N/A"}}]
[53,"Pastor José Santos","até 1/2 SM",{"$f":"VLOOKUP(SEE_H_graph!B221,SEE_agrg!$D$4:$BB$160,A221,FALSE)","v":{"$error":"#N/A"}}]
[54,"Pastor José Santos","até 1 SM",{"$f":"VLOOKUP(SEE_H_graph!B222,SEE_agrg!$D$4:$BB$160,A222,FALSE)","v":{"$error":"#N/A"}}]
[55,"Pastor José Santos","até 2 SM",{"$f":"VLOOKUP(SEE_H_graph!B223,SEE_agrg!$D$4:$BB$160,A223,FALSE)","v":{"$error":"#N/A"}}]
[56,"Pastor José Santos","até 3 SM",{"$f":"VLOOKUP(SEE_H_graph!B224,SEE_agrg!$D$4:$BB$160,A224,FALSE)","v":{"$error":"#N/A"}}]
[57,"Pastor José Santos","até 5 SM",{"$f":"VLOOKUP(SEE_H_graph!B225,SEE_agrg!$D$4:$BB$160,A225,FALSE)","v":{"$error":"#N/A"}}]
[58,"Pastor José Santos","até 10 SM",{"$f":"VLOOKUP(SEE_H_graph!B226,SEE_agrg!$D$4:$BB$160,A226,FALSE)","v":{"$error":"#N/A"}}]
[59,"Pastor José Santos","até 15 SM",{"$f":"VLOOKUP(SEE_H_graph!B227,SEE_agrg!$D$4:$BB$160,A227,FALSE)","v":{"$error":"#N/A"}}]
[60,"Pastor José Santos","até 20 SM",{"$f":"VLOOKUP(SEE_H_graph!B228,SEE_agrg!$D$4:$BB$160,A228,FALSE)","v":{"$error":"#N/A"}}]
[61,"Pastor José Santos","mais 20 SM",{"$f":"VLOOKUP(SEE_H_graph!B229,SEE_agrg!$D$4:$BB$160,A229,FALSE)","v":{"$error":"#N/A"}}]
[53,"Pedro Correia","até 1/2 SM",{"$f":"VLOOKUP(SEE_H_graph!B230,SEE_agrg!$D$4:$BB$160,A230,FALSE)","v":{"$error":"#N/A"}}]
[54,"Pedro Correia","até 1 SM",{"$f":"VLOOKUP(SEE_H_graph!B231,SEE_agrg!$D$4:$BB$160,A231,FALSE)","v":{"$error":"#N/A"}}]
[55,"Pedro Correia","até 2 SM",{"$f":"VLOOKUP(SEE_H_graph!B232,SEE_agrg!$D$4:$BB$160,A232,FALSE)","v":{"$error":"#N/A"}}]
[56,"Pedro Correia","até 3 SM",{"$f":"VLOOKUP(SEE_H_graph!B233,SEE_agrg!$D$4:$BB$160,A233,FALSE)","v":{"$error":"#N/A"}}]
[57,"Pedro Correia","até 5 SM",{"$f":"VLOOKUP(SEE_H_graph!B234,SEE_agrg!$D$4:$BB$160,A234,FALSE)","v":{"$error":"#N/A"}}]
[58,"Pedro Correia","até 10 SM",{"$f":"VLOOKUP(SEE_H_graph!B235,SEE_agrg!$D$4:$BB$160,A235,FALSE)","v":{"$error":"#N/A"}}]
[59,"Pedro Correia","até 15 SM",{"$f":"VLOOKUP(SEE_H_graph!B236,SEE_agrg!$D$4:$BB$160,A236,FALSE)","v":{"$error":"#N/A"}}]
[60,"Pedro Correia","até 20 SM",{"$f":"VLOOKUP(SEE_H_graph!B237,SEE_agrg!$D$4:$BB$160,A237,FALSE)","v":{"$error":"#N/A"}}]
[61,"Pedro Correia","mais 20 SM",{"$f":"VLOOKUP(SEE_H_graph!B238,SEE_agrg!$D$4:$BB$160,A238,FALSE)","v":{"$error":"#N/A"}}]
[53,"Pedro Taques","até 1/2 SM",{"$f":"VLOOKUP(SEE_H_graph!B239,SEE_agrg!$D$4:$BB$160,A239,FALSE)","v":{"$error":"#N/A"}}]
[54,"Pedro Taques","até 1 SM",{"$f":"VLOOKUP(SEE_H_graph!B240,SEE_agrg!$D$4:$BB$160,A240,FALSE)","v":{"$error":"#N/A"}}]
[55,"Pedro Taques","até 2 SM",{"$f":"VLOOKUP(SEE_H_graph!B241,SEE_agrg!$D$4:$BB$160,A241,FALSE)","v":{"$error":"#N/A"}}]
[56,"Pedro Taques","até 3 SM",{"$f":"VLOOKUP(SEE_H_graph!B242,SEE_agrg!$D$4:$BB$160,A242,FALSE)","v":{"$error":"#N/A"}}]
[57,"Pedro Taques","até 5 SM",{"$f":"VLOOKUP(SEE_H_graph!B243,SEE_agrg!$D$4:$BB$160,A243,FALSE)","v":{"$error":"#N/A"}}]
[58,"Pedro Taques","até 10 SM",{"$f":"VLOOKUP(SEE_H_graph!B244,SEE_agrg!$D$4:$BB$160,A244,FALSE)","v":{"$error":"#N/A"}}]
[59,"Pedro Taques","até 15 SM",{"$f":"VLOOKUP(SEE_H_graph!B245,SEE_agrg!$D$4:$BB$160,A245,FALSE)","v":{"$error":"#N/A"}}]
[60,"Pedro Taques","até 20 SM",{"$f":"VLOOKUP(SEE_H_graph!B246,SEE_agrg!$D$4:$BB$160,A246,FALSE)","v":{"$error":"#N/A"}}]
[61,"Pedro Taques","mais 20 SM",{"$f":"VLOOKUP(SEE_H_graph!B247,SEE_agrg!$D$4:$BB$160,A247,FALSE)","v":{"$error":"#N/A"}}]
[53,"Penha","até 1/2 SM",{"$f":"VLOOKUP(SEE_H_graph!B248,SEE_agrg!$D$4:$BB$160,A248,FALSE)","v":{"$error":"#N/A"}}]
[54,"Penha","até 1 SM",{"$f":"VLOOKUP(SEE_H_graph!B249,SEE_agrg!$D$4:$BB$160,A249,FALSE)","v":{"$error":"#N/A"}}]
[55,"Penha","até 2 SM",{"$f":"VLOOKUP(SEE_H_graph!B250,SEE_agrg!$D$4:$BB$160,A250,FALSE)","v":{"$error":"#N/A"}}]
[56,"Penha","até 3 SM",{"$f":"VLOOKUP(SEE_H_graph!B251,SEE_agrg!$D$4:$BB$160,A251,FALSE)","v":{"$error":"#N/A"}}]
[57,"Penha","até 5 SM",{"$f":"VLOOKUP(SEE_H_graph!B252,SEE_agrg!$D$4:$BB$160,A252,FALSE)","v":{"$error":"#N/A"}}]
[58,"Penha","até 10 SM",{"$f":"VLOOKUP(SEE_H_graph!B253,SEE_agrg!$D$4:$BB$160,A253,FALSE)","v":{"$error":"#N/A"}}]
[59,"Penha","até 15 SM",{"$f":"VLOOKUP(SEE_H_graph!B254,SEE_agrg!$D$4:$BB$160,A254,FALSE)","v":{"$error":"#N/A"}}]
[60,"Penha","até 20 SM",{"$f":"VLOOKUP(SEE_H_graph!B255,SEE_agrg!$D$4:$BB$160,A255,FALSE)","v":{"$error":"#N/A"}}]
[61,"Penha","mais 20 SM",{"$f":"VLOOKUP(SEE_H_graph!B256,SEE_agrg!$D$4:$BB$160,A256,FALSE)","v":{"$error":"#N/A"}}]
[53,"Pinto Teles","até 1/2 SM",{"$f":"VLOOKUP(SEE_H_graph!B257,SEE_agrg!$D$4:$BB$160,A257,FALSE)","v":{"$error":"#N/A"}}]
[54,"Pinto Teles","até 1 SM",{"$f":"VLOOKUP(SEE_H_graph!B258,SEE_agrg!$D$4:$BB$160,A258,FALSE)","v":{"$error":"#N/A"}}]
[55,"Pinto Teles","até 2 SM",{"$f":"VLOOKUP(SEE_H_graph!B259,SEE_agrg!$D$4:$BB$160,A259,FALSE)","v":{"$error":"#N/A"}}]
[56,"Pinto Teles","até 3 SM",{"$f":"VLOOKUP(SEE_H_graph!B260,SEE_agrg!$D$4:$BB$160,A260,FALSE)","v":{"$error":"#N/A"}}]
[57,"Pinto Teles","até 5 SM",{"$f":"VLOOKUP(SEE_H_graph!B261,SEE_agrg!$D$4:$BB$160,A261,FALSE)","v":{"$error":"#N/A"}}]
[58,"Pinto Teles","até 10 SM",{"$f":"VLOOKUP(SEE_H_graph!B262,SEE_agrg!$D$4:$BB$160,A262,FALSE)","v":{"$error":"#N/A"}}]
[59,"Pinto Teles","até 15 SM",{"$f":"VLOOKUP(SEE_H_graph!B263,SEE_agrg!$D$4:$BB$160,A263,FALSE)","v":{"$error":"#N/A"}}]
[60,"Pinto Teles","até 20 SM",{"$f":"VLOOKUP(SEE_H_graph!B264,SEE_agrg!$D$4:$BB$160,A264,FALSE)","v":{"$error":"#N/A"}}]
[61,"Pinto Teles","mais 20 SM",{"$f":"VLOOKUP(SEE_H_graph!B265,SEE_agrg!$D$4:$BB$160,A265,FALSE)","v":{"$error":"#N/A"}}]
[53,"Praça do Bandolim","até 1/2 SM",{"$f":"VLOOKUP(SEE_H_graph!B266,SEE_agrg!$D$4:$BB$160,A266,FALSE)","v":{"$error":"#N/A"}}]
[54,"Praça do Bandolim","até 1 SM",{"$f":"VLOOKUP(SEE_H_graph!B267,SEE_agrg!$D$4:$BB$160,A267,FALSE)","v":{"$error":"#N/A"}}]
[55,"Praça do Bandolim","até 2 SM",{"$f":"VLOOKUP(SEE_H_graph!B268,SEE_agrg!$D$4:$BB$160,A268,FALSE)","v":{"$error":"#N/A"}}]
[56,"Praça do Bandolim","até 3 SM",{"$f":"VLOOKUP(SEE_H_graph!B269,SEE_agrg!$D$4:$BB$160,A269,FALSE)","v":{"$error":"#N/A"}}]
[57,"Praça do Bandolim","até 5 SM",{"$f":"VLOOKUP(SEE_H_graph!B270,SEE_agrg!$D$4:$BB$160,A270,FALSE)","v":{"$error":"#N/A"}}]
[58,"Praça do Bandolim","até 10 SM",{"$f":"VLOOKUP(SEE_H_graph!B271,SEE_agrg!$D$4:$BB$160,A271,FALSE)","v":{"$error":"#N/A"}}]
[59,"Praça do Bandolim","até 15 SM",{"$f":"VLOOKUP(SEE_H_graph!B272,SEE_agrg!$D$4:$BB$160,A272,FALSE)","v":{"$error":"#N/A"}}]
[60,"Praça do Bandolim","até 20 SM",{"$f":"VLOOKUP(SEE_H_graph!B273,SEE_agrg!$D$4:$BB$160,A273,FALSE)","v":{"$error":"#N/A"}}]
[61,"Praça do Bandolim","mais 20 SM",{"$f":"VLOOKUP(SEE_H_graph!B274,SEE_agrg!$D$4:$BB$160,A274,FALSE)","v":{"$error":"#N/A"}}]
[53,"Praça do Carmo","até 1/2 SM",{"$f":"VLOOKUP(SEE_H_graph!B275,SEE_agrg!$D$4:$BB$160,A275,FALSE)","v":{"$error":"#N/A"}}]
[54,"Praça do Carmo","até 1 SM",{"$f":"VLOOKUP(SEE_H_graph!B276,SEE_agrg!$D$4:$BB$160,A276,FALSE)","v":{"$error":"#N/A"}}]
[55,"Praça do Carmo","até 2 SM",{"$f":"VLOOKUP(SEE_H_graph!B277,SEE_agrg!$D$4:$BB$160,A277,FALSE)","v":{"$error":"#N/A"}}]
[56,"Praça do Carmo","até 3 SM",{"$f":"VLOOKUP(SEE_H_graph!B278,SEE_agrg!$D$4:$BB$160,A278,FALSE)","v":{"$error":"#N/A"}}]
[57,"Praça do Carmo","até 5 SM",{"$f":"VLOOKUP(SEE_H_graph!B279,SEE_agrg!$D$4:$BB$160,A279,FALSE)","v":{"$error":"#N/A"}}]
[58,"Praça do Carmo","até 10 SM",{"$f":"VLOOKUP(SEE_H_graph!B280,SEE_agrg!$D$4:$BB$160,A280,FALSE)","v":{"$error":"#N/A"}}]
[59,"Praça do Carmo","até 15 SM",{"$f":"VLOOKUP(SEE_H_graph!B281,SEE_agrg!$D$4:$BB$160,A281,FALSE)","v":{"$error":"#N/A"}}]
[60,"Praça do Carmo","até 20 SM",{"$f":"VLOOKUP(SEE_H_graph!B282,SEE_agrg!$D$4:$BB$160,A282,FALSE)","v":{"$error":"#N/A"}}]
[61,"Praça do Carmo","mais 20 SM",{"$f":"VLOOKUP(SEE_H_graph!B283,SEE_agrg!$D$4:$BB$160,A283,FALSE)","v":{"$error":"#N/A"}}]
[53,"Praça Seca","até 1/2 SM",{"$f":"VLOOKUP(SEE_H_graph!B284,SEE_agrg!$D$4:$BB$160,A284,FALSE)","v":{"$error":"#N/A"}}]
[54,"Praça Seca","até 1 SM",{"$f":"VLOOKUP(SEE_H_graph!B285,SEE_agrg!$D$4:$BB$160,A285,FALSE)","v":{"$error":"#N/A"}}]
[55,"Praça Seca","até 2 SM",{"$f":"VLOOKUP(SEE_H_graph!B286,SEE_agrg!$D$4:$BB$160,A286,FALSE)","v":{"$error":"#N/A"}}]
[56,"Praça Seca","até 3 SM",{"$f":"VLOOKUP(SEE_H_graph!B287,SEE_agrg!$D$4:$BB$160,A287,FALSE)","v":{"$error":"#N/A"}}]
[57,"Praça Seca","até 5 SM",{"$f":"VLOOKUP(SEE_H_graph!B288,SEE_agrg!$D$4:$BB$160,A288,FALSE)","v":{"$error":"#N/A"}}]
[58,"Praça Seca","até 10 SM",{"$f":"VLOOKUP(SEE_H_graph!B289,SEE_agrg!$D$4:$BB$160,A289,FALSE)","v":{"$error":"#N/A"}}]
[59,"Praça Seca","até 15 SM",{"$f":"VLOOKUP(SEE_H_graph!B290,SEE_agrg!$D$4:$BB$160,A290,FALSE)","v":{"$error":"#N/A"}}]
[60,"Praça Seca","até 20 SM",{"$f":"VLOOKUP(SEE_H_graph!B291,SEE_agrg!$D$4:$BB$160,A291,FALSE)","v":{"$error":"#N/A"}}]
[61,"Praça Seca","mais 20 SM",{"$f":"VLOOKUP(SEE_H_graph!B292,SEE_agrg!$D$4:$BB$160,A292,FALSE)","v":{"$error":"#N/A"}}]
[53,"Recanto das Palmeiras - Jardim São Luiz","até 1/2 SM",{"$f":"VLOOKUP(SEE_H_graph!B293,SEE_agrg!$D$4:$BB$160,A293,FALSE)","v":{"$error":"#N/A"}}]
[54,"Recanto das Palmeiras - Jardim São Luiz","até 1 SM",{"$f":"VLOOKUP(SEE_H_graph!B294,SEE_agrg!$D$4:$BB$160,A294,FALSE)","v":{"$error":"#N/A"}}]
[55,"Recanto das Palmeiras - Jardim São Luiz","até 2 SM",{"$f":"VLOOKUP(SEE_H_graph!B295,SEE_agrg!$D$4:$BB$160,A295,FALSE)","v":{"$error":"#N/A"}}]
[56,"Recanto das Palmeiras - Jardim São Luiz","até 3 SM",{"$f":"VLOOKUP(SEE_H_graph!B296,SEE_agrg!$D$4:$BB$160,A296,FALSE)","v":{"$error":"#N/A"}}]
[57,"Recanto das Palmeiras - Jardim São Luiz","até 5 SM",{"$f":"VLOOKUP(SEE_H_graph!B297,SEE_agrg!$D$4:$BB$160,A297,FALSE)","v":{"$error":"#N/A"}}]
[58,"Recanto das Palmeiras - Jardim São Luiz","até 10 SM",{"$f":"VLOOKUP(SEE_H_graph!B298,SEE_agrg!$D$4:$BB$160,A298,FALSE)","v":{"$error":"#N/A"}}]
[59,"Recanto das Palmeiras - Jardim São Luiz","até 15 SM",{"$f":"VLOOKUP(SEE_H_graph!B299,SEE_agrg!$D$4:$BB$160,A299,FALSE)","v":{"$error":"#N/A"}}]
[60,"Recanto das Palmeiras - Jardim São Luiz","até 20 SM",{"$f":"VLOOKUP(SEE_H_graph!B300,SEE_agrg!$D$4:$BB$160,A300,FALSE)","v":{"$error":"#N/A"}}]
[61,"Recanto das Palmeiras - Jardim São Luiz","mais 20 SM",{"$f":"VLOOKUP(SEE_H_graph!B301,SEE_agrg!$D$4:$BB$160,A301,FALSE)","v":{"$error":"#N/A"}}]
[53,"Rio II","até 1/2 SM",{"$f":"VLOOKUP(SEE_H_graph!B302,SEE_agrg!$D$4:$BB$160,A302,FALSE)","v":{"$error":"#N/A"}}]
[54,"Rio II","até 1 SM",{"$f":"VLOOKUP(SEE_H_graph!B303,SEE_agrg!$D$4:$BB$160,A303,FALSE)","v":{"$error":"#N/A"}}]
[55,"Rio II","até 2 SM",{"$f":"VLOOKUP(SEE_H_graph!B304,SEE_agrg!$D$4:$BB$160,A304,FALSE)","v":{"$error":"#N/A"}}]
[56,"Rio II","até 3 SM",{"$f":"VLOOKUP(SEE_H_graph!B305,SEE_agrg!$D$4:$BB$160,A305,FALSE)","v":{"$error":"#N/A"}}]
[57,"Rio II","até 5 SM",{"$f":"VLOOKUP(SEE_H_graph!B306,SEE_agrg!$D$4:$BB$160,A306,FALSE)","v":{"$error":"#N/A"}}]
[58,"Rio II","até 10 SM",{"$f":"VLOOKUP(SEE_H_graph!B307,SEE_agrg!$D$4:$BB$160,A307,FALSE)","v":{"$error":"#N/A"}}]
[59,"Rio II","até 15 SM",{"$f":"VLOOKUP(SEE_H_graph!B308,SEE_agrg!$D$4:$BB$160,A308,FALSE)","v":{"$error":"#N/A"}}]
[60,"Rio II","até 20 SM",{"$f":"VLOOKUP(SEE_H_graph!B309,SEE_agrg!$D$4:$BB$160,A309,FALSE)","v":{"$error":"#N/A"}}]
[61,"Rio II","mais 20 SM",{"$f":"VLOOKUP(SEE_H_graph!B310,SEE_agrg!$D$4:$BB$160,A310,FALSE)","v":{"$error":"#N/A"}}]
[53,"Santa Luzia","até 1/2 SM",{"$f":"VLOOKUP(SEE_H_graph!B311,SEE_agrg!$D$4:$BB$160,A311,FALSE)","v":{"$error":"#N/A"}}]
[54,"Santa Luzia","até 1 SM",{"$f":"VLOOKUP(SEE_H_graph!B312,SEE_agrg!$D$4:$BB$160,A312,FALSE)","v":{"$error":"#N/A"}}]
[55,"Santa Luzia","até 2 SM",{"$f":"VLOOKUP(SEE_H_graph!B313,SEE_agrg!$D$4:$BB$160,A313,FALSE)","v":{"$error":"#N/A"}}]
[56,"Santa Luzia","até 3 SM",{"$f":"VLOOKUP(SEE_H_graph!B314,SEE_agrg!$D$4:$BB$160,A314,FALSE)","v":{"$error":"#N/A"}}]
[57,"Santa Luzia","até 5 SM",{"$f":"VLOOKUP(SEE_H_graph!B315,SEE_agrg!$D$4:$BB$160,A315,FALSE)","v":{"$error":"#N/A"}}]
[58,"Santa Luzia","até 10 SM",{"$f":"VLOOKUP(SEE_H_graph!B316,SEE_agrg!$D$4:$BB$160,A316,FALSE)","v":{"$error":"#N/A"}}]
[59,"Santa Luzia","até 15 SM",{"$f":"VLOOKUP(SEE_H_graph!B317,SEE_agrg!$D$4:$BB$160,A317,FALSE)","v":{"$error":"#N/A"}}]
[60,"Santa Luzia","até 20 SM",{"$f":"VLOOKUP(SEE_H_graph!B318,SEE_agrg!$D$4:$BB$160,A318,FALSE)","v":{"$error":"#N/A"}}]
[61,"Santa Luzia","mais 20 SM",{"$f":"VLOOKUP(SEE_H_graph!B319,SEE_agrg!$D$4:$BB$160,A319,FALSE)","v":{"$error":"#N/A"}}]
[53,"Tanque / Terminal Mestre Candeia","até 1/2 SM",{"$f":"VLOOKUP(SEE_H_graph!B320,SEE_agrg!$D$4:$BB$160,A320,FALSE)","v":{"$error":"#N/A"}}]
[54,"Tanque / Terminal Mestre Candeia","até 1 SM",{"$f":"VLOOKUP(SEE_H_graph!B321,SEE_agrg!$D$4:$BB$160,A321,FALSE)","v":{"$error":"#N/A"}}]
[55,"Tanque / Terminal Mestre Candeia","até 2 SM",{"$f":"VLOOKUP(SEE_H_graph!B322,SEE_agrg!$D$4:$BB$160,A322,FALSE)","v":{"$error":"#N/A"}}]
[56,"Tanque / Terminal Mestre Candeia","até 3 SM",{"$f":"VLOOKUP(SEE_H_graph!B323,SEE_agrg!$D$4:$BB$160,A323,FALSE)","v":{"$error":"#N/A"}}]
[57,"Tanque / Terminal Mestre Candeia","até 5 SM",{"$f":"VLOOKUP(SEE_H_graph!B324,SEE_agrg!$D$4:$BB$160,A324,FALSE)","v":{"$error":"#N/A"}}]
[58,"Tanque / Terminal Mestre Candeia","até 10 SM",{"$f":"VLOOKUP(SEE_H_graph!B325,SEE_agrg!$D$4:$BB$160,A325,FALSE)","v":{"$error":"#N/A"}}]
[59,"Tanque / Terminal Mestre Candeia","até 15 SM",{"$f":"VLOOKUP(SEE_H_graph!B326,SEE_agrg!$D$4:$BB$160,A326,FALSE)","v":{"$error":"#N/A"}}]
[60,"Tanque / Terminal Mestre Candeia","até 20 SM",{"$f":"VLOOKUP(SEE_H_graph!B327,SEE_agrg!$D$4:$BB$160,A327,FALSE)","v":{"$error":"#N/A"}}]
[61,"Tanque / Terminal Mestre Candeia","mais 20 SM",{"$f":"VLOOKUP(SEE_H_graph!B328,SEE_agrg!$D$4:$BB$160,A328,FALSE)","v":{"$error":"#N/A"}}]
[53,"Taquara","até 1/2 SM",{"$f":"VLOOKUP(SEE_H_graph!B329,SEE_agrg!$D$4:$BB$160,A329,FALSE)","v":{"$error":"#N/A"}}]
[54,"Taquara","até 1 SM",{"$f":"VLOOKUP(SEE_H_graph!B330,SEE_agrg!$D$4:$BB$160,A330,FALSE)","v":{"$error":"#N/A"}}]
[55,"Taquara","até 2 SM",{"$f":"VLOOKUP(SEE_H_graph!B331,SEE_agrg!$D$4:$BB$160,A331,FALSE)","v":{"$error":"#N/A"}}]
[56,"Taquara","até 3 SM",{"$f":"VLOOKUP(SEE_H_graph!B332,SEE_agrg!$D$4:$BB$160,A332,FALSE)","v":{"$error":"#N/A"}}]
[57,"Taquara","até 5 SM",{"$f":"VLOOKUP(SEE_H_graph!B333,SEE_agrg!$D$4:$BB$160,A333,FALSE)","v":{"$error":"#N/A"}}]
[58,"Taquara","até 10 SM",{"$f":"VLOOKUP(SEE_H_graph!B334,SEE_agrg!$D$4:$BB$160,A334,FALSE)","v":{"$error":"#N/A"}}]
[59,"Taquara","até 15 SM",{"$f":"VLOOKUP(SEE_H_graph!B335,SEE_agrg!$D$4:$BB$160,A335,FALSE)","v":{"$error":"#N/A"}}]
[60,"Taquara","até 20 SM",{"$f":"VLOOKUP(SEE_H_graph!B336,SEE_agrg!$D$4:$BB$160,A336,FALSE)","v":{"$error":"#N/A"}}]
[61,"Taquara","mais 20 SM",{"$f":"VLOOKUP(SEE_H_graph!B337,SEE_agrg!$D$4:$BB$160,A337,FALSE)","v":{"$error":"#N/A"}}]
[53,"Terminal Alvorada TCA","até 1/2 SM",{"$f":"VLOOKUP(SEE_H_graph!B338,SEE_agrg!$D$4:$BB$160,A338,FALSE)","v":{"$error":"#N/A"}}]
[54,"Terminal Alvorada TCA","até 1 SM",{"$f":"VLOOKUP(SEE_H_graph!B339,SEE_agrg!$D$4:$BB$160,A339,FALSE)","v":{"$error":"#N/A"}}]
[55,"Terminal Alvorada TCA","até 2 SM",{"$f":"VLOOKUP(SEE_H_graph!B340,SEE_agrg!$D$4:$BB$160,A340,FALSE)","v":{"$error":"#N/A"}}]
[56,"Terminal Alvorada TCA","até 3 SM",{"$f":"VLOOKUP(SEE_H_graph!B341,SEE_agrg!$D$4:$BB$160,A341,FALSE)","v":{"$error":"#N/A"}}]
[57,"Terminal Alvorada TCA","até 5 SM",{"$f":"VLOOKUP(SEE_H_graph!B342,SEE_agrg!$D$4:$BB$160,A342,FALSE)","v":{"$error":"#N/A"}}]
[58,"Terminal Alvorada TCA","até 10 SM",{"$f":"VLOOKUP(SEE_H_graph!B343,SEE_agrg!$D$4:$BB$160,A343,FALSE)","v":{"$error":"#N/A"}}]
[59,"Terminal Alvorada TCA","até 15 SM",{"$f":"VLOOKUP(SEE_H_graph!B344,SEE_agrg!$D$4:$BB$160,A344,FALSE)","v":{"$error":"#N/A"}}]
[60,"Terminal Alvorada TCA","até 20 SM",{"$f":"VLOOKUP(SEE_H_graph!B345,SEE_agrg!$D$4:$BB$160,A345,FALSE)","v":{"$error":"#N/A"}}]
[61,"Terminal Alvorada TCA","mais 20 SM",{"$f":"VLOOKUP(SEE_H_graph!B346,SEE_agrg!$D$4:$BB$160,A346,FALSE)","v":{"$error":"#N/A"}}]
[53,"Terminal Fundão - Aroldo Melodia","até 1/2 SM",{"$f":"VLOOKUP(SEE_H_graph!B347,SEE_agrg!$D$4:$BB$160,A347,FALSE)","v":{"$error":"#N/A"}}]
[54,"Terminal Fundão - Aroldo Melodia","até 1 SM",{"$f":"VLOOKUP(SEE_H_graph!B348,SEE_agrg!$D$4:$BB$160,A348,FALSE)","v":{"$error":"#N/A"}}]
[55,"Terminal Fundão - Aroldo Melodia","até 2 SM",{"$f":"VLOOKUP(SEE_H_graph!B349,SEE_agrg!$D$4:$BB$160,A349,FALSE)","v":{"$error":"#N/A"}}]
[56,"Terminal Fundão - Aroldo Melodia","até 3 SM",{"$f":"VLOOKUP(SEE_H_graph!B350,SEE_agrg!$D$4:$BB$160,A350,FALSE)","v":{"$error":"#N/A"}}]
[57,"Terminal Fundão - Aroldo Melodia","até 5 SM",{"$f":"VLOOKUP(SEE_H_graph!B351,SEE_agrg!$D$4:$BB$160,A351,FALSE)","v":{"$error":"#N/A"}}]
[58,"Terminal Fundão - Aroldo Melodia","até 10 SM",{"$f":"VLOOKUP(SEE_H_graph!B352,SEE_agrg!$D$4:$BB$160,A352,FALSE)","v":{"$error":"#N/A"}}]
[59,"Terminal Fundão - Aroldo Melodia","até 15 SM",{"$f":"VLOOKUP(SEE_H_graph!B353,SEE_agrg!$D$4:$BB$160,A353,FALSE)","v":{"$error":"#N/A"}}]
[60,"Terminal Fundão - Aroldo Melodia","até 20 SM",{"$f":"VLOOKUP(SEE_H_graph!B354,SEE_agrg!$D$4:$BB$160,A354,FALSE)","v":{"$error":"#N/A"}}]
[61,"Terminal Fundão - Aroldo Melodia","mais 20 SM",{"$f":"VLOOKUP(SEE_H_graph!B355,SEE_agrg!$D$4:$BB$160,A355,FALSE)","v":{"$error":"#N/A"}}]
[53,"Vaz Lobo","até 1/2 SM",{"$f":"VLOOKUP(SEE_H_graph!B356,SEE_agrg!$D$4:$BB$160,A356,FALSE)","v":{"$error":"#N/A"}}]
[54,"Vaz Lobo","até 1 SM",{"$f":"VLOOKUP(SEE_H_graph!B357,SEE_agrg!$D$4:$BB$160,A357,FALSE)","v":{"$error":"#N/A"}}]
[55,"Vaz Lobo","até 2 SM",{"$f":"VLOOKUP(SEE_H_graph!B358,SEE_agrg!$D$4:$BB$160,A358,FALSE)","v":{"$error":"#N/A"}}]
[56,"Vaz Lobo","até 3 SM",{"$f":"VLOOKUP(SEE_H_graph!B359,SEE_agrg!$D$4:$BB$160,A359,FALSE)","v":{"$error":"#N/A"}}]
[57,"Vaz Lobo","até 5 SM",{"$f":"VLOOKUP(SEE_H_graph!B360,SEE_agrg!$D$4:$BB$160,A360,FALSE)","v":{"$error":"#N/A"}}]
[58,"Vaz Lobo","até 10 SM",{"$f":"VLOOKUP(SEE_H_graph!B361,SEE_agrg!$D$4:$BB$160,A361,FALSE)","v":{"$error":"#N/A"}}]
[59,"Vaz Lobo","até 15 SM",{"$f":"VLOOKUP(SEE_H_graph!B362,SEE_agrg!$D$4:$BB$160,A362,FALSE)","v":{"$error":"#N/A"}}]
[60,"Vaz Lobo","até 20 SM",{"$f":"VLOOKUP(SEE_H_graph!B363,SEE_agrg!$D$4:$BB$160,A363,FALSE)","v":{"$error":"#N/A"}}]
[61,"Vaz Lobo","mais 20 SM",{"$f":"VLOOKUP(SEE_H_graph!B364,SEE_agrg!$D$4:$BB$160,A364,FALSE)","v":{"$error":"#N/A"}}]
[53,"Via Parque","até 1/2 SM",{"$f":"VLOOKUP(SEE_H_graph!B365,SEE_agrg!$D$4:$BB$160,A365,FALSE)","v":{"$error":"#N/A"}}]
[54,"Via Parque","até 1 SM",{"$f":"VLOOKUP(SEE_H_graph!B366,SEE_agrg!$D$4:$BB$160,A366,FALSE)","v":{"$error":"#N/A"}}]
[55,"Via Parque","até 2 SM",{"$f":"VLOOKUP(SEE_H_graph!B367,SEE_agrg!$D$4:$BB$160,A367,FALSE)","v":{"$error":"#N/A"}}]
[56,"Via Parque","até 3 SM",{"$f":"VLOOKUP(SEE_H_graph!B368,SEE_agrg!$D$4:$BB$160,A368,FALSE)","v":{"$error":"#N/A"}}]
[57,"Via Parque","até 5 SM",{"$f":"VLOOKUP(SEE_H_graph!B369,SEE_agrg!$D$4:$BB$160,A369,FALSE)","v":{"$error":"#N/A"}}]
[58,"Via Parque","até 10 SM",{"$f":"VLOOKUP(SEE_H_graph!B370,SEE_agrg!$D$4:$BB$160,A370,FALSE)","v":{"$error":"#N/A"}}]
[59,"Via Parque","até 15 SM",{"$f":"VLOOKUP(SEE_H_graph!B371,SEE_agrg!$D$4:$BB$160,A371,FALSE)","v":{"$error":"#N/A"}}]
[60,"Via Parque","até 20 SM",{"$f":"VLOOKUP(SEE_H_graph!B372,SEE_agrg!$D$4:$BB$160,A372,FALSE)","v":{"$error":"#N/A"}}]
[61,"Via Parque","mais 20 SM",{"$f":"VLOOKUP(SEE_H_graph!B373,SEE_agrg!$D$4:$BB$160,A373,FALSE)","v":{"$error":"#N/A"}}]
[53,"Vicente de Carvalho","até 1/2 SM",{"$f":"VLOOKUP(SEE_H_graph!B374,SEE_agrg!$D$4:$BB$160,A374,FALSE)","v":{"$error":"#N/A"}}]
[54,"Vicente de Carvalho","até 1 SM",{"$f":"VLOOKUP(SEE_H_graph!B375,SEE_agrg!$D$4:$BB$160,A375,FALSE)","v":{"$error":"#N/A"}}]
[55,"Vicente de Carvalho","até 2 SM",{"$f":"VLOOKUP(SEE_H_graph!B376,SEE_agrg!$D$4:$BB$160,A376,FALSE)","v":{"$error":"#N/A"}}]
[56,"Vicente de Carvalho","até 3 SM",{"$f":"VLOOKUP(SEE_H_graph!B377,SEE_agrg!$D$4:$BB$160,A377,FALSE)","v":{"$error":"#N/A"}}]
[57,"Vicente de Carvalho","até 5 SM",{"$f":"VLOOKUP(SEE_H_graph!B378,SEE_agrg!$D$4:$BB$160,A378,FALSE)","v":{"$error":"#N/A"}}]
[58,"Vicente de Carvalho","até 10 SM",{"$f":"VLOOKUP(SEE_H_graph!B379,SEE_agrg!$D$4:$BB$160,A379,FALSE)","v":{"$error":"#N/A"}}]
[59,"Vicente de Carvalho","até 15 SM",{"$f":"VLOOKUP(SEE_H_graph!B380,SEE_agrg!$D$4:$BB$160,A380,FALSE)","v":{"$error":"#N/A"}}]
[60,"Vicente de Carvalho","até 20 SM",{"$f":"VLOOKUP(SEE_H_graph!B381,SEE_agrg!$D$4:$BB$160,A381,FALSE)","v":{"$error":"#N/A"}}]
[61,"Vicente de Carvalho","mais 20 SM",{"$f":"VLOOKUP(SEE_H_graph!B382,SEE_agrg!$D$4:$BB$160,A382,FALSE)","v":{"$error":"#N/A"}}]
[53,"Vila Kosmos - Nossa Senhora do Carmo","até 1/2 SM",{"$f":"VLOOKUP(SEE_H_graph!B383,SEE_agrg!$D$4:$BB$160,A383,FALSE)","v":{"$error":"#N/A"}}]
[54,"Vila Kosmos - Nossa Senhora do Carmo","até 1 SM",{"$f":"VLOOKUP(SEE_H_graph!B384,SEE_agrg!$D$4:$BB$160,A384,FALSE)","v":{"$error":"#N/A"}}]
[55,"Vila Kosmos - Nossa Senhora do Carmo","até 2 SM",{"$f":"VLOOKUP(SEE_H_graph!B385,SEE_agrg!$D$4:$BB$160,A385,FALSE)","v":{"$error":"#N/A"}}]
[56,"Vila Kosmos - Nossa Senhora do Carmo","até 3 SM",{"$f":"VLOOKUP(SEE_H_graph!B386,SEE_agrg!$D$4:$BB$160,A386,FALSE)","v":{"$error":"#N/A"}}]
[57,"Vila Kosmos - Nossa Senhora do Carmo","até 5 SM",{"$f":"VLOOKUP(SEE_H_graph!B387,SEE_agrg!$D$4:$BB$160,A387,FALSE)","v":{"$error":"#N/A"}}]
[58,"Vila Kosmos - Nossa Senhora do Carmo","até 10 SM",{"$f":"VLOOKUP(SEE_H_graph!B388,SEE_agrg!$D$4:$BB$160,A388,FALSE)","v":{"$error":"#N/A"}}]
[59,"Vila Kosmos - Nossa Senhora do Carmo","até 15 SM",{"$f":"VLOOKUP(SEE_H_graph!B389,SEE_agrg!$D$4:$BB$160,A389,FALSE)","v":{"$error":"#N/A"}}]
[60,"Vila Kosmos - Nossa Senhora do Carmo","até 20 SM",{"$f":"VLOOKUP(SEE_H_graph!B390,SEE_agrg!$D$4:$BB$160,A390,FALSE)","v":{"$error":"#N/A"}}]
[61,"Vila Kosmos - Nossa Senhora do Carmo","mais 20 SM",{"$f":"VLOOKUP(SEE_H_graph!B391,SEE_agrg!$D$4:$BB$160,A391,FALSE)","v":{"$error":"#N/A"}}]
[53,"Vila Queiroz","até 1/2 SM",{"$f":"VLOOKUP(SEE_H_graph!B392,SEE_agrg!$D$4:$BB$160,A392,FALSE)","v":{"$error":"#N/A"}}]
[54,"Vila Queiroz","até 1 SM",{"$f":"VLOOKUP(SEE_H_graph!B393,SEE_agrg!$D$4:$BB$160,A393,FALSE)","v":{"$error":"#N/A"}}]
[55,"Vila Queiroz","até 2 SM",{"$f":"VLOOKUP(SEE_H_graph!B394,SEE_agrg!$D$4:$BB$160,A394,FALSE)","v":{"$error":"#N/A"}}]
[56,"Vila Queiroz","até 3 SM",{"$f":"VLOOKUP(SEE_H_graph!B395,SEE_agrg!$D$4:$BB$160,A395,FALSE)","v":{"$error":"#N/A"}}]
[57,"Vila Queiroz","até 5 SM",{"$f":"VLOOKUP(SEE_H_graph!B396,SEE_agrg!$D$4:$BB$160,A396,FALSE)","v":{"$error":"#N/A"}}]
[58,"Vila Queiroz","até 10 SM",{"$f":"VLOOKUP(SEE_H_graph!B397,SEE_agrg!$D$4:$BB$160,A397,FALSE)","v":{"$error":"#N/A"}}]
[59,"Vila Queiroz","até 15 SM",{"$f":"VLOOKUP(SEE_H_graph!B398,SEE_agrg!$D$4:$BB$160,A398,FALSE)","v":{"$error":"#N/A"}}]
[60,"Vila Queiroz","até 20 SM",{"$f":"VLOOKUP(SEE_H_graph!B399,SEE_agrg!$D$4:$BB$160,A399,FALSE)","v":{"$error":"#N/A"}}]
[61,"Vila Queiroz","mais 20 SM",{"$f":"VLOOKUP(SEE_H_graph!B400,SEE_agrg!$D$4:$BB$160,A400,FALSE)","v":{"$error":"#N/A"}}]
[53,"Vila Sapê - IV Centenário","até 1/2 SM",{"$f":"VLOOKUP(SEE_H_graph!B401,SEE_agrg!$D$4:$BB$160,A401,FALSE)","v":{"$error":"#N/A"}}]
[54,"Vila Sapê - IV Centenário","até 1 SM",{"$f":"VLOOKUP(SEE_H_graph!B402,SEE_agrg!$D$4:$BB$160,A402,FALSE)","v":{"$error":"#N/A"}}]
[55,"Vila Sapê - IV Centenário","até 2 SM",{"$f":"VLOOKUP(SEE_H_graph!B403,SEE_agrg!$D$4:$BB$160,A403,FALSE)","v":{"$error":"#N/A"}}]
[56,"Vila Sapê - IV Centenário","até 3 SM",{"$f":"VLOOKUP(SEE_H_graph!B404,SEE_agrg!$D$4:$BB$160,A404,FALSE)","v":{"$error":"#N/A"}}]
[57,"Vila Sapê - IV Centenário","até 5 SM",{"$f":"VLOOKUP(SEE_H_graph!B405,SEE_agrg!$D$4:$BB$160,A405,FALSE)","v":{"$error":"#N/A"}}]
[58,"Vila Sapê - IV Centenário","até 10 SM",{"$f":"VLOOKUP(SEE_H_graph!B406,SEE_agrg!$D$4:$BB$160,A406,FALSE)","v":{"$error":"#N/A"}}]
[59,"Vila Sapê - IV Centenário","até 15 SM",{"$f":"VLOOKUP(SEE_H_graph!B407,SEE_agrg!$D$4:$BB$160,A407,FALSE)","v":{"$error":"#N/A"}}]
[60,"Vila Sapê - IV Centenário","até 20 SM",{"$f":"VLOOKUP(SEE_H_graph!B408,SEE_agrg!$D$4:$BB$160,A408,FALSE)","v":{"$error":"#N/A"}}]
[61,"Vila Sapê - IV Centenário","mais 20 SM",{"$f":"VLOOKUP(SEE_H_graph!B409,SEE_agrg!$D$4:$BB$160,A409,FALSE)","v":{"$error":"#N/A"}}]

{"sheet":"SEE_agrg","index":8,"n_rows":166,"n_cols":54,"rows_kept":166,"cut":false,"hidden":false,"merged":[]}
["Informações no nível de Setores Censitários agregadas por Estação"]
[]
["proxy","corredor",null,"estc","area_km2","sum_rt_B_V2","sum_rt_E1_V1","sum_rt_E1_V20","sum_rt_E1_V22","sum_rt_E1_V24","sum_rt_E1_V8","sum_rt_E1_V10","sum_rt_E1_V12","sum_rt_E1_V44","sum_rt_E1_V46","sum_rt_E1_V48","sum_rt_D1_V2","sum_rt_D1_V12","sum_rt_D1_V17","sum_rt_PR_V67","sum_rt_PR_V68","sum_rt_PR_V69","sum_rt_PR_V70","sum_rt_PR_V71","sum_rt_PR_V72","sum_rt_PR_V73","sum_rt_PR_V74","sum_rt_PR_V75","sum_rt_PR_V87","BUF_dom","Perc_PR_67","Perc_PR_68","Perc_PR_69","Perc_PR_70","Perc_PR_71","Perc_PR_72","Perc_PR_73","Perc_PR_74","Perc_PR_75","area_compat","dens","calc","Ilum","arb","agua","esgt","H_PR","pont_dens","pont_calc","pont_ilum","pont_arb","pont_agua","pont_esgt","pont_H_PR"]
["Proxy","Corredor","Seq. Estação","Estação","area_km2","sum_rt_B_V2","sum_rt_E1_V1","sum_rt_E1_V20","sum_rt_E1_V22","sum_rt_E1_V24","sum_rt_E1_V8","sum_rt_E1_V10","sum_rt_E1_V12","sum_rt_E1_V44","sum_rt_E1_V46","sum_rt_E1_V48","sum_rt_D1_V2","sum_rt_D1_V12","sum_rt_D1_V17","sum_rt_PR_V67","sum_rt_PR_V68","sum_rt_PR_V69","sum_rt_PR_V70","sum_rt_PR_V71","sum_rt_PR_V72","sum_rt_PR_V73","sum_rt_PR_V74","sum_rt_PR_V75","sum_rt_PR_V87","BUF_dom","Perc_PR_67","Perc_PR_68","Perc_PR_69","Perc_PR_70","Perc_PR_71","Perc_PR_72","Perc_PR_73","Perc_PR_74","Perc_PR_75","Área Compatível","Dens","Calc","Ilum","Arb","Agua","Esgt","H_PR","Pontuação Densidade","Pontuação Calçada","Pontuação Iluminação","Pontuação Arborização","Pontuação Água","Pontuação Esgoto","Pontuação Diver. Socioec. PR"]
[null,{"$f":"INDEX(Sistema_Analisado!$A$3:$F$99,MATCH($D5,Sistema_Analisado!$B$3:$B$99,FALSE),MATCH($B$4,Sistema_Analisado!$A$3:$F$3,FALSE))","v":{"$error":"#N/A"}},{"$f":"INDEX(Sistema_Analisado!$A$3:$F$99,MATCH(D5,Sistema_Analisado!$B$3:$B$99,FALSE),MATCH(\"Seq. Corredor\",Sistema_Analisado!$A$3:$F$3,0))","v":{"$error":"#N/A"}},"Estação xx",{"$f":"SUMIF(SEE_data!$B:$B,SEE_agrg!$D5,SEE_data!F:F)","v":0},{"$f":"SUMIF(SEE_data!$B:$B,SEE_agrg!$D5,SEE_data!AF:AF)","v":0},{"$f":"SUMIF(SEE_data!$B:$B,SEE_agrg!$D5,SEE_data!AG:AG)","v":0},{"$f":"SUMIF(SEE_data!$B:$B,SEE_agrg!$D5,SEE_data!AH:AH)","v":0},{"$f":"SUMIF(SEE_data!$B:$B,SEE_agrg!$D5,SEE_data!AI:AI)","v":0},{"$f":"SUMIF(SEE_data!$B:$B,SEE_agrg!$D5,SEE_data!AJ:AJ)","v":0},{"$f":"SUMIF(SEE_data!$B:$B,SEE_agrg!$D5,SEE_data!AK:AK)","v":0},{"$f":"SUMIF(SEE_data!$B:$B,SEE_agrg!$D5,SEE_data!AL:AL)","v":0},{"$f":"SUMIF(SEE_data!$B:$B,SEE_agrg!$D5,SEE_data!AM:AM)","v":0},{"$f":"SUMIF(SEE_data!$B:$B,SEE_agrg!$D5,SEE_data!AN:AN)","v":0},{"$f":"SUMIF(SEE_data!$B:$B,SEE_agrg!$D5,SEE_data!AO:AO)","v":0},{"$f":"SUMIF(SEE_data!$B:$B,SEE_agrg!$D5,SEE_data!AP:AP)","v":0},{"$f":"SUMIF(SEE_data!$B:$B,SEE_agrg!$D5,SEE_data!AQ:AQ)","v":0},{"$f":"SUMIF(SEE_data!$B:$B,SEE_agrg!$D5,SEE_data!AR:AR)","v":0},{"$f":"SUMIF(SEE_data!$B:$B,SEE_agrg!$D5,SEE_data!AS:AS)","v":0},{"$f":"SUMIF(SEE_data!$B:$B,SEE_agrg!$D5,SEE_data!AT:AT)","v":0},{"$f":"SUMIF(SEE_data!$B:$B,SEE_agrg!$D5,SEE_data!AU:AU)","v":0},{"$f":"SUMIF(SEE_data!$B:$B,SEE_agrg!$D5,SEE_data!AV:AV)","v":0},{"$f":"SUMIF(SEE_data!$B:$B,SEE_agrg!$D5,SEE_data!AW:AW)","v":0},{"$f":"SUMIF(SEE_data!$B:$B,SEE_agrg!$D5,SEE_data!AX:AX)","v":0},{"$f":"SUMIF(SEE_data!$B:$B,SEE_agrg!$D5,SEE_data!AY:AY)","v":0},{"$f":"SUMIF(SEE_data!$B:$B,SEE_agrg!$D5,SEE_data!AZ:AZ)","v":0},{"$f":"SUMIF(SEE_data!$B:$B,SEE_agrg!$D5,SEE_data!BA:BA)","v":0},{"$f":"SUMIF(SEE_data!$B:$B,SEE_agrg!$D5,SEE_data!BB:BB)","v":0},{"$f":"SUMIF(SEE_data!$B:$B,SEE_agrg!$D5,SEE_data!BC:BC)","v":0},{"$f":"IF(OR(G5=0,Q5=0),0,1)","v":0},{"$f":"IF($AC5=0,0,T5/$AC5)","v":0},{"$f":"IF($AC5=0,0,U5/$AC5)","v":0},{"$f":"IF($AC5=0,0,V5/$AC5)","v":0},{"$f":"IF($AC5=0,0,W5/$AC5)","v":0},{"$f":"IF($AC5=0,0,X5/$AC5)","v":0},{"$f":"IF($AC5=0,0,Y5/$AC5)","v":0},{"$f":"IF($AC5=0,0,Z5/$AC5)","v":0},{"$f":"IF($AC5=0,0,AA5/$AC5)","v":0},{"$f":"IF($AC5=0,0,AB5/$AC5)","v":0},{"$f":"SUMIFS(UdS_data!D:D,UdS_data!F:F,1,UdS_data!B:B,D5)","v":0},{"$f":"1000000*F5/E5","v":{"$error":"#DIV/0!"}},{"$f":"IF(G5=0,0,(H5+I5+J5)/G5)","v":0},{"$f":"IF(G5=0,0,(K5+L5+M5)/G5)","v":0},{"$f":"IF(G5=0,0,(N5+O5+P5)/G5)","v":0},{"$f":"IF(Q5=0,0,R5/Q5)","v":0},{"$f":"IF(Q5=0,0,S5/Q5)","v":0},{"$f":"IF(AD5<>0,(1-SUMSQ(AE5:AM5))/(1-1/9),0)","v":0},{"$f":"IF(AND($AO5<=dens_ref,$AO5<=dens_urb_mun),5,IF(AND($AO5<=dens_ref,$AO5>dens_urb_mun),3,IF(AND($AO5>dens_ref,$AO5<=dens_urb_mun),2,IF($AO5<(1+dens_toler)*dens_ref,1,0))))","v":{"$error":"#DIV/0!"}},{"$f":"IF(AP5>0.95,5,IF(AP5>0.9,4,IF(AP5>0.8,2,IF(AP5>0.7,1,0))))","v":0},{"$f":"IF(AQ5>0.95,5,IF(AQ5>0.9,4,IF(AQ5>0.8,2,IF(AQ5>0.7,1,0))))","v":0},{"$f":"IF(AR5>0.95,5,IF(AR5>0.9,4,IF(AR5>0.8,2,IF(AR5>0.7,1,0))))","v":0},{"$f":"IF(AS5>0.95,5,IF(AS5>0.9,4,IF(AS5>0.8,2,IF(AS5>0.7,1,0))))","v":0},{"$f":"IF(AT5>0.95,5,IF(AT5>0.9,4,IF(AT5>0.8,2,IF(AT5>0.7,1,0))))","v":0},{"$f":"IF(AU5>=0.95,5,IF(AU5>=0.9,4,IF(AU5>=0.85,3,IF(AU5>=0.8,2,IF(AU5>=0.75,1,0)))))","v":0}]
[null,{"$f":"INDEX(Sistema_Analisado!$A$3:$F$99,MATCH($D6,Sistema_Analisado!$B$3:$B$99,FALSE),MATCH($B$4,Sistema_Analisado!$A$3:$F$3,FALSE))","v":{"$error":"#N/A"}},{"$f":"INDEX(Sistema_Analisado!$A$3:$F$99,MATCH(D6,Sistema_Analisado!$B$3:$B$99,FALSE),MATCH(\"Seq. Corredor\",Sistema_Analisado!$A$3:$F$3,0))","v":{"$error":"#N/A"}},"Estação yy",{"$f":"SUMIF(SEE_data!$B:$B,SEE_agrg!$D6,SEE_data!F:F)","v":0},{"$f":"SUMIF(SEE_data!$B:$B,SEE_agrg!$D6,SEE_data!AF:AF)","v":0},{"$f":"SUMIF(SEE_data!$B:$B,SEE_agrg!$D6,SEE_data!AG:AG)","v":0},{"$f":"SUMIF(SEE_data!$B:$B,SEE_agrg!$D6,SEE_data!AH:AH)","v":0},{"$f":"SUMIF(SEE_data!$B:$B,SEE_agrg!$D6,SEE_data!AI:AI)","v":0},{"$f":"SUMIF(SEE_data!$B:$B,SEE_agrg!$D6,SEE_data!AJ:AJ)","v":0},{"$f":"SUMIF(SEE_data!$B:$B,SEE_agrg!$D6,SEE_data!AK:AK)","v":0},{"$f":"SUMIF(SEE_data!$B:$B,SEE_agrg!$D6,SEE_data!AL:AL)","v":0},{"$f":"SUMIF(SEE_data!$B:$B,SEE_agrg!$D6,SEE_data!AM:AM)","v":0},{"$f":"SUMIF(SEE_data!$B:$B,SEE_agrg!$D6,SEE_data!AN:AN)","v":0},{"$f":"SUMIF(SEE_data!$B:$B,SEE_agrg!$D6,SEE_data!AO:AO)","v":0},{"$f":"SUMIF(SEE_data!$B:$B,SEE_agrg!$D6,SEE_data!AP:AP)","v":0},{"$f":"SUMIF(SEE_data!$B:$B,SEE_agrg!$D6,SEE_data!AQ:AQ)","v":0},{"$f":"SUMIF(SEE_data!$B:$B,SEE_agrg!$D6,SEE_data!AR:AR)","v":0},{"$f":"SUMIF(SEE_data!$B:$B,SEE_agrg!$D6,SEE_data!AS:AS)","v":0},{"$f":"SUMIF(SEE_data!$B:$B,SEE_agrg!$D6,SEE_data!AT:AT)","v":0},{"$f":"SUMIF(SEE_data!$B:$B,SEE_agrg!$D6,SEE_data!AU:AU)","v":0},{"$f":"SUMIF(SEE_data!$B:$B,SEE_agrg!$D6,SEE_data!AV:AV)","v":0},{"$f":"SUMIF(SEE_data!$B:$B,SEE_agrg!$D6,SEE_data!AW:AW)","v":0},{"$f":"SUMIF(SEE_data!$B:$B,SEE_agrg!$D6,SEE_data!AX:AX)","v":0},{"$f":"SUMIF(SEE_data!$B:$B,SEE_agrg!$D6,SEE_data!AY:AY)","v":0},{"$f":"SUMIF(SEE_data!$B:$B,SEE_agrg!$D6,SEE_data!AZ:AZ)","v":0},{"$f":"SUMIF(SEE_data!$B:$B,SEE_agrg!$D6,SEE_data!BA:BA)","v":0},{"$f":"SUMIF(SEE_data!$B:$B,SEE_agrg!$D6,SEE_data!BB:BB)","v":0},{"$f":"SUMIF(SEE_data!$B:$B,SEE_agrg!$D6,SEE_data!BC:BC)","v":0},0,0,0,0,0,0,0,0,0,0,{"$f":"SUMIFS(UdS_data!D:D,UdS_data!F:F,1,UdS_data!B:B,D6)","v":0},{"$error":"#DIV/0!"},0,0,0,0,0,0,{"$error":"#DIV/0!"},0,0,0,0,0,0]
[null,{"$f":"INDEX(Sistema_Analisado!$A$3:$F$99,MATCH($D7,Sistema_Analisado!$B$3:$B$99,FALSE),MATCH($B$4,Sistema_Analisado!$A$3:$F$3,FALSE))","v":{"$error":"#N/A"}},{"$f":"INDEX(Sistema_Analisado!$A$3:$F$99,MATCH(D7,Sistema_Analisado!$B$3:$B$99,FALSE),MATCH(\"Seq. Corredor\",Sistema_Analisado!$A$3:$F$3,0))","v":{"$error":"#N/A"}},"Estação zz",{"$f":"SUMIF(SEE_data!$B:$B,SEE_agrg!$D7,SEE_data!F:F)","v":0},{"$f":"SUMIF(SEE_data!$B:$B,SEE_agrg!$D7,SEE_data!AF:AF)","v":0},{"$f":"SUMIF(SEE_data!$B:$B,SEE_agrg!$D7,SEE_data!AG:AG)","v":0},{"$f":"SUMIF(SEE_data!$B:$B,SEE_agrg!$D7,SEE_data!AH:AH)","v":0},{"$f":"SUMIF(SEE_data!$B:$B,SEE_agrg!$D7,SEE_data!AI:AI)","v":0},{"$f":"SUMIF(SEE_data!$B:$B,SEE_agrg!$D7,SEE_data!AJ:AJ)","v":0},{"$f":"SUMIF(SEE_data!$B:$B,SEE_agrg!$D7,SEE_data!AK:AK)","v":0},{"$f":"SUMIF(SEE_data!$B:$B,SEE_agrg!$D7,SEE_data!AL:AL)","v":0},{"$f":"SUMIF(SEE_data!$B:$B,SEE_agrg!$D7,SEE_data!AM:AM)","v":0},{"$f":"SUMIF(SEE_data!$B:$B,SEE_agrg!$D7,SEE_data!AN:AN)","v":0},{"$f":"SUMIF(SEE_data!$B:$B,SEE_agrg!$D7,SEE_data!AO:AO)","v":0},{"$f":"SUMIF(SEE_data!$B:$B,SEE_agrg!$D7,SEE_data!AP:AP)","v":0},{"$f":"SUMIF(SEE_data!$B:$B,SEE_agrg!$D7,SEE_data!AQ:AQ)","v":0},{"$f":"SUMIF(SEE_data!$B:$B,SEE_agrg!$D7,SEE_data!AR:AR)","v":0},{"$f":"SUMIF(SEE_data!$B:$B,SEE_agrg!$D7,SEE_data!AS:AS)","v":0},{"$f":"SUMIF(SEE_data!$B:$B,SEE_agrg!$D7,SEE_data!AT:AT)","v":0},{"$f":"SUMIF(SEE_data!$B:$B,SEE_agrg!$D7,SEE_data!AU:AU)","v":0},{"$f":"SUMIF(SEE_data!$B:$B,SEE_agrg!$D7,SEE_data!AV:AV)","v":0},{"$f":"SUMIF(SEE_data!$B:$B,SEE_agrg!$D7,SEE_data!AW:AW)","v":0},{"$f":"SUMIF(SEE_data!$B:$B,SEE_agrg!$D7,SEE_data!AX:AX)","v":0},{"$f":"SUMIF(SEE_data!$B:$B,SEE_agrg!$D7,SEE_data!AY:AY)","v":0},{"$f":"SUMIF(SEE_data!$B:$B,SEE_agrg!$D7,SEE_data!AZ:AZ)","v":0},{"$f":"SUMIF(SEE_data!$B:$B,SEE_agrg!$D7,SEE_data!BA:BA)","v":0},{"$f":"SUMIF(SEE_data!$B:$B,SEE_agrg!$D7,SEE_data!BB:BB)","v":0},{"$f":"SUMIF(SEE_data!$B:$B,SEE_agrg!$D7,SEE_data!BC:BC)","v":0},0,0,0,0,0,0,0,0,0,0,{"$f":"SUMIFS(UdS_data!D:D,UdS_data!F:F,1,UdS_data!B:B,D7)","v":0},{"$error":"#DIV/0!"},0,0,0,0,0,0,{"$error":"#DIV/0!"},0,0,0,0,0,0]
[null,{"$f":"INDEX(Sistema_Analisado!$A$3:$F$99,MATCH($D8,Sistema_Analisado!$B$3:$B$99,FALSE),MATCH($B$4,Sistema_Analisado!$A$3:$F$3,FALSE))","v":{"$error":"#N/A"}},{"$f":"INDEX(Sistema_Analisado!$A$3:$F$99,MATCH(D8,Sistema_Analisado!$B$3:$B$99,FALSE),MATCH(\"Seq. Corredor\",Sistema_Analisado!$A$3:$F$3,0))","v":{"$error":"#N/A"}},null,{"$f":"SUMIF(SEE_data!$B:$B,SEE_agrg!$D8,SEE_data!F:F)","v":0},{"$f":"SUMIF(SEE_data!$B:$B,SEE_agrg!$D8,SEE_data!AF:AF)","v":0},{"$f":"SUMIF(SEE_data!$B:$B,SEE_agrg!$D8,SEE_data!AG:AG)","v":0},{"$f":"SUMIF(SEE_data!$B:$B,SEE_agrg!$D8,SEE_data!AH:AH)","v":0},{"$f":"SUMIF(SEE_data!$B:$B,SEE_agrg!$D8,SEE_data!AI:AI)","v":0},{"$f":"SUMIF(SEE_data!$B:$B,SEE_agrg!$D8,SEE_data!AJ:AJ)","v":0},{"$f":"SUMIF(SEE_data!$B:$B,SEE_agrg!$D8,SEE_data!AK:AK)","v":0},{"$f":"SUMIF(SEE_data!$B:$B,SEE_agrg!$D8,SEE_data!AL:AL)","v":0},{"$f":"SUMIF(SEE_data!$B:$B,SEE_agrg!$D8,SEE_data!AM:AM)","v":0},{"$f":"SUMIF(SEE_data!$B:$B,SEE_agrg!$D8,SEE_data!AN:AN)","v":0},{"$f":"SUMIF(SEE_data!$B:$B,SEE_agrg!$D8,SEE_data!AO:AO)","v":0},{"$f":"SUMIF(SEE_data!$B:$B,SEE_agrg!$D8,SEE_data!AP:AP)","v":0},{"$f":"SUMIF(SEE_data!$B:$B,SEE_agrg!$D8,SEE_data!AQ:AQ)","v":0},{"$f":"SUMIF(SEE_data!$B:$B,SEE_agrg!$D8,SEE_data!AR:AR)","v":0},{"$f":"SUMIF(SEE_data!$B:$B,SEE_agrg!$D8,SEE_data!AS:AS)","v":0},{"$f":"SUMIF(SEE_data!$B:$B,SEE_agrg!$D8,SEE_data!AT:AT)","v":0},{"$f":"SUMIF(SEE_data!$B:$B,SEE_agrg!$D8,SEE_data!AU:AU)","v":0},{"$f":"SUMIF(SEE_data!$B:$B,SEE_agrg!$D8,SEE_data!AV:AV)","v":0},{"$f":"SUMIF(SEE_data!$B:$B,SEE_agrg!$D8,SEE_data!AW:AW)","v":0},{"$f":"SUMIF(SEE_data!$B:$B,SEE_agrg!$D8,SEE_data!AX:AX)","v":0},{"$f":"SUMIF(SEE_data!$B:$B,SEE_agrg!$D8,SEE_data!AY:AY)","v":0},{"$f":"SUMIF(SEE_data!$B:$B,SEE_agrg!$D8,SEE_data!AZ:AZ)","v":0},{"$f":"SUMIF(SEE_data!$B:$B,SEE_agrg!$D8,SEE_data!BA:BA)","v":0},{"$f":"SUMIF(SEE_data!$B:$B,SEE_agrg!$D8,SEE_data!BB:BB)","v":0},{"$f":"SUMIF(SEE_data!$B:$B,SEE_agrg!$D8,SEE_data!BC:BC)","v":0},0,0,0,0,0,0,0,0,0,0,{"$f":"SUMIFS(UdS_data!D:D,UdS_data!F:F,1,UdS_data!B:B,D8)","v":0},{"$error":"#DIV/0!"},0,0,0,0,0,0,{"$error":"#DIV/0!"},0,0,0,0,0,0]
[null,{"$f":"INDEX(Sistema_Analisado!$A$3:$F$99,MATCH($D9,Sistema_Analisado!$B$3:$B$99,FALSE),MATCH($B$4,Sistema_Analisado!$A$3:$F$3,FALSE))","v":{"$error":"#N/A"}},{"$f":"INDEX(Sistema_Analisado!$A$3:$F$99,MATCH(D9,Sistema_Analisado!$B$3:$B$99,FALSE),MATCH(\"Seq. Corredor\",Sistema_Analisado!$A$3:$F$3,0))","v":{"$error":"#N/A"}},null,{"$f":"SUMIF(SEE_data!$B:$B,SEE_agrg!$D9,SEE_data!F:F)","v":0},{"$f":"SUMIF(SEE_data!$B:$B,SEE_agrg!$D9,SEE_data!AF:AF)","v":0},{"$f":"SUMIF(SEE_data!$B:$B,SEE_agrg!$D9,SEE_data!AG:AG)","v":0},{"$f":"SUMIF(SEE_data!$B:$B,SEE_agrg!$D9,SEE_data!AH:AH)","v":0},{"$f":"SUMIF(SEE_data!$B:$B,SEE_agrg!$D9,SEE_data!AI:AI)","v":0},{"$f":"SUMIF(SEE_data!$B:$B,SEE_agrg!$D9,SEE_data!AJ:AJ)","v":0},{"$f":"SUMIF(SEE_data!$B:$B,SEE_agrg!$D9,SEE_data!AK:AK)","v":0},{"$f":"SUMIF(SEE_data!$B:$B,SEE_agrg!$D9,SEE_data!AL:AL)","v":0},{"$f":"SUMIF(SEE_data!$B:$B,SEE_agrg!$D9,SEE_data!AM:AM)","v":0},{"$f":"SUMIF(SEE_data!$B:$B,SEE_agrg!$D9,SEE_data!AN:AN)","v":0},{"$f":"SUMIF(SEE_data!$B:$B,SEE_agrg!$D9,SEE_data!AO:AO)","v":0},{"$f":"SUMIF(SEE_data!$B:$B,SEE_agrg!$D9,SEE_data!AP:AP)","v":0},{"$f":"SUMIF(SEE_data!$B:$B,SEE_agrg!$D9,SEE_data!AQ:AQ)","v":0},{"$f":"SUMIF(SEE_data!$B:$B,SEE_agrg!$D9,SEE_data!AR:AR)","v":0},{"$f":"SUMIF(SEE_data!$B:$B,SEE_agrg!$D9,SEE_data!AS:AS)","v":0},{"$f":"SUMIF(SEE_data!$B:$B,SEE_agrg!$D9,SEE_data!AT:AT)","v":0},{"$f":"SUMIF(SEE_data!$B:$B,SEE_agrg!$D9,SEE_data!AU:AU)","v":0},{"$f":"SUMIF(SEE_data!$B:$B,SEE_agrg!$D9,SEE_data!AV:AV)","v":0},{"$f":"SUMIF(SEE_data!$B:$B,SEE_agrg!$D9,SEE_data!AW:AW)","v":0},{"$f":"SUMIF(SEE_data!$B:$B,SEE_agrg!$D9,SEE_data!AX:AX)","v":0},{"$f":"SUMIF(SEE_data!$B:$B,SEE_agrg!$D9,SEE_data!AY:AY)","v":0},{"$f":"SUMIF(SEE_data!$B:$B,SEE_agrg!$D9,SEE_data!AZ:AZ)","v":0},{"$f":"SUMIF(SEE_data!$B:$B,SEE_agrg!$D9,SEE_data!BA:BA)","v":0},{"$f":"SUMIF(SEE_data!$B:$B,SEE_agrg!$D9,SEE_data!BB:BB)","v":0},{"$f":"SUMIF(SEE_data!$B:$B,SEE_agrg!$D9,SEE_data!BC:BC)","v":0},0,0,0,0,0,0,0,0,0,0,{"$f":"SUMIFS(UdS_data!D:D,UdS_data!F:F,1,UdS_data!B:B,D9)","v":0},{"$error":"#DIV/0!"},0,0,0,0,0,0,{"$error":"#DIV/0!"},0,0,0,0,0,0]
[null,{"$f":"INDEX(Sistema_Analisado!$A$3:$F$99,MATCH($D10,Sistema_Analisado!$B$3:$B$99,FALSE),MATCH($B$4,Sistema_Analisado!$A$3:$F$3,FALSE))","v":{"$error":"#N/A"}},{"$f":"INDEX(Sistema_Analisado!$A$3:$F$99,MATCH(D10,Sistema_Analisado!$B$3:$B$99,FALSE),MATCH(\"Seq. Corredor\",Sistema_Analisado!$A$3:$F$3,0))","v":{"$error":"#N/A"}},null,{"$f":"SUMIF(SEE_data!$B:$B,SEE_agrg!$D10,SEE_data!F:F)","v":0},{"$f":"SUMIF(SEE_data!$B:$B,SEE_agrg!$D10,SEE_data!AF:AF)","v":0},{"$f":"SUMIF(SEE_data!$B:$B,SEE_agrg!$D10,SEE_data!AG:AG)","v":0},{"$f":"SUMIF(SEE_data!$B:$B,SEE_agrg!$D10,SEE_data!AH:AH)","v":0},{"$f":"SUMIF(SEE_data!$B:$B,SEE_agrg!$D10,SEE_data!AI:AI)","v":0},{"$f":"SUMIF(SEE_data!$B:$B,SEE_agrg!$D10,SEE_data!AJ:AJ)","v":0},{"$f":"SUMIF(SEE_data!$B:$B,SEE_agrg!$D10,SEE_data!AK:AK)","v":0},{"$f":"SUMIF(SEE_data!$B:$B,SEE_agrg!$D10,SEE_data!AL:AL)","v":0},{"$f":"SUMIF(SEE_data!$B:$B,SEE_agrg!$D10,SEE_data!AM:AM)","v":0},{"$f":"SUMIF(SEE_data!$B:$B,SEE_agrg!$D10,SEE_data!AN:AN)","v":0},{"$f":"SUMIF(SEE_data!$B:$B,SEE_agrg!$D10,SEE_data!AO:AO)","v":0},{"$f":"SUMIF(SEE_data!$B:$B,SEE_agrg!$D10,SEE_data!AP:AP)","v":0},{"$f":"SUMIF(SEE_data!$B:$B,SEE_agrg!$D10,SEE_data!AQ:AQ)","v":0},{"$f":"SUMIF(SEE_data!$B:$B,SEE_agrg!$D10,SEE_data!AR:AR)","v":0},{"$f":"SUMIF(SEE_data!$B:$B,SEE_agrg!$D10,SEE_data!AS:AS)","v":0},{"$f":"SUMIF(SEE_data!$B:$B,SEE_agrg!$D10,SEE_data!AT:AT)","v":0},{"$f":"SUMIF(SEE_data!$B:$B,SEE_agrg!$D10,SEE_data!AU:AU)","v":0},{"$f":"SUMIF(SEE_data!$B:$B,SEE_agrg!$D10,SEE_data!AV:AV)","v":0},{"$f":"SUMIF(SEE_data!$B:$B,SEE_agrg!$D10,SEE_data!AW:AW)","v":0},{"$f":"SUMIF(SEE_data!$B:$B,SEE_agrg!$D10,SEE_data!AX:AX)","v":0},{"$f":"SUMIF(SEE_data!$B:$B,SEE_agrg!$D10,SEE_data!AY:AY)","v":0},{"$f":"SUMIF(SEE_data!$B:$B,SEE_agrg!$D10,SEE_data!AZ:AZ)","v":0},{"$f":"SUMIF(SEE_data!$B:$B,SEE_agrg!$D10,SEE_data!BA:BA)","v":0},{"$f":"SUMIF(SEE_data!$B:$B,SEE_agrg!$D10,SEE_data!BB:BB)","v":0},{"$f":"SUMIF(SEE_data!$B:$B,SEE_agrg!$D10,SEE_data!BC:BC)","v":0},0,0,0,0,0,0,0,0,0,0,{"$f":"SUMIFS(UdS_data!D:D,UdS_data!F:F,1,UdS_data!B:B,D10)","v":0},{"$error":"#DIV/0!"},0,0,0,0,0,0,{"$error":"#DIV/0!"},0,0,0,0,0,0]
[null,{"$f":"INDEX(Sistema_Analisado!$A$3:$F$99,MATCH($D11,Sistema_Analisado!$B$3:$B$99,FALSE),MATCH($B$4,Sistema_Analisado!$A$3:$F$3,FALSE))","v":{"$error":"#N/A"}},{"$f":"INDEX(Sistema_Analisado!$A$3:$F$99,MATCH(D11,Sistema_Analisado!$B$3:$B$99,FALSE),MATCH(\"Seq. Corredor\",Sistema_Analisado!$A$3:$F$3,0))","v":{"$error":"#N/A"}},null,{"$f":"SUMIF(SEE_data!$B:$B,SEE_agrg!$D11,SEE_data!F:F)","v":0},{"$f":"SUMIF(SEE_data!$B:$B,SEE_agrg!$D11,SEE_data!AF:AF)","v":0},{"$f":"SUMIF(SEE_data!$B:$B,SEE_agrg!$D11,SEE_data!AG:AG)","v":0},{"$f":"SUMIF(SEE_data!$B:$B,SEE_agrg!$D11,SEE_data!AH:AH)","v":0},{"$f":"SUMIF(SEE_data!$B:$B,SEE_agrg!$D11,SEE_data!AI:AI)","v":0},{"$f":"SUMIF(SEE_data!$B:$B,SEE_agrg!$D11,SEE_data!AJ:AJ)","v":0},{"$f":"SUMIF(SEE_data!$B:$B,SEE_agrg!$D11,SEE_data!AK:AK)","v":0},{"$f":"SUMIF(SEE_data!$B:$B,SEE_agrg!$D11,SEE_data!AL:AL)","v":0},{"$f":"SUMIF(SEE_data!$B:$B,SEE_agrg!$D11,SEE_data!AM:AM)","v":0},{"$f":"SUMIF(SEE_data!$B:$B,SEE_agrg!$D11,SEE_data!AN:AN)","v":0},{"$f":"SUMIF(SEE_data!$B:$B,SEE_agrg!$D11,SEE_data!AO:AO)","v":0},{"$f":"SUMIF(SEE_data!$B:$B,SEE_agrg!$D11,SEE_data!AP:AP)","v":0},{"$f":"SUMIF(SEE_data!$B:$B,SEE_agrg!$D11,SEE_data!AQ:AQ)","v":0},{"$f":"SUMIF(SEE_data!$B:$B,SEE_agrg!$D11,SEE_data!AR:AR)","v":0},{"$f":"SUMIF(SEE_data!$B:$B,SEE_agrg!$D11,SEE_data!AS:AS)","v":0},{"$f":"SUMIF(SEE_data!$B:$B,SEE_agrg!$D11,SEE_data!AT:AT)","v":0},{"$f":"SUMIF(SEE_data!$B:$B,SEE_agrg!$D11,SEE_data!AU:AU)","v":0},{"$f":"SUMIF(SEE_data!$B:$B,SEE_agrg!$D11,SEE_data!AV:AV)","v":0},{"$f":"SUMIF(SEE_data!$B:$B,SEE_agrg!$D11,SEE_data!AW:AW)","v":0},{"$f":"SUMIF(SEE_data!$B:$B,SEE_agrg!$D11,SEE_data!AX:AX)","v":0},{"$f":"SUMIF(SEE_data!$B:$B,SEE_agrg!$D11,SEE_data!AY:AY)","v":0},{"$f":"SUMIF(SEE_data!$B:$B,SEE_agrg!$D11,SEE_data!AZ:AZ)","v":0},{"$f":"SUMIF(SEE_data!$B:$B,SEE_agrg!$D11,SEE_data!BA:BA)","v":0},{"$f":"SUMIF(SEE_data!$B:$B,SEE_agrg!$D11,SEE_data!BB:BB)","v":0},{"$f":"SUMIF(SEE_data!$B:$B,SEE_agrg!$D11,SEE_data!BC:BC)","v":0},0,0,0,0,0,0,0,0,0,0,{"$f":"SUMIFS(UdS_data!D:D,UdS_data!F:F,1,UdS_data!B:B,D11)","v":0},{"$error":"#DIV/0!"},0,0,0,0,0,0,{"$error":"#DIV/0!"},0,0,0,0,0,0]
[null,{"$f":"INDEX(Sistema_Analisado!$A$3:$F$99,MATCH($D12,Sistema_Analisado!$B$3:$B$99,FALSE),MATCH($B$4,Sistema_Analisado!$A$3:$F$3,FALSE))","v":{"$error":"#N/A"}},{"$f":"INDEX(Sistema_Analisado!$A$3:$F$99,MATCH(D12,Sistema_Analisado!$B$3:$B$99,FALSE),MATCH(\"Seq. Corredor\",Sistema_Analisado!$A$3:$F$3,0))","v":{"$error":"#N/A"}},null,{"$f":"SUMIF(SEE_data!$B:$B,SEE_agrg!$D12,SEE_data!F:F)","v":0},{"$f":"SUMIF(SEE_data!$B:$B,SEE_agrg!$D12,SEE_data!AF:AF)","v":0},{"$f":"SUMIF(SEE_data!$B:$B,SEE_agrg!$D12,SEE_data!AG:AG)","v":0},{"$f":"SUMIF(SEE_data!$B:$B,SEE_agrg!$D12,SEE_data!AH:AH)","v":0},{"$f":"SUMIF(SEE_data!$B:$B,SEE_agrg!$D12,SEE_data!AI:AI)","v":0},{"$f":"SUMIF(SEE_data!$B:$B,SEE_agrg!$D12,SEE_data!AJ:AJ)","v":0},{"$f":"SUMIF(SEE_data!$B:$B,SEE_agrg!$D12,SEE_data!AK:AK)","v":0},{"$f":"SUMIF(SEE_data!$B:$B,SEE_agrg!$D12,SEE_data!AL:AL)","v":0},{"$f":"SUMIF(SEE_data!$B:$B,SEE_agrg!$D12,SEE_data!AM:AM)","v":0},{"$f":"SUMIF(SEE_data!$B:$B,SEE_agrg!$D12,SEE_data!AN:AN)","v":0},{"$f":"SUMIF(SEE_data!$B:$B,SEE_agrg!$D12,SEE_data!AO:AO)","v":0},{"$f":"SUMIF(SEE_data!$B:$B,SEE_agrg!$D12,SEE_data!AP:AP)","v":0},{"$f":"SUMIF(SEE_data!$B:$B,SEE_agrg!$D12,SEE_data!AQ:AQ)","v":0},{"$f":"SUMIF(SEE_data!$B:$B,SEE_agrg!$D12,SEE_data!AR:AR)","v":0},{"$f":"SUMIF(SEE_data!$B:$B,SEE_agrg!$D12,SEE_data!AS:AS)","v":0},{"$f":"SUMIF(SEE_data!$B:$B,SEE_agrg!$D12,SEE_data!AT:AT)","v":0},{"$f":"SUMIF(SEE_data!$B:$B,SEE_agrg!$D12,SEE_data!AU:AU)","v":0},{"$f":"SUMIF(SEE_data!$B:$B,SEE_agrg!$D12,SEE_data!AV:AV)","v":0},{"$f":"SUMIF(SEE_data!$B:$B,SEE_agrg!$D12,SEE_data!AW:AW)","v":0},{"$f":"SUMIF(SEE_data!$B:$B,SEE_agrg!$D12,SEE_data!AX:AX)","v":0},{"$f":"SUMIF(SEE_data!$B:$B,SEE_agrg!$D12,SEE_data!AY:AY)","v":0},{"$f":"SUMIF(SEE_data!$B:$B,SEE_agrg!$D12,SEE_data!AZ:AZ)","v":0},{"$f":"SUMIF(SEE_data!$B:$B,SEE_agrg!$D12,SEE_data!BA:BA)","v":0},{"$f":"SUMIF(SEE_data!$B:$B,SEE_agrg!$D12,SEE_data!BB:BB)","v":0},{"$f":"SUMIF(SEE_data!$B:$B,SEE_agrg!$D12,SEE_data!BC:BC)","v":0},0,0,0,0,0,0,0,0,0,0,{"$f":"SUMIFS(UdS_data!D:D,UdS_data!F:F,1,UdS_data!B:B,D12)","v":0},{"$error":"#DIV/0!"},0,0,0,0,0,0,{"$error":"#DIV/0!"},0,0,0,0,0,0]
[null,{"$f":"INDEX(Sistema_Analisado!$A$3:$F$99,MATCH($D13,Sistema_Analisado!$B$3:$B$99,FALSE),MATCH($B$4,Sistema_Analisado!$A$3:$F$3,FALSE))","v":{"$error":"#N/A"}},{"$f":"INDEX(Sistema_Analisado!$A$3:$F$99,MATCH(D13,Sistema_Analisado!$B$3:$B$99,FALSE),MATCH(\"Seq. Corredor\",Sistema_Analisado!$A$3:$F$3,0))","v":{"$error":"#N/A"}},null,{"$f":"SUMIF(SEE_data!$B:$B,SEE_agrg!$D13,SEE_data!F:F)","v":0},{"$f":"SUMIF(SEE_data!$B:$B,SEE_agrg!$D13,SEE_data!AF:AF)","v":0},{"$f":"SUMIF(SEE_data!$B:$B,SEE_agrg!$D13,SEE_data!AG:AG)","v":0},{"$f":"SUMIF(SEE_data!$B:$B,SEE_agrg!$D13,SEE_data!AH:AH)","v":0},{"$f":"SUMIF(SEE_data!$B:$B,SEE_agrg!$D13,SEE_data!AI:AI)","v":0},{"$f":"SUMIF(SEE_data!$B:$B,SEE_agrg!$D13,SEE_data!AJ:AJ)","v":0},{"$f":"SUMIF(SEE_data!$B:$B,SEE_agrg!$D13,SEE_data!AK:AK)","v":0},{"$f":"SUMIF(SEE_data!$B:$B,SEE_agrg!$D13,SEE_data!AL:AL)","v":0},{"$f":"SUMIF(SEE_data!$B:$B,SEE_agrg!$D13,SEE_data!AM:AM)","v":0},{"$f":"SUMIF(SEE_data!$B:$B,SEE_agrg!$D13,SEE_data!AN:AN)","v":0},{"$f":"SUMIF(SEE_data!$B:$B,SEE_agrg!$D13,SEE_data!AO:AO)","v":0},{"$f":"SUMIF(SEE_data!$B:$B,SEE_agrg!$D13,SEE_data!AP:AP)","v":0},{"$f":"SUMIF(SEE_data!$B:$B,SEE_agrg!$D13,SEE_data!AQ:AQ)","v":0},{"$f":"SUMIF(SEE_data!$B:$B,SEE_agrg!$D13,SEE_data!AR:AR)","v":0},{"$f":"SUMIF(SEE_data!$B:$B,SEE_agrg!$D13,SEE_data!AS:AS)","v":0},{"$f":"SUMIF(SEE_data!$B:$B,SEE_agrg!$D13,SEE_data!AT:AT)","v":0},{"$f":"SUMIF(SEE_data!$B:$B,SEE_agrg!$D13,SEE_data!AU:AU)","v":0},{"$f":"SUMIF(SEE_data!$B:$B,SEE_agrg!$D13,SEE_data!AV:AV)","v":0},{"$f":"SUMIF(SEE_data!$B:$B,SEE_agrg!$D13,SEE_data!AW:AW)","v":0},{"$f":"SUMIF(SEE_data!$B:$B,SEE_agrg!$D13,SEE_data!AX:AX)","v":0},{"$f":"SUMIF(SEE_data!$B:$B,SEE_agrg!$D13,SEE_data!AY:AY)","v":0},{"$f":"SUMIF(SEE_data!$B:$B,SEE_agrg!$D13,SEE_data!AZ:AZ)","v":0},{"$f":"SUMIF(SEE_data!$B:$B,SEE_agrg!$D13,SEE_data!BA:BA)","v":0},{"$f":"SUMIF(SEE_data!$B:$B,SEE_agrg!$D13,SEE_data!BB:BB)","v":0},{"$f":"SUMIF(SEE_data!$B:$B,SEE_agrg!$D13,SEE_data!BC:BC)","v":0},0,0,0,0,0,0,0,0,0,0,{"$f":"SUMIFS(UdS_data!D:D,UdS_data!F:F,1,UdS_data!B:B,D13)","v":0},{"$error":"#DIV/0!"},0,0,0,0,0,0,{"$error":"#DIV/0!"},0,0,0,0,0,0]
[null,{"$f":"INDEX(Sistema_Analisado!$A$3:$F$99,MATCH($D14,Sistema_Analisado!$B$3:$B$99,FALSE),MATCH($B$4,Sistema_Analisado!$A$3:$F$3,FALSE))","v":{"$error":"#N/A"}},{"$f":"INDEX(Sistema_Analisado!$A$3:$F$99,MATCH(D14,Sistema_Analisado!$B$3:$B$99,FALSE),MATCH(\"Seq. Corredor\",Sistema_Analisado!$A$3:$F$3,0))","v":{"$error":"#N/A"}},null,{"$f":"SUMIF(SEE_data!$B:$B,SEE_agrg!$D14,SEE_data!F:F)","v":0},{"$f":"SUMIF(SEE_data!$B:$B,SEE_agrg!$D14,SEE_data!AF:AF)","v":0},{"$f":"SUMIF(SEE_data!$B:$B,SEE_agrg!$D14,SEE_data!AG:AG)","v":0},{"$f":"SUMIF(SEE_data!$B:$B,SEE_agrg!$D14,SEE_data!AH:AH)","v":0},{"$f":"SUMIF(SEE_data!$B:$B,SEE_agrg!$D14,SEE_data!AI:AI)","v":0},{"$f":"SUMIF(SEE_data!$B:$B,SEE_agrg!$D14,SEE_data!AJ:AJ)","v":0},{"$f":"SUMIF(SEE_data!$B:$B,SEE_agrg!$D14,SEE_data!AK:AK)","v":0},{"$f":"SUMIF(SEE_data!$B:$B,SEE_agrg!$D14,SEE_data!AL:AL)","v":0},{"$f":"SUMIF(SEE_data!$B:$B,SEE_agrg!$D14,SEE_data!AM:AM)","v":0},{"$f":"SUMIF(SEE_data!$B:$B,SEE_agrg!$D14,SEE_data!AN:AN)","v":0},{"$f":"SUMIF(SEE_data!$B:$B,SEE_agrg!$D14,SEE_data!AO:AO)","v":0},{"$f":"SUMIF(SEE_data!$B:$B,SEE_agrg!$D14,SEE_data!AP:AP)","v":0},{"$f":"SUMIF(SEE_data!$B:$B,SEE_agrg!$D14,SEE_data!AQ:AQ)","v":0},{"$f":"SUMIF(SEE_data!$B:$B,SEE_agrg!$D14,SEE_data!AR:AR)","v":0},{"$f":"SUMIF(SEE_data!$B:$B,SEE_agrg!$D14,SEE_data!AS:AS)","v":0},{"$f":"SUMIF(SEE_data!$B:$B,SEE_agrg!$D14,SEE_data!AT:AT)","v":0},{"$f":"SUMIF(SEE_data!$B:$B,SEE_agrg!$D14,SEE_data!AU:AU)","v":0},{"$f":"SUMIF(SEE_data!$B:$B,SEE_agrg!$D14,SEE_data!AV:AV)","v":0},{"$f":"SUMIF(SEE_data!$B:$B,SEE_agrg!$D14,SEE_data!AW:AW)","v":0},{"$f":"SUMIF(SEE_data!$B:$B,SEE_agrg!$D14,SEE_data!AX:AX)","v":0},{"$f":"SUMIF(SEE_data!$B:$B,SEE_agrg!$D14,SEE_data!AY:AY)","v":0},{"$f":"SUMIF(SEE_data!$B:$B,SEE_agrg!$D14,SEE_data!AZ:AZ)","v":0},{"$f":"SUMIF(SEE_data!$B:$B,SEE_agrg!$D14,SEE_data!BA:BA)","v":0},{"$f":"SUMIF(SEE_data!$B:$B,SEE_agrg!$D14,SEE_data!BB:BB)","v":0},{"$f":"SUMIF(SEE_data!$B:$B,SEE_agrg!$D14,SEE_data!BC:BC)","v":0},0,0,0,0,0,0,0,0,0,0,{"$f":"SUMIFS(UdS_data!D:D,UdS_data!F:F,1,UdS_data!B:B,D14)","v":0},{"$error":"#DIV/0!"},0,0,0,0,0,0,{"$error":"#DIV/0!"},0,0,0,0,0,0]
[null,{"$f":"INDEX(Sistema_Analisado!$A$3:$F$99,MATCH($D15,Sistema_Analisado!$B$3:$B$99,FALSE),MATCH($B$4,Sistema_Analisado!$A$3:$F$3,FALSE))","v":{"$error":"#N/A"}},{"$f":"INDEX(Sistema_Analisado!$A$3:$F$99,MATCH(D15,Sistema_Analisado!$B$3:$B$99,FALSE),MATCH(\"Seq. Corredor\",Sistema_Analisado!$A$3:$F$3,0))","v":{"$error":"#N/A"}},null,{"$f":"SUMIF(SEE_data!$B:$B,SEE_agrg!$D15,SEE_data!F:F)","v":0},{"$f":"SUMIF(SEE_data!$B:$B,SEE_agrg!$D15,SEE_data!AF:AF)","v":0},{"$f":"SUMIF(SEE_data!$B:$B,SEE_agrg!$D15,SEE_data!AG:AG)","v":0},{"$f":"SUMIF(SEE_data!$B:$B,SEE_agrg!$D15,SEE_data!AH:AH)","v":0},{"$f":"SUMIF(SEE_data!$B:$B,SEE_agrg!$D15,SEE_data!AI:AI)","v":0},{"$f":"SUMIF(SEE_data!$B:$B,SEE_agrg!$D15,SEE_data!AJ:AJ)","v":0},{"$f":"SUMIF(SEE_data!$B:$B,SEE_agrg!$D15,SEE_data!AK:AK)","v":0},{"$f":"SUMIF(SEE_data!$B:$B,SEE_agrg!$D15,SEE_data!AL:AL)","v":0},{"$f":"SUMIF(SEE_data!$B:$B,SEE_agrg!$D15,SEE_data!AM:AM)","v":0},{"$f":"SUMIF(SEE_data!$B:$B,SEE_agrg!$D15,SEE_data!AN:AN)","v":0},{"$f":"SUMIF(SEE_data!$B:$B,SEE_agrg!$D15,SEE_data!AO:AO)","v":0},{"$f":"SUMIF(SEE_data!$B:$B,SEE_agrg!$D15,SEE_data!AP:AP)","v":0},{"$f":"SUMIF(SEE_data!$B:$B,SEE_agrg!$D15,SEE_data!AQ:AQ)","v":0},{"$f":"SUMIF(SEE_data!$B:$B,SEE_agrg!$D15,SEE_data!AR:AR)","v":0},{"$f":"SUMIF(SEE_data!$B:$B,SEE_agrg!$D15,SEE_data!AS:AS)","v":0},{"$f":"SUMIF(SEE_data!$B:$B,SEE_agrg!$D15,SEE_data!AT:AT)","v":0},{"$f":"SUMIF(SEE_data!$B:$B,SEE_agrg!$D15,SEE_data!AU:AU)","v":0},{"$f":"SUMIF(SEE_data!$B:$B,SEE_agrg!$D15,SEE_data!AV:AV)","v":0},{"$f":"SUMIF(SEE_data!$B:$B,SEE_agrg!$D15,SEE_data!AW:AW)","v":0},{"$f":"SUMIF(SEE_data!$B:$B,SEE_agrg!$D15,SEE_data!AX:AX)","v":0},{"$f":"SUMIF(SEE_data!$B:$B,SEE_agrg!$D15,SEE_data!AY:AY)","v":0},{"$f":"SUMIF(SEE_data!$B:$B,SEE_agrg!$D15,SEE_data!AZ:AZ)","v":0},{"$f":"SUMIF(SEE_data!$B:$B,SEE_agrg!$D15,SEE_data!BA:BA)","v":0},{"$f":"SUMIF(SEE_data!$B:$B,SEE_agrg!$D15,SEE_data!BB:BB)","v":0},{"$f":"SUMIF(SEE_data!$B:$B,SEE_agrg!$D15,SEE_data!BC:BC)","v":0},0,0,0,0,0,0,0,0,0,0,{"$f":"SUMIFS(UdS_data!D:D,UdS_data!F:F,1,UdS_data!B:B,D15)","v":0},{"$error":"#DIV/0!"},0,0,0,0,0,0,{"$error":"#DIV/0!"},0,0,0,0,0,0]
[null,{"$f":"INDEX(Sistema_Analisado!$A$3:$F$99,MATCH($D16,Sistema_Analisado!$B$3:$B$99,FALSE),MATCH($B$4,Sistema_Analisado!$A$3:$F$3,FALSE))","v":{"$error":"#N/A"}},{"$f":"INDEX(Sistema_Analisado!$A$3:$F$99,MATCH(D16,Sistema_Analisado!$B$3:$B$99,FALSE),MATCH(\"Seq. Corredor\",Sistema_Analisado!$A$3:$F$3,0))","v":{"$error":"#N/A"}},null,{"$f":"SUMIF(SEE_data!$B:$B,SEE_agrg!$D16,SEE_data!F:F)","v":0},{"$f":"SUMIF(SEE_data!$B:$B,SEE_agrg!$D16,SEE_data!AF:AF)","v":0},{"$f":"SUMIF(SEE_data!$B:$B,SEE_agrg!$D16,SEE_data!AG:AG)","v":0},{"$f":"SUMIF(SEE_data!$B:$B,SEE_agrg!$D16,SEE_data!AH:AH)","v":0},{"$f":"SUMIF(SEE_data!$B:$B,SEE_agrg!$D16,SEE_data!AI:AI)","v":0},{"$f":"SUMIF(SEE_data!$B:$B,SEE_agrg!$D16,SEE_data!AJ:AJ)","v":0},{"$f":"SUMIF(SEE_data!$B:$B,SEE_agrg!$D16,SEE_data!AK:AK)","v":0},{"$f":"SUMIF(SEE_data!$B:$B,SEE_agrg!$D16,SEE_data!AL:AL)","v":0},{"$f":"SUMIF(SEE_data!$B:$B,SEE_agrg!$D16,SEE_data!AM:AM)","v":0},{"$f":"SUMIF(SEE_data!$B:$B,SEE_agrg!$D16,SEE_data!AN:AN)","v":0},{"$f":"SUMIF(SEE_data!$B:$B,SEE_agrg!$D16,SEE_data!AO:AO)","v":0},{"$f":"SUMIF(SEE_data!$B:$B,SEE_agrg!$D16,SEE_data!AP:AP)","v":0},{"$f":"SUMIF(SEE_data!$B:$B,SEE_agrg!$D16,SEE_data!AQ:AQ)","v":0},{"$f":"SUMIF(SEE_data!$B:$B,SEE_agrg!$D16,SEE_data!AR:AR)","v":0},{"$f":"SUMIF(SEE_data!$B:$B,SEE_agrg!$D16,SEE_data!AS:AS)","v":0},{"$f":"SUMIF(SEE_data!$B:$B,SEE_agrg!$D16,SEE_data!AT:AT)","v":0},{"$f":"SUMIF(SEE_data!$B:$B,SEE_agrg!$D16,SEE_data!AU:AU)","v":0},{"$f":"SUMIF(SEE_data!$B:$B,SEE_agrg!$D16,SEE_data!AV:AV)","v":0},{"$f":"SUMIF(SEE_data!$B:$B,SEE_agrg!$D16,SEE_data!AW:AW)","v":0},{"$f":"SUMIF(SEE_data!$B:$B,SEE_agrg!$D16,SEE_data!AX:AX)","v":0},{"$f":"SUMIF(SEE_data!$B:$B,SEE_agrg!$D16,SEE_data!AY:AY)","v":0},{"$f":"SUMIF(SEE_data!$B:$B,SEE_agrg!$D16,SEE_data!AZ:AZ)","v":0},{"$f":"SUMIF(SEE_data!$B:$B,SEE_agrg!$D16,SEE_data!BA:BA)","v":0},{"$f":"SUMIF(SEE_data!$B:$B,SEE_agrg!$D16,SEE_data!BB:BB)","v":0},{"$f":"SUMIF(SEE_data!$B:$B,SEE_agrg!$D16,SEE_data!BC:BC)","v":0},0,0,0,0,0,0,0,0,0,0,{"$f":"SUMIFS(UdS_data!D:D,UdS_data!F:F,1,UdS_data!B:B,D16)","v":0},{"$error":"#DIV/0!"},0,0,0,0,0,0,{"$error":"#DIV/0!"},0,0,0,0,0,0]
[null,{"$f":"INDEX(Sistema_Analisado!$A$3:$F$99,MATCH($D17,Sistema_Analisado!$B$3:$B$99,FALSE),MATCH($B$4,Sistema_Analisado!$A$3:$F$3,FALSE))","v":{"$error":"#N/A"}},{"$f":"INDEX(Sistema_Analisado!$A$3:$F$99,MATCH(D17,Sistema_Analisado!$B$3:$B$99,FALSE),MATCH(\"Seq. Corredor\",Sistema_Analisado!$A$3:$F$3,0))","v":{"$error":"#N/A"}},null,{"$f":"SUMIF(SEE_data!$B:$B,SEE_agrg!$D17,SEE_data!F:F)","v":0},{"$f":"SUMIF(SEE_data!$B:$B,SEE_agrg!$D17,SEE_data!AF:AF)","v":0},{"$f":"SUMIF(SEE_data!$B:$B,SEE_agrg!$D17,SEE_data!AG:AG)","v":0},{"$f":"SUMIF(SEE_data!$B:$B,SEE_agrg!$D17,SEE_data!AH:AH)","v":0},{"$f":"SUMIF(SEE_data!$B:$B,SEE_agrg!$D17,SEE_data!AI:AI)","v":0},{"$f":"SUMIF(SEE_data!$B:$B,SEE_agrg!$D17,SEE_data!AJ:AJ)","v":0},{"$f":"SUMIF(SEE_data!$B:$B,SEE_agrg!$D17,SEE_data!AK:AK)","v":0},{"$f":"SUMIF(SEE_data!$B:$B,SEE_agrg!$D17,SEE_data!AL:AL)","v":0},{"$f":"SUMIF(SEE_data!$B:$B,SEE_agrg!$D17,SEE_data!AM:AM)","v":0},{"$f":"SUMIF(SEE_data!$B:$B,SEE_agrg!$D17,SEE_data!AN:AN)","v":0},{"$f":"SUMIF(SEE_data!$B:$B,SEE_agrg!$D17,SEE_data!AO:AO)","v":0},{"$f":"SUMIF(SEE_data!$B:$B,SEE_agrg!$D17,SEE_data!AP:AP)","v":0},{"$f":"SUMIF(SEE_data!$B:$B,SEE_agrg!$D17,SEE_data!AQ:AQ)","v":0},{"$f":"SUMIF(SEE_data!$B:$B,SEE_agrg!$D17,SEE_data!AR:AR)","v":0},{"$f":"SUMIF(SEE_data!$B:$B,SEE_agrg!$D17,SEE_data!AS:AS)","v":0},{"$f":"SUMIF(SEE_data!$B:$B,SEE_agrg!$D17,SEE_data!AT:AT)","v":0},{"$f":"SUMIF(SEE_data!$B:$B,SEE_agrg!$D17,SEE_data!AU:AU)","v":0},{"$f":"SUMIF(SEE_data!$B:$B,SEE_agrg!$D17,SEE_data!AV:AV)","v":0},{"$f":"SUMIF(SEE_data!$B:$B,SEE_agrg!$D17,SEE_data!AW:AW)","v":0},{"$f":"SUMIF(SEE_data!$B:$B,SEE_agrg!$D17,SEE_data!AX:AX)","v":0},{"$f":"SUMIF(SEE_data!$B:$B,SEE_agrg!$D17,SEE_data!AY:AY)","v":0},{"$f":"SUMIF(SEE_data!$B:$B,SEE_agrg!$D17,SEE_data!AZ:AZ)","v":0},{"$f":"SUMIF(SEE_data!$B:$B,SEE_agrg!$D17,SEE_data!BA:BA)","v":0},{"$f":"SUMIF(SEE_data!$B:$B,SEE_agrg!$D17,SEE_data!BB:BB)","v":0},{"$f":"SUMIF(SEE_data!$B:$B,SEE_agrg!$D17,SEE_data!BC:BC)","v":0},0,0,0,0,0,0,0,0,0,0,{"$f":"SUMIFS(UdS_data!D:D,UdS_data!F:F,1,UdS_data!B:B,D17)","v":0},{"$error":"#DIV/0!"},0,0,0,0,0,0,{"$error":"#DIV/0!"},0,0,0,0,0,0]
[null,{"$f":"INDEX(Sistema_Analisado!$A$3:$F$99,MATCH($D18,Sistema_Analisado!$B$3:$B$99,FALSE),MATCH($B$4,Sistema_Analisado!$A$3:$F$3,FALSE))","v":{"$error":"#N/A"}},{"$f":"INDEX(Sistema_Analisado!$A$3:$F$99,MATCH(D18,Sistema_Analisado!$B$3:$B$99,FALSE),MATCH(\"Seq. Corredor\",Sistema_Analisado!$A$3:$F$3,0))","v":{"$error":"#N/A"}},null,{"$f":"SUMIF(SEE_data!$B:$B,SEE_agrg!$D18,SEE_data!F:F)","v":0},{"$f":"SUMIF(SEE_data!$B:$B,SEE_agrg!$D18,SEE_data!AF:AF)","v":0},{"$f":"SUMIF(SEE_data!$B:$B,SEE_agrg!$D18,SEE_data!AG:AG)","v":0},{"$f":"SUMIF(SEE_data!$B:$B,SEE_agrg!$D18,SEE_data!AH:AH)","v":0},{"$f":"SUMIF(SEE_data!$B:$B,SEE_agrg!$D18,SEE_data!AI:AI)","v":0},{"$f":"SUMIF(SEE_data!$B:$B,SEE_agrg!$D18,SEE_data!AJ:AJ)","v":0},{"$f":"SUMIF(SEE_data!$B:$B,SEE_agrg!$D18,SEE_data!AK:AK)","v":0},{"$f":"SUMIF(SEE_data!$B:$B,SEE_agrg!$D18,SEE_data!AL:AL)","v":0},{"$f":"SUMIF(SEE_data!$B:$B,SEE_agrg!$D18,SEE_data!AM:AM)","v":0},{"$f":"SUMIF(SEE_data!$B:$B,SEE_agrg!$D18,SEE_data!AN:AN)","v":0},{"$f":"SUMIF(SEE_data!$B:$B,SEE_agrg!$D18,SEE_data!AO:AO)","v":0},{"$f":"SUMIF(SEE_data!$B:$B,SEE_agrg!$D18,SEE_data!AP:AP)","v":0},{"$f":"SUMIF(SEE_data!$B:$B,SEE_agrg!$D18,SEE_data!AQ:AQ)","v":0},{"$f":"SUMIF(SEE_data!$B:$B,SEE_agrg!$D18,SEE_data!AR:AR)","v":0},{"$f":"SUMIF(SEE_data!$B:$B,SEE_agrg!$D18,SEE_data!AS:AS)","v":0},{"$f":"SUMIF(SEE_data!$B:$B,SEE_agrg!$D18,SEE_data!AT:AT)","v":0},{"$f":"SUMIF(SEE_data!$B:$B,SEE_agrg!$D18,SEE_data!AU:AU)","v":0},{"$f":"SUMIF(SEE_data!$B:$B,SEE_agrg!$D18,SEE_data!AV:AV)","v":0},{"$f":"SUMIF(SEE_data!$B:$B,SEE_agrg!$D18,SEE_data!AW:AW)","v":0},{"$f":"SUMIF(SEE_data!$B:$B,SEE_agrg!$D18,SEE_data!AX:AX)","v":0},{"$f":"SUMIF(SEE_data!$B:$B,SEE_agrg!$D18,SEE_data!AY:AY)","v":0},{"$f":"SUMIF(SEE_data!$B:$B,SEE_agrg!$D18,SEE_data!AZ:AZ)","v":0},{"$f":"SUMIF(SEE_data!$B:$B,SEE_agrg!$D18,SEE_data!BA:BA)","v":0},{"$f":"SUMIF(SEE_data!$B:$B,SEE_agrg!$D18,SEE_data!BB:BB)","v":0},{"$f":"SUMIF(SEE_data!$B:$B,SEE_agrg!$D18,SEE_data!BC:BC)","v":0},0,0,0,0,0,0,0,0,0,0,{"$f":"SUMIFS(UdS_data!D:D,UdS_data!F:F,1,UdS_data!B:B,D18)","v":0},{"$error":"#DIV/0!"},0,0,0,0,0,0,{"$error":"#DIV/0!"},0,0,0,0,0,0]
[null,{"$f":"INDEX(Sistema_Analisado!$A$3:$F$99,MATCH($D19,Sistema_Analisado!$B$3:$B$99,FALSE),MATCH($B$4,Sistema_Analisado!$A$3:$F$3,FALSE))","v":{"$error":"#N/A"}},{"$f":"INDEX(Sistema_Analisado!$A$3:$F$99,MATCH(D19,Sistema_Analisado!$B$3:$B$99,FALSE),MATCH(\"Seq. Corredor\",Sistema_Analisado!$A$3:$F$3,0))","v":{"$error":"#N/A"}},null,{"$f":"SUMIF(SEE_data!$B:$B,SEE_agrg!$D19,SEE_data!F:F)","v":0},{"$f":"SUMIF(SEE_data!$B:$B,SEE_agrg!$D19,SEE_data!AF:AF)","v":0},{"$f":"SUMIF(SEE_data!$B:$B,SEE_agrg!$D19,SEE_data!AG:AG)","v":0},{"$f":"SUMIF(SEE_data!$B:$B,SEE_agrg!$D19,SEE_data!AH:AH)","v":0},{"$f":"SUMIF(SEE_data!$B:$B,SEE_agrg!$D19,SEE_data!AI:AI)","v":0},{"$f":"SUMIF(SEE_data!$B:$B,SEE_agrg!$D19,SEE_data!AJ:AJ)","v":0},{"$f":"SUMIF(SEE_data!$B:$B,SEE_agrg!$D19,SEE_data!AK:AK)","v":0},{"$f":"SUMIF(SEE_data!$B:$B,SEE_agrg!$D19,SEE_data!AL:AL)","v":0},{"$f":"SUMIF(SEE_data!$B:$B,SEE_agrg!$D19,SEE_data!AM:AM)","v":0},{"$f":"SUMIF(SEE_data!$B:$B,SEE_agrg!$D19,SEE_data!AN:AN)","v":0},{"$f":"SUMIF(SEE_data!$B:$B,SEE_agrg!$D19,SEE_data!AO:AO)","v":0},{"$f":"SUMIF(SEE_data!$B:$B,SEE_agrg!$D19,SEE_data!AP:AP)","v":0},{"$f":"SUMIF(SEE_data!$B:$B,SEE_agrg!$D19,SEE_data!AQ:AQ)","v":0},{"$f":"SUMIF(SEE_data!$B:$B,SEE_agrg!$D19,SEE_data!AR:AR)","v":0},{"$f":"SUMIF(SEE_data!$B:$B,SEE_agrg!$D19,SEE_data!AS:AS)","v":0},{"$f":"SUMIF(SEE_data!$B:$B,SEE_agrg!$D19,SEE_data!AT:AT)","v":0},{"$f":"SUMIF(SEE_data!$B:$B,SEE_agrg!$D19,SEE_data!AU:AU)","v":0},{"$f":"SUMIF(SEE_data!$B:$B,SEE_agrg!$D19,SEE_data!AV:AV)","v":0},{"$f":"SUMIF(SEE_data!$B:$B,SEE_agrg!$D19,SEE_data!AW:AW)","v":0},{"$f":"SUMIF(SEE_data!$B:$B,SEE_agrg!$D19,SEE_data!AX:AX)","v":0},{"$f":"SUMIF(SEE_data!$B:$B,SEE_agrg!$D19,SEE_data!AY:AY)","v":0},{"$f":"SUMIF(SEE_data!$B:$B,SEE_agrg!$D19,SEE_data!AZ:AZ)","v":0},{"$f":"SUMIF(SEE_data!$B:$B,SEE_agrg!$D19,SEE_data!BA:BA)","v":0},{"$f":"SUMIF(SEE_data!$B:$B,SEE_agrg!$D19,SEE_data!BB:BB)","v":0},{"$f":"SUMIF(SEE_data!$B:$B,SEE_agrg!$D19,SEE_data!BC:BC)","v":0},0,0,0,0,0,0,0,0,0,0,{"$f":"SUMIFS(UdS_data!D:D,UdS_data!F:F,1,UdS_data!B:B,D19)","v":0},{"$error":"#DIV/0!"},0,0,0,0,0,0,{"$error":"#DIV/0!"},0,0,0,0,0,0]
[null,{"$f":"INDEX(Sistema_Analisado!$A$3:$F$99,MATCH($D20,Sistema_Analisado!$B$3:$B$99,FALSE),MATCH($B$4,Sistema_Analisado!$A$3:$F$3,FALSE))","v":{"$error":"#N/A"}},{"$f":"INDEX(Sistema_Analisado!$A$3:$F$99,MATCH(D20,Sistema_Analisado!$B$3:$B$99,FALSE),MATCH(\"Seq. Corredor\",Sistema_Analisado!$A$3:$F$3,0))","v":{"$error":"#N/A"}},null,{"$f":"SUMIF(SEE_data!$B:$B,SEE_agrg!$D20,SEE_data!F:F)","v":0},{"$f":"SUMIF(SEE_data!$B:$B,SEE_agrg!$D20,SEE_data!AF:AF)","v":0},{"$f":"SUMIF(SEE_data!$B:$B,SEE_agrg!$D20,SEE_data!AG:AG)","v":0},{"$f":"SUMIF(SEE_data!$B:$B,SEE_agrg!$D20,SEE_data!AH:AH)","v":0},{"$f":"SUMIF(SEE_data!$B:$B,SEE_agrg!$D20,SEE_data!AI:AI)","v":0},{"$f":"SUMIF(SEE_data!$B:$B,SEE_agrg!$D20,SEE_data!AJ:AJ)","v":0},{"$f":"SUMIF(SEE_data!$B:$B,SEE_agrg!$D20,SEE_data!AK:AK)","v":0},{"$f":"SUMIF(SEE_data!$B:$B,SEE_agrg!$D20,SEE_data!AL:AL)","v":0},{"$f":"SUMIF(SEE_data!$B:$B,SEE_agrg!$D20,SEE_data!AM:AM)","v":0},{"$f":"SUMIF(SEE_data!$B:$B,SEE_agrg!$D20,SEE_data!AN:AN)","v":0},{"$f":"SUMIF(SEE_data!$B:$B,SEE_agrg!$D20,SEE_data!AO:AO)","v":0},{"$f":"SUMIF(SEE_data!$B:$B,SEE_agrg!$D20,SEE_data!AP:AP)","v":0},{"$f":"SUMIF(SEE_data!$B:$B,SEE_agrg!$D20,SEE_data!AQ:AQ)","v":0},{"$f":"SUMIF(SEE_data!$B:$B,SEE_agrg!$D20,SEE_data!AR:AR)","v":0},{"$f":"SUMIF(SEE_data!$B:$B,SEE_agrg!$D20,SEE_data!AS:AS)","v":0},{"$f":"SUMIF(SEE_data!$B:$B,SEE_agrg!$D20,SEE_data!AT:AT)","v":0},{"$f":"SUMIF(SEE_data!$B:$B,SEE_agrg!$D20,SEE_data!AU:AU)","v":0},{"$f":"SUMIF(SEE_data!$B:$B,SEE_agrg!$D20,SEE_data!AV:AV)","v":0},{"$f":"SUMIF(SEE_data!$B:$B,SEE_agrg!$D20,SEE_data!AW:AW)","v":0},{"$f":"SUMIF(SEE_data!$B:$B,SEE_agrg!$D20,SEE_data!AX:AX)","v":0},{"$f":"SUMIF(SEE_data!$B:$B,SEE_agrg!$D20,SEE_data!AY:AY)","v":0},{"$f":"SUMIF(SEE_data!$B:$B,SEE_agrg!$D20,SEE_data!AZ:AZ)","v":0},{"$f":"SUMIF(SEE_data!$B:$B,SEE_agrg!$D20,SEE_data!BA:BA)","v":0},{"$f":"SUMIF(SEE_data!$B:$B,SEE_agrg!$D20,SEE_data!BB:BB)","v":0},{"$f":"SUMIF(SEE_data!$B:$B,SEE_agrg!$D20,SEE_data!BC:BC)","v":0},0,0,0,0,0,0,0,0,0,0,{"$f":"SUMIFS(UdS_data!D:D,UdS_data!F:F,1,UdS_data!B:B,D20)","v":0},{"$error":"#DIV/0!"},0,0,0,0,0,0,{"$error":"#DIV/0!"},0,0,0,0,0,0]
[null,{"$f":"INDEX(Sistema_Analisado!$A$3:$F$99,MATCH($D21,Sistema_Analisado!$B$3:$B$99,FALSE),MATCH($B$4,Sistema_Analisado!$A$3:$F$3,FALSE))","v":{"$error":"#N/A"}},{"$f":"INDEX(Sistema_Analisado!$A$3:$F$99,MATCH(D21,Sistema_Analisado!$B$3:$B$99,FALSE),MATCH(\"Seq. Corredor\",Sistema_Analisado!$A$3:$F$3,0))","v":{"$error":"#N/A"}},null,{"$f":"SUMIF(SEE_data!$B:$B,SEE_agrg!$D21,SEE_data!F:F)","v":0},{"$f":"SUMIF(SEE_data!$B:$B,SEE_agrg!$D21,SEE_data!AF:AF)","v":0},{"$f":"SUMIF(SEE_data!$B:$B,SEE_agrg!$D21,SEE_data!AG:AG)","v":0},{"$f":"SUMIF(SEE_data!$B:$B,SEE_agrg!$D21,SEE_data!AH:AH)","v":0},{"$f":"SUMIF(SEE_data!$B:$B,SEE_agrg!$D21,SEE_data!AI:AI)","v":0},{"$f":"SUMIF(SEE_data!$B:$B,SEE_agrg!$D21,SEE_data!AJ:AJ)","v":0},{"$f":"SUMIF(SEE_data!$B:$B,SEE_agrg!$D21,SEE_data!AK:AK)","v":0},{"$f":"SUMIF(SEE_data!$B:$B,SEE_agrg!$D21,SEE_data!AL:AL)","v":0},{"$f":"SUMIF(SEE_data!$B:$B,SEE_agrg!$D21,SEE_data!AM:AM)","v":0},{"$f":"SUMIF(SEE_data!$B:$B,SEE_agrg!$D21,SEE_data!AN:AN)","v":0},{"$f":"SUMIF(SEE_data!$B:$B,SEE_agrg!$D21,SEE_data!AO:AO)","v":0},{"$f":"SUMIF(SEE_data!$B:$B,SEE_agrg!$D21,SEE_data!AP:AP)","v":0},{"$f":"SUMIF(SEE_data!$B:$B,SEE_agrg!$D21,SEE_data!AQ:AQ)","v":0},{"$f":"SUMIF(SEE_data!$B:$B,SEE_agrg!$D21,SEE_data!AR:AR)","v":0},{"$f":"SUMIF(SEE_data!$B:$B,SEE_agrg!$D21,SEE_data!AS:AS)","v":0},{"$f":"SUMIF(SEE_data!$B:$B,SEE_agrg!$D21,SEE_data!AT:AT)","v":0},{"$f":"SUMIF(SEE_data!$B:$B,SEE_agrg!$D21,SEE_data!AU:AU)","v":0},{"$f":"SUMIF(SEE_data!$B:$B,SEE_agrg!$D21,SEE_data!AV:AV)","v":0},{"$f":"SUMIF(SEE_data!$B:$B,SEE_agrg!$D21,SEE_data!AW:AW)","v":0},{"$f":"SUMIF(SEE_data!$B:$B,SEE_agrg!$D21,SEE_data!AX:AX)","v":0},{"$f":"SUMIF(SEE_data!$B:$B,SEE_agrg!$D21,SEE_data!AY:AY)","v":0},{"$f":"SUMIF(SEE_data!$B:$B,SEE_agrg!$D21,SEE_data!AZ:AZ)","v":0},{"$f":"SUMIF(SEE_data!$B:$B,SEE_agrg!$D21,SEE_data!BA:BA)","v":0},{"$f":"SUMIF(SEE_data!$B:$B,SEE_agrg!$D21,SEE_data!BB:BB)","v":0},{"$f":"SUMIF(SEE_data!$B:$B,SEE_agrg!$D21,SEE_data!BC:BC)","v":0},0,0,0,0,0,0,0,0,0,0,{"$f":"SUMIFS(UdS_data!D:D,UdS_data!F:F,1,UdS_data!B:B,D21)","v":0},{"$error":"#DIV/0!"},0,0,0,0,0,0,{"$error":"#DIV/0!"},0,0,0,0,0,0]
[null,{"$f":"INDEX(Sistema_Analisado!$A$3:$F$99,MATCH($D22,Sistema_Analisado!$B$3:$B$99,FALSE),MATCH($B$4,Sistema_Analisado!$A$3:$F$3,FALSE))","v":{"$error":"#N/A"}},{"$f":"INDEX(Sistema_Analisado!$A$3:$F$99,MATCH(D22,Sistema_Analisado!$B$3:$B$99,FALSE),MATCH(\"Seq. Corredor\",Sistema_Analisado!$A$3:$F$3,0))","v":{"$error":"#N/A"}},null,{"$f":"SUMIF(SEE_data!$B:$B,SEE_agrg!$D22,SEE_data!F:F)","v":0},{"$f":"SUMIF(SEE_data!$B:$B,SEE_agrg!$D22,SEE_data!AF:AF)","v":0},{"$f":"SUMIF(SEE_data!$B:$B,SEE_agrg!$D22,SEE_data!AG:AG)","v":0},{"$f":"SUMIF(SEE_data!$B:$B,SEE_agrg!$D22,SEE_data!AH:AH)","v":0},{"$f":"SUMIF(SEE_data!$B:$B,SEE_agrg!$D22,SEE_data!AI:AI)","v":0},{"$f":"SUMIF(SEE_data!$B:$B,SEE_agrg!$D22,SEE_data!AJ:AJ)","v":0},{"$f":"SUMIF(SEE_data!$B:$B,SEE_agrg!$D22,SEE_data!AK:AK)","v":0},{"$f":"SUMIF(SEE_data!$B:$B,SEE_agrg!$D22,SEE_data!AL:AL)","v":0},{"$f":"SUMIF(SEE_data!$B:$B,SEE_agrg!$D22,SEE_data!AM:AM)","v":0},{"$f":"SUMIF(SEE_data!$B:$B,SEE_agrg!$D22,SEE_data!AN:AN)","v":0},{"$f":"SUMIF(SEE_data!$B:$B,SEE_agrg!$D22,SEE_data!AO:AO)","v":0},{"$f":"SUMIF(SEE_data!$B:$B,SEE_agrg!$D22,SEE_data!AP:AP)","v":0},{"$f":"SUMIF(SEE_data!$B:$B,SEE_agrg!$D22,SEE_data!AQ:AQ)","v":0},{"$f":"SUMIF(SEE_data!$B:$B,SEE_agrg!$D22,SEE_data!AR:AR)","v":0},{"$f":"SUMIF(SEE_data!$B:$B,SEE_agrg!$D22,SEE_data!AS:AS)","v":0},{"$f":"SUMIF(SEE_data!$B:$B,SEE_agrg!$D22,SEE_data!AT:AT)","v":0},{"$f":"SUMIF(SEE_data!$B:$B,SEE_agrg!$D22,SEE_data!AU:AU)","v":0},{"$f":"SUMIF(SEE_data!$B:$B,SEE_agrg!$D22,SEE_data!AV:AV)","v":0},{"$f":"SUMIF(SEE_data!$B:$B,SEE_agrg!$D22,SEE_data!AW:AW)","v":0},{"$f":"SUMIF(SEE_data!$B:$B,SEE_agrg!$D22,SEE_data!AX:AX)","v":0},{"$f":"SUMIF(SEE_data!$B:$B,SEE_agrg!$D22,SEE_data!AY:AY)","v":0},{"$f":"SUMIF(SEE_data!$B:$B,SEE_agrg!$D22,SEE_data!AZ:AZ)","v":0},{"$f":"SUMIF(SEE_data!$B:$B,SEE_agrg!$D22,SEE_data!BA:BA)","v":0},{"$f":"SUMIF(SEE_data!$B:$B,SEE_agrg!$D22,SEE_data!BB:BB)","v":0},{"$f":"SUMIF(SEE_data!$B:$B,SEE_agrg!$D22,SEE_data!BC:BC)","v":0},0,0,0,0,0,0,0,0,0,0,{"$f":"SUMIFS(UdS_data!D:D,UdS_data!F:F,1,UdS_data!B:B,D22)","v":0},{"$error":"#DIV/0!"},0,0,0,0,0,0,{"$error":"#DIV/0!"},0,0,0,0,0,0]
[null,{"$f":"INDEX(Sistema_Analisado!$A$3:$F$99,MATCH($D23,Sistema_Analisado!$B$3:$B$99,FALSE),MATCH($B$4,Sistema_Analisado!$A$3:$F$3,FALSE))","v":{"$error":"#N/A"}},{"$f":"INDEX(Sistema_Analisado!$A$3:$F$99,MATCH(D23,Sistema_Analisado!$B$3:$B$99,FALSE),MATCH(\"Seq. Corredor\",Sistema_Analisado!$A$3:$F$3,0))","v":{"$error":"#N/A"}},null,{"$f":"SUMIF(SEE_data!$B:$B,SEE_agrg!$D23,SEE_data!F:F)","v":0},{"$f":"SUMIF(SEE_data!$B:$B,SEE_agrg!$D23,SEE_data!AF:AF)","v":0},{"$f":"SUMIF(SEE_data!$B:$B,SEE_agrg!$D23,SEE_data!AG:AG)","v":0},{"$f":"SUMIF(SEE_data!$B:$B,SEE_agrg!$D23,SEE_data!AH:AH)","v":0},{"$f":"SUMIF(SEE_data!$B:$B,SEE_agrg!$D23,SEE_data!AI:AI)","v":0},{"$f":"SUMIF(SEE_data!$B:$B,SEE_agrg!$D23,SEE_data!AJ:AJ)","v":0},{"$f":"SUMIF(SEE_data!$B:$B,SEE_agrg!$D23,SEE_data!AK:AK)","v":0},{"$f":"SUMIF(SEE_data!$B:$B,SEE_agrg!$D23,SEE_data!AL:AL)","v":0},{"$f":"SUMIF(SEE_data!$B:$B,SEE_agrg!$D23,SEE_data!AM:AM)","v":0},{"$f":"SUMIF(SEE_data!$B:$B,SEE_agrg!$D23,SEE_data!AN:AN)","v":0},{"$f":"SUMIF(SEE_data!$B:$B,SEE_agrg!$D23,SEE_data!AO:AO)","v":0},{"$f":"SUMIF(SEE_data!$B:$B,SEE_agrg!$D23,SEE_data!AP:AP)","v":0},{"$f":"SUMIF(SEE_data!$B:$B,SEE_agrg!$D23,SEE_data!AQ:AQ)","v":0},{"$f":"SUMIF(SEE_data!$B:$B,SEE_agrg!$D23,SEE_data!AR:AR)","v":0},{"$f":"SUMIF(SEE_data!$B:$B,SEE_agrg!$D23,SEE_data!AS:AS)","v":0},{"$f":"SUMIF(SEE_data!$B:$B,SEE_agrg!$D23,SEE_data!AT:AT)","v":0},{"$f":"SUMIF(SEE_data!$B:$B,SEE_agrg!$D23,SEE_data!AU:AU)","v":0},{"$f":"SUMIF(SEE_data!$B:$B,SEE_agrg!$D23,SEE_data!AV:AV)","v":0},{"$f":"SUMIF(SEE_data!$B:$B,SEE_agrg!$D23,SEE_data!AW:AW)","v":0},{"$f":"SUMIF(SEE_data!$B:$B,SEE_agrg!$D23,SEE_data!AX:AX)","v":0},{"$f":"SUMIF(SEE_data!$B:$B,SEE_agrg!$D23,SEE_data!AY:AY)","v":0},{"$f":"SUMIF(SEE_data!$B:$B,SEE_agrg!$D23,SEE_data!AZ:AZ)","v":0},{"$f":"SUMIF(SEE_data!$B:$B,SEE_agrg!$D23,SEE_data!BA:BA)","v":0},{"$f":"SUMIF(SEE_data!$B:$B,SEE_agrg!$D23,SEE_data!BB:BB)","v":0},{"$f":"SUMIF(SEE_data!$B:$B,SEE_agrg!$D23,SEE_data!BC:BC)","v":0},0,0,0,0,0,0,0,0,0,0,{"$f":"SUMIFS(UdS_data!D:D,UdS_data!F:F,1,UdS_data!B:B,D23)","v":0},{"$error":"#DIV/0!"},0,0,0,0,0,0,{"$error":"#DIV/0!"},0,0,0,0,0,0]
[null,{"$f":"INDEX(Sistema_Analisado!$A$3:$F$99,MATCH($D24,Sistema_Analisado!$B$3:$B$99,FALSE),MATCH($B$4,Sistema_Analisado!$A$3:$F$3,FALSE))","v":{"$error":"#N/A"}},{"$f":"INDEX(Sistema_Analisado!$A$3:$F$99,MATCH(D24,Sistema_Analisado!$B$3:$B$99,FALSE),MATCH(\"Seq. Corredor\",Sistema_Analisado!$A$3:$F$3,0))","v":{"$error":"#N/A"}},null,{"$f":"SUMIF(SEE_data!$B:$B,SEE_agrg!$D24,SEE_data!F:F)","v":0},{"$f":"SUMIF(SEE_data!$B:$B,SEE_agrg!$D24,SEE_data!AF:AF)","v":0},{"$f":"SUMIF(SEE_data!$B:$B,SEE_agrg!$D24,SEE_data!AG:AG)","v":0},{"$f":"SUMIF(SEE_data!$B:$B,SEE_agrg!$D24,SEE_data!AH:AH)","v":0},{"$f":"SUMIF(SEE_data!$B:$B,SEE_agrg!$D24,SEE_data!AI:AI)","v":0},{"$f":"SUMIF(SEE_data!$B:$B,SEE_agrg!$D24,SEE_data!AJ:AJ)","v":0},{"$f":"SUMIF(SEE_data!$B:$B,SEE_agrg!$D24,SEE_data!AK:AK)","v":0},{"$f":"SUMIF(SEE_data!$B:$B,SEE_agrg!$D24,SEE_data!AL:AL)","v":0},{"$f":"SUMIF(SEE_data!$B:$B,SEE_agrg!$D24,SEE_data!AM:AM)","v":0},{"$f":"SUMIF(SEE_data!$B:$B,SEE_agrg!$D24,SEE_data!AN:AN)","v":0},{"$f":"SUMIF(SEE_data!$B:$B,SEE_agrg!$D24,SEE_data!AO:AO)","v":0},{"$f":"SUMIF(SEE_data!$B:$B,SEE_agrg!$D24,SEE_data!AP:AP)","v":0},{"$f":"SUMIF(SEE_data!$B:$B,SEE_agrg!$D24,SEE_data!AQ:AQ)","v":0},{"$f":"SUMIF(SEE_data!$B:$B,SEE_agrg!$D24,SEE_data!AR:AR)","v":0},{"$f":"SUMIF(SEE_data!$B:$B,SEE_agrg!$D24,SEE_data!AS:AS)","v":0},{"$f":"SUMIF(SEE_data!$B:$B,SEE_agrg!$D24,SEE_data!AT:AT)","v":0},{"$f":"SUMIF(SEE_data!$B:$B,SEE_agrg!$D24,SEE_data!AU:AU)","v":0},{"$f":"SUMIF(SEE_data!$B:$B,SEE_agrg!$D24,SEE_data!AV:AV)","v":0},{"$f":"SUMIF(SEE_data!$B:$B,SEE_agrg!$D24,SEE_data!AW:AW)","v":0},{"$f":"SUMIF(SEE_data!$B:$B,SEE_agrg!$D24,SEE_data!AX:AX)","v":0},{"$f":"SUMIF(SEE_data!$B:$B,SEE_agrg!$D24,SEE_data!AY:AY)","v":0},{"$f":"SUMIF(SEE_data!$B:$B,SEE_agrg!$D24,SEE_data!AZ:AZ)","v":0},{"$f":"SUMIF(SEE_data!$B:$B,SEE_agrg!$D24,SEE_data!BA:BA)","v":0},{"$f":"SUMIF(SEE_data!$B:$B,SEE_agrg!$D24,SEE_data!BB:BB)","v":0},{"$f":"SUMIF(SEE_data!$B:$B,SEE_agrg!$D24,SEE_data!BC:BC)","v":0},0,0,0,0,0,0,0,0,0,0,{"$f":"SUMIFS(UdS_data!D:D,UdS_data!F:F,1,UdS_data!B:B,D24)","v":0},{"$error":"#DIV/0!"},0,0,0,0,0,0,{"$error":"#DIV/0!"},0,0,0,0,0,0]
[null,{"$f":"INDEX(Sistema_Analisado!$A$3:$F$99,MATCH($D25,Sistema_Analisado!$B$3:$B$99,FALSE),MATCH($B$4,Sistema_Analisado!$A$3:$F$3,FALSE))","v":{"$error":"#N/A"}},{"$f":"INDEX(Sistema_Analisado!$A$3:$F$99,MATCH(D25,Sistema_Analisado!$B$3:$B$99,FALSE),MATCH(\"Seq. Corredor\",Sistema_Analisado!$A$3:$F$3,0))","v":{"$error":"#N/A"}},null,{"$f":"SUMIF(SEE_data!$B:$B,SEE_agrg!$D25,SEE_data!F:F)","v":0},{"$f":"SUMIF(SEE_data!$B:$B,SEE_agrg!$D25,SEE_data!AF:AF)","v":0},{"$f":"SUMIF(SEE_data!$B:$B,SEE_agrg!$D25,SEE_data!AG:AG)","v":0},{"$f":"SUMIF(SEE_data!$B:$B,SEE_agrg!$D25,SEE_data!AH:AH)","v":0},{"$f":"SUMIF(SEE_data!$B:$B,SEE_agrg!$D25,SEE_data!AI:AI)","v":0},{"$f":"SUMIF(SEE_data!$B:$B,SEE_agrg!$D25,SEE_data!AJ:AJ)","v":0},{"$f":"SUMIF(SEE_data!$B:$B,SEE_agrg!$D25,SEE_data!AK:AK)","v":0},{"$f":"SUMIF(SEE_data!$B:$B,SEE_agrg!$D25,SEE_data!AL:AL)","v":0},{"$f":"SUMIF(SEE_data!$B:$B,SEE_agrg!$D25,SEE_data!AM:AM)","v":0},{"$f":"SUMIF(SEE_data!$B:$B,SEE_agrg!$D25,SEE_data!AN:AN)","v":0},{"$f":"SUMIF(SEE_data!$B:$B,SEE_agrg!$D25,SEE_data!AO:AO)","v":0},{"$f":"SUMIF(SEE_data!$B:$B,SEE_agrg!$D25,SEE_data!AP:AP)","v":0},{"$f":"SUMIF(SEE_data!$B:$B,SEE_agrg!$D25,SEE_data!AQ:AQ)","v":0},{"$f":"SUMIF(SEE_data!$B:$B,SEE_agrg!$D25,SEE_data!AR:AR)","v":0},{"$f":"SUMIF(SEE_data!$B:$B,SEE_agrg!$D25,SEE_data!AS:AS)","v":0},{"$f":"SUMIF(SEE_data!$B:$B,SEE_agrg!$D25,SEE_data!AT:AT)","v":0},{"$f":"SUMIF(SEE_data!$B:$B,SEE_agrg!$D25,SEE_data!AU:AU)","v":0},{"$f":"SUMIF(SEE_data!$B:$B,SEE_agrg!$D25,SEE_data!AV:AV)","v":0},{"$f":"SUMIF(SEE_data!$B:$B,SEE_agrg!$D25,SEE_data!AW:AW)","v":0},{"$f":"SUMIF(SEE_data!$B:$B,SEE_agrg!$D25,SEE_data!AX:AX)","v":0},{"$f":"SUMIF(SEE_data!$B:$B,SEE_agrg!$D25,SEE_data!AY:AY)","v":0},{"$f":"SUMIF(SEE_data!$B:$B,SEE_agrg!$D25,SEE_data!AZ:AZ)","v":0},{"$f":"SUMIF(SEE_data!$B:$B,SEE_agrg!$D25,SEE_data!BA:BA)","v":0},{"$f":"SUMIF(SEE_data!$B:$B,SEE_agrg!$D25,SEE_data!BB:BB)","v":0},{"$f":"SUMIF(SEE_data!$B:$B,SEE_agrg!$D25,SEE_data!BC:BC)","v":0},0,0,0,0,0,0,0,0,0,0,{"$f":"SUMIFS(UdS_data!D:D,UdS_data!F:F,1,UdS_data!B:B,D25)","v":0},{"$error":"#DIV/0!"},0,0,0,0,0,0,{"$error":"#DIV/0!"},0,0,0,0,0,0]
[null,{"$f":"INDEX(Sistema_Analisado!$A$3:$F$99,MATCH($D26,Sistema_Analisado!$B$3:$B$99,FALSE),MATCH($B$4,Sistema_Analisado!$A$3:$F$3,FALSE))","v":{"$error":"#N/A"}},{"$f":"INDEX(Sistema_Analisado!$A$3:$F$99,MATCH(D26,Sistema_Analisado!$B$3:$B$99,FALSE),MATCH(\"Seq. Corredor\",Sistema_Analisado!$A$3:$F$3,0))","v":{"$error":"#N/A"}},null,{"$f":"SUMIF(SEE_data!$B:$B,SEE_agrg!$D26,SEE_data!F:F)","v":0},{"$f":"SUMIF(SEE_data!$B:$B,SEE_agrg!$D26,SEE_data!AF:AF)","v":0},{"$f":"SUMIF(SEE_data!$B:$B,SEE_agrg!$D26,SEE_data!AG:AG)","v":0},{"$f":"SUMIF(SEE_data!$B:$B,SEE_agrg!$D26,SEE_data!AH:AH)","v":0},{"$f":"SUMIF(SEE_data!$B:$B,SEE_agrg!$D26,SEE_data!AI:AI)","v":0},{"$f":"SUMIF(SEE_data!$B:$B,SEE_agrg!$D26,SEE_data!AJ:AJ)","v":0},{"$f":"SUMIF(SEE_data!$B:$B,SEE_agrg!$D26,SEE_data!AK:AK)","v":0},{"$f":"SUMIF(SEE_data!$B:$B,SEE_agrg!$D26,SEE_data!AL:AL)","v":0},{"$f":"SUMIF(SEE_data!$B:$B,SEE_agrg!$D26,SEE_data!AM:AM)","v":0},{"$f":"SUMIF(SEE_data!$B:$B,SEE_agrg!$D26,SEE_data!AN:AN)","v":0},{"$f":"SUMIF(SEE_data!$B:$B,SEE_agrg!$D26,SEE_data!AO:AO)","v":0},{"$f":"SUMIF(SEE_data!$B:$B,SEE_agrg!$D26,SEE_data!AP:AP)","v":0},{"$f":"SUMIF(SEE_data!$B:$B,SEE_agrg!$D26,SEE_data!AQ:AQ)","v":0},{"$f":"SUMIF(SEE_data!$B:$B,SEE_agrg!$D26,SEE_data!AR:AR)","v":0},{"$f":"SUMIF(SEE_data!$B:$B,SEE_agrg!$D26,SEE_data!AS:AS)","v":0},{"$f":"SUMIF(SEE_data!$B:$B,SEE_agrg!$D26,SEE_data!AT:AT)","v":0},{"$f":"SUMIF(SEE_data!$B:$B,SEE_agrg!$D26,SEE_data!AU:AU)","v":0},{"$f":"SUMIF(SEE_data!$B:$B,SEE_agrg!$D26,SEE_data!AV:AV)","v":0},{"$f":"SUMIF(SEE_data!$B:$B,SEE_agrg!$D26,SEE_data!AW:AW)","v":0},{"$f":"SUMIF(SEE_data!$B:$B,SEE_agrg!$D26,SEE_data!AX:AX)","v":0},{"$f":"SUMIF(SEE_data!$B:$B,SEE_agrg!$D26,SEE_data!AY:AY)","v":0},{"$f":"SUMIF(SEE_data!$B:$B,SEE_agrg!$D26,SEE_data!AZ:AZ)","v":0},{"$f":"SUMIF(SEE_data!$B:$B,SEE_agrg!$D26,SEE_data!BA:BA)","v":0},{"$f":"SUMIF(SEE_data!$B:$B,SEE_agrg!$D26,SEE_data!BB:BB)","v":0},{"$f":"SUMIF(SEE_data!$B:$B,SEE_agrg!$D26,SEE_data!BC:BC)","v":0},0,0,0,0,0,0,0,0,0,0,{"$f":"SUMIFS(UdS_data!D:D,UdS_data!F:F,1,UdS_data!B:B,D26)","v":0},{"$error":"#DIV/0!"},0,0,0,0,0,0,{"$error":"#DIV/0!"},0,0,0,0,0,0]
[null,{"$f":"INDEX(Sistema_Analisado!$A$3:$F$99,MATCH($D27,Sistema_Analisado!$B$3:$B$99,FALSE),MATCH($B$4,Sistema_Analisado!$A$3:$F$3,FALSE))","v":{"$error":"#N/A"}},{"$f":"INDEX(Sistema_Analisado!$A$3:$F$99,MATCH(D27,Sistema_Analisado!$B$3:$B$99,FALSE),MATCH(\"Seq. Corredor\",Sistema_Analisado!$A$3:$F$3,0))","v":{"$error":"#N/A"}},null,{"$f":"SUMIF(SEE_data!$B:$B,SEE_agrg!$D27,SEE_data!F:F)","v":0},{"$f":"SUMIF(SEE_data!$B:$B,SEE_agrg!$D27,SEE_data!AF:AF)","v":0},{"$f":"SUMIF(SEE_data!$B:$B,SEE_agrg!$D27,SEE_data!AG:AG)","v":0},{"$f":"SUMIF(SEE_data!$B:$B,SEE_agrg!$D27,SEE_data!AH:AH)","v":0},{"$f":"SUMIF(SEE_data!$B:$B,SEE_agrg!$D27,SEE_data!AI:AI)","v":0},{"$f":"SUMIF(SEE_data!$B:$B,SEE_agrg!$D27,SEE_data!AJ:AJ)","v":0},{"$f":"SUMIF(SEE_data!$B:$B,SEE_agrg!$D27,SEE_data!AK:AK)","v":0},{"$f":"SUMIF(SEE_data!$B:$B,SEE_agrg!$D27,SEE_data!AL:AL)","v":0},{"$f":"SUMIF(SEE_data!$B:$B,SEE_agrg!$D27,SEE_data!AM:AM)","v":0},{"$f":"SUMIF(SEE_data!$B:$B,SEE_agrg!$D27,SEE_data!AN:AN)","v":0},{"$f":"SUMIF(SEE_data!$B:$B,SEE_agrg!$D27,SEE_data!AO:AO)","v":0},{"$f":"SUMIF(SEE_data!$B:$B,SEE_agrg!$D27,SEE_data!AP:AP)","v":0},{"$f":"SUMIF(SEE_data!$B:$B,SEE_agrg!$D27,SEE_data!AQ:AQ)","v":0},{"$f":"SUMIF(SEE_data!$B:$B,SEE_agrg!$D27,SEE_data!AR:AR)","v":0},{"$f":"SUMIF(SEE_data!$B:$B,SEE_agrg!$D27,SEE_data!AS:AS)","v":0},{"$f":"SUMIF(SEE_data!$B:$B,SEE_agrg!$D27,SEE_data!AT:AT)","v":0},{"$f":"SUMIF(SEE_data!$B:$B,SEE_agrg!$D27,SEE_data!AU:AU)","v":0},{"$f":"SUMIF(SEE_data!$B:$B,SEE_agrg!$D27,SEE_data!AV:AV)","v":0},{"$f":"SUMIF(SEE_data!$B:$B,SEE_agrg!$D27,SEE_data!AW:AW)","v":0},{"$f":"SUMIF(SEE_data!$B:$B,SEE_agrg!$D27,SEE_data!AX:AX)","v":0},{"$f":"SUMIF(SEE_data!$B:$B,SEE_agrg!$D27,SEE_data!AY:AY)","v":0},{"$f":"SUMIF(SEE_data!$B:$B,SEE_agrg!$D27,SEE_data!AZ:AZ)","v":0},{"$f":"SUMIF(SEE_data!$B:$B,SEE_agrg!$D27,SEE_data!BA:BA)","v":0},{"$f":"SUMIF(SEE_data!$B:$B,SEE_agrg!$D27,SEE_data!BB:BB)","v":0},{"$f":"SUMIF(SEE_data!$B:$B,SEE_agrg!$D27,SEE_data!BC:BC)","v":0},0,0,0,0,0,0,0,0,0,0,{"$f":"SUMIFS(UdS_data!D:D,UdS_data!F:F,1,UdS_data!B:B,D27)","v":0},{"$error":"#DIV/0!"},0,0,0,0,0,0,{"$error":"#DIV/0!"},0,0,0,0,0,0]
[null,{"$f":"INDEX(Sistema_Analisado!$A$3:$F$99,MATCH($D28,Sistema_Analisado!$B$3:$B$99,FALSE),MATCH($B$4,Sistema_Analisado!$A$3:$F$3,FALSE))","v":{"$error":"#N/A"}},{"$f":"INDEX(Sistema_Analisado!$A$3:$F$99,MATCH(D28,Sistema_Analisado!$B$3:$B$99,FALSE),MATCH(\"Seq. Corredor\",Sistema_Analisado!$A$3:$F$3,0))","v":{"$error":"#N/A"}},null,{"$f":"SUMIF(SEE_data!$B:$B,SEE_agrg!$D28,SEE_data!F:F)","v":0},{"$f":"SUMIF(SEE_data!$B:$B,SEE_agrg!$D28,SEE_data!AF:AF)","v":0},{"$f":"SUMIF(SEE_data!$B:$B,SEE_agrg!$D28,SEE_data!AG:AG)","v":0},{"$f":"SUMIF(SEE_data!$B:$B,SEE_agrg!$D28,SEE_data!AH:AH)","v":0},{"$f":"SUMIF(SEE_data!$B:$B,SEE_agrg!$D28,SEE_data!AI:AI)","v":0},{"$f":"SUMIF(SEE_data!$B:$B,SEE_agrg!$D28,SEE_data!AJ:AJ)","v":0},{"$f":"SUMIF(SEE_data!$B:$B,SEE_agrg!$D28,SEE_data!AK:AK)","v":0},{"$f":"SUMIF(SEE_data!$B:$B,SEE_agrg!$D28,SEE_data!AL:AL)","v":0},{"$f":"SUMIF(SEE_data!$B:$B,SEE_agrg!$D28,SEE_data!AM:AM)","v":0},{"$f":"SUMIF(SEE_data!$B:$B,SEE_agrg!$D28,SEE_data!AN:AN)","v":0},{"$f":"SUMIF(SEE_data!$B:$B,SEE_agrg!$D28,SEE_data!AO:AO)","v":0},{"$f":"SUMIF(SEE_data!$B:$B,SEE_agrg!$D28,SEE_data!AP:AP)","v":0},{"$f":"SUMIF(SEE_data!$B:$B,SEE_agrg!$D28,SEE_data!AQ:AQ)","v":0},{"$f":"SUMIF(SEE_data!$B:$B,SEE_agrg!$D28,SEE_data!AR:AR)","v":0},{"$f":"SUMIF(SEE_data!$B:$B,SEE_agrg!$D28,SEE_data!AS:AS)","v":0},{"$f":"SUMIF(SEE_data!$B:$B,SEE_agrg!$D28,SEE_data!AT:AT)","v":0},{"$f":"SUMIF(SEE_data!$B:$B,SEE_agrg!$D28,SEE_data!AU:AU)","v":0},{"$f":"SUMIF(SEE_data!$B:$B,SEE_agrg!$D28,SEE_data!AV:AV)","v":0},{"$f":"SUMIF(SEE_data!$B:$B,SEE_agrg!$D28,SEE_data!AW:AW)","v":0},{"$f":"SUMIF(SEE_data!$B:$B,SEE_agrg!$D28,SEE_data!AX:AX)","v":0},{"$f":"SUMIF(SEE_data!$B:$B,SEE_agrg!$D28,SEE_data!AY:AY)","v":0},{"$f":"SUMIF(SEE_data!$B:$B,SEE_agrg!$D28,SEE_data!AZ:AZ)","v":0},{"$f":"SUMIF(SEE_data!$B:$B,SEE_agrg!$D28,SEE_data!BA:BA)","v":0},{"$f":"SUMIF(SEE_data!$B:$B,SEE_agrg!$D28,SEE_data!BB:BB)","v":0},{"$f":"SUMIF(SEE_data!$B:$B,SEE_agrg!$D28,SEE_data!BC:BC)","v":0},0,0,0,0,0,0,0,0,0,0,{"$f":"SUMIFS(UdS_data!D:D,UdS_data!F:F,1,UdS_data!B:B,D28)","v":0},{"$error":"#DIV/0!"},0,0,0,0,0,0,{"$error":"#DIV/0!"},0,0,0,0,0,0]
[null,{"$f":"INDEX(Sistema_Analisado!$A$3:$F$99,MATCH($D29,Sistema_Analisado!$B$3:$B$99,FALSE),MATCH($B$4,Sistema_Analisado!$A$3:$F$3,FALSE))","v":{"$error":"#N/A"}},{"$f":"INDEX(Sistema_Analisado!$A$3:$F$99,MATCH(D29,Sistema_Analisado!$B$3:$B$99,FALSE),MATCH(\"Seq. Corredor\",Sistema_Analisado!$A$3:$F$3,0))","v":{"$error":"#N/A"}},null,{"$f":"SUMIF(SEE_data!$B:$B,SEE_agrg!$D29,SEE_data!F:F)","v":0},{"$f":"SUMIF(SEE_data!$B:$B,SEE_agrg!$D29,SEE_data!AF:AF)","v":0},{"$f":"SUMIF(SEE_data!$B:$B,SEE_agrg!$D29,SEE_data!AG:AG)","v":0},{"$f":"SUMIF(SEE_data!$B:$B,SEE_agrg!$D29,SEE_data!AH:AH)","v":0},{"$f":"SUMIF(SEE_data!$B:$B,SEE_agrg!$D29,SEE_data!AI:AI)","v":0},{"$f":"SUMIF(SEE_data!$B:$B,SEE_agrg!$D29,SEE_data!AJ:AJ)","v":0},{"$f":"SUMIF(SEE_data!$B:$B,SEE_agrg!$D29,SEE_data!AK:AK)","v":0},{"$f":"SUMIF(SEE_data!$B:$B,SEE_agrg!$D29,SEE_data!AL:AL)","v":0},{"$f":"SUMIF(SEE_data!$B:$B,SEE_agrg!$D29,SEE_data!AM:AM)","v":0},{"$f":"SUMIF(SEE_data!$B:$B,SEE_agrg!$D29,SEE_data!AN:AN)","v":0},{"$f":"SUMIF(SEE_data!$B:$B,SEE_agrg!$D29,SEE_data!AO:AO)","v":0},{"$f":"SUMIF(SEE_data!$B:$B,SEE_agrg!$D29,SEE_data!AP:AP)","v":0},{"$f":"SUMIF(SEE_data!$B:$B,SEE_agrg!$D29,SEE_data!AQ:AQ)","v":0},{"$f":"SUMIF(SEE_data!$B:$B,SEE_agrg!$D29,SEE_data!AR:AR)","v":0},{"$f":"SUMIF(SEE_data!$B:$B,SEE_agrg!$D29,SEE_data!AS:AS)","v":0},{"$f":"SUMIF(SEE_data!$B:$B,SEE_agrg!$D29,SEE_data!AT:AT)","v":0},{"$f":"SUMIF(SEE_data!$B:$B,SEE_agrg!$D29,SEE_data!AU:AU)","v":0},{"$f":"SUMIF(SEE_data!$B:$B,SEE_agrg!$D29,SEE_data!AV:AV)","v":0},{"$f":"SUMIF(SEE_data!$B:$B,SEE_agrg!$D29,SEE_data!AW:AW)","v":0},{"$f":"SUMIF(SEE_data!$B:$B,SEE_agrg!$D29,SEE_data!AX:AX)","v":0},{"$f":"SUMIF(SEE_data!$B:$B,SEE_agrg!$D29,SEE_data!AY:AY)","v":0},{"$f":"SUMIF(SEE_data!$B:$B,SEE_agrg!$D29,SEE_data!AZ:AZ)","v":0},{"$f":"SUMIF(SEE_data!$B:$B,SEE_agrg!$D29,SEE_data!BA:BA)","v":0},{"$f":"SUMIF(SEE_data!$B:$B,SEE_agrg!$D29,SEE_data!BB:BB)","v":0},{"$f":"SUMIF(SEE_data!$B:$B,SEE_agrg!$D29,SEE_data!BC:BC)","v":0},0,0,0,0,0,0,0,0,0,0,{"$f":"SUMIFS(UdS_data!D:D,UdS_data!F:F,1,UdS_data!B:B,D29)","v":0},{"$error":"#DIV/0!"},0,0,0,0,0,0,{"$error":"#DIV/0!"},0,0,0,0,0,0]
[null,{"$f":"INDEX(Sistema_Analisado!$A$3:$F$99,MATCH($D30,Sistema_Analisado!$B$3:$B$99,FALSE),MATCH($B$4,Sistema_Analisado!$A$3:$F$3,FALSE))","v":{"$error":"#N/A"}},{"$f":"INDEX(Sistema_Analisado!$A$3:$F$99,MATCH(D30,Sistema_Analisado!$B$3:$B$99,FALSE),MATCH(\"Seq. Corredor\",Sistema_Analisado!$A$3:$F$3,0))","v":{"$error":"#N/A"}},null,{"$f":"SUMIF(SEE_data!$B:$B,SEE_agrg!$D30,SEE_data!F:F)","v":0},{"$f":"SUMIF(SEE_data!$B:$B,SEE_agrg!$D30,SEE_data!AF:AF)","v":0},{"$f":"SUMIF(SEE_data!$B:$B,SEE_agrg!$D30,SEE_data!AG:AG)","v":0},{"$f":"SUMIF(SEE_data!$B:$B,SEE_agrg!$D30,SEE_data!AH:AH)","v":0},{"$f":"SUMIF(SEE_data!$B:$B,SEE_agrg!$D30,SEE_data!AI:AI)","v":0},{"$f":"SUMIF(SEE_data!$B:$B,SEE_agrg!$D30,SEE_data!AJ:AJ)","v":0},{"$f":"SUMIF(SEE_data!$B:$B,SEE_agrg!$D30,SEE_data!AK:AK)","v":0},{"$f":"SUMIF(SEE_data!$B:$B,SEE_agrg!$D30,SEE_data!AL:AL)","v":0},{"$f":"SUMIF(SEE_data!$B:$B,SEE_agrg!$D30,SEE_data!AM:AM)","v":0},{"$f":"SUMIF(SEE_data!$B:$B,SEE_agrg!$D30,SEE_data!AN:AN)","v":0},{"$f":"SUMIF(SEE_data!$B:$B,SEE_agrg!$D30,SEE_data!AO:AO)","v":0},{"$f":"SUMIF(SEE_data!$B:$B,SEE_agrg!$D30,SEE_data!AP:AP)","v":0},{"$f":"SUMIF(SEE_data!$B:$B,SEE_agrg!$D30,SEE_data!AQ:AQ)","v":0},{"$f":"SUMIF(SEE_data!$B:$B,SEE_agrg!$D30,SEE_data!AR:AR)","v":0},{"$f":"SUMIF(SEE_data!$B:$B,SEE_agrg!$D30,SEE_data!AS:AS)","v":0},{"$f":"SUMIF(SEE_data!$B:$B,SEE_agrg!$D30,SEE_data!AT:AT)","v":0},{"$f":"SUMIF(SEE_data!$B:$B,SEE_agrg!$D30,SEE_data!AU:AU)","v":0},{"$f":"SUMIF(SEE_data!$B:$B,SEE_agrg!$D30,SEE_data!AV:AV)","v":0},{"$f":"SUMIF(SEE_data!$B:$B,SEE_agrg!$D30,SEE_data!AW:AW)","v":0},{"$f":"SUMIF(SEE_data!$B:$B,SEE_agrg!$D30,SEE_data!AX:AX)","v":0},{"$f":"SUMIF(SEE_data!$B:$B,SEE_agrg!$D30,SEE_data!AY:AY)","v":0},{"$f":"SUMIF(SEE_data!$B:$B,SEE_agrg!$D30,SEE_data!AZ:AZ)","v":0},{"$f":"SUMIF(SEE_data!$B:$B,SEE_agrg!$D30,SEE_data!BA:BA)","v":0},{"$f":"SUMIF(SEE_data!$B:$B,SEE_agrg!$D30,SEE_data!BB:BB)","v":0},{"$f":"SUMIF(SEE_data!$B:$B,SEE_agrg!$D30,SEE_data!BC:BC)","v":0},0,0,0,0,0,0,0,0,0,0,{"$f":"SUMIFS(UdS_data!D:D,UdS_data!F:F,1,UdS_data!B:B,D30)","v":0},{"$error":"#DIV/0!"},0,0,0,0,0,0,{"$error":"#DIV/0!"},0,0,0,0,0,0]
[null,{"$f":"INDEX(Sistema_Analisado!$A$3:$F$99,MATCH($D31,Sistema_Analisado!$B$3:$B$99,FALSE),MATCH($B$4,Sistema_Analisado!$A$3:$F$3,FALSE))","v":{"$error":"#N/A"}},{"$f":"INDEX(Sistema_Analisado!$A$3:$F$99,MATCH(D31,Sistema_Analisado!$B$3:$B$99,FALSE),MATCH(\"Seq. Corredor\",Sistema_Analisado!$A$3:$F$3,0))","v":{"$error":"#N/A"}},null,{"$f":"SUMIF(SEE_data!$B:$B,SEE_agrg!$D31,SEE_data!F:F)","v":0},{"$f":"SUMIF(SEE_data!$B:$B,SEE_agrg!$D31,SEE_data!AF:AF)","v":0},{"$f":"SUMIF(SEE_data!$B:$B,SEE_agrg!$D31,SEE_data!AG:AG)","v":0},{"$f":"SUMIF(SEE_data!$B:$B,SEE_agrg!$D31,SEE_data!AH:AH)","v":0},{"$f":"SUMIF(SEE_data!$B:$B,SEE_agrg!$D31,SEE_data!AI:AI)","v":0},{"$f":"SUMIF(SEE_data!$B:$B,SEE_agrg!$D31,SEE_data!AJ:AJ)","v":0},{"$f":"SUMIF(SEE_data!$B:$B,SEE_agrg!$D31,SEE_data!AK:AK)","v":0},{"$f":"SUMIF(SEE_data!$B:$B,SEE_agrg!$D31,SEE_data!AL:AL)","v":0},{"$f":"SUMIF(SEE_data!$B:$B,SEE_agrg!$D31,SEE_data!AM:AM)","v":0},{"$f":"SUMIF(SEE_data!$B:$B,SEE_agrg!$D31,SEE_data!AN:AN)","v":0},{"$f":"SUMIF(SEE_data!$B:$B,SEE_agrg!$D31,SEE_data!AO:AO)","v":0},{"$f":"SUMIF(SEE_data!$B:$B,SEE_agrg!$D31,SEE_data!AP:AP)","v":0},{"$f":"SUMIF(SEE_data!$B:$B,SEE_agrg!$D31,SEE_data!AQ:AQ)","v":0},{"$f":"SUMIF(SEE_data!$B:$B,SEE_agrg!$D31,SEE_data!AR:AR)","v":0},{"$f":"SUMIF(SEE_data!$B:$B,SEE_agrg!$D31,SEE_data!AS:AS)","v":0},{"$f":"SUMIF(SEE_data!$B:$B,SEE_agrg!$D31,SEE_data!AT:AT)","v":0},{"$f":"SUMIF(SEE_data!$B:$B,SEE_agrg!$D31,SEE_data!AU:AU)","v":0},{"$f":"SUMIF(SEE_data!$B:$B,SEE_agrg!$D31,SEE_data!AV:AV)","v":0},{"$f":"SUMIF(SEE_data!$B:$B,SEE_agrg!$D31,SEE_data!AW:AW)","v":0},{"$f":"SUMIF(SEE_data!$B:$B,SEE_agrg!$D31,SEE_data!AX:AX)","v":0},{"$f":"SUMIF(SEE_data!$B:$B,SEE_agrg!$D31,SEE_data!AY:AY)","v":0},{"$f":"SUMIF(SEE_data!$B:$B,SEE_agrg!$D31,SEE_data!AZ:AZ)","v":0},{"$f":"SUMIF(SEE_data!$B:$B,SEE_agrg!$D31,SEE_data!BA:BA)","v":0},{"$f":"SUMIF(SEE_data!$B:$B,SEE_agrg!$D31,SEE_data!BB:BB)","v":0},{"$f":"SUMIF(SEE_data!$B:$B,SEE_agrg!$D31,SEE_data!BC:BC)","v":0},0,0,0,0,0,0,0,0,0,0,{"$f":"SUMIFS(UdS_data!D:D,UdS_data!F:F,1,UdS_data!B:B,D31)","v":0},{"$error":"#DIV/0!"},0,0,0,0,0,0,{"$error":"#DIV/0!"},0,0,0,0,0,0]
[null,{"$f":"INDEX(Sistema_Analisado!$A$3:$F$99,MATCH($D32,Sistema_Analisado!$B$3:$B$99,FALSE),MATCH($B$4,Sistema_Analisado!$A$3:$F$3,FALSE))","v":{"$error":"#N/A"}},{"$f":"INDEX(Sistema_Analisado!$A$3:$F$99,MATCH(D32,Sistema_Analisado!$B$3:$B$99,FALSE),MATCH(\"Seq. Corredor\",Sistema_Analisado!$A$3:$F$3,0))","v":{"$error":"#N/A"}},null,{"$f":"SUMIF(SEE_data!$B:$B,SEE_agrg!$D32,SEE_data!F:F)","v":0},{"$f":"SUMIF(SEE_data!$B:$B,SEE_agrg!$D32,SEE_data!AF:AF)","v":0},{"$f":"SUMIF(SEE_data!$B:$B,SEE_agrg!$D32,SEE_data!AG:AG)","v":0},{"$f":"SUMIF(SEE_data!$B:$B,SEE_agrg!$D32,SEE_data!AH:AH)","v":0},{"$f":"SUMIF(SEE_data!$B:$B,SEE_agrg!$D32,SEE_data!AI:AI)","v":0},{"$f":"SUMIF(SEE_data!$B:$B,SEE_agrg!$D32,SEE_data!AJ:AJ)","v":0},{"$f":"SUMIF(SEE_data!$B:$B,SEE_agrg!$D32,SEE_data!AK:AK)","v":0},{"$f":"SUMIF(SEE_data!$B:$B,SEE_agrg!$D32,SEE_data!AL:AL)","v":0},{"$f":"SUMIF(SEE_data!$B:$B,SEE_agrg!$D32,SEE_data!AM:AM)","v":0},{"$f":"SUMIF(SEE_data!$B:$B,SEE_agrg!$D32,SEE_data!AN:AN)","v":0},{"$f":"SUMIF(SEE_data!$B:$B,SEE_agrg!$D32,SEE_data!AO:AO)","v":0},{"$f":"SUMIF(SEE_data!$B:$B,SEE_agrg!$D32,SEE_data!AP:AP)","v":0},{"$f":"SUMIF(SEE_data!$B:$B,SEE_agrg!$D32,SEE_data!AQ:AQ)","v":0},{"$f":"SUMIF(SEE_data!$B:$B,SEE_agrg!$D32,SEE_data!AR:AR)","v":0},{"$f":"SUMIF(SEE_data!$B:$B,SEE_agrg!$D32,SEE_data!AS:AS)","v":0},{"$f":"SUMIF(SEE_data!$B:$B,SEE_agrg!$D32,SEE_data!AT:AT)","v":0},{"$f":"SUMIF(SEE_data!$B:$B,SEE_agrg!$D32,SEE_data!AU:AU)","v":0},{"$f":"SUMIF(SEE_data!$B:$B,SEE_agrg!$D32,SEE_data!AV:AV)","v":0},{"$f":"SUMIF(SEE_data!$B:$B,SEE_agrg!$D32,SEE_data!AW:AW)","v":0},{"$f":"SUMIF(SEE_data!$B:$B,SEE_agrg!$D32,SEE_data!AX:AX)","v":0},{"$f":"SUMIF(SEE_data!$B:$B,SEE_agrg!$D32,SEE_data!AY:AY)","v":0},{"$f":"SUMIF(SEE_data!$B:$B,SEE_agrg!$D32,SEE_data!AZ:AZ)","v":0},{"$f":"SUMIF(SEE_data!$B:$B,SEE_agrg!$D32,SEE_data!BA:BA)","v":0},{"$f":"SUMIF(SEE_data!$B:$B,SEE_agrg!$D32,SEE_data!BB:BB)","v":0},{"$f":"SUMIF(SEE_data!$B:$B,SEE_agrg!$D32,SEE_data!BC:BC)","v":0},0,0,0,0,0,0,0,0,0,0,{"$f":"SUMIFS(UdS_data!D:D,UdS_data!F:F,1,UdS_data!B:B,D32)","v":0},{"$error":"#DIV/0!"},0,0,0,0,0,0,{"$error":"#DIV/0!"},0,0,0,0,0,0]
[null,{"$f":"INDEX(Sistema_Analisado!$A$3:$F$99,MATCH($D33,Sistema_Analisado!$B$3:$B$99,FALSE),MATCH($B$4,Sistema_Analisado!$A$3:$F$3,FALSE))","v":{"$error":"#N/A"}},{"$f":"INDEX(Sistema_Analisado!$A$3:$F$99,MATCH(D33,Sistema_Analisado!$B$3:$B$99,FALSE),MATCH(\"Seq. Corredor\",Sistema_Analisado!$A$3:$F$3,0))","v":{"$error":"#N/A"}},null,{"$f":"SUMIF(SEE_data!$B:$B,SEE_agrg!$D33,SEE_data!F:F)","v":0},{"$f":"SUMIF(SEE_data!$B:$B,SEE_agrg!$D33,SEE_data!AF:AF)","v":0},{"$f":"SUMIF(SEE_data!$B:$B,SEE_agrg!$D33,SEE_data!AG:AG)","v":0},{"$f":"SUMIF(SEE_data!$B:$B,SEE_agrg!$D33,SEE_data!AH:AH)","v":0},{"$f":"SUMIF(SEE_data!$B:$B,SEE_agrg!$D33,SEE_data!AI:AI)","v":0},{"$f":"SUMIF(SEE_data!$B:$B,SEE_agrg!$D33,SEE_data!AJ:AJ)","v":0},{"$f":"SUMIF(SEE_data!$B:$B,SEE_agrg!$D33,SEE_data!AK:AK)","v":0},{"$f":"SUMIF(SEE_data!$B:$B,SEE_agrg!$D33,SEE_data!AL:AL)","v":0},{"$f":"SUMIF(SEE_data!$B:$B,SEE_agrg!$D33,SEE_data!AM:AM)","v":0},{"$f":"SUMIF(SEE_data!$B:$B,SEE_agrg!$D33,SEE_data!AN:AN)","v":0},{"$f":"SUMIF(SEE_data!$B:$B,SEE_agrg!$D33,SEE_data!AO:AO)","v":0},{"$f":"SUMIF(SEE_data!$B:$B,SEE_agrg!$D33,SEE_data!AP:AP)","v":0},{"$f":"SUMIF(SEE_data!$B:$B,SEE_agrg!$D33,SEE_data!AQ:AQ)","v":0},{"$f":"SUMIF(SEE_data!$B:$B,SEE_agrg!$D33,SEE_data!AR:AR)","v":0},{"$f":"SUMIF(SEE_data!$B:$B,SEE_agrg!$D33,SEE_data!AS:AS)","v":0},{"$f":"SUMIF(SEE_data!$B:$B,SEE_agrg!$D33,SEE_data!AT:AT)","v":0},{"$f":"SUMIF(SEE_data!$B:$B,SEE_agrg!$D33,SEE_data!AU:AU)","v":0},{"$f":"SUMIF(SEE_data!$B:$B,SEE_agrg!$D33,SEE_data!AV:AV)","v":0},{"$f":"SUMIF(SEE_data!$B:$B,SEE_agrg!$D33,SEE_data!AW:AW)","v":0},{"$f":"SUMIF(SEE_data!$B:$B,SEE_agrg!$D33,SEE_data!AX:AX)","v":0},{"$f":"SUMIF(SEE_data!$B:$B,SEE_agrg!$D33,SEE_data!AY:AY)","v":0},{"$f":"SUMIF(SEE_data!$B:$B,SEE_agrg!$D33,SEE_data!AZ:AZ)","v":0},{"$f":"SUMIF(SEE_data!$B:$B,SEE_agrg!$D33,SEE_data!BA:BA)","v":0},{"$f":"SUMIF(SEE_data!$B:$B,SEE_agrg!$D33,SEE_data!BB:BB)","v":0},{"$f":"SUMIF(SEE_data!$B:$B,SEE_agrg!$D33,SEE_data!BC:BC)","v":0},0,0,0,0,0,0,0,0,0,0,{"$f":"SUMIFS(UdS_data!D:D,UdS_data!F:F,1,UdS_data!B:B,D33)","v":0},{"$error":"#DIV/0!"},0,0,0,0,0,0,{"$error":"#DIV/0!"},0,0,0,0,0,0]
[null,{"$f":"INDEX(Sistema_Analisado!$A$3:$F$99,MATCH($D34,Sistema_Analisado!$B$3:$B$99,FALSE),MATCH($B$4,Sistema_Analisado!$A$3:$F$3,FALSE))","v":{"$error":"#N/A"}},{"$f":"INDEX(Sistema_Analisado!$A$3:$F$99,MATCH(D34,Sistema_Analisado!$B$3:$B$99,FALSE),MATCH(\"Seq. Corredor\",Sistema_Analisado!$A$3:$F$3,0))","v":{"$error":"#N/A"}},null,{"$f":"SUMIF(SEE_data!$B:$B,SEE_agrg!$D34,SEE_data!F:F)","v":0},{"$f":"SUMIF(SEE_data!$B:$B,SEE_agrg!$D34,SEE_data!AF:AF)","v":0},{"$f":"SUMIF(SEE_data!$B:$B,SEE_agrg!$D34,SEE_data!AG:AG)","v":0},{"$f":"SUMIF(SEE_data!$B:$B,SEE_agrg!$D34,SEE_data!AH:AH)","v":0},{"$f":"SUMIF(SEE_data!$B:$B,SEE_agrg!$D34,SEE_data!AI:AI)","v":0},{"$f":"SUMIF(SEE_data!$B:$B,SEE_agrg!$D34,SEE_data!AJ:AJ)","v":0},{"$f":"SUMIF(SEE_data!$B:$B,SEE_agrg!$D34,SEE_data!AK:AK)","v":0},{"$f":"SUMIF(SEE_data!$B:$B,SEE_agrg!$D34,SEE_data!AL:AL)","v":0},{"$f":"SUMIF(SEE_data!$B:$B,SEE_agrg!$D34,SEE_data!AM:AM)","v":0},{"$f":"SUMIF(SEE_data!$B:$B,SEE_agrg!$D34,SEE_data!AN:AN)","v":0},{"$f":"SUMIF(SEE_data!$B:$B,SEE_agrg!$D34,SEE_data!AO:AO)","v":0},{"$f":"SUMIF(SEE_data!$B:$B,SEE_agrg!$D34,SEE_data!AP:AP)","v":0},{"$f":"SUMIF(SEE_data!$B:$B,SEE_agrg!$D34,SEE_data!AQ:AQ)","v":0},{"$f":"SUMIF(SEE_data!$B:$B,SEE_agrg!$D34,SEE_data!AR:AR)","v":0},{"$f":"SUMIF(SEE_data!$B:$B,SEE_agrg!$D34,SEE_data!AS:AS)","v":0},{"$f":"SUMIF(SEE_data!$B:$B,SEE_agrg!$D34,SEE_data!AT:AT)","v":0},{"$f":"SUMIF(SEE_data!$B:$B,SEE_agrg!$D34,SEE_data!AU:AU)","v":0},{"$f":"SUMIF(SEE_data!$B:$B,SEE_agrg!$D34,SEE_data!AV:AV)","v":0},{"$f":"SUMIF(SEE_data!$B:$B,SEE_agrg!$D34,SEE_data!AW:AW)","v":0},{"$f":"SUMIF(SEE_data!$B:$B,SEE_agrg!$D34,SEE_data!AX:AX)","v":0},{"$f":"SUMIF(SEE_data!$B:$B,SEE_agrg!$D34,SEE_data!AY:AY)","v":0},{"$f":"SUMIF(SEE_data!$B:$B,SEE_agrg!$D34,SEE_data!AZ:AZ)","v":0},{"$f":"SUMIF(SEE_data!$B:$B,SEE_agrg!$D34,SEE_data!BA:BA)","v":0},{"$f":"SUMIF(SEE_data!$B:$B,SEE_agrg!$D34,SEE_data!BB:BB)","v":0},{"$f":"SUMIF(SEE_data!$B:$B,SEE_agrg!$D34,SEE_data!BC:BC)","v":0},0,0,0,0,0,0,0,0,0,0,{"$f":"SUMIFS(UdS_data!D:D,UdS_data!F:F,1,UdS_data!B:B,D34)","v":0},{"$error":"#DIV/0!"},0,0,0,0,0,0,{"$error":"#DIV/0!"},0,0,0,0,0,0]
[null,{"$f":"INDEX(Sistema_Analisado!$A$3:$F$99,MATCH($D35,Sistema_Analisado!$B$3:$B$99,FALSE),MATCH($B$4,Sistema_Analisado!$A$3:$F$3,FALSE))","v":{"$error":"#N/A"}},{"$f":"INDEX(Sistema_Analisado!$A$3:$F$99,MATCH(D35,Sistema_Analisado!$B$3:$B$99,FALSE),MATCH(\"Seq. Corredor\",Sistema_Analisado!$A$3:$F$3,0))","v":{"$error":"#N/A"}},null,{"$f":"SUMIF(SEE_data!$B:$B,SEE_agrg!$D35,SEE_data!F:F)","v":0},{"$f":"SUMIF(SEE_data!$B:$B,SEE_agrg!$D35,SEE_data!AF:AF)","v":0},{"$f":"SUMIF(SEE_data!$B:$B,SEE_agrg!$D35,SEE_data!AG:AG)","v":0},{"$f":"SUMIF(SEE_data!$B:$B,SEE_agrg!$D35,SEE_data!AH:AH)","v":0},{"$f":"SUMIF(SEE_data!$B:$B,SEE_agrg!$D35,SEE_data!AI:AI)","v":0},{"$f":"SUMIF(SEE_data!$B:$B,SEE_agrg!$D35,SEE_data!AJ:AJ)","v":0},{"$f":"SUMIF(SEE_data!$B:$B,SEE_agrg!$D35,SEE_data!AK:AK)","v":0},{"$f":"SUMIF(SEE_data!$B:$B,SEE_agrg!$D35,SEE_data!AL:AL)","v":0},{"$f":"SUMIF(SEE_data!$B:$B,SEE_agrg!$D35,SEE_data!AM:AM)","v":0},{"$f":"SUMIF(SEE_data!$B:$B,SEE_agrg!$D35,SEE_data!AN:AN)","v":0},{"$f":"SUMIF(SEE_data!$B:$B,SEE_agrg!$D35,SEE_data!AO:AO)","v":0},{"$f":"SUMIF(SEE_data!$B:$B,SEE_agrg!$D35,SEE_data!AP:AP)","v":0},{"$f":"SUMIF(SEE_data!$B:$B,SEE_agrg!$D35,SEE_data!AQ:AQ)","v":0},{"$f":"SUMIF(SEE_data!$B:$B,SEE_agrg!$D35,SEE_data!AR:AR)","v":0},{"$f":"SUMIF(SEE_data!$B:$B,SEE_agrg!$D35,SEE_data!AS:AS)","v":0},{"$f":"SUMIF(SEE_data!$B:$B,SEE_agrg!$D35,SEE_data!AT:AT)","v":0},{"$f":"SUMIF(SEE_data!$B:$B,SEE_agrg!$D35,SEE_data!AU:AU)","v":0},{"$f":"SUMIF(SEE_data!$B:$B,SEE_agrg!$D35,SEE_data!AV:AV)","v":0},{"$f":"SUMIF(SEE_data!$B:$B,SEE_agrg!$D35,SEE_data!AW:AW)","v":0},{"$f":"SUMIF(SEE_data!$B:$B,SEE_agrg!$D35,SEE_data!AX:AX)","v":0},{"$f":"SUMIF(SEE_data!$B:$B,SEE_agrg!$D35,SEE_data!AY:AY)","v":0},{"$f":"SUMIF(SEE_data!$B:$B,SEE_agrg!$D35,SEE_data!AZ:AZ)","v":0},{"$f":"SUMIF(SEE_data!$B:$B,SEE_agrg!$D35,SEE_data!BA:BA)","v":0},{"$f":"SUMIF(SEE_data!$B:$B,SEE_agrg!$D35,SEE_data!BB:BB)","v":0},{"$f":"SUMIF(SEE_data!$B:$B,SEE_agrg!$D35,SEE_data!BC:BC)","v":0},0,0,0,0,0,0,0,0,0,0,{"$f":"SUMIFS(UdS_data!D:D,UdS_data!F:F,1,UdS_data!B:B,D35)","v":0},{"$error":"#DIV/0!"},0,0,0,0,0,0,{"$error":"#DIV/0!"},0,0,0,0,0,0]
[null,{"$f":"INDEX(Sistema_Analisado!$A$3:$F$99,MATCH($D36,Sistema_Analisado!$B$3:$B$99,FALSE),MATCH($B$4,Sistema_Analisado!$A$3:$F$3,FALSE))","v":{"$error":"#N/A"}},{"$f":"INDEX(Sistema_Analisado!$A$3:$F$99,MATCH(D36,Sistema_Analisado!$B$3:$B$99,FALSE),MATCH(\"Seq. Corredor\",Sistema_Analisado!$A$3:$F$3,0))","v":{"$error":"#N/A"}},null,{"$f":"SUMIF(SEE_data!$B:$B,SEE_agrg!$D36,SEE_data!F:F)","v":0},{"$f":"SUMIF(SEE_data!$B:$B,SEE_agrg!$D36,SEE_data!AF:AF)","v":0},{"$f":"SUMIF(SEE_data!$B:$B,SEE_agrg!$D36,SEE_data!AG:AG)","v":0},{"$f":"SUMIF(SEE_data!$B:$B,SEE_agrg!$D36,SEE_data!AH:AH)","v":0},{"$f":"SUMIF(SEE_data!$B:$B,SEE_agrg!$D36,SEE_data!AI:AI)","v":0},{"$f":"SUMIF(SEE_data!$B:$B,SEE_agrg!$D36,SEE_data!AJ:AJ)","v":0},{"$f":"SUMIF(SEE_data!$B:$B,SEE_agrg!$D36,SEE_data!AK:AK)","v":0},{"$f":"SUMIF(SEE_data!$B:$B,SEE_agrg!$D36,SEE_data!AL:AL)","v":0},{"$f":"SUMIF(SEE_data!$B:$B,SEE_agrg!$D36,SEE_data!AM:AM)","v":0},{"$f":"SUMIF(SEE_data!$B:$B,SEE_agrg!$D36,SEE_data!AN:AN)","v":0},{"$f":"SUMIF(SEE_data!$B:$B,SEE_agrg!$D36,SEE_data!AO:AO)","v":0},{"$f":"SUMIF(SEE_data!$B:$B,SEE_agrg!$D36,SEE_data!AP:AP)","v":0},{"$f":"SUMIF(SEE_data!$B:$B,SEE_agrg!$D36,SEE_data!AQ:AQ)","v":0},{"$f":"SUMIF(SEE_data!$B:$B,SEE_agrg!$D36,SEE_data!AR:AR)","v":0},{"$f":"SUMIF(SEE_data!$B:$B,SEE_agrg!$D36,SEE_data!AS:AS)","v":0},{"$f":"SUMIF(SEE_data!$B:$B,SEE_agrg!$D36,SEE_data!AT:AT)","v":0},{"$f":"SUMIF(SEE_data!$B:$B,SEE_agrg!$D36,SEE_data!AU:AU)","v":0},{"$f":"SUMIF(SEE_data!$B:$B,SEE_agrg!$D36,SEE_data!AV:AV)","v":0},{"$f":"SUMIF(SEE_data!$B:$B,SEE_agrg!$D36,SEE_data!AW:AW)","v":0},{"$f":"SUMIF(SEE_data!$B:$B,SEE_agrg!$D36,SEE_data!AX:AX)","v":0},{"$f":"SUMIF(SEE_data!$B:$B,SEE_agrg!$D36,SEE_data!AY:AY)","v":0},{"$f":"SUMIF(SEE_data!$B:$B,SEE_agrg!$D36,SEE_data!AZ:AZ)","v":0},{"$f":"SUMIF(SEE_data!$B:$B,SEE_agrg!$D36,SEE_data!BA:BA)","v":0},{"$f":"SUMIF(SEE_data!$B:$B,SEE_agrg!$D36,SEE_data!BB:BB)","v":0},{"$f":"SUMIF(SEE_data!$B:$B,SEE_agrg!$D36,SEE_data!BC:BC)","v":0},0,0,0,0,0,0,0,0,0,0,{"$f":"SUMIFS(UdS_data!D:D,UdS_data!F:F,1,UdS_data!B:B,D36)","v":0},{"$error":"#DIV/0!"},0,0,0,0,0,0,{"$error":"#DIV/0!"},0,0,0,0,0,0]
[null,{"$f":"INDEX(Sistema_Analisado!$A$3:$F$99,MATCH($D37,Sistema_Analisado!$B$3:$B$99,FALSE),MATCH($B$4,Sistema_Analisado!$A$3:$F$3,FALSE))","v":{"$error":"#N/A"}},{"$f":"INDEX(Sistema_Analisado!$A$3:$F$99,MATCH(D37,Sistema_Analisado!$B$3:$B$99,FALSE),MATCH(\"Seq. Corredor\",Sistema_Analisado!$A$3:$F$3,0))","v":{"$error":"#N/A"}},null,{"$f":"SUMIF(SEE_data!$B:$B,SEE_agrg!$D37,SEE_data!F:F)","v":0},{"$f":"SUMIF(SEE_data!$B:$B,SEE_agrg!$D37,SEE_data!AF:AF)","v":0},{"$f":"SUMIF(SEE_data!$B:$B,SEE_agrg!$D37,SEE_data!AG:AG)","v":0},{"$f":"SUMIF(SEE_data!$B:$B,SEE_agrg!$D37,SEE_data!AH:AH)","v":0},{"$f":"SUMIF(SEE_data!$B:$B,SEE_agrg!$D37,SEE_data!AI:AI)","v":0},{"$f":"SUMIF(SEE_data!$B:$B,SEE_agrg!$D37,SEE_data!AJ:AJ)","v":0},{"$f":"SUMIF(SEE_data!$B:$B,SEE_agrg!$D37,SEE_data!AK:AK)","v":0},{"$f":"SUMIF(SEE_data!$B:$B,SEE_agrg!$D37,SEE_data!AL:AL)","v":0},{"$f":"SUMIF(SEE_data!$B:$B,SEE_agrg!$D37,SEE_data!AM:AM)","v":0},{"$f":"SUMIF(SEE_data!$B:$B,SEE_agrg!$D37,SEE_data!AN:AN)","v":0},{"$f":"SUMIF(SEE_data!$B:$B,SEE_agrg!$D37,SEE_data!AO:AO)","v":0},{"$f":"SUMIF(SEE_data!$B:$B,SEE_agrg!$D37,SEE_data!AP:AP)","v":0},{"$f":"SUMIF(SEE_data!$B:$B,SEE_agrg!$D37,SEE_data!AQ:AQ)","v":0},{"$f":"SUMIF(SEE_data!$B:$B,SEE_agrg!$D37,SEE_data!AR:AR)","v":0},{"$f":"SUMIF(SEE_data!$B:$B,SEE_agrg!$D37,SEE_data!AS:AS)","v":0},{"$f":"SUMIF(SEE_data!$B:$B,SEE_agrg!$D37,SEE_data!AT:AT)","v":0},{"$f":"SUMIF(SEE_data!$B:$B,SEE_agrg!$D37,SEE_data!AU:AU)","v":0},{"$f":"SUMIF(SEE_data!$B:$B,SEE_agrg!$D37,SEE_data!AV:AV)","v":0},{"$f":"SUMIF(SEE_data!$B:$B,SEE_agrg!$D37,SEE_data!AW:AW)","v":0},{"$f":"SUMIF(SEE_data!$B:$B,SEE_agrg!$D37,SEE_data!AX:AX)","v":0},{"$f":"SUMIF(SEE_data!$B:$B,SEE_agrg!$D37,SEE_data!AY:AY)","v":0},{"$f":"SUMIF(SEE_data!$B:$B,SEE_agrg!$D37,SEE_data!AZ:AZ)","v":0},{"$f":"SUMIF(SEE_data!$B:$B,SEE_agrg!$D37,SEE_data!BA:BA)","v":0},{"$f":"SUMIF(SEE_data!$B:$B,SEE_agrg!$D37,SEE_data!BB:BB)","v":0},{"$f":"SUMIF(SEE_data!$B:$B,SEE_agrg!$D37,SEE_data!BC:BC)","v":0},{"$f":"IF(OR(G37=0,Q37=0),0,1)","v":0},{"$f":"IF($AC37=0,0,T37/$AC37)","v":0},{"$f":"IF($AC37=0,0,U37/$AC37)","v":0},{"$f":"IF($AC37=0,0,V37/$AC37)","v":0},{"$f":"IF($AC37=0,0,W37/$AC37)","v":0},{"$f":"IF($AC37=0,0,X37/$AC37)","v":0},{"$f":"IF($AC37=0,0,Y37/$AC37)","v":0},{"$f":"IF($AC37=0,0,Z37/$AC37)","v":0},{"$f":"IF($AC37=0,0,AA37/$AC37)","v":0},{"$f":"IF($AC37=0,0,AB37/$AC37)","v":0},{"$f":"SUMIFS(UdS_data!D:D,UdS_data!F:F,1,UdS_data!B:B,D37)","v":0},{"$f":"1000000*F37/E37","v":{"$error":"#DIV/0!"}},{"$f":"IF(G37=0,0,(H37+I37+J37)/G37)","v":0},{"$f":"IF(G37=0,0,(K37+L37+M37)/G37)","v":0},{"$f":"IF(G37=0,0,(N37+O37+P37)/G37)","v":0},{"$f":"IF(Q37=0,0,R37/Q37)","v":0},{"$f":"IF(Q37=0,0,S37/Q37)","v":0},{"$f":"IF(AD37<>0,(1-SUMSQ(AE37:AM37))/(1-1/9),0)","v":0},{"$f":"IF(AND($AO37<=dens_ref,$AO37<=dens_urb_mun),5,IF(AND($AO37<=dens_ref,$AO37>dens_urb_mun),3,IF(AND($AO37>dens_ref,$AO37<=dens_urb_mun),2,IF($AO37<(1+dens_toler)*dens_ref,1,0))))","v":{"$error":"#DIV/0!"}},{"$f":"IF(AP37>0.95,5,IF(AP37>0.9,4,IF(AP37>0.8,2,IF(AP37>0.7,1,0))))","v":0},{"$f":"IF(AQ37>0.95,5,IF(AQ37>0.9,4,IF(AQ37>0.8,2,IF(AQ37>0.7,1,0))))","v":0},{"$f":"IF(AR37>0.95,5,IF(AR37>0.9,4,IF(AR37>0.8,2,IF(AR37>0.7,1,0))))","v":0},{"$f":"IF(AS37>0.95,5,IF(AS37>0.9,4,IF(AS37>0.8,2,IF(AS37>0.7,1,0))))","v":0},{"$f":"IF(AT37>0.95,5,IF(AT37>0.9,4,IF(AT37>0.8,2,IF(AT37>0.7,1,0))))","v":0},{"$f":"IF(AU37>=0.95,5,IF(AU37>=0.9,4,IF(AU37>=0.85,3,IF(AU37>=0.8,2,IF(AU37>=0.75,1,0)))))","v":0}]
[null,{"$f":"INDEX(Sistema_Analisado!$A$3:$F$99,MATCH($D38,Sistema_Analisado!$B$3:$B$99,FALSE),MATCH($B$4,Sistema_Analisado!$A$3:$F$3,FALSE))","v":{"$error":"#N/A"}},{"$f":"INDEX(Sistema_Analisado!$A$3:$F$99,MATCH(D38,Sistema_Analisado!$B$3:$B$99,FALSE),MATCH(\"Seq. Corredor\",Sistema_Analisado!$A$3:$F$3,0))","v":{"$error":"#N/A"}},null,{"$f":"SUMIF(SEE_data!$B:$B,SEE_agrg!$D38,SEE_data!F:F)","v":0},{"$f":"SUMIF(SEE_data!$B:$B,SEE_agrg!$D38,SEE_data!AF:AF)","v":0},{"$f":"SUMIF(SEE_data!$B:$B,SEE_agrg!$D38,SEE_data!AG:AG)","v":0},{"$f":"SUMIF(SEE_data!$B:$B,SEE_agrg!$D38,SEE_data!AH:AH)","v":0},{"$f":"SUMIF(SEE_data!$B:$B,SEE_agrg!$D38,SEE_data!AI:AI)","v":0},{"$f":"SUMIF(SEE_data!$B:$B,SEE_agrg!$D38,SEE_data!AJ:AJ)","v":0},{"$f":"SUMIF(SEE_data!$B:$B,SEE_agrg!$D38,SEE_data!AK:AK)","v":0},{"$f":"SUMIF(SEE_data!$B:$B,SEE_agrg!$D38,SEE_data!AL:AL)","v":0},{"$f":"SUMIF(SEE_data!$B:$B,SEE_agrg!$D38,SEE_data!AM:AM)","v":0},{"$f":"SUMIF(SEE_data!$B:$B,SEE_agrg!$D38,SEE_data!AN:AN)","v":0},{"$f":"SUMIF(SEE_data!$B:$B,SEE_agrg!$D38,SEE_data!AO:AO)","v":0},{"$f":"SUMIF(SEE_data!$B:$B,SEE_agrg!$D38,SEE_data!AP:AP)","v":0},{"$f":"SUMIF(SEE_data!$B:$B,SEE_agrg!$D38,SEE_data!AQ:AQ)","v":0},{"$f":"SUMIF(SEE_data!$B:$B,SEE_agrg!$D38,SEE_data!AR:AR)","v":0},{"$f":"SUMIF(SEE_data!$B:$B,SEE_agrg!$D38,SEE_data!AS:AS)","v":0},{"$f":"SUMIF(SEE_data!$B:$B,SEE_agrg!$D38,SEE_data!AT:AT)","v":0},{"$f":"SUMIF(SEE_data!$B:$B,SEE_agrg!$D38,SEE_data!AU:AU)","v":0},{"$f":"SUMIF(SEE_data!$B:$B,SEE_agrg!$D38,SEE_data!AV:AV)","v":0},{"$f":"SUMIF(SEE_data!$B:$B,SEE_agrg!$D38,SEE_data!AW:AW)","v":0},{"$f":"SUMIF(SEE_data!$B:$B,SEE_agrg!$D38,SEE_data!AX:AX)","v":0},{"$f":"SUMIF(SEE_data!$B:$B,SEE_agrg!$D38,SEE_data!AY:AY)","v":0},{"$f":"SUMIF(SEE_data!$B:$B,SEE_agrg!$D38,SEE_data!AZ:AZ)","v":0},{"$f":"SUMIF(SEE_data!$B:$B,SEE_agrg!$D38,SEE_data!BA:BA)","v":0},{"$f":"SUMIF(SEE_data!$B:$B,SEE_agrg!$D38,SEE_data!BB:BB)","v":0},{"$f":"SUMIF(SEE_data!$B:$B,SEE_agrg!$D38,SEE_data!BC:BC)","v":0},0,0,0,0,0,0,0,0,0,0,{"$f":"SUMIFS(UdS_data!D:D,UdS_data!F:F,1,UdS_data!B:B,D38)","v":0},{"$error":"#DIV/0!"},0,0,0,0,0,0,{"$error":"#DIV/0!"},0,0,0,0,0,0]
[null,{"$f":"INDEX(Sistema_Analisado!$A$3:$F$99,MATCH($D39,Sistema_Analisado!$B$3:$B$99,FALSE),MATCH($B$4,Sistema_Analisado!$A$3:$F$3,FALSE))","v":{"$error":"#N/A"}},{"$f":"INDEX(Sistema_Analisado!$A$3:$F$99,MATCH(D39,Sistema_Analisado!$B$3:$B$99,FALSE),MATCH(\"Seq. Corredor\",Sistema_Analisado!$A$3:$F$3,0))","v":{"$error":"#N/A"}},null,{"$f":"SUMIF(SEE_data!$B:$B,SEE_agrg!$D39,SEE_data!F:F)","v":0},{"$f":"SUMIF(SEE_data!$B:$B,SEE_agrg!$D39,SEE_data!AF:AF)","v":0},{"$f":"SUMIF(SEE_data!$B:$B,SEE_agrg!$D39,SEE_data!AG:AG)","v":0},{"$f":"SUMIF(SEE_data!$B:$B,SEE_agrg!$D39,SEE_data!AH:AH)","v":0},{"$f":"SUMIF(SEE_data!$B:$B,SEE_agrg!$D39,SEE_data!AI:AI)","v":0},{"$f":"SUMIF(SEE_data!$B:$B,SEE_agrg!$D39,SEE_data!AJ:AJ)","v":0},{"$f":"SUMIF(SEE_data!$B:$B,SEE_agrg!$D39,SEE_data!AK:AK)","v":0},{"$f":"SUMIF(SEE_data!$B:$B,SEE_agrg!$D39,SEE_data!AL:AL)","v":0},{"$f":"SUMIF(SEE_data!$B:$B,SEE_agrg!$D39,SEE_data!AM:AM)","v":0},{"$f":"SUMIF(SEE_data!$B:$B,SEE_agrg!$D39,SEE_data!AN:AN)","v":0},{"$f":"SUMIF(SEE_data!$B:$B,SEE_agrg!$D39,SEE_data!AO:AO)","v":0},{"$f":"SUMIF(SEE_data!$B:$B,SEE_agrg!$D39,SEE_data!AP:AP)","v":0},{"$f":"SUMIF(SEE_data!$B:$B,SEE_agrg!$D39,SEE_data!AQ:AQ)","v":0},{"$f":"SUMIF(SEE_data!$B:$B,SEE_agrg!$D39,SEE_data!AR:AR)","v":0},{"$f":"SUMIF(SEE_data!$B:$B,SEE_agrg!$D39,SEE_data!AS:AS)","v":0},{"$f":"SUMIF(SEE_data!$B:$B,SEE_agrg!$D39,SEE_data!AT:AT)","v":0},{"$f":"SUMIF(SEE_data!$B:$B,SEE_agrg!$D39,SEE_data!AU:AU)","v":0},{"$f":"SUMIF(SEE_data!$B:$B,SEE_agrg!$D39,SEE_data!AV:AV)","v":0},{"$f":"SUMIF(SEE_data!$B:$B,SEE_agrg!$D39,SEE_data!AW:AW)","v":0},{"$f":"SUMIF(SEE_data!$B:$B,SEE_agrg!$D39,SEE_data!AX:AX)","v":0},{"$f":"SUMIF(SEE_data!$B:$B,SEE_agrg!$D39,SEE_data!AY:AY)","v":0},{"$f":"SUMIF(SEE_data!$B:$B,SEE_agrg!$D39,SEE_data!AZ:AZ)","v":0},{"$f":"SUMIF(SEE_data!$B:$B,SEE_agrg!$D39,SEE_data!BA:BA)","v":0},{"$f":"SUMIF(SEE_data!$B:$B,SEE_agrg!$D39,SEE_data!BB:BB)","v":0},{"$f":"SUMIF(SEE_data!$B:$B,SEE_agrg!$D39,SEE_data!BC:BC)","v":0},0,0,0,0,0,0,0,0,0,0,{"$f":"SUMIFS(UdS_data!D:D,UdS_data!F:F,1,UdS_data!B:B,D39)","v":0},{"$error":"#DIV/0!"},0,0,0,0,0,0,{"$error":"#DIV/0!"},0,0,0,0,0,0]
[null,{"$f":"INDEX(Sistema_Analisado!$A$3:$F$99,MATCH($D40,Sistema_Analisado!$B$3:$B$99,FALSE),MATCH($B$4,Sistema_Analisado!$A$3:$F$3,FALSE))","v":{"$error":"#N/A"}},{"$f":"INDEX(Sistema_Analisado!$A$3:$F$99,MATCH(D40,Sistema_Analisado!$B$3:$B$99,FALSE),MATCH(\"Seq. Corredor\",Sistema_Analisado!$A$3:$F$3,0))","v":{"$error":"#N/A"}},null,{"$f":"SUMIF(SEE_data!$B:$B,SEE_agrg!$D40,SEE_data!F:F)","v":0},{"$f":"SUMIF(SEE_data!$B:$B,SEE_agrg!$D40,SEE_data!AF:AF)","v":0},{"$f":"SUMIF(SEE_data!$B:$B,SEE_agrg!$D40,SEE_data!AG:AG)","v":0},{"$f":"SUMIF(SEE_data!$B:$B,SEE_agrg!$D40,SEE_data!AH:AH)","v":0},{"$f":"SUMIF(SEE_data!$B:$B,SEE_agrg!$D40,SEE_data!AI:AI)","v":0},{"$f":"SUMIF(SEE_data!$B:$B,SEE_agrg!$D40,SEE_data!AJ:AJ)","v":0},{"$f":"SUMIF(SEE_data!$B:$B,SEE_agrg!$D40,SEE_data!AK:AK)","v":0},{"$f":"SUMIF(SEE_data!$B:$B,SEE_agrg!$D40,SEE_data!AL:AL)","v":0},{"$f":"SUMIF(SEE_data!$B:$B,SEE_agrg!$D40,SEE_data!AM:AM)","v":0},{"$f":"SUMIF(SEE_data!$B:$B,SEE_agrg!$D40,SEE_data!AN:AN)","v":0},{"$f":"SUMIF(SEE_data!$B:$B,SEE_agrg!$D40,SEE_data!AO:AO)","v":0},{"$f":"SUMIF(SEE_data!$B:$B,SEE_agrg!$D40,SEE_data!AP:AP)","v":0},{"$f":"SUMIF(SEE_data!$B:$B,SEE_agrg!$D40,SEE_data!AQ:AQ)","v":0},{"$f":"SUMIF(SEE_data!$B:$B,SEE_agrg!$D40,SEE_data!AR:AR)","v":0},{"$f":"SUMIF(SEE_data!$B:$B,SEE_agrg!$D40,SEE_data!AS:AS)","v":0},{"$f":"SUMIF(SEE_data!$B:$B,SEE_agrg!$D40,SEE_data!AT:AT)","v":0},{"$f":"SUMIF(SEE_data!$B:$B,SEE_agrg!$D40,SEE_data!AU:AU)","v":0},{"$f":"SUMIF(SEE_data!$B:$B,SEE_agrg!$D40,SEE_data!AV:AV)","v":0},{"$f":"SUMIF(SEE_data!$B:$B,SEE_agrg!$D40,SEE_data!AW:AW)","v":0},{"$f":"SUMIF(SEE_data!$B:$B,SEE_agrg!$D40,SEE_data!AX:AX)","v":0},{"$f":"SUMIF(SEE_data!$B:$B,SEE_agrg!$D40,SEE_data!AY:AY)","v":0},{"$f":"SUMIF(SEE_data!$B:$B,SEE_agrg!$D40,SEE_data!AZ:AZ)","v":0},{"$f":"SUMIF(SEE_data!$B:$B,SEE_agrg!$D40,SEE_data!BA:BA)","v":0},{"$f":"SUMIF(SEE_data!$B:$B,SEE_agrg!$D40,SEE_data!BB:BB)","v":0},{"$f":"SUMIF(SEE_data!$B:$B,SEE_agrg!$D40,SEE_data!BC:BC)","v":0},0,0,0,0,0,0,0,0,0,0,{"$f":"SUMIFS(UdS_data!D:D,UdS_data!F:F,1,UdS_data!B:B,D40)","v":0},{"$error":"#DIV/0!"},0,0,0,0,0,0,{"$error":"#DIV/0!"},0,0,0,0,0,0]
[null,{"$f":"INDEX(Sistema_Analisado!$A$3:$F$99,MATCH($D41,Sistema_Analisado!$B$3:$B$99,FALSE),MATCH($B$4,Sistema_Analisado!$A$3:$F$3,FALSE))","v":{"$error":"#N/A"}},{"$f":"INDEX(Sistema_Analisado!$A$3:$F$99,MATCH(D41,Sistema_Analisado!$B$3:$B$99,FALSE),MATCH(\"Seq. Corredor\",Sistema_Analisado!$A$3:$F$3,0))","v":{"$error":"#N/A"}},null,{"$f":"SUMIF(SEE_data!$B:$B,SEE_agrg!$D41,SEE_data!F:F)","v":0},{"$f":"SUMIF(SEE_data!$B:$B,SEE_agrg!$D41,SEE_data!AF:AF)","v":0},{"$f":"SUMIF(SEE_data!$B:$B,SEE_agrg!$D41,SEE_data!AG:AG)","v":0},{"$f":"SUMIF(SEE_data!$B:$B,SEE_agrg!$D41,SEE_data!AH:AH)","v":0},{"$f":"SUMIF(SEE_data!$B:$B,SEE_agrg!$D41,SEE_data!AI:AI)","v":0},{"$f":"SUMIF(SEE_data!$B:$B,SEE_agrg!$D41,SEE_data!AJ:AJ)","v":0},{"$f":"SUMIF(SEE_data!$B:$B,SEE_agrg!$D41,SEE_data!AK:AK)","v":0},{"$f":"SUMIF(SEE_data!$B:$B,SEE_agrg!$D41,SEE_data!AL:AL)","v":0},{"$f":"SUMIF(SEE_data!$B:$B,SEE_agrg!$D41,SEE_data!AM:AM)","v":0},{"$f":"SUMIF(SEE_data!$B:$B,SEE_agrg!$D41,SEE_data!AN:AN)","v":0},{"$f":"SUMIF(SEE_data!$B:$B,SEE_agrg!$D41,SEE_data!AO:AO)","v":0},{"$f":"SUMIF(SEE_data!$B:$B,SEE_agrg!$D41,SEE_data!AP:AP)","v":0},{"$f":"SUMIF(SEE_data!$B:$B,SEE_agrg!$D41,SEE_data!AQ:AQ)","v":0},{"$f":"SUMIF(SEE_data!$B:$B,SEE_agrg!$D41,SEE_data!AR:AR)","v":0},{"$f":"SUMIF(SEE_data!$B:$B,SEE_agrg!$D41,SEE_data!AS:AS)","v":0},{"$f":"SUMIF(SEE_data!$B:$B,SEE_agrg!$D41,SEE_data!AT:AT)","v":0},{"$f":"SUMIF(SEE_data!$B:$B,SEE_agrg!$D41,SEE_data!AU:AU)","v":0},{"$f":"SUMIF(SEE_data!$B:$B,SEE_agrg!$D41,SEE_data!AV:AV)","v":0},{"$f":"SUMIF(SEE_data!$B:$B,SEE_agrg!$D41,SEE_data!AW:AW)","v":0},{"$f":"SUMIF(SEE_data!$B:$B,SEE_agrg!$D41,SEE_data!AX:AX)","v":0},{"$f":"SUMIF(SEE_data!$B:$B,SEE_agrg!$D41,SEE_data!AY:AY)","v":0},{"$f":"SUMIF(SEE_data!$B:$B,SEE_agrg!$D41,SEE_data!AZ:AZ)","v":0},{"$f":"SUMIF(SEE_data!$B:$B,SEE_agrg!$D41,SEE_data!BA:BA)","v":0},{"$f":"SUMIF(SEE_data!$B:$B,SEE_agrg!$D41,SEE_data!BB:BB)","v":0},{"$f":"SUMIF(SEE_data!$B:$B,SEE_agrg!$D41,SEE_data!BC:BC)","v":0},0,0,0,0,0,0,0,0,0,0,{"$f":"SUMIFS(UdS_data!D:D,UdS_data!F:F,1,UdS_data!B:B,D41)","v":0},{"$error":"#DIV/0!"},0,0,0,0,0,0,{"$error":"#DIV/0!"},0,0,0,0,0,0]
[null,{"$f":"INDEX(Sistema_Analisado!$A$3:$F$99,MATCH($D42,Sistema_Analisado!$B$3:$B$99,FALSE),MATCH($B$4,Sistema_Analisado!$A$3:$F$3,FALSE))","v":{"$error":"#N/A"}},{"$f":"INDEX(Sistema_Analisado!$A$3:$F$99,MATCH(D42,Sistema_Analisado!$B$3:$B$99,FALSE),MATCH(\"Seq. Corredor\",Sistema_Analisado!$A$3:$F$3,0))","v":{"$error":"#N/A"}},null,{"$f":"SUMIF(SEE_data!$B:$B,SEE_agrg!$D42,SEE_data!F:F)","v":0},{"$f":"SUMIF(SEE_data!$B:$B,SEE_agrg!$D42,SEE_data!AF:AF)","v":0},{"$f":"SUMIF(SEE_data!$B:$B,SEE_agrg!$D42,SEE_data!AG:AG)","v":0},{"$f":"SUMIF(SEE_data!$B:$B,SEE_agrg!$D42,SEE_data!AH:AH)","v":0},{"$f":"SUMIF(SEE_data!$B:$B,SEE_agrg!$D42,SEE_data!AI:AI)","v":0},{"$f":"SUMIF(SEE_data!$B:$B,SEE_agrg!$D42,SEE_data!AJ:AJ)","v":0},{"$f":"SUMIF(SEE_data!$B:$B,SEE_agrg!$D42,SEE_data!AK:AK)","v":0},{"$f":"SUMIF(SEE_data!$B:$B,SEE_agrg!$D42,SEE_data!AL:AL)","v":0},{"$f":"SUMIF(SEE_data!$B:$B,SEE_agrg!$D42,SEE_data!AM:AM)","v":0},{"$f":"SUMIF(SEE_data!$B:$B,SEE_agrg!$D42,SEE_data!AN:AN)","v":0},{"$f":"SUMIF(SEE_data!$B:$B,SEE_agrg!$D42,SEE_data!AO:AO)","v":0},{"$f":"SUMIF(SEE_data!$B:$B,SEE_agrg!$D42,SEE_data!AP:AP)","v":0},{"$f":"SUMIF(SEE_data!$B:$B,SEE_agrg!$D42,SEE_data!AQ:AQ)","v":0},{"$f":"SUMIF(SEE_data!$B:$B,SEE_agrg!$D42,SEE_data!AR:AR)","v":0},{"$f":"SUMIF(SEE_data!$B:$B,SEE_agrg!$D42,SEE_data!AS:AS)","v":0},{"$f":"SUMIF(SEE_data!$B:$B,SEE_agrg!$D42,SEE_data!AT:AT)","v":0},{"$f":"SUMIF(SEE_data!$B:$B,SEE_agrg!$D42,SEE_data!AU:AU)","v":0},{"$f":"SUMIF(SEE_data!$B:$B,SEE_agrg!$D42,SEE_data!AV:AV)","v":0},{"$f":"SUMIF(SEE_data!$B:$B,SEE_agrg!$D42,SEE_data!AW:AW)","v":0},{"$f":"SUMIF(SEE_data!$B:$B,SEE_agrg!$D42,SEE_data!AX:AX)","v":0},{"$f":"SUMIF(SEE_data!$B:$B,SEE_agrg!$D42,SEE_data!AY:AY)","v":0},{"$f":"SUMIF(SEE_data!$B:$B,SEE_agrg!$D42,SEE_data!AZ:AZ)","v":0},{"$f":"SUMIF(SEE_data!$B:$B,SEE_agrg!$D42,SEE_data!BA:BA)","v":0},{"$f":"SUMIF(SEE_data!$B:$B,SEE_agrg!$D42,SEE_data!BB:BB)","v":0},{"$f":"SUMIF(SEE_data!$B:$B,SEE_agrg!$D42,SEE_data!BC:BC)","v":0},0,0,0,0,0,0,0,0,0,0,{"$f":"SUMIFS(UdS_data!D:D,UdS_data!F:F,1,UdS_data!B:B,D42)","v":0},{"$error":"#DIV/0!"},0,0,0,0,0,0,{"$error":"#DIV/0!"},0,0,0,0,0,0]
[null,{"$f":"INDEX(Sistema_Analisado!$A$3:$F$99,MATCH($D43,Sistema_Analisado!$B$3:$B$99,FALSE),MATCH($B$4,Sistema_Analisado!$A$3:$F$3,FALSE))","v":{"$error":"#N/A"}},{"$f":"INDEX(Sistema_Analisado!$A$3:$F$99,MATCH(D43,Sistema_Analisado!$B$3:$B$99,FALSE),MATCH(\"Seq. Corredor\",Sistema_Analisado!$A$3:$F$3,0))","v":{"$error":"#N/A"}},null,{"$f":"SUMIF(SEE_data!$B:$B,SEE_agrg!$D43,SEE_data!F:F)","v":0},{"$f":"SUMIF(SEE_data!$B:$B,SEE_agrg!$D43,SEE_data!AF:AF)","v":0},{"$f":"SUMIF(SEE_data!$B:$B,SEE_agrg!$D43,SEE_data!AG:AG)","v":0},{"$f":"SUMIF(SEE_data!$B:$B,SEE_agrg!$D43,SEE_data!AH:AH)","v":0},{"$f":"SUMIF(SEE_data!$B:$B,SEE_agrg!$D43,SEE_data!AI:AI)","v":0},{"$f":"SUMIF(SEE_data!$B:$B,SEE_agrg!$D43,SEE_data!AJ:AJ)","v":0},{"$f":"SUMIF(SEE_data!$B:$B,SEE_agrg!$D43,SEE_data!AK:AK)","v":0},{"$f":"SUMIF(SEE_data!$B:$B,SEE_agrg!$D43,SEE_data!AL:AL)","v":0},{"$f":"SUMIF(SEE_data!$B:$B,SEE_agrg!$D43,SEE_data!AM:AM)","v":0},{"$f":"SUMIF(SEE_data!$B:$B,SEE_agrg!$D43,SEE_data!AN:AN)","v":0},{"$f":"SUMIF(SEE_data!$B:$B,SEE_agrg!$D43,SEE_data!AO:AO)","v":0},{"$f":"SUMIF(SEE_data!$B:$B,SEE_agrg!$D43,SEE_data!AP:AP)","v":0},{"$f":"SUMIF(SEE_data!$B:$B,SEE_agrg!$D43,SEE_data!AQ:AQ)","v":0},{"$f":"SUMIF(SEE_data!$B:$B,SEE_agrg!$D43,SEE_data!AR:AR)","v":0},{"$f":"SUMIF(SEE_data!$B:$B,SEE_agrg!$D43,SEE_data!AS:AS)","v":0},{"$f":"SUMIF(SEE_data!$B:$B,SEE_agrg!$D43,SEE_data!AT:AT)","v":0},{"$f":"SUMIF(SEE_data!$B:$B,SEE_agrg!$D43,SEE_data!AU:AU)","v":0},{"$f":"SUMIF(SEE_data!$B:$B,SEE_agrg!$D43,SEE_data!AV:AV)","v":0},{"$f":"SUMIF(SEE_data!$B:$B,SEE_agrg!$D43,SEE_data!AW:AW)","v":0},{"$f":"SUMIF(SEE_data!$B:$B,SEE_agrg!$D43,SEE_data!AX:AX)","v":0},{"$f":"SUMIF(SEE_data!$B:$B,SEE_agrg!$D43,SEE_data!AY:AY)","v":0},{"$f":"SUMIF(SEE_data!$B:$B,SEE_agrg!$D43,SEE_data!AZ:AZ)","v":0},{"$f":"SUMIF(SEE_data!$B:$B,SEE_agrg!$D43,SEE_data!BA:BA)","v":0},{"$f":"SUMIF(SEE_data!$B:$B,SEE_agrg!$D43,SEE_data!BB:BB)","v":0},{"$f":"SUMIF(SEE_data!$B:$B,SEE_agrg!$D43,SEE_data!BC:BC)","v":0},0,0,0,0,0,0,0,0,0,0,{"$f":"SUMIFS(UdS_data!D:D,UdS_data!F:F,1,UdS_data!B:B,D43)","v":0},{"$error":"#DIV/0!"},0,0,0,0,0,0,{"$error":"#DIV/0!"},0,0,0,0,0,0]
[null,{"$f":"INDEX(Sistema_Analisado!$A$3:$F$99,MATCH($D44,Sistema_Analisado!$B$3:$B$99,FALSE),MATCH($B$4,Sistema_Analisado!$A$3:$F$3,FALSE))","v":{"$error":"#N/A"}},{"$f":"INDEX(Sistema_Analisado!$A$3:$F$99,MATCH(D44,Sistema_Analisado!$B$3:$B$99,FALSE),MATCH(\"Seq. Corredor\",Sistema_Analisado!$A$3:$F$3,0))","v":{"$error":"#N/A"}},null,{"$f":"SUMIF(SEE_data!$B:$B,SEE_agrg!$D44,SEE_data!F:F)","v":0},{"$f":"SUMIF(SEE_data!$B:$B,SEE_agrg!$D44,SEE_data!AF:AF)","v":0},{"$f":"SUMIF(SEE_data!$B:$B,SEE_agrg!$D44,SEE_data!AG:AG)","v":0},{"$f":"SUMIF(SEE_data!$B:$B,SEE_agrg!$D44,SEE_data!AH:AH)","v":0},{"$f":"SUMIF(SEE_data!$B:$B,SEE_agrg!$D44,SEE_data!AI:AI)","v":0},{"$f":"SUMIF(SEE_data!$B:$B,SEE_agrg!$D44,SEE_data!AJ:AJ)","v":0},{"$f":"SUMIF(SEE_data!$B:$B,SEE_agrg!$D44,SEE_data!AK:AK)","v":0},{"$f":"SUMIF(SEE_data!$B:$B,SEE_agrg!$D44,SEE_data!AL:AL)","v":0},{"$f":"SUMIF(SEE_data!$B:$B,SEE_agrg!$D44,SEE_data!AM:AM)","v":0},{"$f":"SUMIF(SEE_data!$B:$B,SEE_agrg!$D44,SEE_data!AN:AN)","v":0},{"$f":"SUMIF(SEE_data!$B:$B,SEE_agrg!$D44,SEE_data!AO:AO)","v":0},{"$f":"SUMIF(SEE_data!$B:$B,SEE_agrg!$D44,SEE_data!AP:AP)","v":0},{"$f":"SUMIF(SEE_data!$B:$B,SEE_agrg!$D44,SEE_data!AQ:AQ)","v":0},{"$f":"SUMIF(SEE_data!$B:$B,SEE_agrg!$D44,SEE_data!AR:AR)","v":0},{"$f":"SUMIF(SEE_data!$B:$B,SEE_agrg!$D44,SEE_data!AS:AS)","v":0},{"$f":"SUMIF(SEE_data!$B:$B,SEE_agrg!$D44,SEE_data!AT:AT)","v":0},{"$f":"SUMIF(SEE_data!$B:$B,SEE_agrg!$D44,SEE_data!AU:AU)","v":0},{"$f":"SUMIF(SEE_data!$B:$B,SEE_agrg!$D44,SEE_data!AV:AV)","v":0},{"$f":"SUMIF(SEE_data!$B:$B,SEE_agrg!$D44,SEE_data!AW:AW)","v":0},{"$f":"SUMIF(SEE_data!$B:$B,SEE_agrg!$D44,SEE_data!AX:AX)","v":0},{"$f":"SUMIF(SEE_data!$B:$B,SEE_agrg!$D44,SEE_data!AY:AY)","v":0},{"$f":"SUMIF(SEE_data!$B:$B,SEE_agrg!$D44,SEE_data!AZ:AZ)","v":0},{"$f":"SUMIF(SEE_data!$B:$B,SEE_agrg!$D44,SEE_data!BA:BA)","v":0},{"$f":"SUMIF(SEE_data!$B:$B,SEE_agrg!$D44,SEE_data!BB:BB)","v":0},{"$f":"SUMIF(SEE_data!$B:$B,SEE_agrg!$D44,SEE_data!BC:BC)","v":0},0,0,0,0,0,0,0,0,0,0,{"$f":"SUMIFS(UdS_data!D:D,UdS_data!F:F,1,UdS_data!B:B,D44)","v":0},{"$error":"#DIV/0!"},0,0,0,0,0,0,{"$error":"#DIV/0!"},0,0,0,0,0,0]
[null,{"$f":"INDEX(Sistema_Analisado!$A$3:$F$99,MATCH($D45,Sistema_Analisado!$B$3:$B$99,FALSE),MATCH($B$4,Sistema_Analisado!$A$3:$F$3,FALSE))","v":{"$error":"#N/A"}},{"$f":"INDEX(Sistema_Analisado!$A$3:$F$99,MATCH(D45,Sistema_Analisado!$B$3:$B$99,FALSE),MATCH(\"Seq. Corredor\",Sistema_Analisado!$A$3:$F$3,0))","v":{"$error":"#N/A"}},null,{"$f":"SUMIF(SEE_data!$B:$B,SEE_agrg!$D45,SEE_data!F:F)","v":0},{"$f":"SUMIF(SEE_data!$B:$B,SEE_agrg!$D45,SEE_data!AF:AF)","v":0},{"$f":"SUMIF(SEE_data!$B:$B,SEE_agrg!$D45,SEE_data!AG:AG)","v":0},{"$f":"SUMIF(SEE_data!$B:$B,SEE_agrg!$D45,SEE_data!AH:AH)","v":0},{"$f":"SUMIF(SEE_data!$B:$B,SEE_agrg!$D45,SEE_data!AI:AI)","v":0},{"$f":"SUMIF(SEE_data!$B:$B,SEE_agrg!$D45,SEE_data!AJ:AJ)","v":0},{"$f":"SUMIF(SEE_data!$B:$B,SEE_agrg!$D45,SEE_data!AK:AK)","v":0},{"$f":"SUMIF(SEE_data!$B:$B,SEE_agrg!$D45,SEE_data!AL:AL)","v":0},{"$f":"SUMIF(SEE_data!$B:$B,SEE_agrg!$D45,SEE_data!AM:AM)","v":0},{"$f":"SUMIF(SEE_data!$B:$B,SEE_agrg!$D45,SEE_data!AN:AN)","v":0},{"$f":"SUMIF(SEE_data!$B:$B,SEE_agrg!$D45,SEE_data!AO:AO)","v":0},{"$f":"SUMIF(SEE_data!$B:$B,SEE_agrg!$D45,SEE_data!AP:AP)","v":0},{"$f":"SUMIF(SEE_data!$B:$B,SEE_agrg!$D45,SEE_data!AQ:AQ)","v":0},{"$f":"SUMIF(SEE_data!$B:$B,SEE_agrg!$D45,SEE_data!AR:AR)","v":0},{"$f":"SUMIF(SEE_data!$B:$B,SEE_agrg!$D45,SEE_data!AS:AS)","v":0},{"$f":"SUMIF(SEE_data!$B:$B,SEE_agrg!$D45,SEE_data!AT:AT)","v":0},{"$f":"SUMIF(SEE_data!$B:$B,SEE_agrg!$D45,SEE_data!AU:AU)","v":0},{"$f":"SUMIF(SEE_data!$B:$B,SEE_agrg!$D45,SEE_data!AV:AV)","v":0},{"$f":"SUMIF(SEE_data!$B:$B,SEE_agrg!$D45,SEE_data!AW:AW)","v":0},{"$f":"SUMIF(SEE_data!$B:$B,SEE_agrg!$D45,SEE_data!AX:AX)","v":0},{"$f":"SUMIF(SEE_data!$B:$B,SEE_agrg!$D45,SEE_data!AY:AY)","v":0},{"$f":"SUMIF(SEE_data!$B:$B,SEE_agrg!$D45,SEE_data!AZ:AZ)","v":0},{"$f":"SUMIF(SEE_data!$B:$B,SEE_agrg!$D45,SEE_data!BA:BA)","v":0},{"$f":"SUMIF(SEE_data!$B:$B,SEE_agrg!$D45,SEE_data!BB:BB)","v":0},{"$f":"SUMIF(SEE_data!$B:$B,SEE_agrg!$D45,SEE_data!BC:BC)","v":0},0,0,0,0,0,0,0,0,0,0,{"$f":"SUMIFS(UdS_data!D:D,UdS_data!F:F,1,UdS_data!B:B,D45)","v":0},{"$error":"#DIV/0!"},0,0,0,0,0,0,{"$error":"#DIV/0!"},0,0,0,0,0,0]
[null,{"$f":"INDEX(Sistema_Analisado!$A$3:$F$99,MATCH($D46,Sistema_Analisado!$B$3:$B$99,FALSE),MATCH($B$4,Sistema_Analisado!$A$3:$F$3,FALSE))","v":{"$error":"#N/A"}},{"$f":"INDEX(Sistema_Analisado!$A$3:$F$99,MATCH(D46,Sistema_Analisado!$B$3:$B$99,FALSE),MATCH(\"Seq. Corredor\",Sistema_Analisado!$A$3:$F$3,0))","v":{"$error":"#N/A"}},null,{"$f":"SUMIF(SEE_data!$B:$B,SEE_agrg!$D46,SEE_data!F:F)","v":0},{"$f":"SUMIF(SEE_data!$B:$B,SEE_agrg!$D46,SEE_data!AF:AF)","v":0},{"$f":"SUMIF(SEE_data!$B:$B,SEE_agrg!$D46,SEE_data!AG:AG)","v":0},{"$f":"SUMIF(SEE_data!$B:$B,SEE_agrg!$D46,SEE_data!AH:AH)","v":0},{"$f":"SUMIF(SEE_data!$B:$B,SEE_agrg!$D46,SEE_data!AI:AI)","v":0},{"$f":"SUMIF(SEE_data!$B:$B,SEE_agrg!$D46,SEE_data!AJ:AJ)","v":0},{"$f":"SUMIF(SEE_data!$B:$B,SEE_agrg!$D46,SEE_data!AK:AK)","v":0},{"$f":"SUMIF(SEE_data!$B:$B,SEE_agrg!$D46,SEE_data!AL:AL)","v":0},{"$f":"SUMIF(SEE_data!$B:$B,SEE_agrg!$D46,SEE_data!AM:AM)","v":0},{"$f":"SUMIF(SEE_data!$B:$B,SEE_agrg!$D46,SEE_data!AN:AN)","v":0},{"$f":"SUMIF(SEE_data!$B:$B,SEE_agrg!$D46,SEE_data!AO:AO)","v":0},{"$f":"SUMIF(SEE_data!$B:$B,SEE_agrg!$D46,SEE_data!AP:AP)","v":0},{"$f":"SUMIF(SEE_data!$B:$B,SEE_agrg!$D46,SEE_data!AQ:AQ)","v":0},{"$f":"SUMIF(SEE_data!$B:$B,SEE_agrg!$D46,SEE_data!AR:AR)","v":0},{"$f":"SUMIF(SEE_data!$B:$B,SEE_agrg!$D46,SEE_data!AS:AS)","v":0},{"$f":"SUMIF(SEE_data!$B:$B,SEE_agrg!$D46,SEE_data!AT:AT)","v":0},{"$f":"SUMIF(SEE_data!$B:$B,SEE_agrg!$D46,SEE_data!AU:AU)","v":0},{"$f":"SUMIF(SEE_data!$B:$B,SEE_agrg!$D46,SEE_data!AV:AV)","v":0},{"$f":"SUMIF(SEE_data!$B:$B,SEE_agrg!$D46,SEE_data!AW:AW)","v":0},{"$f":"SUMIF(SEE_data!$B:$B,SEE_agrg!$D46,SEE_data!AX:AX)","v":0},{"$f":"SUMIF(SEE_data!$B:$B,SEE_agrg!$D46,SEE_data!AY:AY)","v":0},{"$f":"SUMIF(SEE_data!$B:$B,SEE_agrg!$D46,SEE_data!AZ:AZ)","v":0},{"$f":"SUMIF(SEE_data!$B:$B,SEE_agrg!$D46,SEE_data!BA:BA)","v":0},{"$f":"SUMIF(SEE_data!$B:$B,SEE_agrg!$D46,SEE_data!BB:BB)","v":0},{"$f":"SUMIF(SEE_data!$B:$B,SEE_agrg!$D46,SEE_data!BC:BC)","v":0},0,0,0,0,0,0,0,0,0,0,{"$f":"SUMIFS(UdS_data!D:D,UdS_data!F:F,1,UdS_data!B:B,D46)","v":0},{"$error":"#DIV/0!"},0,0,0,0,0,0,{"$error":"#DIV/0!"},0,0,0,0,0,0]
[null,{"$f":"INDEX(Sistema_Analisado!$A$3:$F$99,MATCH($D47,Sistema_Analisado!$B$3:$B$99,FALSE),MATCH($B$4,Sistema_Analisado!$A$3:$F$3,FALSE))","v":{"$error":"#N/A"}},{"$f":"INDEX(Sistema_Analisado!$A$3:$F$99,MATCH(D47,Sistema_Analisado!$B$3:$B$99,FALSE),MATCH(\"Seq. Corredor\",Sistema_Analisado!$A$3:$F$3,0))","v":{"$error":"#N/A"}},null,{"$f":"SUMIF(SEE_data!$B:$B,SEE_agrg!$D47,SEE_data!F:F)","v":0},{"$f":"SUMIF(SEE_data!$B:$B,SEE_agrg!$D47,SEE_data!AF:AF)","v":0},{"$f":"SUMIF(SEE_data!$B:$B,SEE_agrg!$D47,SEE_data!AG:AG)","v":0},{"$f":"SUMIF(SEE_data!$B:$B,SEE_agrg!$D47,SEE_data!AH:AH)","v":0},{"$f":"SUMIF(SEE_data!$B:$B,SEE_agrg!$D47,SEE_data!AI:AI)","v":0},{"$f":"SUMIF(SEE_data!$B:$B,SEE_agrg!$D47,SEE_data!AJ:AJ)","v":0},{"$f":"SUMIF(SEE_data!$B:$B,SEE_agrg!$D47,SEE_data!AK:AK)","v":0},{"$f":"SUMIF(SEE_data!$B:$B,SEE_agrg!$D47,SEE_data!AL:AL)","v":0},{"$f":"SUMIF(SEE_data!$B:$B,SEE_agrg!$D47,SEE_data!AM:AM)","v":0},{"$f":"SUMIF(SEE_data!$B:$B,SEE_agrg!$D47,SEE_data!AN:AN)","v":0},{"$f":"SUMIF(SEE_data!$B:$B,SEE_agrg!$D47,SEE_data!AO:AO)","v":0},{"$f":"SUMIF(SEE_data!$B:$B,SEE_agrg!$D47,SEE_data!AP:AP)","v":0},{"$f":"SUMIF(SEE_data!$B:$B,SEE_agrg!$D47,SEE_data!AQ:AQ)","v":0},{"$f":"SUMIF(SEE_data!$B:$B,SEE_agrg!$D47,SEE_data!AR:AR)","v":0},{"$f":"SUMIF(SEE_data!$B:$B,SEE_agrg!$D47,SEE_data!AS:AS)","v":0},{"$f":"SUMIF(SEE_data!$B:$B,SEE_agrg!$D47,SEE_data!AT:AT)","v":0},{"$f":"SUMIF(SEE_data!$B:$B,SEE_agrg!$D47,SEE_data!AU:AU)","v":0},{"$f":"SUMIF(SEE_data!$B:$B,SEE_agrg!$D47,SEE_data!AV:AV)","v":0},{"$f":"SUMIF(SEE_data!$B:$B,SEE_agrg!$D47,SEE_data!AW:AW)","v":0},{"$f":"SUMIF(SEE_data!$B:$B,SEE_agrg!$D47,SEE_data!AX:AX)","v":0},{"$f":"SUMIF(SEE_data!$B:$B,SEE_agrg!$D47,SEE_data!AY:AY)","v":0},{"$f":"SUMIF(SEE_data!$B:$B,SEE_agrg!$D47,SEE_data!AZ:AZ)","v":0},{"$f":"SUMIF(SEE_data!$B:$B,SEE_agrg!$D47,SEE_data!BA:BA)","v":0},{"$f":"SUMIF(SEE_data!$B:$B,SEE_agrg!$D47,SEE_data!BB:BB)","v":0},{"$f":"SUMIF(SEE_data!$B:$B,SEE_agrg!$D47,SEE_data!BC:BC)","v":0},0,0,0,0,0,0,0,0,0,0,{"$f":"SUMIFS(UdS_data!D:D,UdS_data!F:F,1,UdS_data!B:B,D47)","v":0},{"$error":"#DIV/0!"},0,0,0,0,0,0,{"$error":"#DIV/0!"},0,0,0,0,0,0]
[null,{"$f":"INDEX(Sistema_Analisado!$A$3:$F$99,MATCH($D48,Sistema_Analisado!$B$3:$B$99,FALSE),MATCH($B$4,Sistema_Analisado!$A$3:$F$3,FALSE))","v":{"$error":"#N/A"}},{"$f":"INDEX(Sistema_Analisado!$A$3:$F$99,MATCH(D48,Sistema_Analisado!$B$3:$B$99,FALSE),MATCH(\"Seq. Corredor\",Sistema_Analisado!$A$3:$F$3,0))","v":{"$error":"#N/A"}},null,{"$f":"SUMIF(SEE_data!$B:$B,SEE_agrg!$D48,SEE_data!F:F)","v":0},{"$f":"SUMIF(SEE_data!$B:$B,SEE_agrg!$D48,SEE_data!AF:AF)","v":0},{"$f":"SUMIF(SEE_data!$B:$B,SEE_agrg!$D48,SEE_data!AG:AG)","v":0},{"$f":"SUMIF(SEE_data!$B:$B,SEE_agrg!$D48,SEE_data!AH:AH)","v":0},{"$f":"SUMIF(SEE_data!$B:$B,SEE_agrg!$D48,SEE_data!AI:AI)","v":0},{"$f":"SUMIF(SEE_data!$B:$B,SEE_agrg!$D48,SEE_data!AJ:AJ)","v":0},{"$f":"SUMIF(SEE_data!$B:$B,SEE_agrg!$D48,SEE_data!AK:AK)","v":0},{"$f":"SUMIF(SEE_data!$B:$B,SEE_agrg!$D48,SEE_data!AL:AL)","v":0},{"$f":"SUMIF(SEE_data!$B:$B,SEE_agrg!$D48,SEE_data!AM:AM)","v":0},{"$f":"SUMIF(SEE_data!$B:$B,SEE_agrg!$D48,SEE_data!AN:AN)","v":0},{"$f":"SUMIF(SEE_data!$B:$B,SEE_agrg!$D48,SEE_data!AO:AO)","v":0},{"$f":"SUMIF(SEE_data!$B:$B,SEE_agrg!$D48,SEE_data!AP:AP)","v":0},{"$f":"SUMIF(SEE_data!$B:$B,SEE_agrg!$D48,SEE_data!AQ:AQ)","v":0},{"$f":"SUMIF(SEE_data!$B:$B,SEE_agrg!$D48,SEE_data!AR:AR)","v":0},{"$f":"SUMIF(SEE_data!$B:$B,SEE_agrg!$D48,SEE_data!AS:AS)","v":0},{"$f":"SUMIF(SEE_data!$B:$B,SEE_agrg!$D48,SEE_data!AT:AT)","v":0},{"$f":"SUMIF(SEE_data!$B:$B,SEE_agrg!$D48,SEE_data!AU:AU)","v":0},{"$f":"SUMIF(SEE_data!$B:$B,SEE_agrg!$D48,SEE_data!AV:AV)","v":0},{"$f":"SUMIF(SEE_data!$B:$B,SEE_agrg!$D48,SEE_data!AW:AW)","v":0},{"$f":"SUMIF(SEE_data!$B:$B,SEE_agrg!$D48,SEE_data!AX:AX)","v":0},{"$f":"SUMIF(SEE_data!$B:$B,SEE_agrg!$D48,SEE_data!AY:AY)","v":0},{"$f":"SUMIF(SEE_data!$B:$B,SEE_agrg!$D48,SEE_data!AZ:AZ)","v":0},{"$f":"SUMIF(SEE_data!$B:$B,SEE_agrg!$D48,SEE_data!BA:BA)","v":0},{"$f":"SUMIF(SEE_data!$B:$B,SEE_agrg!$D48,SEE_data!BB:BB)","v":0},{"$f":"SUMIF(SEE_data!$B:$B,SEE_agrg!$D48,SEE_data!BC:BC)","v":0},0,0,0,0,0,0,0,0,0,0,{"$f":"SUMIFS(UdS_data!D:D,UdS_data!F:F,1,UdS_data!B:B,D48)","v":0},{"$error":"#DIV/0!"},0,0,0,0,0,0,{"$error":"#DIV/0!"},0,0,0,0,0,0]
[null,{"$f":"INDEX(Sistema_Analisado!$A$3:$F$99,MATCH($D49,Sistema_Analisado!$B$3:$B$99,FALSE),MATCH($B$4,Sistema_Analisado!$A$3:$F$3,FALSE))","v":{"$error":"#N/A"}},{"$f":"INDEX(Sistema_Analisado!$A$3:$F$99,MATCH(D49,Sistema_Analisado!$B$3:$B$99,FALSE),MATCH(\"Seq. Corredor\",Sistema_Analisado!$A$3:$F$3,0))","v":{"$error":"#N/A"}},null,{"$f":"SUMIF(SEE_data!$B:$B,SEE_agrg!$D49,SEE_data!F:F)","v":0},{"$f":"SUMIF(SEE_data!$B:$B,SEE_agrg!$D49,SEE_data!AF:AF)","v":0},{"$f":"SUMIF(SEE_data!$B:$B,SEE_agrg!$D49,SEE_data!AG:AG)","v":0},{"$f":"SUMIF(SEE_data!$B:$B,SEE_agrg!$D49,SEE_data!AH:AH)","v":0},{"$f":"SUMIF(SEE_data!$B:$B,SEE_agrg!$D49,SEE_data!AI:AI)","v":0},{"$f":"SUMIF(SEE_data!$B:$B,SEE_agrg!$D49,SEE_data!AJ:AJ)","v":0},{"$f":"SUMIF(SEE_data!$B:$B,SEE_agrg!$D49,SEE_data!AK:AK)","v":0},{"$f":"SUMIF(SEE_data!$B:$B,SEE_agrg!$D49,SEE_data!AL:AL)","v":0},{"$f":"SUMIF(SEE_data!$B:$B,SEE_agrg!$D49,SEE_data!AM:AM)","v":0},{"$f":"SUMIF(SEE_data!$B:$B,SEE_agrg!$D49,SEE_data!AN:AN)","v":0},{"$f":"SUMIF(SEE_data!$B:$B,SEE_agrg!$D49,SEE_data!AO:AO)","v":0},{"$f":"SUMIF(SEE_data!$B:$B,SEE_agrg!$D49,SEE_data!AP:AP)","v":0},{"$f":"SUMIF(SEE_data!$B:$B,SEE_agrg!$D49,SEE_data!AQ:AQ)","v":0},{"$f":"SUMIF(SEE_data!$B:$B,SEE_agrg!$D49,SEE_data!AR:AR)","v":0},{"$f":"SUMIF(SEE_data!$B:$B,SEE_agrg!$D49,SEE_data!AS:AS)","v":0},{"$f":"SUMIF(SEE_data!$B:$B,SEE_agrg!$D49,SEE_data!AT:AT)","v":0},{"$f":"SUMIF(SEE_data!$B:$B,SEE_agrg!$D49,SEE_data!AU:AU)","v":0},{"$f":"SUMIF(SEE_data!$B:$B,SEE_agrg!$D49,SEE_data!AV:AV)","v":0},{"$f":"SUMIF(SEE_data!$B:$B,SEE_agrg!$D49,SEE_data!AW:AW)","v":0},{"$f":"SUMIF(SEE_data!$B:$B,SEE_agrg!$D49,SEE_data!AX:AX)","v":0},{"$f":"SUMIF(SEE_data!$B:$B,SEE_agrg!$D49,SEE_data!AY:AY)","v":0},{"$f":"SUMIF(SEE_data!$B:$B,SEE_agrg!$D49,SEE_data!AZ:AZ)","v":0},{"$f":"SUMIF(SEE_data!$B:$B,SEE_agrg!$D49,SEE_data!BA:BA)","v":0},{"$f":"SUMIF(SEE_data!$B:$B,SEE_agrg!$D49,SEE_data!BB:BB)","v":0},{"$f":"SUMIF(SEE_data!$B:$B,SEE_agrg!$D49,SEE_data!BC:BC)","v":0},0,0,0,0,0,0,0,0,0,0,{"$f":"SUMIFS(UdS_data!D:D,UdS_data!F:F,1,UdS_data!B:B,D49)","v":0},{"$error":"#DIV/0!"},0,0,0,0,0,0,{"$error":"#DIV/0!"},0,0,0,0,0,0]
[null,{"$f":"INDEX(Sistema_Analisado!$A$3:$F$99,MATCH($D50,Sistema_Analisado!$B$3:$B$99,FALSE),MATCH($B$4,Sistema_Analisado!$A$3:$F$3,FALSE))","v":{"$error":"#N/A"}},{"$f":"INDEX(Sistema_Analisado!$A$3:$F$99,MATCH(D50,Sistema_Analisado!$B$3:$B$99,FALSE),MATCH(\"Seq. Corredor\",Sistema_Analisado!$A$3:$F$3,0))","v":{"$error":"#N/A"}},null,{"$f":"SUMIF(SEE_data!$B:$B,SEE_agrg!$D50,SEE_data!F:F)","v":0},{"$f":"SUMIF(SEE_data!$B:$B,SEE_agrg!$D50,SEE_data!AF:AF)","v":0},{"$f":"SUMIF(SEE_data!$B:$B,SEE_agrg!$D50,SEE_data!AG:AG)","v":0},{"$f":"SUMIF(SEE_data!$B:$B,SEE_agrg!$D50,SEE_data!AH:AH)","v":0},{"$f":"SUMIF(SEE_data!$B:$B,SEE_agrg!$D50,SEE_data!AI:AI)","v":0},{"$f":"SUMIF(SEE_data!$B:$B,SEE_agrg!$D50,SEE_data!AJ:AJ)","v":0},{"$f":"SUMIF(SEE_data!$B:$B,SEE_agrg!$D50,SEE_data!AK:AK)","v":0},{"$f":"SUMIF(SEE_data!$B:$B,SEE_agrg!$D50,SEE_data!AL:AL)","v":0},{"$f":"SUMIF(SEE_data!$B:$B,SEE_agrg!$D50,SEE_data!AM:AM)","v":0},{"$f":"SUMIF(SEE_data!$B:$B,SEE_agrg!$D50,SEE_data!AN:AN)","v":0},{"$f":"SUMIF(SEE_data!$B:$B,SEE_agrg!$D50,SEE_data!AO:AO)","v":0},{"$f":"SUMIF(SEE_data!$B:$B,SEE_agrg!$D50,SEE_data!AP:AP)","v":0},{"$f":"SUMIF(SEE_data!$B:$B,SEE_agrg!$D50,SEE_data!AQ:AQ)","v":0},{"$f":"SUMIF(SEE_data!$B:$B,SEE_agrg!$D50,SEE_data!AR:AR)","v":0},{"$f":"SUMIF(SEE_data!$B:$B,SEE_agrg!$D50,SEE_data!AS:AS)","v":0},{"$f":"SUMIF(SEE_data!$B:$B,SEE_agrg!$D50,SEE_data!AT:AT)","v":0},{"$f":"SUMIF(SEE_data!$B:$B,SEE_agrg!$D50,SEE_data!AU:AU)","v":0},{"$f":"SUMIF(SEE_data!$B:$B,SEE_agrg!$D50,SEE_data!AV:AV)","v":0},{"$f":"SUMIF(SEE_data!$B:$B,SEE_agrg!$D50,SEE_data!AW:AW)","v":0},{"$f":"SUMIF(SEE_data!$B:$B,SEE_agrg!$D50,SEE_data!AX:AX)","v":0},{"$f":"SUMIF(SEE_data!$B:$B,SEE_agrg!$D50,SEE_data!AY:AY)","v":0},{"$f":"SUMIF(SEE_data!$B:$B,SEE_agrg!$D50,SEE_data!AZ:AZ)","v":0},{"$f":"SUMIF(SEE_data!$B:$B,SEE_agrg!$D50,SEE_data!BA:BA)","v":0},{"$f":"SUMIF(SEE_data!$B:$B,SEE_agrg!$D50,SEE_data!BB:BB)","v":0},{"$f":"SUMIF(SEE_data!$B:$B,SEE_agrg!$D50,SEE_data!BC:BC)","v":0},0,0,0,0,0,0,0,0,0,0,{"$f":"SUMIFS(UdS_data!D:D,UdS_data!F:F,1,UdS_data!B:B,D50)","v":0},{"$error":"#DIV/0!"},0,0,0,0,0,0,{"$error":"#DIV/0!"},0,0,0,0,0,0]
[null,{"$f":"INDEX(Sistema_Analisado!$A$3:$F$99,MATCH($D51,Sistema_Analisado!$B$3:$B$99,FALSE),MATCH($B$4,Sistema_Analisado!$A$3:$F$3,FALSE))","v":{"$error":"#N/A"}},{"$f":"INDEX(Sistema_Analisado!$A$3:$F$99,MATCH(D51,Sistema_Analisado!$B$3:$B$99,FALSE),MATCH(\"Seq. Corredor\",Sistema_Analisado!$A$3:$F$3,0))","v":{"$error":"#N/A"}},null,{"$f":"SUMIF(SEE_data!$B:$B,SEE_agrg!$D51,SEE_data!F:F)","v":0},{"$f":"SUMIF(SEE_data!$B:$B,SEE_agrg!$D51,SEE_data!AF:AF)","v":0},{"$f":"SUMIF(SEE_data!$B:$B,SEE_agrg!$D51,SEE_data!AG:AG)","v":0},{"$f":"SUMIF(SEE_data!$B:$B,SEE_agrg!$D51,SEE_data!AH:AH)","v":0},{"$f":"SUMIF(SEE_data!$B:$B,SEE_agrg!$D51,SEE_data!AI:AI)","v":0},{"$f":"SUMIF(SEE_data!$B:$B,SEE_agrg!$D51,SEE_data!AJ:AJ)","v":0},{"$f":"SUMIF(SEE_data!$B:$B,SEE_agrg!$D51,SEE_data!AK:AK)","v":0},{"$f":"SUMIF(SEE_data!$B:$B,SEE_agrg!$D51,SEE_data!AL:AL)","v":0},{"$f":"SUMIF(SEE_data!$B:$B,SEE_agrg!$D51,SEE_data!AM:AM)","v":0},{"$f":"SUMIF(SEE_data!$B:$B,SEE_agrg!$D51,SEE_data!AN:AN)","v":0},{"$f":"SUMIF(SEE_data!$B:$B,SEE_agrg!$D51,SEE_data!AO:AO)","v":0},{"$f":"SUMIF(SEE_data!$B:$B,SEE_agrg!$D51,SEE_data!AP:AP)","v":0},{"$f":"SUMIF(SEE_data!$B:$B,SEE_agrg!$D51,SEE_data!AQ:AQ)","v":0},{"$f":"SUMIF(SEE_data!$B:$B,SEE_agrg!$D51,SEE_data!AR:AR)","v":0},{"$f":"SUMIF(SEE_data!$B:$B,SEE_agrg!$D51,SEE_data!AS:AS)","v":0},{"$f":"SUMIF(SEE_data!$B:$B,SEE_agrg!$D51,SEE_data!AT:AT)","v":0},{"$f":"SUMIF(SEE_data!$B:$B,SEE_agrg!$D51,SEE_data!AU:AU)","v":0},{"$f":"SUMIF(SEE_data!$B:$B,SEE_agrg!$D51,SEE_data!AV:AV)","v":0},{"$f":"SUMIF(SEE_data!$B:$B,SEE_agrg!$D51,SEE_data!AW:AW)","v":0},{"$f":"SUMIF(SEE_data!$B:$B,SEE_agrg!$D51,SEE_data!AX:AX)","v":0},{"$f":"SUMIF(SEE_data!$B:$B,SEE_agrg!$D51,SEE_data!AY:AY)","v":0},{"$f":"SUMIF(SEE_data!$B:$B,SEE_agrg!$D51,SEE_data!AZ:AZ)","v":0},{"$f":"SUMIF(SEE_data!$B:$B,SEE_agrg!$D51,SEE_data!BA:BA)","v":0},{"$f":"SUMIF(SEE_data!$B:$B,SEE_agrg!$D51,SEE_data!BB:BB)","v":0},{"$f":"SUMIF(SEE_data!$B:$B,SEE_agrg!$D51,SEE_data!BC:BC)","v":0},0,0,0,0,0,0,0,0,0,0,{"$f":"SUMIFS(UdS_data!D:D,UdS_data!F:F,1,UdS_data!B:B,D51)","v":0},{"$error":"#DIV/0!"},0,0,0,0,0,0,{"$error":"#DIV/0!"},0,0,0,0,0,0]
[null,{"$f":"INDEX(Sistema_Analisado!$A$3:$F$99,MATCH($D52,Sistema_Analisado!$B$3:$B$99,FALSE),MATCH($B$4,Sistema_Analisado!$A$3:$F$3,FALSE))","v":{"$error":"#N/A"}},{"$f":"INDEX(Sistema_Analisado!$A$3:$F$99,MATCH(D52,Sistema_Analisado!$B$3:$B$99,FALSE),MATCH(\"Seq. Corredor\",Sistema_Analisado!$A$3:$F$3,0))","v":{"$error":"#N/A"}},null,{"$f":"SUMIF(SEE_data!$B:$B,SEE_agrg!$D52,SEE_data!F:F)","v":0},{"$f":"SUMIF(SEE_data!$B:$B,SEE_agrg!$D52,SEE_data!AF:AF)","v":0},{"$f":"SUMIF(SEE_data!$B:$B,SEE_agrg!$D52,SEE_data!AG:AG)","v":0},{"$f":"SUMIF(SEE_data!$B:$B,SEE_agrg!$D52,SEE_data!AH:AH)","v":0},{"$f":"SUMIF(SEE_data!$B:$B,SEE_agrg!$D52,SEE_data!AI:AI)","v":0},{"$f":"SUMIF(SEE_data!$B:$B,SEE_agrg!$D52,SEE_data!AJ:AJ)","v":0},{"$f":"SUMIF(SEE_data!$B:$B,SEE_agrg!$D52,SEE_data!AK:AK)","v":0},{"$f":"SUMIF(SEE_data!$B:$B,SEE_agrg!$D52,SEE_data!AL:AL)","v":0},{"$f":"SUMIF(SEE_data!$B:$B,SEE_agrg!$D52,SEE_data!AM:AM)","v":0},{"$f":"SUMIF(SEE_data!$B:$B,SEE_agrg!$D52,SEE_data!AN:AN)","v":0},{"$f":"SUMIF(SEE_data!$B:$B,SEE_agrg!$D52,SEE_data!AO:AO)","v":0},{"$f":"SUMIF(SEE_data!$B:$B,SEE_agrg!$D52,SEE_data!AP:AP)","v":0},{"$f":"SUMIF(SEE_data!$B:$B,SEE_agrg!$D52,SEE_data!AQ:AQ)","v":0},{"$f":"SUMIF(SEE_data!$B:$B,SEE_agrg!$D52,SEE_data!AR:AR)","v":0},{"$f":"SUMIF(SEE_data!$B:$B,SEE_agrg!$D52,SEE_data!AS:AS)","v":0},{"$f":"SUMIF(SEE_data!$B:$B,SEE_agrg!$D52,SEE_data!AT:AT)","v":0},{"$f":"SUMIF(SEE_data!$B:$B,SEE_agrg!$D52,SEE_data!AU:AU)","v":0},{"$f":"SUMIF(SEE_data!$B:$B,SEE_agrg!$D52,SEE_data!AV:AV)","v":0},{"$f":"SUMIF(SEE_data!$B:$B,SEE_agrg!$D52,SEE_data!AW:AW)","v":0},{"$f":"SUMIF(SEE_data!$B:$B,SEE_agrg!$D52,SEE_data!AX:AX)","v":0},{"$f":"SUMIF(SEE_data!$B:$B,SEE_agrg!$D52,SEE_data!AY:AY)","v":0},{"$f":"SUMIF(SEE_data!$B:$B,SEE_agrg!$D52,SEE_data!AZ:AZ)","v":0},{"$f":"SUMIF(SEE_data!$B:$B,SEE_agrg!$D52,SEE_data!BA:BA)","v":0},{"$f":"SUMIF(SEE_data!$B:$B,SEE_agrg!$D52,SEE_data!BB:BB)","v":0},{"$f":"SUMIF(SEE_data!$B:$B,SEE_agrg!$D52,SEE_data!BC:BC)","v":0},0,0,0,0,0,0,0,0,0,0,{"$f":"SUMIFS(UdS_data!D:D,UdS_data!F:F,1,UdS_data!B:B,D52)","v":0},{"$error":"#DIV/0!"},0,0,0,0,0,0,{"$error":"#DIV/0!"},0,0,0,0,0,0]
[null,{"$f":"INDEX(Sistema_Analisado!$A$3:$F$99,MATCH($D53,Sistema_Analisado!$B$3:$B$99,FALSE),MATCH($B$4,Sistema_Analisado!$A$3:$F$3,FALSE))","v":{"$error":"#N/A"}},{"$f":"INDEX(Sistema_Analisado!$A$3:$F$99,MATCH(D53,Sistema_Analisado!$B$3:$B$99,FALSE),MATCH(\"Seq. Corredor\",Sistema_Analisado!$A$3:$F$3,0))","v":{"$error":"#N/A"}},null,{"$f":"SUMIF(SEE_data!$B:$B,SEE_agrg!$D53,SEE_data!F:F)","v":0},{"$f":"SUMIF(SEE_data!$B:$B,SEE_agrg!$D53,SEE_data!AF:AF)","v":0},{"$f":"SUMIF(SEE_data!$B:$B,SEE_agrg!$D53,SEE_data!AG:AG)","v":0},{"$f":"SUMIF(SEE_data!$B:$B,SEE_agrg!$D53,SEE_data!AH:AH)","v":0},{"$f":"SUMIF(SEE_data!$B:$B,SEE_agrg!$D53,SEE_data!AI:AI)","v":0},{"$f":"SUMIF(SEE_data!$B:$B,SEE_agrg!$D53,SEE_data!AJ:AJ)","v":0},{"$f":"SUMIF(SEE_data!$B:$B,SEE_agrg!$D53,SEE_data!AK:AK)","v":0},{"$f":"SUMIF(SEE_data!$B:$B,SEE_agrg!$D53,SEE_data!AL:AL)","v":0},{"$f":"SUMIF(SEE_data!$B:$B,SEE_agrg!$D53,SEE_data!AM:AM)","v":0},{"$f":"SUMIF(SEE_data!$B:$B,SEE_agrg!$D53,SEE_data!AN:AN)","v":0},{"$f":"SUMIF(SEE_data!$B:$B,SEE_agrg!$D53,SEE_data!AO:AO)","v":0},{"$f":"SUMIF(SEE_data!$B:$B,SEE_agrg!$D53,SEE_data!AP:AP)","v":0},{"$f":"SUMIF(SEE_data!$B:$B,SEE_agrg!$D53,SEE_data!AQ:AQ)","v":0},{"$f":"SUMIF(SEE_data!$B:$B,SEE_agrg!$D53,SEE_data!AR:AR)","v":0},{"$f":"SUMIF(SEE_data!$B:$B,SEE_agrg!$D53,SEE_data!AS:AS)","v":0},{"$f":"SUMIF(SEE_data!$B:$B,SEE_agrg!$D53,SEE_data!AT:AT)","v":0},{"$f":"SUMIF(SEE_data!$B:$B,SEE_agrg!$D53,SEE_data!AU:AU)","v":0},{"$f":"SUMIF(SEE_data!$B:$B,SEE_agrg!$D53,SEE_data!AV:AV)","v":0},{"$f":"SUMIF(SEE_data!$B:$B,SEE_agrg!$D53,SEE_data!AW:AW)","v":0},{"$f":"SUMIF(SEE_data!$B:$B,SEE_agrg!$D53,SEE_data!AX:AX)","v":0},{"$f":"SUMIF(SEE_data!$B:$B,SEE_agrg!$D53,SEE_data!AY:AY)","v":0},{"$f":"SUMIF(SEE_data!$B:$B,SEE_agrg!$D53,SEE_data!AZ:AZ)","v":0},{"$f":"SUMIF(SEE_data!$B:$B,SEE_agrg!$D53,SEE_data!BA:BA)","v":0},{"$f":"SUMIF(SEE_data!$B:$B,SEE_agrg!$D53,SEE_data!BB:BB)","v":0},{"$f":"SUMIF(SEE_data!$B:$B,SEE_agrg!$D53,SEE_data!BC:BC)","v":0},0,0,0,0,0,0,0,0,0,0,{"$f":"SUMIFS(UdS_data!D:D,UdS_data!F:F,1,UdS_data!B:B,D53)","v":0},{"$error":"#DIV/0!"},0,0,0,0,0,0,{"$error":"#DIV/0!"},0,0,0,0,0,0]
[null,{"$f":"INDEX(Sistema_Analisado!$A$3:$F$99,MATCH($D54,Sistema_Analisado!$B$3:$B$99,FALSE),MATCH($B$4,Sistema_Analisado!$A$3:$F$3,FALSE))","v":{"$error":"#N/A"}},{"$f":"INDEX(Sistema_Analisado!$A$3:$F$99,MATCH(D54,Sistema_Analisado!$B$3:$B$99,FALSE),MATCH(\"Seq. Corredor\",Sistema_Analisado!$A$3:$F$3,0))","v":{"$error":"#N/A"}},null,{"$f":"SUMIF(SEE_data!$B:$B,SEE_agrg!$D54,SEE_data!F:F)","v":0},{"$f":"SUMIF(SEE_data!$B:$B,SEE_agrg!$D54,SEE_data!AF:AF)","v":0},{"$f":"SUMIF(SEE_data!$B:$B,SEE_agrg!$D54,SEE_data!AG:AG)","v":0},{"$f":"SUMIF(SEE_data!$B:$B,SEE_agrg!$D54,SEE_data!AH:AH)","v":0},{"$f":"SUMIF(SEE_data!$B:$B,SEE_agrg!$D54,SEE_data!AI:AI)","v":0},{"$f":"SUMIF(SEE_data!$B:$B,SEE_agrg!$D54,SEE_data!AJ:AJ)","v":0},{"$f":"SUMIF(SEE_data!$B:$B,SEE_agrg!$D54,SEE_data!AK:AK)","v":0},{"$f":"SUMIF(SEE_data!$B:$B,SEE_agrg!$D54,SEE_data!AL:AL)","v":0},{"$f":"SUMIF(SEE_data!$B:$B,SEE_agrg!$D54,SEE_data!AM:AM)","v":0},{"$f":"SUMIF(SEE_data!$B:$B,SEE_agrg!$D54,SEE_data!AN:AN)","v":0},{"$f":"SUMIF(SEE_data!$B:$B,SEE_agrg!$D54,SEE_data!AO:AO)","v":0},{"$f":"SUMIF(SEE_data!$B:$B,SEE_agrg!$D54,SEE_data!AP:AP)","v":0},{"$f":"SUMIF(SEE_data!$B:$B,SEE_agrg!$D54,SEE_data!AQ:AQ)","v":0},{"$f":"SUMIF(SEE_data!$B:$B,SEE_agrg!$D54,SEE_data!AR:AR)","v":0},{"$f":"SUMIF(SEE_data!$B:$B,SEE_agrg!$D54,SEE_data!AS:AS)","v":0},{"$f":"SUMIF(SEE_data!$B:$B,SEE_agrg!$D54,SEE_data!AT:AT)","v":0},{"$f":"SUMIF(SEE_data!$B:$B,SEE_agrg!$D54,SEE_data!AU:AU)","v":0},{"$f":"SUMIF(SEE_data!$B:$B,SEE_agrg!$D54,SEE_data!AV:AV)","v":0},{"$f":"SUMIF(SEE_data!$B:$B,SEE_agrg!$D54,SEE_data!AW:AW)","v":0},{"$f":"SUMIF(SEE_data!$B:$B,SEE_agrg!$D54,SEE_data!AX:AX)","v":0},{"$f":"SUMIF(SEE_data!$B:$B,SEE_agrg!$D54,SEE_data!AY:AY)","v":0},{"$f":"SUMIF(SEE_data!$B:$B,SEE_agrg!$D54,SEE_data!AZ:AZ)","v":0},{"$f":"SUMIF(SEE_data!$B:$B,SEE_agrg!$D54,SEE_data!BA:BA)","v":0},{"$f":"SUMIF(SEE_data!$B:$B,SEE_agrg!$D54,SEE_data!BB:BB)","v":0},{"$f":"SUMIF(SEE_data!$B:$B,SEE_agrg!$D54,SEE_data!BC:BC)","v":0},0,0,0,0,0,0,0,0,0,0,{"$f":"SUMIFS(UdS_data!D:D,UdS_data!F:F,1,UdS_data!B:B,D54)","v":0},{"$error":"#DIV/0!"},0,0,0,0,0,0,{"$error":"#DIV/0!"},0,0,0,0,0,0]
[null,{"$f":"INDEX(Sistema_Analisado!$A$3:$F$99,MATCH($D55,Sistema_Analisado!$B$3:$B$99,FALSE),MATCH($B$4,Sistema_Analisado!$A$3:$F$3,FALSE))","v":{"$error":"#N/A"}},{"$f":"INDEX(Sistema_Analisado!$A$3:$F$99,MATCH(D55,Sistema_Analisado!$B$3:$B$99,FALSE),MATCH(\"Seq. Corredor\",Sistema_Analisado!$A$3:$F$3,0))","v":{"$error":"#N/A"}},null,{"$f":"SUMIF(SEE_data!$B:$B,SEE_agrg!$D55,SEE_data!F:F)","v":0},{"$f":"SUMIF(SEE_data!$B:$B,SEE_agrg!$D55,SEE_data!AF:AF)","v":0},{"$f":"SUMIF(SEE_data!$B:$B,SEE_agrg!$D55,SEE_data!AG:AG)","v":0},{"$f":"SUMIF(SEE_data!$B:$B,SEE_agrg!$D55,SEE_data!AH:AH)","v":0},{"$f":"SUMIF(SEE_data!$B:$B,SEE_agrg!$D55,SEE_data!AI:AI)","v":0},{"$f":"SUMIF(SEE_data!$B:$B,SEE_agrg!$D55,SEE_data!AJ:AJ)","v":0},{"$f":"SUMIF(SEE_data!$B:$B,SEE_agrg!$D55,SEE_data!AK:AK)","v":0},{"$f":"SUMIF(SEE_data!$B:$B,SEE_agrg!$D55,SEE_data!AL:AL)","v":0},{"$f":"SUMIF(SEE_data!$B:$B,SEE_agrg!$D55,SEE_data!AM:AM)","v":0},{"$f":"SUMIF(SEE_data!$B:$B,SEE_agrg!$D55,SEE_data!AN:AN)","v":0},{"$f":"SUMIF(SEE_data!$B:$B,SEE_agrg!$D55,SEE_data!AO:AO)","v":0},{"$f":"SUMIF(SEE_data!$B:$B,SEE_agrg!$D55,SEE_data!AP:AP)","v":0},{"$f":"SUMIF(SEE_data!$B:$B,SEE_agrg!$D55,SEE_data!AQ:AQ)","v":0},{"$f":"SUMIF(SEE_data!$B:$B,SEE_agrg!$D55,SEE_data!AR:AR)","v":0},{"$f":"SUMIF(SEE_data!$B:$B,SEE_agrg!$D55,SEE_data!AS:AS)","v":0},{"$f":"SUMIF(SEE_data!$B:$B,SEE_agrg!$D55,SEE_data!AT:AT)","v":0},{"$f":"SUMIF(SEE_data!$B:$B,SEE_agrg!$D55,SEE_data!AU:AU)","v":0},{"$f":"SUMIF(SEE_data!$B:$B,SEE_agrg!$D55,SEE_data!AV:AV)","v":0},{"$f":"SUMIF(SEE_data!$B:$B,SEE_agrg!$D55,SEE_data!AW:AW)","v":0},{"$f":"SUMIF(SEE_data!$B:$B,SEE_agrg!$D55,SEE_data!AX:AX)","v":0},{"$f":"SUMIF(SEE_data!$B:$B,SEE_agrg!$D55,SEE_data!AY:AY)","v":0},{"$f":"SUMIF(SEE_data!$B:$B,SEE_agrg!$D55,SEE_data!AZ:AZ)","v":0},{"$f":"SUMIF(SEE_data!$B:$B,SEE_agrg!$D55,SEE_data!BA:BA)","v":0},{"$f":"SUMIF(SEE_data!$B:$B,SEE_agrg!$D55,SEE_data!BB:BB)","v":0},{"$f":"SUMIF(SEE_data!$B:$B,SEE_agrg!$D55,SEE_data!BC:BC)","v":0},0,0,0,0,0,0,0,0,0,0,{"$f":"SUMIFS(UdS_data!D:D,UdS_data!F:F,1,UdS_data!B:B,D55)","v":0},{"$error":"#DIV/0!"},0,0,0,0,0,0,{"$error":"#DIV/0!"},0,0,0,0,0,0]
[null,{"$f":"INDEX(Sistema_Analisado!$A$3:$F$99,MATCH($D56,Sistema_Analisado!$B$3:$B$99,FALSE),MATCH($B$4,Sistema_Analisado!$A$3:$F$3,FALSE))","v":{"$error":"#N/A"}},{"$f":"INDEX(Sistema_Analisado!$A$3:$F$99,MATCH(D56,Sistema_Analisado!$B$3:$B$99,FALSE),MATCH(\"Seq. Corredor\",Sistema_Analisado!$A$3:$F$3,0))","v":{"$error":"#N/A"}},null,{"$f":"SUMIF(SEE_data!$B:$B,SEE_agrg!$D56,SEE_data!F:F)","v":0},{"$f":"SUMIF(SEE_data!$B:$B,SEE_agrg!$D56,SEE_data!AF:AF)","v":0},{"$f":"SUMIF(SEE_data!$B:$B,SEE_agrg!$D56,SEE_data!AG:AG)","v":0},{"$f":"SUMIF(SEE_data!$B:$B,SEE_agrg!$D56,SEE_data!AH:AH)","v":0},{"$f":"SUMIF(SEE_data!$B:$B,SEE_agrg!$D56,SEE_data!AI:AI)","v":0},{"$f":"SUMIF(SEE_data!$B:$B,SEE_agrg!$D56,SEE_data!AJ:AJ)","v":0},{"$f":"SUMIF(SEE_data!$B:$B,SEE_agrg!$D56,SEE_data!AK:AK)","v":0},{"$f":"SUMIF(SEE_data!$B:$B,SEE_agrg!$D56,SEE_data!AL:AL)","v":0},{"$f":"SUMIF(SEE_data!$B:$B,SEE_agrg!$D56,SEE_data!AM:AM)","v":0},{"$f":"SUMIF(SEE_data!$B:$B,SEE_agrg!$D56,SEE_data!AN:AN)","v":0},{"$f":"SUMIF(SEE_data!$B:$B,SEE_agrg!$D56,SEE_data!AO:AO)","v":0},{"$f":"SUMIF(SEE_data!$B:$B,SEE_agrg!$D56,SEE_data!AP:AP)","v":0},{"$f":"SUMIF(SEE_data!$B:$B,SEE_agrg!$D56,SEE_data!AQ:AQ)","v":0},{"$f":"SUMIF(SEE_data!$B:$B,SEE_agrg!$D56,SEE_data!AR:AR)","v":0},{"$f":"SUMIF(SEE_data!$B:$B,SEE_agrg!$D56,SEE_data!AS:AS)","v":0},{"$f":"SUMIF(SEE_data!$B:$B,SEE_agrg!$D56,SEE_data!AT:AT)","v":0},{"$f":"SUMIF(SEE_data!$B:$B,SEE_agrg!$D56,SEE_data!AU:AU)","v":0},{"$f":"SUMIF(SEE_data!$B:$B,SEE_agrg!$D56,SEE_data!AV:AV)","v":0},{"$f":"SUMIF(SEE_data!$B:$B,SEE_agrg!$D56,SEE_data!AW:AW)","v":0},{"$f":"SUMIF(SEE_data!$B:$B,SEE_agrg!$D56,SEE_data!AX:AX)","v":0},{"$f":"SUMIF(SEE_data!$B:$B,SEE_agrg!$D56,SEE_data!AY:AY)","v":0},{"$f":"SUMIF(SEE_data!$B:$B,SEE_agrg!$D56,SEE_data!AZ:AZ)","v":0},{"$f":"SUMIF(SEE_data!$B:$B,SEE_agrg!$D56,SEE_data!BA:BA)","v":0},{"$f":"SUMIF(SEE_data!$B:$B,SEE_agrg!$D56,SEE_data!BB:BB)","v":0},{"$f":"SUMIF(SEE_data!$B:$B,SEE_agrg!$D56,SEE_data!BC:BC)","v":0},0,0,0,0,0,0,0,0,0,0,{"$f":"SUMIFS(UdS_data!D:D,UdS_data!F:F,1,UdS_data!B:B,D56)","v":0},{"$error":"#DIV/0!"},0,0,0,0,0,0,{"$error":"#DIV/0!"},0,0,0,0,0,0]
[null,{"$f":"INDEX(Sistema_Analisado!$A$3:$F$99,MATCH($D57,Sistema_Analisado!$B$3:$B$99,FALSE),MATCH($B$4,Sistema_Analisado!$A$3:$F$3,FALSE))","v":{"$error":"#N/A"}},{"$f":"INDEX(Sistema_Analisado!$A$3:$F$99,MATCH(D57,Sistema_Analisado!$B$3:$B$99,FALSE),MATCH(\"Seq. Corredor\",Sistema_Analisado!$A$3:$F$3,0))","v":{"$error":"#N/A"}},null,{"$f":"SUMIF(SEE_data!$B:$B,SEE_agrg!$D57,SEE_data!F:F)","v":0},{"$f":"SUMIF(SEE_data!$B:$B,SEE_agrg!$D57,SEE_data!AF:AF)","v":0},{"$f":"SUMIF(SEE_data!$B:$B,SEE_agrg!$D57,SEE_data!AG:AG)","v":0},{"$f":"SUMIF(SEE_data!$B:$B,SEE_agrg!$D57,SEE_data!AH:AH)","v":0},{"$f":"SUMIF(SEE_data!$B:$B,SEE_agrg!$D57,SEE_data!AI:AI)","v":0},{"$f":"SUMIF(SEE_data!$B:$B,SEE_agrg!$D57,SEE_data!AJ:AJ)","v":0},{"$f":"SUMIF(SEE_data!$B:$B,SEE_agrg!$D57,SEE_data!AK:AK)","v":0},{"$f":"SUMIF(SEE_data!$B:$B,SEE_agrg!$D57,SEE_data!AL:AL)","v":0},{"$f":"SUMIF(SEE_data!$B:$B,SEE_agrg!$D57,SEE_data!AM:AM)","v":0},{"$f":"SUMIF(SEE_data!$B:$B,SEE_agrg!$D57,SEE_data!AN:AN)","v":0},{"$f":"SUMIF(SEE_data!$B:$B,SEE_agrg!$D57,SEE_data!AO:AO)","v":0},{"$f":"SUMIF(SEE_data!$B:$B,SEE_agrg!$D57,SEE_data!AP:AP)","v":0},{"$f":"SUMIF(SEE_data!$B:$B,SEE_agrg!$D57,SEE_data!AQ:AQ)","v":0},{"$f":"SUMIF(SEE_data!$B:$B,SEE_agrg!$D57,SEE_data!AR:AR)","v":0},{"$f":"SUMIF(SEE_data!$B:$B,SEE_agrg!$D57,SEE_data!AS:AS)","v":0},{"$f":"SUMIF(SEE_data!$B:$B,SEE_agrg!$D57,SEE_data!AT:AT)","v":0},{"$f":"SUMIF(SEE_data!$B:$B,SEE_agrg!$D57,SEE_data!AU:AU)","v":0},{"$f":"SUMIF(SEE_data!$B:$B,SEE_agrg!$D57,SEE_data!AV:AV)","v":0},{"$f":"SUMIF(SEE_data!$B:$B,SEE_agrg!$D57,SEE_data!AW:AW)","v":0},{"$f":"SUMIF(SEE_data!$B:$B,SEE_agrg!$D57,SEE_data!AX:AX)","v":0},{"$f":"SUMIF(SEE_data!$B:$B,SEE_agrg!$D57,SEE_data!AY:AY)","v":0},{"$f":"SUMIF(SEE_data!$B:$B,SEE_agrg!$D57,SEE_data!AZ:AZ)","v":0},{"$f":"SUMIF(SEE_data!$B:$B,SEE_agrg!$D57,SEE_data!BA:BA)","v":0},{"$f":"SUMIF(SEE_data!$B:$B,SEE_agrg!$D57,SEE_data!BB:BB)","v":0},{"$f":"SUMIF(SEE_data!$B:$B,SEE_agrg!$D57,SEE_data!BC:BC)","v":0},0,0,0,0,0,0,0,0,0,0,{"$f":"SUMIFS(UdS_data!D:D,UdS_data!F:F,1,UdS_data!B:B,D57)","v":0},{"$error":"#DIV/0!"},0,0,0,0,0,0,{"$error":"#DIV/0!"},0,0,0,0,0,0]
[null,{"$f":"INDEX(Sistema_Analisado!$A$3:$F$99,MATCH($D58,Sistema_Analisado!$B$3:$B$99,FALSE),MATCH($B$4,Sistema_Analisado!$A$3:$F$3,FALSE))","v":{"$error":"#N/A"}},{"$f":"INDEX(Sistema_Analisado!$A$3:$F$99,MATCH(D58,Sistema_Analisado!$B$3:$B$99,FALSE),MATCH(\"Seq. Corredor\",Sistema_Analisado!$A$3:$F$3,0))","v":{"$error":"#N/A"}},null,{"$f":"SUMIF(SEE_data!$B:$B,SEE_agrg!$D58,SEE_data!F:F)","v":0},{"$f":"SUMIF(SEE_data!$B:$B,SEE_agrg!$D58,SEE_data!AF:AF)","v":0},{"$f":"SUMIF(SEE_data!$B:$B,SEE_agrg!$D58,SEE_data!AG:AG)","v":0},{"$f":"SUMIF(SEE_data!$B:$B,SEE_agrg!$D58,SEE_data!AH:AH)","v":0},{"$f":"SUMIF(SEE_data!$B:$B,SEE_agrg!$D58,SEE_data!AI:AI)","v":0},{"$f":"SUMIF(SEE_data!$B:$B,SEE_agrg!$D58,SEE_data!AJ:AJ)","v":0},{"$f":"SUMIF(SEE_data!$B:$B,SEE_agrg!$D58,SEE_data!AK:AK)","v":0},{"$f":"SUMIF(SEE_data!$B:$B,SEE_agrg!$D58,SEE_data!AL:AL)","v":0},{"$f":"SUMIF(SEE_data!$B:$B,SEE_agrg!$D58,SEE_data!AM:AM)","v":0},{"$f":"SUMIF(SEE_data!$B:$B,SEE_agrg!$D58,SEE_data!AN:AN)","v":0},{"$f":"SUMIF(SEE_data!$B:$B,SEE_agrg!$D58,SEE_data!AO:AO)","v":0},{"$f":"SUMIF(SEE_data!$B:$B,SEE_agrg!$D58,SEE_data!AP:AP)","v":0},{"$f":"SUMIF(SEE_data!$B:$B,SEE_agrg!$D58,SEE_data!AQ:AQ)","v":0},{"$f":"SUMIF(SEE_data!$B:$B,SEE_agrg!$D58,SEE_data!AR:AR)","v":0},{"$f":"SUMIF(SEE_data!$B:$B,SEE_agrg!$D58,SEE_data!AS:AS)","v":0},{"$f":"SUMIF(SEE_data!$B:$B,SEE_agrg!$D58,SEE_data!AT:AT)","v":0},{"$f":"SUMIF(SEE_data!$B:$B,SEE_agrg!$D58,SEE_data!AU:AU)","v":0},{"$f":"SUMIF(SEE_data!$B:$B,SEE_agrg!$D58,SEE_data!AV:AV)","v":0},{"$f":"SUMIF(SEE_data!$B:$B,SEE_agrg!$D58,SEE_data!AW:AW)","v":0},{"$f":"SUMIF(SEE_data!$B:$B,SEE_agrg!$D58,SEE_data!AX:AX)","v":0},{"$f":"SUMIF(SEE_data!$B:$B,SEE_agrg!$D58,SEE_data!AY:AY)","v":0},{"$f":"SUMIF(SEE_data!$B:$B,SEE_agrg!$D58,SEE_data!AZ:AZ)","v":0},{"$f":"SUMIF(SEE_data!$B:$B,SEE_agrg!$D58,SEE_data!BA:BA)","v":0},{"$f":"SUMIF(SEE_data!$B:$B,SEE_agrg!$D58,SEE_data!BB:BB)","v":0},{"$f":"SUMIF(SEE_data!$B:$B,SEE_agrg!$D58,SEE_data!BC:BC)","v":0},0,0,0,0,0,0,0,0,0,0,{"$f":"SUMIFS(UdS_data!D:D,UdS_data!F:F,1,UdS_data!B:B,D58)","v":0},{"$error":"#DIV/0!"},0,0,0,0,0,0,{"$error":"#DIV/0!"},0,0,0,0,0,0]
[null,{"$f":"INDEX(Sistema_Analisado!$A$3:$F$99,MATCH($D59,Sistema_Analisado!$B$3:$B$99,FALSE),MATCH($B$4,Sistema_Analisado!$A$3:$F$3,FALSE))","v":{"$error":"#N/A"}},{"$f":"INDEX(Sistema_Analisado!$A$3:$F$99,MATCH(D59,Sistema_Analisado!$B$3:$B$99,FALSE),MATCH(\"Seq. Corredor\",Sistema_Analisado!$A$3:$F$3,0))","v":{"$error":"#N/A"}},null,{"$f":"SUMIF(SEE_data!$B:$B,SEE_agrg!$D59,SEE_data!F:F)","v":0},{"$f":"SUMIF(SEE_data!$B:$B,SEE_agrg!$D59,SEE_data!AF:AF)","v":0},{"$f":"SUMIF(SEE_data!$B:$B,SEE_agrg!$D59,SEE_data!AG:AG)","v":0},{"$f":"SUMIF(SEE_data!$B:$B,SEE_agrg!$D59,SEE_data!AH:AH)","v":0},{"$f":"SUMIF(SEE_data!$B:$B,SEE_agrg!$D59,SEE_data!AI:AI)","v":0},{"$f":"SUMIF(SEE_data!$B:$B,SEE_agrg!$D59,SEE_data!AJ:AJ)","v":0},{"$f":"SUMIF(SEE_data!$B:$B,SEE_agrg!$D59,SEE_data!AK:AK)","v":0},{"$f":"SUMIF(SEE_data!$B:$B,SEE_agrg!$D59,SEE_data!AL:AL)","v":0},{"$f":"SUMIF(SEE_data!$B:$B,SEE_agrg!$D59,SEE_data!AM:AM)","v":0},{"$f":"SUMIF(SEE_data!$B:$B,SEE_agrg!$D59,SEE_data!AN:AN)","v":0},{"$f":"SUMIF(SEE_data!$B:$B,SEE_agrg!$D59,SEE_data!AO:AO)","v":0},{"$f":"SUMIF(SEE_data!$B:$B,SEE_agrg!$D59,SEE_data!AP:AP)","v":0},{"$f":"SUMIF(SEE_data!$B:$B,SEE_agrg!$D59,SEE_data!AQ:AQ)","v":0},{"$f":"SUMIF(SEE_data!$B:$B,SEE_agrg!$D59,SEE_data!AR:AR)","v":0},{"$f":"SUMIF(SEE_data!$B:$B,SEE_agrg!$D59,SEE_data!AS:AS)","v":0},{"$f":"SUMIF(SEE_data!$B:$B,SEE_agrg!$D59,SEE_data!AT:AT)","v":0},{"$f":"SUMIF(SEE_data!$B:$B,SEE_agrg!$D59,SEE_data!AU:AU)","v":0},{"$f":"SUMIF(SEE_data!$B:$B,SEE_agrg!$D59,SEE_data!AV:AV)","v":0},{"$f":"SUMIF(SEE_data!$B:$B,SEE_agrg!$D59,SEE_data!AW:AW)","v":0},{"$f":"SUMIF(SEE_data!$B:$B,SEE_agrg!$D59,SEE_data!AX:AX)","v":0},{"$f":"SUMIF(SEE_data!$B:$B,SEE_agrg!$D59,SEE_data!AY:AY)","v":0},{"$f":"SUMIF(SEE_data!$B:$B,SEE_agrg!$D59,SEE_data!AZ:AZ)","v":0},{"$f":"SUMIF(SEE_data!$B:$B,SEE_agrg!$D59,SEE_data!BA:BA)","v":0},{"$f":"SUMIF(SEE_data!$B:$B,SEE_agrg!$D59,SEE_data!BB:BB)","v":0},{"$f":"SUMIF(SEE_data!$B:$B,SEE_agrg!$D59,SEE_data!BC:BC)","v":0},0,0,0,0,0,0,0,0,0,0,{"$f":"SUMIFS(UdS_data!D:D,UdS_data!F:F,1,UdS_data!B:B,D59)","v":0},{"$error":"#DIV/0!"},0,0,0,0,0,0,{"$error":"#DIV/0!"},0,0,0,0,0,0]
[null,{"$f":"INDEX(Sistema_Analisado!$A$3:$F$99,MATCH($D60,Sistema_Analisado!$B$3:$B$99,FALSE),MATCH($B$4,Sistema_Analisado!$A$3:$F$3,FALSE))","v":{"$error":"#N/A"}},{"$f":"INDEX(Sistema_Analisado!$A$3:$F$99,MATCH(D60,Sistema_Analisado!$B$3:$B$99,FALSE),MATCH(\"Seq. Corredor\",Sistema_Analisado!$A$3:$F$3,0))","v":{"$error":"#N/A"}},null,{"$f":"SUMIF(SEE_data!$B:$B,SEE_agrg!$D60,SEE_data!F:F)","v":0},{"$f":"SUMIF(SEE_data!$B:$B,SEE_agrg!$D60,SEE_data!AF:AF)","v":0},{"$f":"SUMIF(SEE_data!$B:$B,SEE_agrg!$D60,SEE_data!AG:AG)","v":0},{"$f":"SUMIF(SEE_data!$B:$B,SEE_agrg!$D60,SEE_data!AH:AH)","v":0},{"$f":"SUMIF(SEE_data!$B:$B,SEE_agrg!$D60,SEE_data!AI:AI)","v":0},{"$f":"SUMIF(SEE_data!$B:$B,SEE_agrg!$D60,SEE_data!AJ:AJ)","v":0},{"$f":"SUMIF(SEE_data!$B:$B,SEE_agrg!$D60,SEE_data!AK:AK)","v":0},{"$f":"SUMIF(SEE_data!$B:$B,SEE_agrg!$D60,SEE_data!AL:AL)","v":0},{"$f":"SUMIF(SEE_data!$B:$B,SEE_agrg!$D60,SEE_data!AM:AM)","v":0},{"$f":"SUMIF(SEE_data!$B:$B,SEE_agrg!$D60,SEE_data!AN:AN)","v":0},{"$f":"SUMIF(SEE_data!$B:$B,SEE_agrg!$D60,SEE_data!AO:AO)","v":0},{"$f":"SUMIF(SEE_data!$B:$B,SEE_agrg!$D60,SEE_data!AP:AP)","v":0},{"$f":"SUMIF(SEE_data!$B:$B,SEE_agrg!$D60,SEE_data!AQ:AQ)","v":0},{"$f":"SUMIF(SEE_data!$B:$B,SEE_agrg!$D60,SEE_data!AR:AR)","v":0},{"$f":"SUMIF(SEE_data!$B:$B,SEE_agrg!$D60,SEE_data!AS:AS)","v":0},{"$f":"SUMIF(SEE_data!$B:$B,SEE_agrg!$D60,SEE_data!AT:AT)","v":0},{"$f":"SUMIF(SEE_data!$B:$B,SEE_agrg!$D60,SEE_data!AU:AU)","v":0},{"$f":"SUMIF(SEE_data!$B:$B,SEE_agrg!$D60,SEE_data!AV:AV)","v":0},{"$f":"SUMIF(SEE_data!$B:$B,SEE_agrg!$D60,SEE_data!AW:AW)","v":0},{"$f":"SUMIF(SEE_data!$B:$B,SEE_agrg!$D60,SEE_data!AX:AX)","v":0},{"$f":"SUMIF(SEE_data!$B:$B,SEE_agrg!$D60,SEE_data!AY:AY)","v":0},{"$f":"SUMIF(SEE_data!$B:$B,SEE_agrg!$D60,SEE_data!AZ:AZ)","v":0},{"$f":"SUMIF(SEE_data!$B:$B,SEE_agrg!$D60,SEE_data!BA:BA)","v":0},{"$f":"SUMIF(SEE_data!$B:$B,SEE_agrg!$D60,SEE_data!BB:BB)","v":0},{"$f":"SUMIF(SEE_data!$B:$B,SEE_agrg!$D60,SEE_data!BC:BC)","v":0},0,0,0,0,0,0,0,0,0,0,{"$f":"SUMIFS(UdS_data!D:D,UdS_data!F:F,1,UdS_data!B:B,D60)","v":0},{"$error":"#DIV/0!"},0,0,0,0,0,0,{"$error":"#DIV/0!"},0,0,0,0,0,0]
[null,{"$f":"INDEX(Sistema_Analisado!$A$3:$F$99,MATCH($D61,Sistema_Analisado!$B$3:$B$99,FALSE),MATCH($B$4,Sistema_Analisado!$A$3:$F$3,FALSE))","v":{"$error":"#N/A"}},{"$f":"INDEX(Sistema_Analisado!$A$3:$F$99,MATCH(D61,Sistema_Analisado!$B$3:$B$99,FALSE),MATCH(\"Seq. Corredor\",Sistema_Analisado!$A$3:$F$3,0))","v":{"$error":"#N/A"}},null,{"$f":"SUMIF(SEE_data!$B:$B,SEE_agrg!$D61,SEE_data!F:F)","v":0},{"$f":"SUMIF(SEE_data!$B:$B,SEE_agrg!$D61,SEE_data!AF:AF)","v":0},{"$f":"SUMIF(SEE_data!$B:$B,SEE_agrg!$D61,SEE_data!AG:AG)","v":0},{"$f":"SUMIF(SEE_data!$B:$B,SEE_agrg!$D61,SEE_data!AH:AH)","v":0},{"$f":"SUMIF(SEE_data!$B:$B,SEE_agrg!$D61,SEE_data!AI:AI)","v":0},{"$f":"SUMIF(SEE_data!$B:$B,SEE_agrg!$D61,SEE_data!AJ:AJ)","v":0},{"$f":"SUMIF(SEE_data!$B:$B,SEE_agrg!$D61,SEE_data!AK:AK)","v":0},{"$f":"SUMIF(SEE_data!$B:$B,SEE_agrg!$D61,SEE_data!AL:AL)","v":0},{"$f":"SUMIF(SEE_data!$B:$B,SEE_agrg!$D61,SEE_data!AM:AM)","v":0},{"$f":"SUMIF(SEE_data!$B:$B,SEE_agrg!$D61,SEE_data!AN:AN)","v":0},{"$f":"SUMIF(SEE_data!$B:$B,SEE_agrg!$D61,SEE_data!AO:AO)","v":0},{"$f":"SUMIF(SEE_data!$B:$B,SEE_agrg!$D61,SEE_data!AP:AP)","v":0},{"$f":"SUMIF(SEE_data!$B:$B,SEE_agrg!$D61,SEE_data!AQ:AQ)","v":0},{"$f":"SUMIF(SEE_data!$B:$B,SEE_agrg!$D61,SEE_data!AR:AR)","v":0},{"$f":"SUMIF(SEE_data!$B:$B,SEE_agrg!$D61,SEE_data!AS:AS)","v":0},{"$f":"SUMIF(SEE_data!$B:$B,SEE_agrg!$D61,SEE_data!AT:AT)","v":0},{"$f":"SUMIF(SEE_data!$B:$B,SEE_agrg!$D61,SEE_data!AU:AU)","v":0},{"$f":"SUMIF(SEE_data!$B:$B,SEE_agrg!$D61,SEE_data!AV:AV)","v":0},{"$f":"SUMIF(SEE_data!$B:$B,SEE_agrg!$D61,SEE_data!AW:AW)","v":0},{"$f":"SUMIF(SEE_data!$B:$B,SEE_agrg!$D61,SEE_data!AX:AX)","v":0},{"$f":"SUMIF(SEE_data!$B:$B,SEE_agrg!$D61,SEE_data!AY:AY)","v":0},{"$f":"SUMIF(SEE_data!$B:$B,SEE_agrg!$D61,SEE_data!AZ:AZ)","v":0},{"$f":"SUMIF(SEE_data!$B:$B,SEE_agrg!$D61,SEE_data!BA:BA)","v":0},{"$f":"SUMIF(SEE_data!$B:$B,SEE_agrg!$D61,SEE_data!BB:BB)","v":0},{"$f":"SUMIF(SEE_data!$B:$B,SEE_agrg!$D61,SEE_data!BC:BC)","v":0},0,0,0,0,0,0,0,0,0,0,{"$f":"SUMIFS(UdS_data!D:D,UdS_data!F:F,1,UdS_data!B:B,D61)","v":0},{"$error":"#DIV/0!"},0,0,0,0,0,0,{"$error":"#DIV/0!"},0,0,0,0,0,0]
[null,{"$f":"INDEX(Sistema_Analisado!$A$3:$F$99,MATCH($D62,Sistema_Analisado!$B$3:$B$99,FALSE),MATCH($B$4,Sistema_Analisado!$A$3:$F$3,FALSE))","v":{"$error":"#N/A"}},{"$f":"INDEX(Sistema_Analisado!$A$3:$F$99,MATCH(D62,Sistema_Analisado!$B$3:$B$99,FALSE),MATCH(\"Seq. Corredor\",Sistema_Analisado!$A$3:$F$3,0))","v":{"$error":"#N/A"}},null,{"$f":"SUMIF(SEE_data!$B:$B,SEE_agrg!$D62,SEE_data!F:F)","v":0},{"$f":"SUMIF(SEE_data!$B:$B,SEE_agrg!$D62,SEE_data!AF:AF)","v":0},{"$f":"SUMIF(SEE_data!$B:$B,SEE_agrg!$D62,SEE_data!AG:AG)","v":0},{"$f":"SUMIF(SEE_data!$B:$B,SEE_agrg!$D62,SEE_data!AH:AH)","v":0},{"$f":"SUMIF(SEE_data!$B:$B,SEE_agrg!$D62,SEE_data!AI:AI)","v":0},{"$f":"SUMIF(SEE_data!$B:$B,SEE_agrg!$D62,SEE_data!AJ:AJ)","v":0},{"$f":"SUMIF(SEE_data!$B:$B,SEE_agrg!$D62,SEE_data!AK:AK)","v":0},{"$f":"SUMIF(SEE_data!$B:$B,SEE_agrg!$D62,SEE_data!AL:AL)","v":0},{"$f":"SUMIF(SEE_data!$B:$B,SEE_agrg!$D62,SEE_data!AM:AM)","v":0},{"$f":"SUMIF(SEE_data!$B:$B,SEE_agrg!$D62,SEE_data!AN:AN)","v":0},{"$f":"SUMIF(SEE_data!$B:$B,SEE_agrg!$D62,SEE_data!AO:AO)","v":0},{"$f":"SUMIF(SEE_data!$B:$B,SEE_agrg!$D62,SEE_data!AP:AP)","v":0},{"$f":"SUMIF(SEE_data!$B:$B,SEE_agrg!$D62,SEE_data!AQ:AQ)","v":0},{"$f":"SUMIF(SEE_data!$B:$B,SEE_agrg!$D62,SEE_data!AR:AR)","v":0},{"$f":"SUMIF(SEE_data!$B:$B,SEE_agrg!$D62,SEE_data!AS:AS)","v":0},{"$f":"SUMIF(SEE_data!$B:$B,SEE_agrg!$D62,SEE_data!AT:AT)","v":0},{"$f":"SUMIF(SEE_data!$B:$B,SEE_agrg!$D62,SEE_data!AU:AU)","v":0},{"$f":"SUMIF(SEE_data!$B:$B,SEE_agrg!$D62,SEE_data!AV:AV)","v":0},{"$f":"SUMIF(SEE_data!$B:$B,SEE_agrg!$D62,SEE_data!AW:AW)","v":0},{"$f":"SUMIF(SEE_data!$B:$B,SEE_agrg!$D62,SEE_data!AX:AX)","v":0},{"$f":"SUMIF(SEE_data!$B:$B,SEE_agrg!$D62,SEE_data!AY:AY)","v":0},{"$f":"SUMIF(SEE_data!$B:$B,SEE_agrg!$D62,SEE_data!AZ:AZ)","v":0},{"$f":"SUMIF(SEE_data!$B:$B,SEE_agrg!$D62,SEE_data!BA:BA)","v":0},{"$f":"SUMIF(SEE_data!$B:$B,SEE_agrg!$D62,SEE_data!BB:BB)","v":0},{"$f":"SUMIF(SEE_data!$B:$B,SEE_agrg!$D62,SEE_data!BC:BC)","v":0},0,0,0,0,0,0,0,0,0,0,{"$f":"SUMIFS(UdS_data!D:D,UdS_data!F:F,1,UdS_data!B:B,D62)","v":0},{"$error":"#DIV/0!"},0,0,0,0,0,0,{"$error":"#DIV/0!"},0,0,0,0,0,0]
[null,{"$f":"INDEX(Sistema_Analisado!$A$3:$F$99,MATCH($D63,Sistema_Analisado!$B$3:$B$99,FALSE),MATCH($B$4,Sistema_Analisado!$A$3:$F$3,FALSE))","v":{"$error":"#N/A"}},{"$f":"INDEX(Sistema_Analisado!$A$3:$F$99,MATCH(D63,Sistema_Analisado!$B$3:$B$99,FALSE),MATCH(\"Seq. Corredor\",Sistema_Analisado!$A$3:$F$3,0))","v":{"$error":"#N/A"}},null,{"$f":"SUMIF(SEE_data!$B:$B,SEE_agrg!$D63,SEE_data!F:F)","v":0},{"$f":"SUMIF(SEE_data!$B:$B,SEE_agrg!$D63,SEE_data!AF:AF)","v":0},{"$f":"SUMIF(SEE_data!$B:$B,SEE_agrg!$D63,SEE_data!AG:AG)","v":0},{"$f":"SUMIF(SEE_data!$B:$B,SEE_agrg!$D63,SEE_data!AH:AH)","v":0},{"$f":"SUMIF(SEE_data!$B:$B,SEE_agrg!$D63,SEE_data!AI:AI)","v":0},{"$f":"SUMIF(SEE_data!$B:$B,SEE_agrg!$D63,SEE_data!AJ:AJ)","v":0},{"$f":"SUMIF(SEE_data!$B:$B,SEE_agrg!$D63,SEE_data!AK:AK)","v":0},{"$f":"SUMIF(SEE_data!$B:$B,SEE_agrg!$D63,SEE_data!AL:AL)","v":0},{"$f":"SUMIF(SEE_data!$B:$B,SEE_agrg!$D63,SEE_data!AM:AM)","v":0},{"$f":"SUMIF(SEE_data!$B:$B,SEE_agrg!$D63,SEE_data!AN:AN)","v":0},{"$f":"SUMIF(SEE_data!$B:$B,SEE_agrg!$D63,SEE_data!AO:AO)","v":0},{"$f":"SUMIF(SEE_data!$B:$B,SEE_agrg!$D63,SEE_data!AP:AP)","v":0},{"$f":"SUMIF(SEE_data!$B:$B,SEE_agrg!$D63,SEE_data!AQ:AQ)","v":0},{"$f":"SUMIF(SEE_data!$B:$B,SEE_agrg!$D63,SEE_data!AR:AR)","v":0},{"$f":"SUMIF(SEE_data!$B:$B,SEE_agrg!$D63,SEE_data!AS:AS)","v":0},{"$f":"SUMIF(SEE_data!$B:$B,SEE_agrg!$D63,SEE_data!AT:AT)","v":0},{"$f":"SUMIF(SEE_data!$B:$B,SEE_agrg!$D63,SEE_data!AU:AU)","v":0},{"$f":"SUMIF(SEE_data!$B:$B,SEE_agrg!$D63,SEE_data!AV:AV)","v":0},{"$f":"SUMIF(SEE_data!$B:$B,SEE_agrg!$D63,SEE_data!AW:AW)","v":0},{"$f":"SUMIF(SEE_data!$B:$B,SEE_agrg!$D63,SEE_data!AX:AX)","v":0},{"$f":"SUMIF(SEE_data!$B:$B,SEE_agrg!$D63,SEE_data!AY:AY)","v":0},{"$f":"SUMIF(SEE_data!$B:$B,SEE_agrg!$D63,SEE_data!AZ:AZ)","v":0},{"$f":"SUMIF(SEE_data!$B:$B,SEE_agrg!$D63,SEE_data!BA:BA)","v":0},{"$f":"SUMIF(SEE_data!$B:$B,SEE_agrg!$D63,SEE_data!BB:BB)","v":0},{"$f":"SUMIF(SEE_data!$B:$B,SEE_agrg!$D63,SEE_data!BC:BC)","v":0},0,0,0,0,0,0,0,0,0,0,{"$f":"SUMIFS(UdS_data!D:D,UdS_data!F:F,1,UdS_data!B:B,D63)","v":0},{"$error":"#DIV/0!"},0,0,0,0,0,0,{"$error":"#DIV/0!"},0,0,0,0,0,0]
[null,{"$f":"INDEX(Sistema_Analisado!$A$3:$F$99,MATCH($D64,Sistema_Analisado!$B$3:$B$99,FALSE),MATCH($B$4,Sistema_Analisado!$A$3:$F$3,FALSE))","v":{"$error":"#N/A"}},{"$f":"INDEX(Sistema_Analisado!$A$3:$F$99,MATCH(D64,Sistema_Analisado!$B$3:$B$99,FALSE),MATCH(\"Seq. Corredor\",Sistema_Analisado!$A$3:$F$3,0))","v":{"$error":"#N/A"}},null,{"$f":"SUMIF(SEE_data!$B:$B,SEE_agrg!$D64,SEE_data!F:F)","v":0},{"$f":"SUMIF(SEE_data!$B:$B,SEE_agrg!$D64,SEE_data!AF:AF)","v":0},{"$f":"SUMIF(SEE_data!$B:$B,SEE_agrg!$D64,SEE_data!AG:AG)","v":0},{"$f":"SUMIF(SEE_data!$B:$B,SEE_agrg!$D64,SEE_data!AH:AH)","v":0},{"$f":"SUMIF(SEE_data!$B:$B,SEE_agrg!$D64,SEE_data!AI:AI)","v":0},{"$f":"SUMIF(SEE_data!$B:$B,SEE_agrg!$D64,SEE_data!AJ:AJ)","v":0},{"$f":"SUMIF(SEE_data!$B:$B,SEE_agrg!$D64,SEE_data!AK:AK)","v":0},{"$f":"SUMIF(SEE_data!$B:$B,SEE_agrg!$D64,SEE_data!AL:AL)","v":0},{"$f":"SUMIF(SEE_data!$B:$B,SEE_agrg!$D64,SEE_data!AM:AM)","v":0},{"$f":"SUMIF(SEE_data!$B:$B,SEE_agrg!$D64,SEE_data!AN:AN)","v":0},{"$f":"SUMIF(SEE_data!$B:$B,SEE_agrg!$D64,SEE_data!AO:AO)","v":0},{"$f":"SUMIF(SEE_data!$B:$B,SEE_agrg!$D64,SEE_data!AP:AP)","v":0},{"$f":"SUMIF(SEE_data!$B:$B,SEE_agrg!$D64,SEE_data!AQ:AQ)","v":0},{"$f":"SUMIF(SEE_data!$B:$B,SEE_agrg!$D64,SEE_data!AR:AR)","v":0},{"$f":"SUMIF(SEE_data!$B:$B,SEE_agrg!$D64,SEE_data!AS:AS)","v":0},{"$f":"SUMIF(SEE_data!$B:$B,SEE_agrg!$D64,SEE_data!AT:AT)","v":0},{"$f":"SUMIF(SEE_data!$B:$B,SEE_agrg!$D64,SEE_data!AU:AU)","v":0},{"$f":"SUMIF(SEE_data!$B:$B,SEE_agrg!$D64,SEE_data!AV:AV)","v":0},{"$f":"SUMIF(SEE_data!$B:$B,SEE_agrg!$D64,SEE_data!AW:AW)","v":0},{"$f":"SUMIF(SEE_data!$B:$B,SEE_agrg!$D64,SEE_data!AX:AX)","v":0},{"$f":"SUMIF(SEE_data!$B:$B,SEE_agrg!$D64,SEE_data!AY:AY)","v":0},{"$f":"SUMIF(SEE_data!$B:$B,SEE_agrg!$D64,SEE_data!AZ:AZ)","v":0},{"$f":"SUMIF(SEE_data!$B:$B,SEE_agrg!$D64,SEE_data!BA:BA)","v":0},{"$f":"SUMIF(SEE_data!$B:$B,SEE_agrg!$D64,SEE_data!BB:BB)","v":0},{"$f":"SUMIF(SEE_data!$B:$B,SEE_agrg!$D64,SEE_data!BC:BC)","v":0},0,0,0,0,0,0,0,0,0,0,{"$f":"SUMIFS(UdS_data!D:D,UdS_data!F:F,1,UdS_data!B:B,D64)","v":0},{"$error":"#DIV/0!"},0,0,0,0,0,0,{"$error":"#DIV/0!"},0,0,0,0,0,0]
[null,{"$f":"INDEX(Sistema_Analisado!$A$3:$F$99,MATCH($D65,Sistema_Analisado!$B$3:$B$99,FALSE),MATCH($B$4,Sistema_Analisado!$A$3:$F$3,FALSE))","v":{"$error":"#N/A"}},{"$f":"INDEX(Sistema_Analisado!$A$3:$F$99,MATCH(D65,Sistema_Analisado!$B$3:$B$99,FALSE),MATCH(\"Seq. Corredor\",Sistema_Analisado!$A$3:$F$3,0))","v":{"$error":"#N/A"}},null,{"$f":"SUMIF(SEE_data!$B:$B,SEE_agrg!$D65,SEE_data!F:F)","v":0},{"$f":"SUMIF(SEE_data!$B:$B,SEE_agrg!$D65,SEE_data!AF:AF)","v":0},{"$f":"SUMIF(SEE_data!$B:$B,SEE_agrg!$D65,SEE_data!AG:AG)","v":0},{"$f":"SUMIF(SEE_data!$B:$B,SEE_agrg!$D65,SEE_data!AH:AH)","v":0},{"$f":"SUMIF(SEE_data!$B:$B,SEE_agrg!$D65,SEE_data!AI:AI)","v":0},{"$f":"SUMIF(SEE_data!$B:$B,SEE_agrg!$D65,SEE_data!AJ:AJ)","v":0},{"$f":"SUMIF(SEE_data!$B:$B,SEE_agrg!$D65,SEE_data!AK:AK)","v":0},{"$f":"SUMIF(SEE_data!$B:$B,SEE_agrg!$D65,SEE_data!AL:AL)","v":0},{"$f":"SUMIF(SEE_data!$B:$B,SEE_agrg!$D65,SEE_data!AM:AM)","v":0},{"$f":"SUMIF(SEE_data!$B:$B,SEE_agrg!$D65,SEE_data!AN:AN)","v":0},{"$f":"SUMIF(SEE_data!$B:$B,SEE_agrg!$D65,SEE_data!AO:AO)","v":0},{"$f":"SUMIF(SEE_data!$B:$B,SEE_agrg!$D65,SEE_data!AP:AP)","v":0},{"$f":"SUMIF(SEE_data!$B:$B,SEE_agrg!$D65,SEE_data!AQ:AQ)","v":0},{"$f":"SUMIF(SEE_data!$B:$B,SEE_agrg!$D65,SEE_data!AR:AR)","v":0},{"$f":"SUMIF(SEE_data!$B:$B,SEE_agrg!$D65,SEE_data!AS:AS)","v":0},{"$f":"SUMIF(SEE_data!$B:$B,SEE_agrg!$D65,SEE_data!AT:AT)","v":0},{"$f":"SUMIF(SEE_data!$B:$B,SEE_agrg!$D65,SEE_data!AU:AU)","v":0},{"$f":"SUMIF(SEE_data!$B:$B,SEE_agrg!$D65,SEE_data!AV:AV)","v":0},{"$f":"SUMIF(SEE_data!$B:$B,SEE_agrg!$D65,SEE_data!AW:AW)","v":0},{"$f":"SUMIF(SEE_data!$B:$B,SEE_agrg!$D65,SEE_data!AX:AX)","v":0},{"$f":"SUMIF(SEE_data!$B:$B,SEE_agrg!$D65,SEE_data!AY:AY)","v":0},{"$f":"SUMIF(SEE_data!$B:$B,SEE_agrg!$D65,SEE_data!AZ:AZ)","v":0},{"$f":"SUMIF(SEE_data!$B:$B,SEE_agrg!$D65,SEE_data!BA:BA)","v":0},{"$f":"SUMIF(SEE_data!$B:$B,SEE_agrg!$D65,SEE_data!BB:BB)","v":0},{"$f":"SUMIF(SEE_data!$B:$B,SEE_agrg!$D65,SEE_data!BC:BC)","v":0},0,0,0,0,0,0,0,0,0,0,{"$f":"SUMIFS(UdS_data!D:D,UdS_data!F:F,1,UdS_data!B:B,D65)","v":0},{"$error":"#DIV/0!"},0,0,0,0,0,0,{"$error":"#DIV/0!"},0,0,0,0,0,0]
[null,{"$f":"INDEX(Sistema_Analisado!$A$3:$F$99,MATCH($D66,Sistema_Analisado!$B$3:$B$99,FALSE),MATCH($B$4,Sistema_Analisado!$A$3:$F$3,FALSE))","v":{"$error":"#N/A"}},{"$f":"INDEX(Sistema_Analisado!$A$3:$F$99,MATCH(D66,Sistema_Analisado!$B$3:$B$99,FALSE),MATCH(\"Seq. Corredor\",Sistema_Analisado!$A$3:$F$3,0))","v":{"$error":"#N/A"}},null,{"$f":"SUMIF(SEE_data!$B:$B,SEE_agrg!$D66,SEE_data!F:F)","v":0},{"$f":"SUMIF(SEE_data!$B:$B,SEE_agrg!$D66,SEE_data!AF:AF)","v":0},{"$f":"SUMIF(SEE_data!$B:$B,SEE_agrg!$D66,SEE_data!AG:AG)","v":0},{"$f":"SUMIF(SEE_data!$B:$B,SEE_agrg!$D66,SEE_data!AH:AH)","v":0},{"$f":"SUMIF(SEE_data!$B:$B,SEE_agrg!$D66,SEE_data!AI:AI)","v":0},{"$f":"SUMIF(SEE_data!$B:$B,SEE_agrg!$D66,SEE_data!AJ:AJ)","v":0},{"$f":"SUMIF(SEE_data!$B:$B,SEE_agrg!$D66,SEE_data!AK:AK)","v":0},{"$f":"SUMIF(SEE_data!$B:$B,SEE_agrg!$D66,SEE_data!AL:AL)","v":0},{"$f":"SUMIF(SEE_data!$B:$B,SEE_agrg!$D66,SEE_data!AM:AM)","v":0},{"$f":"SUMIF(SEE_data!$B:$B,SEE_agrg!$D66,SEE_data!AN:AN)","v":0},{"$f":"SUMIF(SEE_data!$B:$B,SEE_agrg!$D66,SEE_data!AO:AO)","v":0},{"$f":"SUMIF(SEE_data!$B:$B,SEE_agrg!$D66,SEE_data!AP:AP)","v":0},{"$f":"SUMIF(SEE_data!$B:$B,SEE_agrg!$D66,SEE_data!AQ:AQ)","v":0},{"$f":"SUMIF(SEE_data!$B:$B,SEE_agrg!$D66,SEE_data!AR:AR)","v":0},{"$f":"SUMIF(SEE_data!$B:$B,SEE_agrg!$D66,SEE_data!AS:AS)","v":0},{"$f":"SUMIF(SEE_data!$B:$B,SEE_agrg!$D66,SEE_data!AT:AT)","v":0},{"$f":"SUMIF(SEE_data!$B:$B,SEE_agrg!$D66,SEE_data!AU:AU)","v":0},{"$f":"SUMIF(SEE_data!$B:$B,SEE_agrg!$D66,SEE_data!AV:AV)","v":0},{"$f":"SUMIF(SEE_data!$B:$B,SEE_agrg!$D66,SEE_data!AW:AW)","v":0},{"$f":"SUMIF(SEE_data!$B:$B,SEE_agrg!$D66,SEE_data!AX:AX)","v":0},{"$f":"SUMIF(SEE_data!$B:$B,SEE_agrg!$D66,SEE_data!AY:AY)","v":0},{"$f":"SUMIF(SEE_data!$B:$B,SEE_agrg!$D66,SEE_data!AZ:AZ)","v":0},{"$f":"SUMIF(SEE_data!$B:$B,SEE_agrg!$D66,SEE_data!BA:BA)","v":0},{"$f":"SUMIF(SEE_data!$B:$B,SEE_agrg!$D66,SEE_data!BB:BB)","v":0},{"$f":"SUMIF(SEE_data!$B:$B,SEE_agrg!$D66,SEE_data!BC:BC)","v":0},0,0,0,0,0,0,0,0,0,0,{"$f":"SUMIFS(UdS_data!D:D,UdS_data!F:F,1,UdS_data!B:B,D66)","v":0},{"$error":"#DIV/0!"},0,0,0,0,0,0,{"$error":"#DIV/0!"},0,0,0,0,0,0]
[null,{"$f":"INDEX(Sistema_Analisado!$A$3:$F$99,MATCH($D67,Sistema_Analisado!$B$3:$B$99,FALSE),MATCH($B$4,Sistema_Analisado!$A$3:$F$3,FALSE))","v":{"$error":"#N/A"}},{"$f":"INDEX(Sistema_Analisado!$A$3:$F$99,MATCH(D67,Sistema_Analisado!$B$3:$B$99,FALSE),MATCH(\"Seq. Corredor\",Sistema_Analisado!$A$3:$F$3,0))","v":{"$error":"#N/A"}},null,{"$f":"SUMIF(SEE_data!$B:$B,SEE_agrg!$D67,SEE_data!F:F)","v":0},{"$f":"SUMIF(SEE_data!$B:$B,SEE_agrg!$D67,SEE_data!AF:AF)","v":0},{"$f":"SUMIF(SEE_data!$B:$B,SEE_agrg!$D67,SEE_data!AG:AG)","v":0},{"$f":"SUMIF(SEE_data!$B:$B,SEE_agrg!$D67,SEE_data!AH:AH)","v":0},{"$f":"SUMIF(SEE_data!$B:$B,SEE_agrg!$D67,SEE_data!AI:AI)","v":0},{"$f":"SUMIF(SEE_data!$B:$B,SEE_agrg!$D67,SEE_data!AJ:AJ)","v":0},{"$f":"SUMIF(SEE_data!$B:$B,SEE_agrg!$D67,SEE_data!AK:AK)","v":0},{"$f":"SUMIF(SEE_data!$B:$B,SEE_agrg!$D67,SEE_data!AL:AL)","v":0},{"$f":"SUMIF(SEE_data!$B:$B,SEE_agrg!$D67,SEE_data!AM:AM)","v":0},{"$f":"SUMIF(SEE_data!$B:$B,SEE_agrg!$D67,SEE_data!AN:AN)","v":0},{"$f":"SUMIF(SEE_data!$B:$B,SEE_agrg!$D67,SEE_data!AO:AO)","v":0},{"$f":"SUMIF(SEE_data!$B:$B,SEE_agrg!$D67,SEE_data!AP:AP)","v":0},{"$f":"SUMIF(SEE_data!$B:$B,SEE_agrg!$D67,SEE_data!AQ:AQ)","v":0},{"$f":"SUMIF(SEE_data!$B:$B,SEE_agrg!$D67,SEE_data!AR:AR)","v":0},{"$f":"SUMIF(SEE_data!$B:$B,SEE_agrg!$D67,SEE_data!AS:AS)","v":0},{"$f":"SUMIF(SEE_data!$B:$B,SEE_agrg!$D67,SEE_data!AT:AT)","v":0},{"$f":"SUMIF(SEE_data!$B:$B,SEE_agrg!$D67,SEE_data!AU:AU)","v":0},{"$f":"SUMIF(SEE_data!$B:$B,SEE_agrg!$D67,SEE_data!AV:AV)","v":0},{"$f":"SUMIF(SEE_data!$B:$B,SEE_agrg!$D67,SEE_data!AW:AW)","v":0},{"$f":"SUMIF(SEE_data!$B:$B,SEE_agrg!$D67,SEE_data!AX:AX)","v":0},{"$f":"SUMIF(SEE_data!$B:$B,SEE_agrg!$D67,SEE_data!AY:AY)","v":0},{"$f":"SUMIF(SEE_data!$B:$B,SEE_agrg!$D67,SEE_data!AZ:AZ)","v":0},{"$f":"SUMIF(SEE_data!$B:$B,SEE_agrg!$D67,SEE_data!BA:BA)","v":0},{"$f":"SUMIF(SEE_data!$B:$B,SEE_agrg!$D67,SEE_data!BB:BB)","v":0},{"$f":"SUMIF(SEE_data!$B:$B,SEE_agrg!$D67,SEE_data!BC:BC)","v":0},0,0,0,0,0,0,0,0,0,0,{"$f":"SUMIFS(UdS_data!D:D,UdS_data!F:F,1,UdS_data!B:B,D67)","v":0},{"$error":"#DIV/0!"},0,0,0,0,0,0,{"$error":"#DIV/0!"},0,0,0,0,0,0]
[null,{"$f":"INDEX(Sistema_Analisado!$A$3:$F$99,MATCH($D68,Sistema_Analisado!$B$3:$B$99,FALSE),MATCH($B$4,Sistema_Analisado!$A$3:$F$3,FALSE))","v":{"$error":"#N/A"}},{"$f":"INDEX(Sistema_Analisado!$A$3:$F$99,MATCH(D68,Sistema_Analisado!$B$3:$B$99,FALSE),MATCH(\"Seq. Corredor\",Sistema_Analisado!$A$3:$F$3,0))","v":{"$error":"#N/A"}},null,{"$f":"SUMIF(SEE_data!$B:$B,SEE_agrg!$D68,SEE_data!F:F)","v":0},{"$f":"SUMIF(SEE_data!$B:$B,SEE_agrg!$D68,SEE_data!AF:AF)","v":0},{"$f":"SUMIF(SEE_data!$B:$B,SEE_agrg!$D68,SEE_data!AG:AG)","v":0},{"$f":"SUMIF(SEE_data!$B:$B,SEE_agrg!$D68,SEE_data!AH:AH)","v":0},{"$f":"SUMIF(SEE_data!$B:$B,SEE_agrg!$D68,SEE_data!AI:AI)","v":0},{"$f":"SUMIF(SEE_data!$B:$B,SEE_agrg!$D68,SEE_data!AJ:AJ)","v":0},{"$f":"SUMIF(SEE_data!$B:$B,SEE_agrg!$D68,SEE_data!AK:AK)","v":0},{"$f":"SUMIF(SEE_data!$B:$B,SEE_agrg!$D68,SEE_data!AL:AL)","v":0},{"$f":"SUMIF(SEE_data!$B:$B,SEE_agrg!$D68,SEE_data!AM:AM)","v":0},{"$f":"SUMIF(SEE_data!$B:$B,SEE_agrg!$D68,SEE_data!AN:AN)","v":0},{"$f":"SUMIF(SEE_data!$B:$B,SEE_agrg!$D68,SEE_data!AO:AO)","v":0},{"$f":"SUMIF(SEE_data!$B:$B,SEE_agrg!$D68,SEE_data!AP:AP)","v":0},{"$f":"SUMIF(SEE_data!$B:$B,SEE_agrg!$D68,SEE_data!AQ:AQ)","v":0},{"$f":"SUMIF(SEE_data!$B:$B,SEE_agrg!$D68,SEE_data!AR:AR)","v":0},{"$f":"SUMIF(SEE_data!$B:$B,SEE_agrg!$D68,SEE_data!AS:AS)","v":0},{"$f":"SUMIF(SEE_data!$B:$B,SEE_agrg!$D68,SEE_data!AT:AT)","v":0},{"$f":"SUMIF(SEE_data!$B:$B,SEE_agrg!$D68,SEE_data!AU:AU)","v":0},{"$f":"SUMIF(SEE_data!$B:$B,SEE_agrg!$D68,SEE_data!AV:AV)","v":0},{"$f":"SUMIF(SEE_data!$B:$B,SEE_agrg!$D68,SEE_data!AW:AW)","v":0},{"$f":"SUMIF(SEE_data!$B:$B,SEE_agrg!$D68,SEE_data!AX:AX)","v":0},{"$f":"SUMIF(SEE_data!$B:$B,SEE_agrg!$D68,SEE_data!AY:AY)","v":0},{"$f":"SUMIF(SEE_data!$B:$B,SEE_agrg!$D68,SEE_data!AZ:AZ)","v":0},{"$f":"SUMIF(SEE_data!$B:$B,SEE_agrg!$D68,SEE_data!BA:BA)","v":0},{"$f":"SUMIF(SEE_data!$B:$B,SEE_agrg!$D68,SEE_data!BB:BB)","v":0},{"$f":"SUMIF(SEE_data!$B:$B,SEE_agrg!$D68,SEE_data!BC:BC)","v":0},0,0,0,0,0,0,0,0,0,0,{"$f":"SUMIFS(UdS_data!D:D,UdS_data!F:F,1,UdS_data!B:B,D68)","v":0},{"$error":"#DIV/0!"},0,0,0,0,0,0,{"$error":"#DIV/0!"},0,0,0,0,0,0]
[null,{"$f":"INDEX(Sistema_Analisado!$A$3:$F$99,MATCH($D69,Sistema_Analisado!$B$3:$B$99,FALSE),MATCH($B$4,Sistema_Analisado!$A$3:$F$3,FALSE))","v":{"$error":"#N/A"}},{"$f":"INDEX(Sistema_Analisado!$A$3:$F$99,MATCH(D69,Sistema_Analisado!$B$3:$B$99,FALSE),MATCH(\"Seq. Corredor\",Sistema_Analisado!$A$3:$F$3,0))","v":{"$error":"#N/A"}},null,{"$f":"SUMIF(SEE_data!$B:$B,SEE_agrg!$D69,SEE_data!F:F)","v":0},{"$f":"SUMIF(SEE_data!$B:$B,SEE_agrg!$D69,SEE_data!AF:AF)","v":0},{"$f":"SUMIF(SEE_data!$B:$B,SEE_agrg!$D69,SEE_data!AG:AG)","v":0},{"$f":"SUMIF(SEE_data!$B:$B,SEE_agrg!$D69,SEE_data!AH:AH)","v":0},{"$f":"SUMIF(SEE_data!$B:$B,SEE_agrg!$D69,SEE_data!AI:AI)","v":0},{"$f":"SUMIF(SEE_data!$B:$B,SEE_agrg!$D69,SEE_data!AJ:AJ)","v":0},{"$f":"SUMIF(SEE_data!$B:$B,SEE_agrg!$D69,SEE_data!AK:AK)","v":0},{"$f":"SUMIF(SEE_data!$B:$B,SEE_agrg!$D69,SEE_data!AL:AL)","v":0},{"$f":"SUMIF(SEE_data!$B:$B,SEE_agrg!$D69,SEE_data!AM:AM)","v":0},{"$f":"SUMIF(SEE_data!$B:$B,SEE_agrg!$D69,SEE_data!AN:AN)","v":0},{"$f":"SUMIF(SEE_data!$B:$B,SEE_agrg!$D69,SEE_data!AO:AO)","v":0},{"$f":"SUMIF(SEE_data!$B:$B,SEE_agrg!$D69,SEE_data!AP:AP)","v":0},{"$f":"SUMIF(SEE_data!$B:$B,SEE_agrg!$D69,SEE_data!AQ:AQ)","v":0},{"$f":"SUMIF(SEE_data!$B:$B,SEE_agrg!$D69,SEE_data!AR:AR)","v":0},{"$f":"SUMIF(SEE_data!$B:$B,SEE_agrg!$D69,SEE_data!AS:AS)","v":0},{"$f":"SUMIF(SEE_data!$B:$B,SEE_agrg!$D69,SEE_data!AT:AT)","v":0},{"$f":"SUMIF(SEE_data!$B:$B,SEE_agrg!$D69,SEE_data!AU:AU)","v":0},{"$f":"SUMIF(SEE_data!$B:$B,SEE_agrg!$D69,SEE_data!AV:AV)","v":0},{"$f":"SUMIF(SEE_data!$B:$B,SEE_agrg!$D69,SEE_data!AW:AW)","v":0},{"$f":"SUMIF(SEE_data!$B:$B,SEE_agrg!$D69,SEE_data!AX:AX)","v":0},{"$f":"SUMIF(SEE_data!$B:$B,SEE_agrg!$D69,SEE_data!AY:AY)","v":0},{"$f":"SUMIF(SEE_data!$B:$B,SEE_agrg!$D69,SEE_data!AZ:AZ)","v":0},{"$f":"SUMIF(SEE_data!$B:$B,SEE_agrg!$D69,SEE_data!BA:BA)","v":0},{"$f":"SUMIF(SEE_data!$B:$B,SEE_agrg!$D69,SEE_data!BB:BB)","v":0},{"$f":"SUMIF(SEE_data!$B:$B,SEE_agrg!$D69,SEE_data!BC:BC)","v":0},{"$f":"IF(OR(G69=0,Q69=0),0,1)","v":0},{"$f":"IF($AC69=0,0,T69/$AC69)","v":0},{"$f":"IF($AC69=0,0,U69/$AC69)","v":0},{"$f":"IF($AC69=0,0,V69/$AC69)","v":0},{"$f":"IF($AC69=0,0,W69/$AC69)","v":0},{"$f":"IF($AC69=0,0,X69/$AC69)","v":0},{"$f":"IF($AC69=0,0,Y69/$AC69)","v":0},{"$f":"IF($AC69=0,0,Z69/$AC69)","v":0},{"$f":"IF($AC69=0,0,AA69/$AC69)","v":0},{"$f":"IF($AC69=0,0,AB69/$AC69)","v":0},{"$f":"SUMIFS(UdS_data!D:D,UdS_data!F:F,1,UdS_data!B:B,D69)","v":0},{"$f":"1000000*F69/E69","v":{"$error":"#DIV/0!"}},{"$f":"IF(G69=0,0,(H69+I69+J69)/G69)","v":0},{"$f":"IF(G69=0,0,(K69+L69+M69)/G69)","v":0},{"$f":"IF(G69=0,0,(N69+O69+P69)/G69)","v":0},{"$f":"IF(Q69=0,0,R69/Q69)","v":0},{"$f":"IF(Q69=0,0,S69/Q69)","v":0},{"$f":"IF(AD69<>0,(1-SUMSQ(AE69:AM69))/(1-1/9),0)","v":0},{"$f":"IF(AND($AO69<=dens_ref,$AO69<=dens_urb_mun),5,IF(AND($AO69<=dens_ref,$AO69>dens_urb_mun),3,IF(AND($AO69>dens_ref,$AO69<=dens_urb_mun),2,IF($AO69<(1+dens_toler)*dens_ref,1,0))))","v":{"$error":"#DIV/0!"}},{"$f":"IF(AP69>0.95,5,IF(AP69>0.9,4,IF(AP69>0.8,2,IF(AP69>0.7,1,0))))","v":0},{"$f":"IF(AQ69>0.95,5,IF(AQ69>0.9,4,IF(AQ69>0.8,2,IF(AQ69>0.7,1,0))))","v":0},{"$f":"IF(AR69>0.95,5,IF(AR69>0.9,4,IF(AR69>0.8,2,IF(AR69>0.7,1,0))))","v":0},{"$f":"IF(AS69>0.95,5,IF(AS69>0.9,4,IF(AS69>0.8,2,IF(AS69>0.7,1,0))))","v":0},{"$f":"IF(AT69>0.95,5,IF(AT69>0.9,4,IF(AT69>0.8,2,IF(AT69>0.7,1,0))))","v":0},{"$f":"IF(AU69>=0.95,5,IF(AU69>=0.9,4,IF(AU69>=0.85,3,IF(AU69>=0.8,2,IF(AU69>=0.75,1,0)))))","v":0}]
[null,{"$f":"INDEX(Sistema_Analisado!$A$3:$F$99,MATCH($D70,Sistema_Analisado!$B$3:$B$99,FALSE),MATCH($B$4,Sistema_Analisado!$A$3:$F$3,FALSE))","v":{"$error":"#N/A"}},{"$f":"INDEX(Sistema_Analisado!$A$3:$F$99,MATCH(D70,Sistema_Analisado!$B$3:$B$99,FALSE),MATCH(\"Seq. Corredor\",Sistema_Analisado!$A$3:$F$3,0))","v":{"$error":"#N/A"}},null,{"$f":"SUMIF(SEE_data!$B:$B,SEE_agrg!$D70,SEE_data!F:F)","v":0},{"$f":"SUMIF(SEE_data!$B:$B,SEE_agrg!$D70,SEE_data!AF:AF)","v":0},{"$f":"SUMIF(SEE_data!$B:$B,SEE_agrg!$D70,SEE_data!AG:AG)","v":0},{"$f":"SUMIF(SEE_data!$B:$B,SEE_agrg!$D70,SEE_data!AH:AH)","v":0},{"$f":"SUMIF(SEE_data!$B:$B,SEE_agrg!$D70,SEE_data!AI:AI)","v":0},{"$f":"SUMIF(SEE_data!$B:$B,SEE_agrg!$D70,SEE_data!AJ:AJ)","v":0},{"$f":"SUMIF(SEE_data!$B:$B,SEE_agrg!$D70,SEE_data!AK:AK)","v":0},{"$f":"SUMIF(SEE_data!$B:$B,SEE_agrg!$D70,SEE_data!AL:AL)","v":0},{"$f":"SUMIF(SEE_data!$B:$B,SEE_agrg!$D70,SEE_data!AM:AM)","v":0},{"$f":"SUMIF(SEE_data!$B:$B,SEE_agrg!$D70,SEE_data!AN:AN)","v":0},{"$f":"SUMIF(SEE_data!$B:$B,SEE_agrg!$D70,SEE_data!AO:AO)","v":0},{"$f":"SUMIF(SEE_data!$B:$B,SEE_agrg!$D70,SEE_data!AP:AP)","v":0},{"$f":"SUMIF(SEE_data!$B:$B,SEE_agrg!$D70,SEE_data!AQ:AQ)","v":0},{"$f":"SUMIF(SEE_data!$B:$B,SEE_agrg!$D70,SEE_data!AR:AR)","v":0},{"$f":"SUMIF(SEE_data!$B:$B,SEE_agrg!$D70,SEE_data!AS:AS)","v":0},{"$f":"SUMIF(SEE_data!$B:$B,SEE_agrg!$D70,SEE_data!AT:AT)","v":0},{"$f":"SUMIF(SEE_data!$B:$B,SEE_agrg!$D70,SEE_data!AU:AU)","v":0},{"$f":"SUMIF(SEE_data!$B:$B,SEE_agrg!$D70,SEE_data!AV:AV)","v":0},{"$f":"SUMIF(SEE_data!$B:$B,SEE_agrg!$D70,SEE_data!AW:AW)","v":0},{"$f":"SUMIF(SEE_data!$B:$B,SEE_agrg!$D70,SEE_data!AX:AX)","v":0},{"$f":"SUMIF(SEE_data!$B:$B,SEE_agrg!$D70,SEE_data!AY:AY)","v":0},{"$f":"SUMIF(SEE_data!$B:$B,SEE_agrg!$D70,SEE_data!AZ:AZ)","v":0},{"$f":"SUMIF(SEE_data!$B:$B,SEE_agrg!$D70,SEE_data!BA:BA)","v":0},{"$f":"SUMIF(SEE_data!$B:$B,SEE_agrg!$D70,SEE_data!BB:BB)","v":0},{"$f":"SUMIF(SEE_data!$B:$B,SEE_agrg!$D70,SEE_data!BC:BC)","v":0},0,0,0,0,0,0,0,0,0,0,{"$f":"SUMIFS(UdS_data!D:D,UdS_data!F:F,1,UdS_data!B:B,D70)","v":0},{"$error":"#DIV/0!"},0,0,0,0,0,0,{"$error":"#DIV/0!"},0,0,0,0,0,0]
[null,{"$f":"INDEX(Sistema_Analisado!$A$3:$F$99,MATCH($D71,Sistema_Analisado!$B$3:$B$99,FALSE),MATCH($B$4,Sistema_Analisado!$A$3:$F$3,FALSE))","v":{"$error":"#N/A"}},{"$f":"INDEX(Sistema_Analisado!$A$3:$F$99,MATCH(D71,Sistema_Analisado!$B$3:$B$99,FALSE),MATCH(\"Seq. Corredor\",Sistema_Analisado!$A$3:$F$3,0))","v":{"$error":"#N/A"}},null,{"$f":"SUMIF(SEE_data!$B:$B,SEE_agrg!$D71,SEE_data!F:F)","v":0},{"$f":"SUMIF(SEE_data!$B:$B,SEE_agrg!$D71,SEE_data!AF:AF)","v":0},{"$f":"SUMIF(SEE_data!$B:$B,SEE_agrg!$D71,SEE_data!AG:AG)","v":0},{"$f":"SUMIF(SEE_data!$B:$B,SEE_agrg!$D71,SEE_data!AH:AH)","v":0},{"$f":"SUMIF(SEE_data!$B:$B,SEE_agrg!$D71,SEE_data!AI:AI)","v":0},{"$f":"SUMIF(SEE_data!$B:$B,SEE_agrg!$D71,SEE_data!AJ:AJ)","v":0},{"$f":"SUMIF(SEE_data!$B:$B,SEE_agrg!$D71,SEE_data!AK:AK)","v":0},{"$f":"SUMIF(SEE_data!$B:$B,SEE_agrg!$D71,SEE_data!AL:AL)","v":0},{"$f":"SUMIF(SEE_data!$B:$B,SEE_agrg!$D71,SEE_data!AM:AM)","v":0},{"$f":"SUMIF(SEE_data!$B:$B,SEE_agrg!$D71,SEE_data!AN:AN)","v":0},{"$f":"SUMIF(SEE_data!$B:$B,SEE_agrg!$D71,SEE_data!AO:AO)","v":0},{"$f":"SUMIF(SEE_data!$B:$B,SEE_agrg!$D71,SEE_data!AP:AP)","v":0},{"$f":"SUMIF(SEE_data!$B:$B,SEE_agrg!$D71,SEE_data!AQ:AQ)","v":0},{"$f":"SUMIF(SEE_data!$B:$B,SEE_agrg!$D71,SEE_data!AR:AR)","v":0},{"$f":"SUMIF(SEE_data!$B:$B,SEE_agrg!$D71,SEE_data!AS:AS)","v":0},{"$f":"SUMIF(SEE_data!$B:$B,SEE_agrg!$D71,SEE_data!AT:AT)","v":0},{"$f":"SUMIF(SEE_data!$B:$B,SEE_agrg!$D71,SEE_data!AU:AU)","v":0},{"$f":"SUMIF(SEE_data!$B:$B,SEE_agrg!$D71,SEE_data!AV:AV)","v":0},{"$f":"SUMIF(SEE_data!$B:$B,SEE_agrg!$D71,SEE_data!AW:AW)","v":0},{"$f":"SUMIF(SEE_data!$B:$B,SEE_agrg!$D71,SEE_data!AX:AX)","v":0},{"$f":"SUMIF(SEE_data!$B:$B,SEE_agrg!$D71,SEE_data!AY:AY)","v":0},{"$f":"SUMIF(SEE_data!$B:$B,SEE_agrg!$D71,SEE_data!AZ:AZ)","v":0},{"$f":"SUMIF(SEE_data!$B:$B,SEE_agrg!$D71,SEE_data!BA:BA)","v":0},{"$f":"SUMIF(SEE_data!$B:$B,SEE_agrg!$D71,SEE_data!BB:BB)","v":0},{"$f":"SUMIF(SEE_data!$B:$B,SEE_agrg!$D71,SEE_data!BC:BC)","v":0},0,0,0,0,0,0,0,0,0,0,{"$f":"SUMIFS(UdS_data!D:D,UdS_data!F:F,1,UdS_data!B:B,D71)","v":0},{"$error":"#DIV/0!"},0,0,0,0,0,0,{"$error":"#DIV/0!"},0,0,0,0,0,0]
[null,{"$f":"INDEX(Sistema_Analisado!$A$3:$F$99,MATCH($D72,Sistema_Analisado!$B$3:$B$99,FALSE),MATCH($B$4,Sistema_Analisado!$A$3:$F$3,FALSE))","v":{"$error":"#N/A"}},{"$f":"INDEX(Sistema_Analisado!$A$3:$F$99,MATCH(D72,Sistema_Analisado!$B$3:$B$99,FALSE),MATCH(\"Seq. Corredor\",Sistema_Analisado!$A$3:$F$3,0))","v":{"$error":"#N/A"}},null,{"$f":"SUMIF(SEE_data!$B:$B,SEE_agrg!$D72,SEE_data!F:F)","v":0},{"$f":"SUMIF(SEE_data!$B:$B,SEE_agrg!$D72,SEE_data!AF:AF)","v":0},{"$f":"SUMIF(SEE_data!$B:$B,SEE_agrg!$D72,SEE_data!AG:AG)","v":0},{"$f":"SUMIF(SEE_data!$B:$B,SEE_agrg!$D72,SEE_data!AH:AH)","v":0},{"$f":"SUMIF(SEE_data!$B:$B,SEE_agrg!$D72,SEE_data!AI:AI)","v":0},{"$f":"SUMIF(SEE_data!$B:$B,SEE_agrg!$D72,SEE_data!AJ:AJ)","v":0},{"$f":"SUMIF(SEE_data!$B:$B,SEE_agrg!$D72,SEE_data!AK:AK)","v":0},{"$f":"SUMIF(SEE_data!$B:$B,SEE_agrg!$D72,SEE_data!AL:AL)","v":0},{"$f":"SUMIF(SEE_data!$B:$B,SEE_agrg!$D72,SEE_data!AM:AM)","v":0},{"$f":"SUMIF(SEE_data!$B:$B,SEE_agrg!$D72,SEE_data!AN:AN)","v":0},{"$f":"SUMIF(SEE_data!$B:$B,SEE_agrg!$D72,SEE_data!AO:AO)","v":0},{"$f":"SUMIF(SEE_data!$B:$B,SEE_agrg!$D72,SEE_data!AP:AP)","v":0},{"$f":"SUMIF(SEE_data!$B:$B,SEE_agrg!$D72,SEE_data!AQ:AQ)","v":0},{"$f":"SUMIF(SEE_data!$B:$B,SEE_agrg!$D72,SEE_data!AR:AR)","v":0},{"$f":"SUMIF(SEE_data!$B:$B,SEE_agrg!$D72,SEE_data!AS:AS)","v":0},{"$f":"SUMIF(SEE_data!$B:$B,SEE_agrg!$D72,SEE_data!AT:AT)","v":0},{"$f":"SUMIF(SEE_data!$B:$B,SEE_agrg!$D72,SEE_data!AU:AU)","v":0},{"$f":"SUMIF(SEE_data!$B:$B,SEE_agrg!$D72,SEE_data!AV:AV)","v":0},{"$f":"SUMIF(SEE_data!$B:$B,SEE_agrg!$D72,SEE_data!AW:AW)","v":0},{"$f":"SUMIF(SEE_data!$B:$B,SEE_agrg!$D72,SEE_data!AX:AX)","v":0},{"$f":"SUMIF(SEE_data!$B:$B,SEE_agrg!$D72,SEE_data!AY:AY)","v":0},{"$f":"SUMIF(SEE_data!$B:$B,SEE_agrg!$D72,SEE_data!AZ:AZ)","v":0},{"$f":"SUMIF(SEE_data!$B:$B,SEE_agrg!$D72,SEE_data!BA:BA)","v":0},{"$f":"SUMIF(SEE_data!$B:$B,SEE_agrg!$D72,SEE_data!BB:BB)","v":0},{"$f":"SUMIF(SEE_data!$B:$B,SEE_agrg!$D72,SEE_data!BC:BC)","v":0},0,0,0,0,0,0,0,0,0,0,{"$f":"SUMIFS(UdS_data!D:D,UdS_data!F:F,1,UdS_data!B:B,D72)","v":0},{"$error":"#DIV/0!"},0,0,0,0,0,0,{"$error":"#DIV/0!"},0,0,0,0,0,0]
[null,{"$f":"INDEX(Sistema_Analisado!$A$3:$F$99,MATCH($D73,Sistema_Analisado!$B$3:$B$99,FALSE),MATCH($B$4,Sistema_Analisado!$A$3:$F$3,FALSE))","v":{"$error":"#N/A"}},{"$f":"INDEX(Sistema_Analisado!$A$3:$F$99,MATCH(D73,Sistema_Analisado!$B$3:$B$99,FALSE),MATCH(\"Seq. Corredor\",Sistema_Analisado!$A$3:$F$3,0))","v":{"$error":"#N/A"}},null,{"$f":"SUMIF(SEE_data!$B:$B,SEE_agrg!$D73,SEE_data!F:F)","v":0},{"$f":"SUMIF(SEE_data!$B:$B,SEE_agrg!$D73,SEE_data!AF:AF)","v":0},{"$f":"SUMIF(SEE_data!$B:$B,SEE_agrg!$D73,SEE_data!AG:AG)","v":0},{"$f":"SUMIF(SEE_data!$B:$B,SEE_agrg!$D73,SEE_data!AH:AH)","v":0},{"$f":"SUMIF(SEE_data!$B:$B,SEE_agrg!$D73,SEE_data!AI:AI)","v":0},{"$f":"SUMIF(SEE_data!$B:$B,SEE_agrg!$D73,SEE_data!AJ:AJ)","v":0},{"$f":"SUMIF(SEE_data!$B:$B,SEE_agrg!$D73,SEE_data!AK:AK)","v":0},{"$f":"SUMIF(SEE_data!$B:$B,SEE_agrg!$D73,SEE_data!AL:AL)","v":0},{"$f":"SUMIF(SEE_data!$B:$B,SEE_agrg!$D73,SEE_data!AM:AM)","v":0},{"$f":"SUMIF(SEE_data!$B:$B,SEE_agrg!$D73,SEE_data!AN:AN)","v":0},{"$f":"SUMIF(SEE_data!$B:$B,SEE_agrg!$D73,SEE_data!AO:AO)","v":0},{"$f":"SUMIF(SEE_data!$B:$B,SEE_agrg!$D73,SEE_data!AP:AP)","v":0},{"$f":"SUMIF(SEE_data!$B:$B,SEE_agrg!$D73,SEE_data!AQ:AQ)","v":0},{"$f":"SUMIF(SEE_data!$B:$B,SEE_agrg!$D73,SEE_data!AR:AR)","v":0},{"$f":"SUMIF(SEE_data!$B:$B,SEE_agrg!$D73,SEE_data!AS:AS)","v":0},{"$f":"SUMIF(SEE_data!$B:$B,SEE_agrg!$D73,SEE_data!AT:AT)","v":0},{"$f":"SUMIF(SEE_data!$B:$B,SEE_agrg!$D73,SEE_data!AU:AU)","v":0},{"$f":"SUMIF(SEE_data!$B:$B,SEE_agrg!$D73,SEE_data!AV:AV)","v":0},{"$f":"SUMIF(SEE_data!$B:$B,SEE_agrg!$D73,SEE_data!AW:AW)","v":0},{"$f":"SUMIF(SEE_data!$B:$B,SEE_agrg!$D73,SEE_data!AX:AX)","v":0},{"$f":"SUMIF(SEE_data!$B:$B,SEE_agrg!$D73,SEE_data!AY:AY)","v":0},{"$f":"SUMIF(SEE_data!$B:$B,SEE_agrg!$D73,SEE_data!AZ:AZ)","v":0},{"$f":"SUMIF(SEE_data!$B:$B,SEE_agrg!$D73,SEE_data!BA:BA)","v":0},{"$f":"SUMIF(SEE_data!$B:$B,SEE_agrg!$D73,SEE_data!BB:BB)","v":0},{"$f":"SUMIF(SEE_data!$B:$B,SEE_agrg!$D73,SEE_data!BC:BC)","v":0},0,0,0,0,0,0,0,0,0,0,{"$f":"SUMIFS(UdS_data!D:D,UdS_data!F:F,1,UdS_data!B:B,D73)","v":0},{"$error":"#DIV/0!"},0,0,0,0,0,0,{"$error":"#DIV/0!"},0,0,0,0,0,0]
[null,{"$f":"INDEX(Sistema_Analisado!$A$3:$F$99,MATCH($D74,Sistema_Analisado!$B$3:$B$99,FALSE),MATCH($B$4,Sistema_Analisado!$A$3:$F$3,FALSE))","v":{"$error":"#N/A"}},{"$f":"INDEX(Sistema_Analisado!$A$3:$F$99,MATCH(D74,Sistema_Analisado!$B$3:$B$99,FALSE),MATCH(\"Seq. Corredor\",Sistema_Analisado!$A$3:$F$3,0))","v":{"$error":"#N/A"}},null,{"$f":"SUMIF(SEE_data!$B:$B,SEE_agrg!$D74,SEE_data!F:F)","v":0},{"$f":"SUMIF(SEE_data!$B:$B,SEE_agrg!$D74,SEE_data!AF:AF)","v":0},{"$f":"SUMIF(SEE_data!$B:$B,SEE_agrg!$D74,SEE_data!AG:AG)","v":0},{"$f":"SUMIF(SEE_data!$B:$B,SEE_agrg!$D74,SEE_data!AH:AH)","v":0},{"$f":"SUMIF(SEE_data!$B:$B,SEE_agrg!$D74,SEE_data!AI:AI)","v":0},{"$f":"SUMIF(SEE_data!$B:$B,SEE_agrg!$D74,SEE_data!AJ:AJ)","v":0},{"$f":"SUMIF(SEE_data!$B:$B,SEE_agrg!$D74,SEE_data!AK:AK)","v":0},{"$f":"SUMIF(SEE_data!$B:$B,SEE_agrg!$D74,SEE_data!AL:AL)","v":0},{"$f":"SUMIF(SEE_data!$B:$B,SEE_agrg!$D74,SEE_data!AM:AM)","v":0},{"$f":"SUMIF(SEE_data!$B:$B,SEE_agrg!$D74,SEE_data!AN:AN)","v":0},{"$f":"SUMIF(SEE_data!$B:$B,SEE_agrg!$D74,SEE_data!AO:AO)","v":0},{"$f":"SUMIF(SEE_data!$B:$B,SEE_agrg!$D74,SEE_data!AP:AP)","v":0},{"$f":"SUMIF(SEE_data!$B:$B,SEE_agrg!$D74,SEE_data!AQ:AQ)","v":0},{"$f":"SUMIF(SEE_data!$B:$B,SEE_agrg!$D74,SEE_data!AR:AR)","v":0},{"$f":"SUMIF(SEE_data!$B:$B,SEE_agrg!$D74,SEE_data!AS:AS)","v":0},{"$f":"SUMIF(SEE_data!$B:$B,SEE_agrg!$D74,SEE_data!AT:AT)","v":0},{"$f":"SUMIF(SEE_data!$B:$B,SEE_agrg!$D74,SEE_data!AU:AU)","v":0},{"$f":"SUMIF(SEE_data!$B:$B,SEE_agrg!$D74,SEE_data!AV:AV)","v":0},{"$f":"SUMIF(SEE_data!$B:$B,SEE_agrg!$D74,SEE_data!AW:AW)","v":0},{"$f":"SUMIF(SEE_data!$B:$B,SEE_agrg!$D74,SEE_data!AX:AX)","v":0},{"$f":"SUMIF(SEE_data!$B:$B,SEE_agrg!$D74,SEE_data!AY:AY)","v":0},{"$f":"SUMIF(SEE_data!$B:$B,SEE_agrg!$D74,SEE_data!AZ:AZ)","v":0},{"$f":"SUMIF(SEE_data!$B:$B,SEE_agrg!$D74,SEE_data!BA:BA)","v":0},{"$f":"SUMIF(SEE_data!$B:$B,SEE_agrg!$D74,SEE_data!BB:BB)","v":0},{"$f":"SUMIF(SEE_data!$B:$B,SEE_agrg!$D74,SEE_data!BC:BC)","v":0},0,0,0,0,0,0,0,0,0,0,{"$f":"SUMIFS(UdS_data!D:D,UdS_data!F:F,1,UdS_data!B:B,D74)","v":0},{"$error":"#DIV/0!"},0,0,0,0,0,0,{"$error":"#DIV/0!"},0,0,0,0,0,0]
[null,{"$f":"INDEX(Sistema_Analisado!$A$3:$F$99,MATCH($D75,Sistema_Analisado!$B$3:$B$99,FALSE),MATCH($B$4,Sistema_Analisado!$A$3:$F$3,FALSE))","v":{"$error":"#N/A"}},{"$f":"INDEX(Sistema_Analisado!$A$3:$F$99,MATCH(D75,Sistema_Analisado!$B$3:$B$99,FALSE),MATCH(\"Seq. Corredor\",Sistema_Analisado!$A$3:$F$3,0))","v":{"$error":"#N/A"}},null,{"$f":"SUMIF(SEE_data!$B:$B,SEE_agrg!$D75,SEE_data!F:F)","v":0},{"$f":"SUMIF(SEE_data!$B:$B,SEE_agrg!$D75,SEE_data!AF:AF)","v":0},{"$f":"SUMIF(SEE_data!$B:$B,SEE_agrg!$D75,SEE_data!AG:AG)","v":0},{"$f":"SUMIF(SEE_data!$B:$B,SEE_agrg!$D75,SEE_data!AH:AH)","v":0},{"$f":"SUMIF(SEE_data!$B:$B,SEE_agrg!$D75,SEE_data!AI:AI)","v":0},{"$f":"SUMIF(SEE_data!$B:$B,SEE_agrg!$D75,SEE_data!AJ:AJ)","v":0},{"$f":"SUMIF(SEE_data!$B:$B,SEE_agrg!$D75,SEE_data!AK:AK)","v":0},{"$f":"SUMIF(SEE_data!$B:$B,SEE_agrg!$D75,SEE_data!AL:AL)","v":0},{"$f":"SUMIF(SEE_data!$B:$B,SEE_agrg!$D75,SEE_data!AM:AM)","v":0},{"$f":"SUMIF(SEE_data!$B:$B,SEE_agrg!$D75,SEE_data!AN:AN)","v":0},{"$f":"SUMIF(SEE_data!$B:$B,SEE_agrg!$D75,SEE_data!AO:AO)","v":0},{"$f":"SUMIF(SEE_data!$B:$B,SEE_agrg!$D75,SEE_data!AP:AP)","v":0},{"$f":"SUMIF(SEE_data!$B:$B,SEE_agrg!$D75,SEE_data!AQ:AQ)","v":0},{"$f":"SUMIF(SEE_data!$B:$B,SEE_agrg!$D75,SEE_data!AR:AR)","v":0},{"$f":"SUMIF(SEE_data!$B:$B,SEE_agrg!$D75,SEE_data!AS:AS)","v":0},{"$f":"SUMIF(SEE_data!$B:$B,SEE_agrg!$D75,SEE_data!AT:AT)","v":0},{"$f":"SUMIF(SEE_data!$B:$B,SEE_agrg!$D75,SEE_data!AU:AU)","v":0},{"$f":"SUMIF(SEE_data!$B:$B,SEE_agrg!$D75,SEE_data!AV:AV)","v":0},{"$f":"SUMIF(SEE_data!$B:$B,SEE_agrg!$D75,SEE_data!AW:AW)","v":0},{"$f":"SUMIF(SEE_data!$B:$B,SEE_agrg!$D75,SEE_data!AX:AX)","v":0},{"$f":"SUMIF(SEE_data!$B:$B,SEE_agrg!$D75,SEE_data!AY:AY)","v":0},{"$f":"SUMIF(SEE_data!$B:$B,SEE_agrg!$D75,SEE_data!AZ:AZ)","v":0},{"$f":"SUMIF(SEE_data!$B:$B,SEE_agrg!$D75,SEE_data!BA:BA)","v":0},{"$f":"SUMIF(SEE_data!$B:$B,SEE_agrg!$D75,SEE_data!BB:BB)","v":0},{"$f":"SUMIF(SEE_data!$B:$B,SEE_agrg!$D75,SEE_data!BC:BC)","v":0},0,0,0,0,0,0,0,0,0,0,{"$f":"SUMIFS(UdS_data!D:D,UdS_data!F:F,1,UdS_data!B:B,D75)","v":0},{"$error":"#DIV/0!"},0,0,0,0,0,0,{"$error":"#DIV/0!"},0,0,0,0,0,0]
[null,{"$f":"INDEX(Sistema_Analisado!$A$3:$F$99,MATCH($D76,Sistema_Analisado!$B$3:$B$99,FALSE),MATCH($B$4,Sistema_Analisado!$A$3:$F$3,FALSE))","v":{"$error":"#N/A"}},{"$f":"INDEX(Sistema_Analisado!$A$3:$F$99,MATCH(D76,Sistema_Analisado!$B$3:$B$99,FALSE),MATCH(\"Seq. Corredor\",Sistema_Analisado!$A$3:$F$3,0))","v":{"$error":"#N/A"}},null,{"$f":"SUMIF(SEE_data!$B:$B,SEE_agrg!$D76,SEE_data!F:F)","v":0},{"$f":"SUMIF(SEE_data!$B:$B,SEE_agrg!$D76,SEE_data!AF:AF)","v":0},{"$f":"SUMIF(SEE_data!$B:$B,SEE_agrg!$D76,SEE_data!AG:AG)","v":0},{"$f":"SUMIF(SEE_data!$B:$B,SEE_agrg!$D76,SEE_data!AH:AH)","v":0},{"$f":"SUMIF(SEE_data!$B:$B,SEE_agrg!$D76,SEE_data!AI:AI)","v":0},{"$f":"SUMIF(SEE_data!$B:$B,SEE_agrg!$D76,SEE_data!AJ:AJ)","v":0},{"$f":"SUMIF(SEE_data!$B:$B,SEE_agrg!$D76,SEE_data!AK:AK)","v":0},{"$f":"SUMIF(SEE_data!$B:$B,SEE_agrg!$D76,SEE_data!AL:AL)","v":0},{"$f":"SUMIF(SEE_data!$B:$B,SEE_agrg!$D76,SEE_data!AM:AM)","v":0},{"$f":"SUMIF(SEE_data!$B:$B,SEE_agrg!$D76,SEE_data!AN:AN)","v":0},{"$f":"SUMIF(SEE_data!$B:$B,SEE_agrg!$D76,SEE_data!AO:AO)","v":0},{"$f":"SUMIF(SEE_data!$B:$B,SEE_agrg!$D76,SEE_data!AP:AP)","v":0},{"$f":"SUMIF(SEE_data!$B:$B,SEE_agrg!$D76,SEE_data!AQ:AQ)","v":0},{"$f":"SUMIF(SEE_data!$B:$B,SEE_agrg!$D76,SEE_data!AR:AR)","v":0},{"$f":"SUMIF(SEE_data!$B:$B,SEE_agrg!$D76,SEE_data!AS:AS)","v":0},{"$f":"SUMIF(SEE_data!$B:$B,SEE_agrg!$D76,SEE_data!AT:AT)","v":0},{"$f":"SUMIF(SEE_data!$B:$B,SEE_agrg!$D76,SEE_data!AU:AU)","v":0},{"$f":"SUMIF(SEE_data!$B:$B,SEE_agrg!$D76,SEE_data!AV:AV)","v":0},{"$f":"SUMIF(SEE_data!$B:$B,SEE_agrg!$D76,SEE_data!AW:AW)","v":0},{"$f":"SUMIF(SEE_data!$B:$B,SEE_agrg!$D76,SEE_data!AX:AX)","v":0},{"$f":"SUMIF(SEE_data!$B:$B,SEE_agrg!$D76,SEE_data!AY:AY)","v":0},{"$f":"SUMIF(SEE_data!$B:$B,SEE_agrg!$D76,SEE_data!AZ:AZ)","v":0},{"$f":"SUMIF(SEE_data!$B:$B,SEE_agrg!$D76,SEE_data!BA:BA)","v":0},{"$f":"SUMIF(SEE_data!$B:$B,SEE_agrg!$D76,SEE_data!BB:BB)","v":0},{"$f":"SUMIF(SEE_data!$B:$B,SEE_agrg!$D76,SEE_data!BC:BC)","v":0},0,0,0,0,0,0,0,0,0,0,{"$f":"SUMIFS(UdS_data!D:D,UdS_data!F:F,1,UdS_data!B:B,D76)","v":0},{"$error":"#DIV/0!"},0,0,0,0,0,0,{"$error":"#DIV/0!"},0,0,0,0,0,0]
[null,{"$f":"INDEX(Sistema_Analisado!$A$3:$F$99,MATCH($D77,Sistema_Analisado!$B$3:$B$99,FALSE),MATCH($B$4,Sistema_Analisado!$A$3:$F$3,FALSE))","v":{"$error":"#N/A"}},{"$f":"INDEX(Sistema_Analisado!$A$3:$F$99,MATCH(D77,Sistema_Analisado!$B$3:$B$99,FALSE),MATCH(\"Seq. Corredor\",Sistema_Analisado!$A$3:$F$3,0))","v":{"$error":"#N/A"}},null,{"$f":"SUMIF(SEE_data!$B:$B,SEE_agrg!$D77,SEE_data!F:F)","v":0},{"$f":"SUMIF(SEE_data!$B:$B,SEE_agrg!$D77,SEE_data!AF:AF)","v":0},{"$f":"SUMIF(SEE_data!$B:$B,SEE_agrg!$D77,SEE_data!AG:AG)","v":0},{"$f":"SUMIF(SEE_data!$B:$B,SEE_agrg!$D77,SEE_data!AH:AH)","v":0},{"$f":"SUMIF(SEE_data!$B:$B,SEE_agrg!$D77,SEE_data!AI:AI)","v":0},{"$f":"SUMIF(SEE_data!$B:$B,SEE_agrg!$D77,SEE_data!AJ:AJ)","v":0},{"$f":"SUMIF(SEE_data!$B:$B,SEE_agrg!$D77,SEE_data!AK:AK)","v":0},{"$f":"SUMIF(SEE_data!$B:$B,SEE_agrg!$D77,SEE_data!AL:AL)","v":0},{"$f":"SUMIF(SEE_data!$B:$B,SEE_agrg!$D77,SEE_data!AM:AM)","v":0},{"$f":"SUMIF(SEE_data!$B:$B,SEE_agrg!$D77,SEE_data!AN:AN)","v":0},{"$f":"SUMIF(SEE_data!$B:$B,SEE_agrg!$D77,SEE_data!AO:AO)","v":0},{"$f":"SUMIF(SEE_data!$B:$B,SEE_agrg!$D77,SEE_data!AP:AP)","v":0},{"$f":"SUMIF(SEE_data!$B:$B,SEE_agrg!$D77,SEE_data!AQ:AQ)","v":0},{"$f":"SUMIF(SEE_data!$B:$B,SEE_agrg!$D77,SEE_data!AR:AR)","v":0},{"$f":"SUMIF(SEE_data!$B:$B,SEE_agrg!$D77,SEE_data!AS:AS)","v":0},{"$f":"SUMIF(SEE_data!$B:$B,SEE_agrg!$D77,SEE_data!AT:AT)","v":0},{"$f":"SUMIF(SEE_data!$B:$B,SEE_agrg!$D77,SEE_data!AU:AU)","v":0},{"$f":"SUMIF(SEE_data!$B:$B,SEE_agrg!$D77,SEE_data!AV:AV)","v":0},{"$f":"SUMIF(SEE_data!$B:$B,SEE_agrg!$D77,SEE_data!AW:AW)","v":0},{"$f":"SUMIF(SEE_data!$B:$B,SEE_agrg!$D77,SEE_data!AX:AX)","v":0},{"$f":"SUMIF(SEE_data!$B:$B,SEE_agrg!$D77,SEE_data!AY:AY)","v":0},{"$f":"SUMIF(SEE_data!$B:$B,SEE_agrg!$D77,SEE_data!AZ:AZ)","v":0},{"$f":"SUMIF(SEE_data!$B:$B,SEE_agrg!$D77,SEE_data!BA:BA)","v":0},{"$f":"SUMIF(SEE_data!$B:$B,SEE_agrg!$D77,SEE_data!BB:BB)","v":0},{"$f":"SUMIF(SEE_data!$B:$B,SEE_agrg!$D77,SEE_data!BC:BC)","v":0},0,0,0,0,0,0,0,0,0,0,{"$f":"SUMIFS(UdS_data!D:D,UdS_data!F:F,1,UdS_data!B:B,D77)","v":0},{"$error":"#DIV/0!"},0,0,0,0,0,0,{"$error":"#DIV/0!"},0,0,0,0,0,0]
[null,{"$f":"INDEX(Sistema_Analisado!$A$3:$F$99,MATCH($D78,Sistema_Analisado!$B$3:$B$99,FALSE),MATCH($B$4,Sistema_Analisado!$A$3:$F$3,FALSE))","v":{"$error":"#N/A"}},{"$f":"INDEX(Sistema_Analisado!$A$3:$F$99,MATCH(D78,Sistema_Analisado!$B$3:$B$99,FALSE),MATCH(\"Seq. Corredor\",Sistema_Analisado!$A$3:$F$3,0))","v":{"$error":"#N/A"}},null,{"$f":"SUMIF(SEE_data!$B:$B,SEE_agrg!$D78,SEE_data!F:F)","v":0},{"$f":"SUMIF(SEE_data!$B:$B,SEE_agrg!$D78,SEE_data!AF:AF)","v":0},{"$f":"SUMIF(SEE_data!$B:$B,SEE_agrg!$D78,SEE_data!AG:AG)","v":0},{"$f":"SUMIF(SEE_data!$B:$B,SEE_agrg!$D78,SEE_data!AH:AH)","v":0},{"$f":"SUMIF(SEE_data!$B:$B,SEE_agrg!$D78,SEE_data!AI:AI)","v":0},{"$f":"SUMIF(SEE_data!$B:$B,SEE_agrg!$D78,SEE_data!AJ:AJ)","v":0},{"$f":"SUMIF(SEE_data!$B:$B,SEE_agrg!$D78,SEE_data!AK:AK)","v":0},{"$f":"SUMIF(SEE_data!$B:$B,SEE_agrg!$D78,SEE_data!AL:AL)","v":0},{"$f":"SUMIF(SEE_data!$B:$B,SEE_agrg!$D78,SEE_data!AM:AM)","v":0},{"$f":"SUMIF(SEE_data!$B:$B,SEE_agrg!$D78,SEE_data!AN:AN)","v":0},{"$f":"SUMIF(SEE_data!$B:$B,SEE_agrg!$D78,SEE_data!AO:AO)","v":0},{"$f":"SUMIF(SEE_data!$B:$B,SEE_agrg!$D78,SEE_data!AP:AP)","v":0},{"$f":"SUMIF(SEE_data!$B:$B,SEE_agrg!$D78,SEE_data!AQ:AQ)","v":0},{"$f":"SUMIF(SEE_data!$B:$B,SEE_agrg!$D78,SEE_data!AR:AR)","v":0},{"$f":"SUMIF(SEE_data!$B:$B,SEE_agrg!$D78,SEE_data!AS:AS)","v":0},{"$f":"SUMIF(SEE_data!$B:$B,SEE_agrg!$D78,SEE_data!AT:AT)","v":0},{"$f":"SUMIF(SEE_data!$B:$B,SEE_agrg!$D78,SEE_data!AU:AU)","v":0},{"$f":"SUMIF(SEE_data!$B:$B,SEE_agrg!$D78,SEE_data!AV:AV)","v":0},{"$f":"SUMIF(SEE_data!$B:$B,SEE_agrg!$D78,SEE_data!AW:AW)","v":0},{"$f":"SUMIF(SEE_data!$B:$B,SEE_agrg!$D78,SEE_data!AX:AX)","v":0},{"$f":"SUMIF(SEE_data!$B:$B,SEE_agrg!$D78,SEE_data!AY:AY)","v":0},{"$f":"SUMIF(SEE_data!$B:$B,SEE_agrg!$D78,SEE_data!AZ:AZ)","v":0},{"$f":"SUMIF(SEE_data!$B:$B,SEE_agrg!$D78,SEE_data!BA:BA)","v":0},{"$f":"SUMIF(SEE_data!$B:$B,SEE_agrg!$D78,SEE_data!BB:BB)","v":0},{"$f":"SUMIF(SEE_data!$B:$B,SEE_agrg!$D78,SEE_data!BC:BC)","v":0},0,0,0,0,0,0,0,0,0,0,{"$f":"SUMIFS(UdS_data!D:D,UdS_data!F:F,1,UdS_data!B:B,D78)","v":0},{"$error":"#DIV/0!"},0,0,0,0,0,0,{"$error":"#DIV/0!"},0,0,0,0,0,0]
[null,{"$f":"INDEX(Sistema_Analisado!$A$3:$F$99,MATCH($D79,Sistema_Analisado!$B$3:$B$99,FALSE),MATCH($B$4,Sistema_Analisado!$A$3:$F$3,FALSE))","v":{"$error":"#N/A"}},{"$f":"INDEX(Sistema_Analisado!$A$3:$F$99,MATCH(D79,Sistema_Analisado!$B$3:$B$99,FALSE),MATCH(\"Seq. Corredor\",Sistema_Analisado!$A$3:$F$3,0))","v":{"$error":"#N/A"}},null,{"$f":"SUMIF(SEE_data!$B:$B,SEE_agrg!$D79,SEE_data!F:F)","v":0},{"$f":"SUMIF(SEE_data!$B:$B,SEE_agrg!$D79,SEE_data!AF:AF)","v":0},{"$f":"SUMIF(SEE_data!$B:$B,SEE_agrg!$D79,SEE_data!AG:AG)","v":0},{"$f":"SUMIF(SEE_data!$B:$B,SEE_agrg!$D79,SEE_data!AH:AH)","v":0},{"$f":"SUMIF(SEE_data!$B:$B,SEE_agrg!$D79,SEE_data!AI:AI)","v":0},{"$f":"SUMIF(SEE_data!$B:$B,SEE_agrg!$D79,SEE_data!AJ:AJ)","v":0},{"$f":"SUMIF(SEE_data!$B:$B,SEE_agrg!$D79,SEE_data!AK:AK)","v":0},{"$f":"SUMIF(SEE_data!$B:$B,SEE_agrg!$D79,SEE_data!AL:AL)","v":0},{"$f":"SUMIF(SEE_data!$B:$B,SEE_agrg!$D79,SEE_data!AM:AM)","v":0},{"$f":"SUMIF(SEE_data!$B:$B,SEE_agrg!$D79,SEE_data!AN:AN)","v":0},{"$f":"SUMIF(SEE_data!$B:$B,SEE_agrg!$D79,SEE_data!AO:AO)","v":0},{"$f":"SUMIF(SEE_data!$B:$B,SEE_agrg!$D79,SEE_data!AP:AP)","v":0},{"$f":"SUMIF(SEE_data!$B:$B,SEE_agrg!$D79,SEE_data!AQ:AQ)","v":0},{"$f":"SUMIF(SEE_data!$B:$B,SEE_agrg!$D79,SEE_data!AR:AR)","v":0},{"$f":"SUMIF(SEE_data!$B:$B,SEE_agrg!$D79,SEE_data!AS:AS)","v":0},{"$f":"SUMIF(SEE_data!$B:$B,SEE_agrg!$D79,SEE_data!AT:AT)","v":0},{"$f":"SUMIF(SEE_data!$B:$B,SEE_agrg!$D79,SEE_data!AU:AU)","v":0},{"$f":"SUMIF(SEE_data!$B:$B,SEE_agrg!$D79,SEE_data!AV:AV)","v":0},{"$f":"SUMIF(SEE_data!$B:$B,SEE_agrg!$D79,SEE_data!AW:AW)","v":0},{"$f":"SUMIF(SEE_data!$B:$B,SEE_agrg!$D79,SEE_data!AX:AX)","v":0},{"$f":"SUMIF(SEE_data!$B:$B,SEE_agrg!$D79,SEE_data!AY:AY)","v":0},{"$f":"SUMIF(SEE_data!$B:$B,SEE_agrg!$D79,SEE_data!AZ:AZ)","v":0},{"$f":"SUMIF(SEE_data!$B:$B,SEE_agrg!$D79,SEE_data!BA:BA)","v":0},{"$f":"SUMIF(SEE_data!$B:$B,SEE_agrg!$D79,SEE_data!BB:BB)","v":0},{"$f":"SUMIF(SEE_data!$B:$B,SEE_agrg!$D79,SEE_data!BC:BC)","v":0},0,0,0,0,0,0,0,0,0,0,{"$f":"SUMIFS(UdS_data!D:D,UdS_data!F:F,1,UdS_data!B:B,D79)","v":0},{"$error":"#DIV/0!"},0,0,0,0,0,0,{"$error":"#DIV/0!"},0,0,0,0,0,0]
[null,{"$f":"INDEX(Sistema_Analisado!$A$3:$F$99,MATCH($D80,Sistema_Analisado!$B$3:$B$99,FALSE),MATCH($B$4,Sistema_Analisado!$A$3:$F$3,FALSE))","v":{"$error":"#N/A"}},{"$f":"INDEX(Sistema_Analisado!$A$3:$F$99,MATCH(D80,Sistema_Analisado!$B$3:$B$99,FALSE),MATCH(\"Seq. Corredor\",Sistema_Analisado!$A$3:$F$3,0))","v":{"$error":"#N/A"}},null,{"$f":"SUMIF(SEE_data!$B:$B,SEE_agrg!$D80,SEE_data!F:F)","v":0},{"$f":"SUMIF(SEE_data!$B:$B,SEE_agrg!$D80,SEE_data!AF:AF)","v":0},{"$f":"SUMIF(SEE_data!$B:$B,SEE_agrg!$D80,SEE_data!AG:AG)","v":0},{"$f":"SUMIF(SEE_data!$B:$B,SEE_agrg!$D80,SEE_data!AH:AH)","v":0},{"$f":"SUMIF(SEE_data!$B:$B,SEE_agrg!$D80,SEE_data!AI:AI)","v":0},{"$f":"SUMIF(SEE_data!$B:$B,SEE_agrg!$D80,SEE_data!AJ:AJ)","v":0},{"$f":"SUMIF(SEE_data!$B:$B,SEE_agrg!$D80,SEE_data!AK:AK)","v":0},{"$f":"SUMIF(SEE_data!$B:$B,SEE_agrg!$D80,SEE_data!AL:AL)","v":0},{"$f":"SUMIF(SEE_data!$B:$B,SEE_agrg!$D80,SEE_data!AM:AM)","v":0},{"$f":"SUMIF(SEE_data!$B:$B,SEE_agrg!$D80,SEE_data!AN:AN)","v":0},{"$f":"SUMIF(SEE_data!$B:$B,SEE_agrg!$D80,SEE_data!AO:AO)","v":0},{"$f":"SUMIF(SEE_data!$B:$B,SEE_agrg!$D80,SEE_data!AP:AP)","v":0},{"$f":"SUMIF(SEE_data!$B:$B,SEE_agrg!$D80,SEE_data!AQ:AQ)","v":0},{"$f":"SUMIF(SEE_data!$B:$B,SEE_agrg!$D80,SEE_data!AR:AR)","v":0},{"$f":"SUMIF(SEE_data!$B:$B,SEE_agrg!$D80,SEE_data!AS:AS)","v":0},{"$f":"SUMIF(SEE_data!$B:$B,SEE_agrg!$D80,SEE_data!AT:AT)","v":0},{"$f":"SUMIF(SEE_data!$B:$B,SEE_agrg!$D80,SEE_data!AU:AU)","v":0},{"$f":"SUMIF(SEE_data!$B:$B,SEE_agrg!$D80,SEE_data!AV:AV)","v":0},{"$f":"SUMIF(SEE_data!$B:$B,SEE_agrg!$D80,SEE_data!AW:AW)","v":0},{"$f":"SUMIF(SEE_data!$B:$B,SEE_agrg!$D80,SEE_data!AX:AX)","v":0},{"$f":"SUMIF(SEE_data!$B:$B,SEE_agrg!$D80,SEE_data!AY:AY)","v":0},{"$f":"SUMIF(SEE_data!$B:$B,SEE_agrg!$D80,SEE_data!AZ:AZ)","v":0},{"$f":"SUMIF(SEE_data!$B:$B,SEE_agrg!$D80,SEE_data!BA:BA)","v":0},{"$f":"SUMIF(SEE_data!$B:$B,SEE_agrg!$D80,SEE_data!BB:BB)","v":0},{"$f":"SUMIF(SEE_data!$B:$B,SEE_agrg!$D80,SEE_data!BC:BC)","v":0},0,0,0,0,0,0,0,0,0,0,{"$f":"SUMIFS(UdS_data!D:D,UdS_data!F:F,1,UdS_data!B:B,D80)","v":0},{"$error":"#DIV/0!"},0,0,0,0,0,0,{"$error":"#DIV/0!"},0,0,0,0,0,0]
[null,{"$f":"INDEX(Sistema_Analisado!$A$3:$F$99,MATCH($D81,Sistema_Analisado!$B$3:$B$99,FALSE),MATCH($B$4,Sistema_Analisado!$A$3:$F$3,FALSE))","v":{"$error":"#N/A"}},{"$f":"INDEX(Sistema_Analisado!$A$3:$F$99,MATCH(D81,Sistema_Analisado!$B$3:$B$99,FALSE),MATCH(\"Seq. Corredor\",Sistema_Analisado!$A$3:$F$3,0))","v":{"$error":"#N/A"}},null,{"$f":"SUMIF(SEE_data!$B:$B,SEE_agrg!$D81,SEE_data!F:F)","v":0},{"$f":"SUMIF(SEE_data!$B:$B,SEE_agrg!$D81,SEE_data!AF:AF)","v":0},{"$f":"SUMIF(SEE_data!$B:$B,SEE_agrg!$D81,SEE_data!AG:AG)","v":0},{"$f":"SUMIF(SEE_data!$B:$B,SEE_agrg!$D81,SEE_data!AH:AH)","v":0},{"$f":"SUMIF(SEE_data!$B:$B,SEE_agrg!$D81,SEE_data!AI:AI)","v":0},{"$f":"SUMIF(SEE_data!$B:$B,SEE_agrg!$D81,SEE_data!AJ:AJ)","v":0},{"$f":"SUMIF(SEE_data!$B:$B,SEE_agrg!$D81,SEE_data!AK:AK)","v":0},{"$f":"SUMIF(SEE_data!$B:$B,SEE_agrg!$D81,SEE_data!AL:AL)","v":0},{"$f":"SUMIF(SEE_data!$B:$B,SEE_agrg!$D81,SEE_data!AM:AM)","v":0},{"$f":"SUMIF(SEE_data!$B:$B,SEE_agrg!$D81,SEE_data!AN:AN)","v":0},{"$f":"SUMIF(SEE_data!$B:$B,SEE_agrg!$D81,SEE_data!AO:AO)","v":0},{"$f":"SUMIF(SEE_data!$B:$B,SEE_agrg!$D81,SEE_data!AP:AP)","v":0},{"$f":"SUMIF(SEE_data!$B:$B,SEE_agrg!$D81,SEE_data!AQ:AQ)","v":0},{"$f":"SUMIF(SEE_data!$B:$B,SEE_agrg!$D81,SEE_data!AR:AR)","v":0},{"$f":"SUMIF(SEE_data!$B:$B,SEE_agrg!$D81,SEE_data!AS:AS)","v":0},{"$f":"SUMIF(SEE_data!$B:$B,SEE_agrg!$D81,SEE_data!AT:AT)","v":0},{"$f":"SUMIF(SEE_data!$B:$B,SEE_agrg!$D81,SEE_data!AU:AU)","v":0},{"$f":"SUMIF(SEE_data!$B:$B,SEE_agrg!$D81,SEE_data!AV:AV)","v":0},{"$f":"SUMIF(SEE_data!$B:$B,SEE_agrg!$D81,SEE_data!AW:AW)","v":0},{"$f":"SUMIF(SEE_data!$B:$B,SEE_agrg!$D81,SEE_data!AX:AX)","v":0},{"$f":"SUMIF(SEE_data!$B:$B,SEE_agrg!$D81,SEE_data!AY:AY)","v":0},{"$f":"SUMIF(SEE_data!$B:$B,SEE_agrg!$D81,SEE_data!AZ:AZ)","v":0},{"$f":"SUMIF(SEE_data!$B:$B,SEE_agrg!$D81,SEE_data!BA:BA)","v":0},{"$f":"SUMIF(SEE_data!$B:$B,SEE_agrg!$D81,SEE_data!BB:BB)","v":0},{"$f":"SUMIF(SEE_data!$B:$B,SEE_agrg!$D81,SEE_data!BC:BC)","v":0},0,0,0,0,0,0,0,0,0,0,{"$f":"SUMIFS(UdS_data!D:D,UdS_data!F:F,1,UdS_data!B:B,D81)","v":0},{"$error":"#DIV/0!"},0,0,0,0,0,0,{"$error":"#DIV/0!"},0,0,0,0,0,0]
[null,{"$f":"INDEX(Sistema_Analisado!$A$3:$F$99,MATCH($D82,Sistema_Analisado!$B$3:$B$99,FALSE),MATCH($B$4,Sistema_Analisado!$A$3:$F$3,FALSE))","v":{"$error":"#N/A"}},{"$f":"INDEX(Sistema_Analisado!$A$3:$F$99,MATCH(D82,Sistema_Analisado!$B$3:$B$99,FALSE),MATCH(\"Seq. Corredor\",Sistema_Analisado!$A$3:$F$3,0))","v":{"$error":"#N/A"}},null,{"$f":"SUMIF(SEE_data!$B:$B,SEE_agrg!$D82,SEE_data!F:F)","v":0},{"$f":"SUMIF(SEE_data!$B:$B,SEE_agrg!$D82,SEE_data!AF:AF)","v":0},{"$f":"SUMIF(SEE_data!$B:$B,SEE_agrg!$D82,SEE_data!AG:AG)","v":0},{"$f":"SUMIF(SEE_data!$B:$B,SEE_agrg!$D82,SEE_data!AH:AH)","v":0},{"$f":"SUMIF(SEE_data!$B:$B,SEE_agrg!$D82,SEE_data!AI:AI)","v":0},{"$f":"SUMIF(SEE_data!$B:$B,SEE_agrg!$D82,SEE_data!AJ:AJ)","v":0},{"$f":"SUMIF(SEE_data!$B:$B,SEE_agrg!$D82,SEE_data!AK:AK)","v":0},{"$f":"SUMIF(SEE_data!$B:$B,SEE_agrg!$D82,SEE_data!AL:AL)","v":0},{"$f":"SUMIF(SEE_data!$B:$B,SEE_agrg!$D82,SEE_data!AM:AM)","v":0},{"$f":"SUMIF(SEE_data!$B:$B,SEE_agrg!$D82,SEE_data!AN:AN)","v":0},{"$f":"SUMIF(SEE_data!$B:$B,SEE_agrg!$D82,SEE_data!AO:AO)","v":0},{"$f":"SUMIF(SEE_data!$B:$B,SEE_agrg!$D82,SEE_data!AP:AP)","v":0},{"$f":"SUMIF(SEE_data!$B:$B,SEE_agrg!$D82,SEE_data!AQ:AQ)","v":0},{"$f":"SUMIF(SEE_data!$B:$B,SEE_agrg!$D82,SEE_data!AR:AR)","v":0},{"$f":"SUMIF(SEE_data!$B:$B,SEE_agrg!$D82,SEE_data!AS:AS)","v":0},{"$f":"SUMIF(SEE_data!$B:$B,SEE_agrg!$D82,SEE_data!AT:AT)","v":0},{"$f":"SUMIF(SEE_data!$B:$B,SEE_agrg!$D82,SEE_data!AU:AU)","v":0},{"$f":"SUMIF(SEE_data!$B:$B,SEE_agrg!$D82,SEE_data!AV:AV)","v":0},{"$f":"SUMIF(SEE_data!$B:$B,SEE_agrg!$D82,SEE_data!AW:AW)","v":0},{"$f":"SUMIF(SEE_data!$B:$B,SEE_agrg!$D82,SEE_data!AX:AX)","v":0},{"$f":"SUMIF(SEE_data!$B:$B,SEE_agrg!$D82,SEE_data!AY:AY)","v":0},{"$f":"SUMIF(SEE_data!$B:$B,SEE_agrg!$D82,SEE_data!AZ:AZ)","v":0},{"$f":"SUMIF(SEE_data!$B:$B,SEE_agrg!$D82,SEE_data!BA:BA)","v":0},{"$f":"SUMIF(SEE_data!$B:$B,SEE_agrg!$D82,SEE_data!BB:BB)","v":0},{"$f":"SUMIF(SEE_data!$B:$B,SEE_agrg!$D82,SEE_data!BC:BC)","v":0},0,0,0,0,0,0,0,0,0,0,{"$f":"SUMIFS(UdS_data!D:D,UdS_data!F:F,1,UdS_data!B:B,D82)","v":0},{"$error":"#DIV/0!"},0,0,0,0,0,0,{"$error":"#DIV/0!"},0,0,0,0,0,0]
[null,{"$f":"INDEX(Sistema_Analisado!$A$3:$F$99,MATCH($D83,Sistema_Analisado!$B$3:$B$99,FALSE),MATCH($B$4,Sistema_Analisado!$A$3:$F$3,FALSE))","v":{"$error":"#N/A"}},{"$f":"INDEX(Sistema_Analisado!$A$3:$F$99,MATCH(D83,Sistema_Analisado!$B$3:$B$99,FALSE),MATCH(\"Seq. Corredor\",Sistema_Analisado!$A$3:$F$3,0))","v":{"$error":"#N/A"}},null,{"$f":"SUMIF(SEE_data!$B:$B,SEE_agrg!$D83,SEE_data!F:F)","v":0},{"$f":"SUMIF(SEE_data!$B:$B,SEE_agrg!$D83,SEE_data!AF:AF)","v":0},{"$f":"SUMIF(SEE_data!$B:$B,SEE_agrg!$D83,SEE_data!AG:AG)","v":0},{"$f":"SUMIF(SEE_data!$B:$B,SEE_agrg!$D83,SEE_data!AH:AH)","v":0},{"$f":"SUMIF(SEE_data!$B:$B,SEE_agrg!$D83,SEE_data!AI:AI)","v":0},{"$f":"SUMIF(SEE_data!$B:$B,SEE_agrg!$D83,SEE_data!AJ:AJ)","v":0},{"$f":"SUMIF(SEE_data!$B:$B,SEE_agrg!$D83,SEE_data!AK:AK)","v":0},{"$f":"SUMIF(SEE_data!$B:$B,SEE_agrg!$D83,SEE_data!AL:AL)","v":0},{"$f":"SUMIF(SEE_data!$B:$B,SEE_agrg!$D83,SEE_data!AM:AM)","v":0},{"$f":"SUMIF(SEE_data!$B:$B,SEE_agrg!$D83,SEE_data!AN:AN)","v":0},{"$f":"SUMIF(SEE_data!$B:$B,SEE_agrg!$D83,SEE_data!AO:AO)","v":0},{"$f":"SUMIF(SEE_data!$B:$B,SEE_agrg!$D83,SEE_data!AP:AP)","v":0},{"$f":"SUMIF(SEE_data!$B:$B,SEE_agrg!$D83,SEE_data!AQ:AQ)","v":0},{"$f":"SUMIF(SEE_data!$B:$B,SEE_agrg!$D83,SEE_data!AR:AR)","v":0},{"$f":"SUMIF(SEE_data!$B:$B,SEE_agrg!$D83,SEE_data!AS:AS)","v":0},{"$f":"SUMIF(SEE_data!$B:$B,SEE_agrg!$D83,SEE_data!AT:AT)","v":0},{"$f":"SUMIF(SEE_data!$B:$B,SEE_agrg!$D83,SEE_data!AU:AU)","v":0},{"$f":"SUMIF(SEE_data!$B:$B,SEE_agrg!$D83,SEE_data!AV:AV)","v":0},{"$f":"SUMIF(SEE_data!$B:$B,SEE_agrg!$D83,SEE_data!AW:AW)","v":0},{"$f":"SUMIF(SEE_data!$B:$B,SEE_agrg!$D83,SEE_data!AX:AX)","v":0},{"$f":"SUMIF(SEE_data!$B:$B,SEE_agrg!$D83,SEE_data!AY:AY)","v":0},{"$f":"SUMIF(SEE_data!$B:$B,SEE_agrg!$D83,SEE_data!AZ:AZ)","v":0},{"$f":"SUMIF(SEE_data!$B:$B,SEE_agrg!$D83,SEE_data!BA:BA)","v":0},{"$f":"SUMIF(SEE_data!$B:$B,SEE_agrg!$D83,SEE_data!BB:BB)","v":0},{"$f":"SUMIF(SEE_data!$B:$B,SEE_agrg!$D83,SEE_data!BC:BC)","v":0},0,0,0,0,0,0,0,0,0,0,{"$f":"SUMIFS(UdS_data!D:D,UdS_data!F:F,1,UdS_data!B:B,D83)","v":0},{"$error":"#DIV/0!"},0,0,0,0,0,0,{"$error":"#DIV/0!"},0,0,0,0,0,0]
[null,{"$f":"INDEX(Sistema_Analisado!$A$3:$F$99,MATCH($D84,Sistema_Analisado!$B$3:$B$99,FALSE),MATCH($B$4,Sistema_Analisado!$A$3:$F$3,FALSE))","v":{"$error":"#N/A"}},{"$f":"INDEX(Sistema_Analisado!$A$3:$F$99,MATCH(D84,Sistema_Analisado!$B$3:$B$99,FALSE),MATCH(\"Seq. Corredor\",Sistema_Analisado!$A$3:$F$3,0))","v":{"$error":"#N/A"}},null,{"$f":"SUMIF(SEE_data!$B:$B,SEE_agrg!$D84,SEE_data!F:F)","v":0},{"$f":"SUMIF(SEE_data!$B:$B,SEE_agrg!$D84,SEE_data!AF:AF)","v":0},{"$f":"SUMIF(SEE_data!$B:$B,SEE_agrg!$D84,SEE_data!AG:AG)","v":0},{"$f":"SUMIF(SEE_data!$B:$B,SEE_agrg!$D84,SEE_data!AH:AH)","v":0},{"$f":"SUMIF(SEE_data!$B:$B,SEE_agrg!$D84,SEE_data!AI:AI)","v":0},{"$f":"SUMIF(SEE_data!$B:$B,SEE_agrg!$D84,SEE_data!AJ:AJ)","v":0},{"$f":"SUMIF(SEE_data!$B:$B,SEE_agrg!$D84,SEE_data!AK:AK)","v":0},{"$f":"SUMIF(SEE_data!$B:$B,SEE_agrg!$D84,SEE_data!AL:AL)","v":0},{"$f":"SUMIF(SEE_data!$B:$B,SEE_agrg!$D84,SEE_data!AM:AM)","v":0},{"$f":"SUMIF(SEE_data!$B:$B,SEE_agrg!$D84,SEE_data!AN:AN)","v":0},{"$f":"SUMIF(SEE_data!$B:$B,SEE_agrg!$D84,SEE_data!AO:AO)","v":0},{"$f":"SUMIF(SEE_data!$B:$B,SEE_agrg!$D84,SEE_data!AP:AP)","v":0},{"$f":"SUMIF(SEE_data!$B:$B,SEE_agrg!$D84,SEE_data!AQ:AQ)","v":0},{"$f":"SUMIF(SEE_data!$B:$B,SEE_agrg!$D84,SEE_data!AR:AR)","v":0},{"$f":"SUMIF(SEE_data!$B:$B,SEE_agrg!$D84,SEE_data!AS:AS)","v":0},{"$f":"SUMIF(SEE_data!$B:$B,SEE_agrg!$D84,SEE_data!AT:AT)","v":0},{"$f":"SUMIF(SEE_data!$B:$B,SEE_agrg!$D84,SEE_data!AU:AU)","v":0},{"$f":"SUMIF(SEE_data!$B:$B,SEE_agrg!$D84,SEE_data!AV:AV)","v":0},{"$f":"SUMIF(SEE_data!$B:$B,SEE_agrg!$D84,SEE_data!AW:AW)","v":0},{"$f":"SUMIF(SEE_data!$B:$B,SEE_agrg!$D84,SEE_data!AX:AX)","v":0},{"$f":"SUMIF(SEE_data!$B:$B,SEE_agrg!$D84,SEE_data!AY:AY)","v":0},{"$f":"SUMIF(SEE_data!$B:$B,SEE_agrg!$D84,SEE_data!AZ:AZ)","v":0},{"$f":"SUMIF(SEE_data!$B:$B,SEE_agrg!$D84,SEE_data!BA:BA)","v":0},{"$f":"SUMIF(SEE_data!$B:$B,SEE_agrg!$D84,SEE_data!BB:BB)","v":0},{"$f":"SUMIF(SEE_data!$B:$B,SEE_agrg!$D84,SEE_data!BC:BC)","v":0},0,0,0,0,0,0,0,0,0,0,{"$f":"SUMIFS(UdS_data!D:D,UdS_data!F:F,1,UdS_data!B:B,D84)","v":0},{"$error":"#DIV/0!"},0,0,0,0,0,0,{"$error":"#DIV/0!"},0,0,0,0,0,0]
[null,{"$f":"INDEX(Sistema_Analisado!$A$3:$F$99,MATCH($D85,Sistema_Analisado!$B$3:$B$99,FALSE),MATCH($B$4,Sistema_Analisado!$A$3:$F$3,FALSE))","v":{"$error":"#N/A"}},{"$f":"INDEX(Sistema_Analisado!$A$3:$F$99,MATCH(D85,Sistema_Analisado!$B$3:$B$99,FALSE),MATCH(\"Seq. Corredor\",Sistema_Analisado!$A$3:$F$3,0))","v":{"$error":"#N/A"}},null,{"$f":"SUMIF(SEE_data!$B:$B,SEE_agrg!$D85,SEE_data!F:F)","v":0},{"$f":"SUMIF(SEE_data!$B:$B,SEE_agrg!$D85,SEE_data!AF:AF)","v":0},{"$f":"SUMIF(SEE_data!$B:$B,SEE_agrg!$D85,SEE_data!AG:AG)","v":0},{"$f":"SUMIF(SEE_data!$B:$B,SEE_agrg!$D85,SEE_data!AH:AH)","v":0},{"$f":"SUMIF(SEE_data!$B:$B,SEE_agrg!$D85,SEE_data!AI:AI)","v":0},{"$f":"SUMIF(SEE_data!$B:$B,SEE_agrg!$D85,SEE_data!AJ:AJ)","v":0},{"$f":"SUMIF(SEE_data!$B:$B,SEE_agrg!$D85,SEE_data!AK:AK)","v":0},{"$f":"SUMIF(SEE_data!$B:$B,SEE_agrg!$D85,SEE_data!AL:AL)","v":0},{"$f":"SUMIF(SEE_data!$B:$B,SEE_agrg!$D85,SEE_data!AM:AM)","v":0},{"$f":"SUMIF(SEE_data!$B:$B,SEE_agrg!$D85,SEE_data!AN:AN)","v":0},{"$f":"SUMIF(SEE_data!$B:$B,SEE_agrg!$D85,SEE_data!AO:AO)","v":0},{"$f":"SUMIF(SEE_data!$B:$B,SEE_agrg!$D85,SEE_data!AP:AP)","v":0},{"$f":"SUMIF(SEE_data!$B:$B,SEE_agrg!$D85,SEE_data!AQ:AQ)","v":0},{"$f":"SUMIF(SEE_data!$B:$B,SEE_agrg!$D85,SEE_data!AR:AR)","v":0},{"$f":"SUMIF(SEE_data!$B:$B,SEE_agrg!$D85,SEE_data!AS:AS)","v":0},{"$f":"SUMIF(SEE_data!$B:$B,SEE_agrg!$D85,SEE_data!AT:AT)","v":0},{"$f":"SUMIF(SEE_data!$B:$B,SEE_agrg!$D85,SEE_data!AU:AU)","v":0},{"$f":"SUMIF(SEE_data!$B:$B,SEE_agrg!$D85,SEE_data!AV:AV)","v":0},{"$f":"SUMIF(SEE_data!$B:$B,SEE_agrg!$D85,SEE_data!AW:AW)","v":0},{"$f":"SUMIF(SEE_data!$B:$B,SEE_agrg!$D85,SEE_data!AX:AX)","v":0},{"$f":"SUMIF(SEE_data!$B:$B,SEE_agrg!$D85,SEE_data!AY:AY)","v":0},{"$f":"SUMIF(SEE_data!$B:$B,SEE_agrg!$D85,SEE_data!AZ:AZ)","v":0},{"$f":"SUMIF(SEE_data!$B:$B,SEE_agrg!$D85,SEE_data!BA:BA)","v":0},{"$f":"SUMIF(SEE_data!$B:$B,SEE_agrg!$D85,SEE_data!BB:BB)","v":0},{"$f":"SUMIF(SEE_data!$B:$B,SEE_agrg!$D85,SEE_data!BC:BC)","v":0},0,0,0,0,0,0,0,0,0,0,{"$f":"SUMIFS(UdS_data!D:D,UdS_data!F:F,1,UdS_data!B:B,D85)","v":0},{"$error":"#DIV/0!"},0,0,0,0,0,0,{"$error":"#DIV/0!"},0,0,0,0,0,0]
[null,{"$f":"INDEX(Sistema_Analisado!$A$3:$F$99,MATCH($D86,Sistema_Analisado!$B$3:$B$99,FALSE),MATCH($B$4,Sistema_Analisado!$A$3:$F$3,FALSE))","v":{"$error":"#N/A"}},{"$f":"INDEX(Sistema_Analisado!$A$3:$F$99,MATCH(D86,Sistema_Analisado!$B$3:$B$99,FALSE),MATCH(\"Seq. Corredor\",Sistema_Analisado!$A$3:$F$3,0))","v":{"$error":"#N/A"}},null,{"$f":"SUMIF(SEE_data!$B:$B,SEE_agrg!$D86,SEE_data!F:F)","v":0},{"$f":"SUMIF(SEE_data!$B:$B,SEE_agrg!$D86,SEE_data!AF:AF)","v":0},{"$f":"SUMIF(SEE_data!$B:$B,SEE_agrg!$D86,SEE_data!AG:AG)","v":0},{"$f":"SUMIF(SEE_data!$B:$B,SEE_agrg!$D86,SEE_data!AH:AH)","v":0},{"$f":"SUMIF(SEE_data!$B:$B,SEE_agrg!$D86,SEE_data!AI:AI)","v":0},{"$f":"SUMIF(SEE_data!$B:$B,SEE_agrg!$D86,SEE_data!AJ:AJ)","v":0},{"$f":"SUMIF(SEE_data!$B:$B,SEE_agrg!$D86,SEE_data!AK:AK)","v":0},{"$f":"SUMIF(SEE_data!$B:$B,SEE_agrg!$D86,SEE_data!AL:AL)","v":0},{"$f":"SUMIF(SEE_data!$B:$B,SEE_agrg!$D86,SEE_data!AM:AM)","v":0},{"$f":"SUMIF(SEE_data!$B:$B,SEE_agrg!$D86,SEE_data!AN:AN)","v":0},{"$f":"SUMIF(SEE_data!$B:$B,SEE_agrg!$D86,SEE_data!AO:AO)","v":0},{"$f":"SUMIF(SEE_data!$B:$B,SEE_agrg!$D86,SEE_data!AP:AP)","v":0},{"$f":"SUMIF(SEE_data!$B:$B,SEE_agrg!$D86,SEE_data!AQ:AQ)","v":0},{"$f":"SUMIF(SEE_data!$B:$B,SEE_agrg!$D86,SEE_data!AR:AR)","v":0},{"$f":"SUMIF(SEE_data!$B:$B,SEE_agrg!$D86,SEE_data!AS:AS)","v":0},{"$f":"SUMIF(SEE_data!$B:$B,SEE_agrg!$D86,SEE_data!AT:AT)","v":0},{"$f":"SUMIF(SEE_data!$B:$B,SEE_agrg!$D86,SEE_data!AU:AU)","v":0},{"$f":"SUMIF(SEE_data!$B:$B,SEE_agrg!$D86,SEE_data!AV:AV)","v":0},{"$f":"SUMIF(SEE_data!$B:$B,SEE_agrg!$D86,SEE_data!AW:AW)","v":0},{"$f":"SUMIF(SEE_data!$B:$B,SEE_agrg!$D86,SEE_data!AX:AX)","v":0},{"$f":"SUMIF(SEE_data!$B:$B,SEE_agrg!$D86,SEE_data!AY:AY)","v":0},{"$f":"SUMIF(SEE_data!$B:$B,SEE_agrg!$D86,SEE_data!AZ:AZ)","v":0},{"$f":"SUMIF(SEE_data!$B:$B,SEE_agrg!$D86,SEE_data!BA:BA)","v":0},{"$f":"SUMIF(SEE_data!$B:$B,SEE_agrg!$D86,SEE_data!BB:BB)","v":0},{"$f":"SUMIF(SEE_data!$B:$B,SEE_agrg!$D86,SEE_data!BC:BC)","v":0},0,0,0,0,0,0,0,0,0,0,{"$f":"SUMIFS(UdS_data!D:D,UdS_data!F:F,1,UdS_data!B:B,D86)","v":0},{"$error":"#DIV/0!"},0,0,0,0,0,0,{"$error":"#DIV/0!"},0,0,0,0,0,0]
[null,{"$f":"INDEX(Sistema_Analisado!$A$3:$F$99,MATCH($D87,Sistema_Analisado!$B$3:$B$99,FALSE),MATCH($B$4,Sistema_Analisado!$A$3:$F$3,FALSE))","v":{"$error":"#N/A"}},{"$f":"INDEX(Sistema_Analisado!$A$3:$F$99,MATCH(D87,Sistema_Analisado!$B$3:$B$99,FALSE),MATCH(\"Seq. Corredor\",Sistema_Analisado!$A$3:$F$3,0))","v":{"$error":"#N/A"}},null,{"$f":"SUMIF(SEE_data!$B:$B,SEE_agrg!$D87,SEE_data!F:F)","v":0},{"$f":"SUMIF(SEE_data!$B:$B,SEE_agrg!$D87,SEE_data!AF:AF)","v":0},{"$f":"SUMIF(SEE_data!$B:$B,SEE_agrg!$D87,SEE_data!AG:AG)","v":0},{"$f":"SUMIF(SEE_data!$B:$B,SEE_agrg!$D87,SEE_data!AH:AH)","v":0},{"$f":"SUMIF(SEE_data!$B:$B,SEE_agrg!$D87,SEE_data!AI:AI)","v":0},{"$f":"SUMIF(SEE_data!$B:$B,SEE_agrg!$D87,SEE_data!AJ:AJ)","v":0},{"$f":"SUMIF(SEE_data!$B:$B,SEE_agrg!$D87,SEE_data!AK:AK)","v":0},{"$f":"SUMIF(SEE_data!$B:$B,SEE_agrg!$D87,SEE_data!AL:AL)","v":0},{"$f":"SUMIF(SEE_data!$B:$B,SEE_agrg!$D87,SEE_data!AM:AM)","v":0},{"$f":"SUMIF(SEE_data!$B:$B,SEE_agrg!$D87,SEE_data!AN:AN)","v":0},{"$f":"SUMIF(SEE_data!$B:$B,SEE_agrg!$D87,SEE_data!AO:AO)","v":0},{"$f":"SUMIF(SEE_data!$B:$B,SEE_agrg!$D87,SEE_data!AP:AP)","v":0},{"$f":"SUMIF(SEE_data!$B:$B,SEE_agrg!$D87,SEE_data!AQ:AQ)","v":0},{"$f":"SUMIF(SEE_data!$B:$B,SEE_agrg!$D87,SEE_data!AR:AR)","v":0},{"$f":"SUMIF(SEE_data!$B:$B,SEE_agrg!$D87,SEE_data!AS:AS)","v":0},{"$f":"SUMIF(SEE_data!$B:$B,SEE_agrg!$D87,SEE_data!AT:AT)","v":0},{"$f":"SUMIF(SEE_data!$B:$B,SEE_agrg!$D87,SEE_data!AU:AU)","v":0},{"$f":"SUMIF(SEE_data!$B:$B,SEE_agrg!$D87,SEE_data!AV:AV)","v":0},{"$f":"SUMIF(SEE_data!$B:$B,SEE_agrg!$D87,SEE_data!AW:AW)","v":0},{"$f":"SUMIF(SEE_data!$B:$B,SEE_agrg!$D87,SEE_data!AX:AX)","v":0},{"$f":"SUMIF(SEE_data!$B:$B,SEE_agrg!$D87,SEE_data!AY:AY)","v":0},{"$f":"SUMIF(SEE_data!$B:$B,SEE_agrg!$D87,SEE_data!AZ:AZ)","v":0},{"$f":"SUMIF(SEE_data!$B:$B,SEE_agrg!$D87,SEE_data!BA:BA)","v":0},{"$f":"SUMIF(SEE_data!$B:$B,SEE_agrg!$D87,SEE_data!BB:BB)","v":0},{"$f":"SUMIF(SEE_data!$B:$B,SEE_agrg!$D87,SEE_data!BC:BC)","v":0},0,0,0,0,0,0,0,0,0,0,{"$f":"SUMIFS(UdS_data!D:D,UdS_data!F:F,1,UdS_data!B:B,D87)","v":0},{"$error":"#DIV/0!"},0,0,0,0,0,0,{"$error":"#DIV/0!"},0,0,0,0,0,0]
[null,{"$f":"INDEX(Sistema_Analisado!$A$3:$F$99,MATCH($D88,Sistema_Analisado!$B$3:$B$99,FALSE),MATCH($B$4,Sistema_Analisado!$A$3:$F$3,FALSE))","v":{"$error":"#N/A"}},{"$f":"INDEX(Sistema_Analisado!$A$3:$F$99,MATCH(D88,Sistema_Analisado!$B$3:$B$99,FALSE),MATCH(\"Seq. Corredor\",Sistema_Analisado!$A$3:$F$3,0))","v":{"$error":"#N/A"}},null,{"$f":"SUMIF(SEE_data!$B:$B,SEE_agrg!$D88,SEE_data!F:F)","v":0},{"$f":"SUMIF(SEE_data!$B:$B,SEE_agrg!$D88,SEE_data!AF:AF)","v":0},{"$f":"SUMIF(SEE_data!$B:$B,SEE_agrg!$D88,SEE_data!AG:AG)","v":0},{"$f":"SUMIF(SEE_data!$B:$B,SEE_agrg!$D88,SEE_data!AH:AH)","v":0},{"$f":"SUMIF(SEE_data!$B:$B,SEE_agrg!$D88,SEE_data!AI:AI)","v":0},{"$f":"SUMIF(SEE_data!$B:$B,SEE_agrg!$D88,SEE_data!AJ:AJ)","v":0},{"$f":"SUMIF(SEE_data!$B:$B,SEE_agrg!$D88,SEE_data!AK:AK)","v":0},{"$f":"SUMIF(SEE_data!$B:$B,SEE_agrg!$D88,SEE_data!AL:AL)","v":0},{"$f":"SUMIF(SEE_data!$B:$B,SEE_agrg!$D88,SEE_data!AM:AM)","v":0},{"$f":"SUMIF(SEE_data!$B:$B,SEE_agrg!$D88,SEE_data!AN:AN)","v":0},{"$f":"SUMIF(SEE_data!$B:$B,SEE_agrg!$D88,SEE_data!AO:AO)","v":0},{"$f":"SUMIF(SEE_data!$B:$B,SEE_agrg!$D88,SEE_data!AP:AP)","v":0},{"$f":"SUMIF(SEE_data!$B:$B,SEE_agrg!$D88,SEE_data!AQ:AQ)","v":0},{"$f":"SUMIF(SEE_data!$B:$B,SEE_agrg!$D88,SEE_data!AR:AR)","v":0},{"$f":"SUMIF(SEE_data!$B:$B,SEE_agrg!$D88,SEE_data!AS:AS)","v":0},{"$f":"SUMIF(SEE_data!$B:$B,SEE_agrg!$D88,SEE_data!AT:AT)","v":0},{"$f":"SUMIF(SEE_data!$B:$B,SEE_agrg!$D88,SEE_data!AU:AU)","v":0},{"$f":"SUMIF(SEE_data!$B:$B,SEE_agrg!$D88,SEE_data!AV:AV)","v":0},{"$f":"SUMIF(SEE_data!$B:$B,SEE_agrg!$D88,SEE_data!AW:AW)","v":0},{"$f":"SUMIF(SEE_data!$B:$B,SEE_agrg!$D88,SEE_data!AX:AX)","v":0},{"$f":"SUMIF(SEE_data!$B:$B,SEE_agrg!$D88,SEE_data!AY:AY)","v":0},{"$f":"SUMIF(SEE_data!$B:$B,SEE_agrg!$D88,SEE_data!AZ:AZ)","v":0},{"$f":"SUMIF(SEE_data!$B:$B,SEE_agrg!$D88,SEE_data!BA:BA)","v":0},{"$f":"SUMIF(SEE_data!$B:$B,SEE_agrg!$D88,SEE_data!BB:BB)","v":0},{"$f":"SUMIF(SEE_data!$B:$B,SEE_agrg!$D88,SEE_data!BC:BC)","v":0},0,0,0,0,0,0,0,0,0,0,{"$f":"SUMIFS(UdS_data!D:D,UdS_data!F:F,1,UdS_data!B:B,D88)","v":0},{"$error":"#DIV/0!"},0,0,0,0,0,0,{"$error":"#DIV/0!"},0,0,0,0,0,0]
[null,{"$f":"INDEX(Sistema_Analisado!$A$3:$F$99,MATCH($D89,Sistema_Analisado!$B$3:$B$99,FALSE),MATCH($B$4,Sistema_Analisado!$A$3:$F$3,FALSE))","v":{"$error":"#N/A"}},{"$f":"INDEX(Sistema_Analisado!$A$3:$F$99,MATCH(D89,Sistema_Analisado!$B$3:$B$99,FALSE),MATCH(\"Seq. Corredor\",Sistema_Analisado!$A$3:$F$3,0))","v":{"$error":"#N/A"}},null,{"$f":"SUMIF(SEE_data!$B:$B,SEE_agrg!$D89,SEE_data!F:F)","v":0},{"$f":"SUMIF(SEE_data!$B:$B,SEE_agrg!$D89,SEE_data!AF:AF)","v":0},{"$f":"SUMIF(SEE_data!$B:$B,SEE_agrg!$D89,SEE_data!AG:AG)","v":0},{"$f":"SUMIF(SEE_data!$B:$B,SEE_agrg!$D89,SEE_data!AH:AH)","v":0},{"$f":"SUMIF(SEE_data!$B:$B,SEE_agrg!$D89,SEE_data!AI:AI)","v":0},{"$f":"SUMIF(SEE_data!$B:$B,SEE_agrg!$D89,SEE_data!AJ:AJ)","v":0},{"$f":"SUMIF(SEE_data!$B:$B,SEE_agrg!$D89,SEE_data!AK:AK)","v":0},{"$f":"SUMIF(SEE_data!$B:$B,SEE_agrg!$D89,SEE_data!AL:AL)","v":0},{"$f":"SUMIF(SEE_data!$B:$B,SEE_agrg!$D89,SEE_data!AM:AM)","v":0},{"$f":"SUMIF(SEE_data!$B:$B,SEE_agrg!$D89,SEE_data!AN:AN)","v":0},{"$f":"SUMIF(SEE_data!$B:$B,SEE_agrg!$D89,SEE_data!AO:AO)","v":0},{"$f":"SUMIF(SEE_data!$B:$B,SEE_agrg!$D89,SEE_data!AP:AP)","v":0},{"$f":"SUMIF(SEE_data!$B:$B,SEE_agrg!$D89,SEE_data!AQ:AQ)","v":0},{"$f":"SUMIF(SEE_data!$B:$B,SEE_agrg!$D89,SEE_data!AR:AR)","v":0},{"$f":"SUMIF(SEE_data!$B:$B,SEE_agrg!$D89,SEE_data!AS:AS)","v":0},{"$f":"SUMIF(SEE_data!$B:$B,SEE_agrg!$D89,SEE_data!AT:AT)","v":0},{"$f":"SUMIF(SEE_data!$B:$B,SEE_agrg!$D89,SEE_data!AU:AU)","v":0},{"$f":"SUMIF(SEE_data!$B:$B,SEE_agrg!$D89,SEE_data!AV:AV)","v":0},{"$f":"SUMIF(SEE_data!$B:$B,SEE_agrg!$D89,SEE_data!AW:AW)","v":0},{"$f":"SUMIF(SEE_data!$B:$B,SEE_agrg!$D89,SEE_data!AX:AX)","v":0},{"$f":"SUMIF(SEE_data!$B:$B,SEE_agrg!$D89,SEE_data!AY:AY)","v":0},{"$f":"SUMIF(SEE_data!$B:$B,SEE_agrg!$D89,SEE_data!AZ:AZ)","v":0},{"$f":"SUMIF(SEE_data!$B:$B,SEE_agrg!$D89,SEE_data!BA:BA)","v":0},{"$f":"SUMIF(SEE_data!$B:$B,SEE_agrg!$D89,SEE_data!BB:BB)","v":0},{"$f":"SUMIF(SEE_data!$B:$B,SEE_agrg!$D89,SEE_data!BC:BC)","v":0},0,0,0,0,0,0,0,0,0,0,{"$f":"SUMIFS(UdS_data!D:D,UdS_data!F:F,1,UdS_data!B:B,D89)","v":0},{"$error":"#DIV/0!"},0,0,0,0,0,0,{"$error":"#DIV/0!"},0,0,0,0,0,0]
[null,{"$f":"INDEX(Sistema_Analisado!$A$3:$F$99,MATCH($D90,Sistema_Analisado!$B$3:$B$99,FALSE),MATCH($B$4,Sistema_Analisado!$A$3:$F$3,FALSE))","v":{"$error":"#N/A"}},{"$f":"INDEX(Sistema_Analisado!$A$3:$F$99,MATCH(D90,Sistema_Analisado!$B$3:$B$99,FALSE),MATCH(\"Seq. Corredor\",Sistema_Analisado!$A$3:$F$3,0))","v":{"$error":"#N/A"}},null,{"$f":"SUMIF(SEE_data!$B:$B,SEE_agrg!$D90,SEE_data!F:F)","v":0},{"$f":"SUMIF(SEE_data!$B:$B,SEE_agrg!$D90,SEE_data!AF:AF)","v":0},{"$f":"SUMIF(SEE_data!$B:$B,SEE_agrg!$D90,SEE_data!AG:AG)","v":0},{"$f":"SUMIF(SEE_data!$B:$B,SEE_agrg!$D90,SEE_data!AH:AH)","v":0},{"$f":"SUMIF(SEE_data!$B:$B,SEE_agrg!$D90,SEE_data!AI:AI)","v":0},{"$f":"SUMIF(SEE_data!$B:$B,SEE_agrg!$D90,SEE_data!AJ:AJ)","v":0},{"$f":"SUMIF(SEE_data!$B:$B,SEE_agrg!$D90,SEE_data!AK:AK)","v":0},{"$f":"SUMIF(SEE_data!$B:$B,SEE_agrg!$D90,SEE_data!AL:AL)","v":0},{"$f":"SUMIF(SEE_data!$B:$B,SEE_agrg!$D90,SEE_data!AM:AM)","v":0},{"$f":"SUMIF(SEE_data!$B:$B,SEE_agrg!$D90,SEE_data!AN:AN)","v":0},{"$f":"SUMIF(SEE_data!$B:$B,SEE_agrg!$D90,SEE_data!AO:AO)","v":0},{"$f":"SUMIF(SEE_data!$B:$B,SEE_agrg!$D90,SEE_data!AP:AP)","v":0},{"$f":"SUMIF(SEE_data!$B:$B,SEE_agrg!$D90,SEE_data!AQ:AQ)","v":0},{"$f":"SUMIF(SEE_data!$B:$B,SEE_agrg!$D90,SEE_data!AR:AR)","v":0},{"$f":"SUMIF(SEE_data!$B:$B,SEE_agrg!$D90,SEE_data!AS:AS)","v":0},{"$f":"SUMIF(SEE_data!$B:$B,SEE_agrg!$D90,SEE_data!AT:AT)","v":0},{"$f":"SUMIF(SEE_data!$B:$B,SEE_agrg!$D90,SEE_data!AU:AU)","v":0},{"$f":"SUMIF(SEE_data!$B:$B,SEE_agrg!$D90,SEE_data!AV:AV)","v":0},{"$f":"SUMIF(SEE_data!$B:$B,SEE_agrg!$D90,SEE_data!AW:AW)","v":0},{"$f":"SUMIF(SEE_data!$B:$B,SEE_agrg!$D90,SEE_data!AX:AX)","v":0},{"$f":"SUMIF(SEE_data!$B:$B,SEE_agrg!$D90,SEE_data!AY:AY)","v":0},{"$f":"SUMIF(SEE_data!$B:$B,SEE_agrg!$D90,SEE_data!AZ:AZ)","v":0},{"$f":"SUMIF(SEE_data!$B:$B,SEE_agrg!$D90,SEE_data!BA:BA)","v":0},{"$f":"SUMIF(SEE_data!$B:$B,SEE_agrg!$D90,SEE_data!BB:BB)","v":0},{"$f":"SUMIF(SEE_data!$B:$B,SEE_agrg!$D90,SEE_data!BC:BC)","v":0},0,0,0,0,0,0,0,0,0,0,{"$f":"SUMIFS(UdS_data!D:D,UdS_data!F:F,1,UdS_data!B:B,D90)","v":0},{"$error":"#DIV/0!"},0,0,0,0,0,0,{"$error":"#DIV/0!"},0,0,0,0,0,0]
[null,{"$f":"INDEX(Sistema_Analisado!$A$3:$F$99,MATCH($D91,Sistema_Analisado!$B$3:$B$99,FALSE),MATCH($B$4,Sistema_Analisado!$A$3:$F$3,FALSE))","v":{"$error":"#N/A"}},{"$f":"INDEX(Sistema_Analisado!$A$3:$F$99,MATCH(D91,Sistema_Analisado!$B$3:$B$99,FALSE),MATCH(\"Seq. Corredor\",Sistema_Analisado!$A$3:$F$3,0))","v":{"$error":"#N/A"}},null,{"$f":"SUMIF(SEE_data!$B:$B,SEE_agrg!$D91,SEE_data!F:F)","v":0},{"$f":"SUMIF(SEE_data!$B:$B,SEE_agrg!$D91,SEE_data!AF:AF)","v":0},{"$f":"SUMIF(SEE_data!$B:$B,SEE_agrg!$D91,SEE_data!AG:AG)","v":0},{"$f":"SUMIF(SEE_data!$B:$B,SEE_agrg!$D91,SEE_data!AH:AH)","v":0},{"$f":"SUMIF(SEE_data!$B:$B,SEE_agrg!$D91,SEE_data!AI:AI)","v":0},{"$f":"SUMIF(SEE_data!$B:$B,SEE_agrg!$D91,SEE_data!AJ:AJ)","v":0},{"$f":"SUMIF(SEE_data!$B:$B,SEE_agrg!$D91,SEE_data!AK:AK)","v":0},{"$f":"SUMIF(SEE_data!$B:$B,SEE_agrg!$D91,SEE_data!AL:AL)","v":0},{"$f":"SUMIF(SEE_data!$B:$B,SEE_agrg!$D91,SEE_data!AM:AM)","v":0},{"$f":"SUMIF(SEE_data!$B:$B,SEE_agrg!$D91,SEE_data!AN:AN)","v":0},{"$f":"SUMIF(SEE_data!$B:$B,SEE_agrg!$D91,SEE_data!AO:AO)","v":0},{"$f":"SUMIF(SEE_data!$B:$B,SEE_agrg!$D91,SEE_data!AP:AP)","v":0},{"$f":"SUMIF(SEE_data!$B:$B,SEE_agrg!$D91,SEE_data!AQ:AQ)","v":0},{"$f":"SUMIF(SEE_data!$B:$B,SEE_agrg!$D91,SEE_data!AR:AR)","v":0},{"$f":"SUMIF(SEE_data!$B:$B,SEE_agrg!$D91,SEE_data!AS:AS)","v":0},{"$f":"SUMIF(SEE_data!$B:$B,SEE_agrg!$D91,SEE_data!AT:AT)","v":0},{"$f":"SUMIF(SEE_data!$B:$B,SEE_agrg!$D91,SEE_data!AU:AU)","v":0},{"$f":"SUMIF(SEE_data!$B:$B,SEE_agrg!$D91,SEE_data!AV:AV)","v":0},{"$f":"SUMIF(SEE_data!$B:$B,SEE_agrg!$D91,SEE_data!AW:AW)","v":0},{"$f":"SUMIF(SEE_data!$B:$B,SEE_agrg!$D91,SEE_data!AX:AX)","v":0},{"$f":"SUMIF(SEE_data!$B:$B,SEE_agrg!$D91,SEE_data!AY:AY)","v":0},{"$f":"SUMIF(SEE_data!$B:$B,SEE_agrg!$D91,SEE_data!AZ:AZ)","v":0},{"$f":"SUMIF(SEE_data!$B:$B,SEE_agrg!$D91,SEE_data!BA:BA)","v":0},{"$f":"SUMIF(SEE_data!$B:$B,SEE_agrg!$D91,SEE_data!BB:BB)","v":0},{"$f":"SUMIF(SEE_data!$B:$B,SEE_agrg!$D91,SEE_data!BC:BC)","v":0},0,0,0,0,0,0,0,0,0,0,{"$f":"SUMIFS(UdS_data!D:D,UdS_data!F:F,1,UdS_data!B:B,D91)","v":0},{"$error":"#DIV/0!"},0,0,0,0,0,0,{"$error":"#DIV/0!"},0,0,0,0,0,0]
[null,{"$f":"INDEX(Sistema_Analisado!$A$3:$F$99,MATCH($D92,Sistema_Analisado!$B$3:$B$99,FALSE),MATCH($B$4,Sistema_Analisado!$A$3:$F$3,FALSE))","v":{"$error":"#N/A"}},{"$f":"INDEX(Sistema_Analisado!$A$3:$F$99,MATCH(D92,Sistema_Analisado!$B$3:$B$99,FALSE),MATCH(\"Seq. Corredor\",Sistema_Analisado!$A$3:$F$3,0))","v":{"$error":"#N/A"}},null,{"$f":"SUMIF(SEE_data!$B:$B,SEE_agrg!$D92,SEE_data!F:F)","v":0},{"$f":"SUMIF(SEE_data!$B:$B,SEE_agrg!$D92,SEE_data!AF:AF)","v":0},{"$f":"SUMIF(SEE_data!$B:$B,SEE_agrg!$D92,SEE_data!AG:AG)","v":0},{"$f":"SUMIF(SEE_data!$B:$B,SEE_agrg!$D92,SEE_data!AH:AH)","v":0},{"$f":"SUMIF(SEE_data!$B:$B,SEE_agrg!$D92,SEE_data!AI:AI)","v":0},{"$f":"SUMIF(SEE_data!$B:$B,SEE_agrg!$D92,SEE_data!AJ:AJ)","v":0},{"$f":"SUMIF(SEE_data!$B:$B,SEE_agrg!$D92,SEE_data!AK:AK)","v":0},{"$f":"SUMIF(SEE_data!$B:$B,SEE_agrg!$D92,SEE_data!AL:AL)","v":0},{"$f":"SUMIF(SEE_data!$B:$B,SEE_agrg!$D92,SEE_data!AM:AM)","v":0},{"$f":"SUMIF(SEE_data!$B:$B,SEE_agrg!$D92,SEE_data!AN:AN)","v":0},{"$f":"SUMIF(SEE_data!$B:$B,SEE_agrg!$D92,SEE_data!AO:AO)","v":0},{"$f":"SUMIF(SEE_data!$B:$B,SEE_agrg!$D92,SEE_data!AP:AP)","v":0},{"$f":"SUMIF(SEE_data!$B:$B,SEE_agrg!$D92,SEE_data!AQ:AQ)","v":0},{"$f":"SUMIF(SEE_data!$B:$B,SEE_agrg!$D92,SEE_data!AR:AR)","v":0},{"$f":"SUMIF(SEE_data!$B:$B,SEE_agrg!$D92,SEE_data!AS:AS)","v":0},{"$f":"SUMIF(SEE_data!$B:$B,SEE_agrg!$D92,SEE_data!AT:AT)","v":0},{"$f":"SUMIF(SEE_data!$B:$B,SEE_agrg!$D92,SEE_data!AU:AU)","v":0},{"$f":"SUMIF(SEE_data!$B:$B,SEE_agrg!$D92,SEE_data!AV:AV)","v":0},{"$f":"SUMIF(SEE_data!$B:$B,SEE_agrg!$D92,SEE_data!AW:AW)","v":0},{"$f":"SUMIF(SEE_data!$B:$B,SEE_agrg!$D92,SEE_data!AX:AX)","v":0},{"$f":"SUMIF(SEE_data!$B:$B,SEE_agrg!$D92,SEE_data!AY:AY)","v":0},{"$f":"SUMIF(SEE_data!$B:$B,SEE_agrg!$D92,SEE_data!AZ:AZ)","v":0},{"$f":"SUMIF(SEE_data!$B:$B,SEE_agrg!$D92,SEE_data!BA:BA)","v":0},{"$f":"SUMIF(SEE_data!$B:$B,SEE_agrg!$D92,SEE_data!BB:BB)","v":0},{"$f":"SUMIF(SEE_data!$B:$B,SEE_agrg!$D92,SEE_data!BC:BC)","v":0},0,0,0,0,0,0,0,0,0,0,{"$f":"SUMIFS(UdS_data!D:D,UdS_data!F:F,1,UdS_data!B:B,D92)","v":0},{"$error":"#DIV/0!"},0,0,0,0,0,0,{"$error":"#DIV/0!"},0,0,0,0,0,0]
[null,{"$f":"INDEX(Sistema_Analisado!$A$3:$F$99,MATCH($D93,Sistema_Analisado!$B$3:$B$99,FALSE),MATCH($B$4,Sistema_Analisado!$A$3:$F$3,FALSE))","v":{"$error":"#N/A"}},{"$f":"INDEX(Sistema_Analisado!$A$3:$F$99,MATCH(D93,Sistema_Analisado!$B$3:$B$99,FALSE),MATCH(\"Seq. Corredor\",Sistema_Analisado!$A$3:$F$3,0))","v":{"$error":"#N/A"}},null,{"$f":"SUMIF(SEE_data!$B:$B,SEE_agrg!$D93,SEE_data!F:F)","v":0},{"$f":"SUMIF(SEE_data!$B:$B,SEE_agrg!$D93,SEE_data!AF:AF)","v":0},{"$f":"SUMIF(SEE_data!$B:$B,SEE_agrg!$D93,SEE_data!AG:AG)","v":0},{"$f":"SUMIF(SEE_data!$B:$B,SEE_agrg!$D93,SEE_data!AH:AH)","v":0},{"$f":"SUMIF(SEE_data!$B:$B,SEE_agrg!$D93,SEE_data!AI:AI)","v":0},{"$f":"SUMIF(SEE_data!$B:$B,SEE_agrg!$D93,SEE_data!AJ:AJ)","v":0},{"$f":"SUMIF(SEE_data!$B:$B,SEE_agrg!$D93,SEE_data!AK:AK)","v":0},{"$f":"SUMIF(SEE_data!$B:$B,SEE_agrg!$D93,SEE_data!AL:AL)","v":0},{"$f":"SUMIF(SEE_data!$B:$B,SEE_agrg!$D93,SEE_data!AM:AM)","v":0},{"$f":"SUMIF(SEE_data!$B:$B,SEE_agrg!$D93,SEE_data!AN:AN)","v":0},{"$f":"SUMIF(SEE_data!$B:$B,SEE_agrg!$D93,SEE_data!AO:AO)","v":0},{"$f":"SUMIF(SEE_data!$B:$B,SEE_agrg!$D93,SEE_data!AP:AP)","v":0},{"$f":"SUMIF(SEE_data!$B:$B,SEE_agrg!$D93,SEE_data!AQ:AQ)","v":0},{"$f":"SUMIF(SEE_data!$B:$B,SEE_agrg!$D93,SEE_data!AR:AR)","v":0},{"$f":"SUMIF(SEE_data!$B:$B,SEE_agrg!$D93,SEE_data!AS:AS)","v":0},{"$f":"SUMIF(SEE_data!$B:$B,SEE_agrg!$D93,SEE_data!AT:AT)","v":0},{"$f":"SUMIF(SEE_data!$B:$B,SEE_agrg!$D93,SEE_data!AU:AU)","v":0},{"$f":"SUMIF(SEE_data!$B:$B,SEE_agrg!$D93,SEE_data!AV:AV)","v":0},{"$f":"SUMIF(SEE_data!$B:$B,SEE_agrg!$D93,SEE_data!AW:AW)","v":0},{"$f":"SUMIF(SEE_data!$B:$B,SEE_agrg!$D93,SEE_data!AX:AX)","v":0},{"$f":"SUMIF(SEE_data!$B:$B,SEE_agrg!$D93,SEE_data!AY:AY)","v":0},{"$f":"SUMIF(SEE_data!$B:$B,SEE_agrg!$D93,SEE_data!AZ:AZ)","v":0},{"$f":"SUMIF(SEE_data!$B:$B,SEE_agrg!$D93,SEE_data!BA:BA)","v":0},{"$f":"SUMIF(SEE_data!$B:$B,SEE_agrg!$D93,SEE_data!BB:BB)","v":0},{"$f":"SUMIF(SEE_data!$B:$B,SEE_agrg!$D93,SEE_data!BC:BC)","v":0},0,0,0,0,0,0,0,0,0,0,{"$f":"SUMIFS(UdS_data!D:D,UdS_data!F:F,1,UdS_data!B:B,D93)","v":0},{"$error":"#DIV/0!"},0,0,0,0,0,0,{"$error":"#DIV/0!"},0,0,0,0,0,0]
[null,{"$f":"INDEX(Sistema_Analisado!$A$3:$F$99,MATCH($D94,Sistema_Analisado!$B$3:$B$99,FALSE),MATCH($B$4,Sistema_Analisado!$A$3:$F$3,FALSE))","v":{"$error":"#N/A"}},{"$f":"INDEX(Sistema_Analisado!$A$3:$F$99,MATCH(D94,Sistema_Analisado!$B$3:$B$99,FALSE),MATCH(\"Seq. Corredor\",Sistema_Analisado!$A$3:$F$3,0))","v":{"$error":"#N/A"}},null,{"$f":"SUMIF(SEE_data!$B:$B,SEE_agrg!$D94,SEE_data!F:F)","v":0},{"$f":"SUMIF(SEE_data!$B:$B,SEE_agrg!$D94,SEE_data!AF:AF)","v":0},{"$f":"SUMIF(SEE_data!$B:$B,SEE_agrg!$D94,SEE_data!AG:AG)","v":0},{"$f":"SUMIF(SEE_data!$B:$B,SEE_agrg!$D94,SEE_data!AH:AH)","v":0},{"$f":"SUMIF(SEE_data!$B:$B,SEE_agrg!$D94,SEE_data!AI:AI)","v":0},{"$f":"SUMIF(SEE_data!$B:$B,SEE_agrg!$D94,SEE_data!AJ:AJ)","v":0},{"$f":"SUMIF(SEE_data!$B:$B,SEE_agrg!$D94,SEE_data!AK:AK)","v":0},{"$f":"SUMIF(SEE_data!$B:$B,SEE_agrg!$D94,SEE_data!AL:AL)","v":0},{"$f":"SUMIF(SEE_data!$B:$B,SEE_agrg!$D94,SEE_data!AM:AM)","v":0},{"$f":"SUMIF(SEE_data!$B:$B,SEE_agrg!$D94,SEE_data!AN:AN)","v":0},{"$f":"SUMIF(SEE_data!$B:$B,SEE_agrg!$D94,SEE_data!AO:AO)","v":0},{"$f":"SUMIF(SEE_data!$B:$B,SEE_agrg!$D94,SEE_data!AP:AP)","v":0},{"$f":"SUMIF(SEE_data!$B:$B,SEE_agrg!$D94,SEE_data!AQ:AQ)","v":0},{"$f":"SUMIF(SEE_data!$B:$B,SEE_agrg!$D94,SEE_data!AR:AR)","v":0},{"$f":"SUMIF(SEE_data!$B:$B,SEE_agrg!$D94,SEE_data!AS:AS)","v":0},{"$f":"SUMIF(SEE_data!$B:$B,SEE_agrg!$D94,SEE_data!AT:AT)","v":0},{"$f":"SUMIF(SEE_data!$B:$B,SEE_agrg!$D94,SEE_data!AU:AU)","v":0},{"$f":"SUMIF(SEE_data!$B:$B,SEE_agrg!$D94,SEE_data!AV:AV)","v":0},{"$f":"SUMIF(SEE_data!$B:$B,SEE_agrg!$D94,SEE_data!AW:AW)","v":0},{"$f":"SUMIF(SEE_data!$B:$B,SEE_agrg!$D94,SEE_data!AX:AX)","v":0},{"$f":"SUMIF(SEE_data!$B:$B,SEE_agrg!$D94,SEE_data!AY:AY)","v":0},{"$f":"SUMIF(SEE_data!$B:$B,SEE_agrg!$D94,SEE_data!AZ:AZ)","v":0},{"$f":"SUMIF(SEE_data!$B:$B,SEE_agrg!$D94,SEE_data!BA:BA)","v":0},{"$f":"SUMIF(SEE_data!$B:$B,SEE_agrg!$D94,SEE_data!BB:BB)","v":0},{"$f":"SUMIF(SEE_data!$B:$B,SEE_agrg!$D94,SEE_data!BC:BC)","v":0},0,0,0,0,0,0,0,0,0,0,{"$f":"SUMIFS(UdS_data!D:D,UdS_data!F:F,1,UdS_data!B:B,D94)","v":0},{"$error":"#DIV/0!"},0,0,0,0,0,0,{"$error":"#DIV/0!"},0,0,0,0,0,0]
[null,{"$f":"INDEX(Sistema_Analisado!$A$3:$F$99,MATCH($D95,Sistema_Analisado!$B$3:$B$99,FALSE),MATCH($B$4,Sistema_Analisado!$A$3:$F$3,FALSE))","v":{"$error":"#N/A"}},{"$f":"INDEX(Sistema_Analisado!$A$3:$F$99,MATCH(D95,Sistema_Analisado!$B$3:$B$99,FALSE),MATCH(\"Seq. Corredor\",Sistema_Analisado!$A$3:$F$3,0))","v":{"$error":"#N/A"}},null,{"$f":"SUMIF(SEE_data!$B:$B,SEE_agrg!$D95,SEE_data!F:F)","v":0},{"$f":"SUMIF(SEE_data!$B:$B,SEE_agrg!$D95,SEE_data!AF:AF)","v":0},{"$f":"SUMIF(SEE_data!$B:$B,SEE_agrg!$D95,SEE_data!AG:AG)","v":0},{"$f":"SUMIF(SEE_data!$B:$B,SEE_agrg!$D95,SEE_data!AH:AH)","v":0},{"$f":"SUMIF(SEE_data!$B:$B,SEE_agrg!$D95,SEE_data!AI:AI)","v":0},{"$f":"SUMIF(SEE_data!$B:$B,SEE_agrg!$D95,SEE_data!AJ:AJ)","v":0},{"$f":"SUMIF(SEE_data!$B:$B,SEE_agrg!$D95,SEE_data!AK:AK)","v":0},{"$f":"SUMIF(SEE_data!$B:$B,SEE_agrg!$D95,SEE_data!AL:AL)","v":0},{"$f":"SUMIF(SEE_data!$B:$B,SEE_agrg!$D95,SEE_data!AM:AM)","v":0},{"$f":"SUMIF(SEE_data!$B:$B,SEE_agrg!$D95,SEE_data!AN:AN)","v":0},{"$f":"SUMIF(SEE_data!$B:$B,SEE_agrg!$D95,SEE_data!AO:AO)","v":0},{"$f":"SUMIF(SEE_data!$B:$B,SEE_agrg!$D95,SEE_data!AP:AP)","v":0},{"$f":"SUMIF(SEE_data!$B:$B,SEE_agrg!$D95,SEE_data!AQ:AQ)","v":0},{"$f":"SUMIF(SEE_data!$B:$B,SEE_agrg!$D95,SEE_data!AR:AR)","v":0},{"$f":"SUMIF(SEE_data!$B:$B,SEE_agrg!$D95,SEE_data!AS:AS)","v":0},{"$f":"SUMIF(SEE_data!$B:$B,SEE_agrg!$D95,SEE_data!AT:AT)","v":0},{"$f":"SUMIF(SEE_data!$B:$B,SEE_agrg!$D95,SEE_data!AU:AU)","v":0},{"$f":"SUMIF(SEE_data!$B:$B,SEE_agrg!$D95,SEE_data!AV:AV)","v":0},{"$f":"SUMIF(SEE_data!$B:$B,SEE_agrg!$D95,SEE_data!AW:AW)","v":0},{"$f":"SUMIF(SEE_data!$B:$B,SEE_agrg!$D95,SEE_data!AX:AX)","v":0},{"$f":"SUMIF(SEE_data!$B:$B,SEE_agrg!$D95,SEE_data!AY:AY)","v":0},{"$f":"SUMIF(SEE_data!$B:$B,SEE_agrg!$D95,SEE_data!AZ:AZ)","v":0},{"$f":"SUMIF(SEE_data!$B:$B,SEE_agrg!$D95,SEE_data!BA:BA)","v":0},{"$f":"SUMIF(SEE_data!$B:$B,SEE_agrg!$D95,SEE_data!BB:BB)","v":0},{"$f":"SUMIF(SEE_data!$B:$B,SEE_agrg!$D95,SEE_data!BC:BC)","v":0},0,0,0,0,0,0,0,0,0,0,{"$f":"SUMIFS(UdS_data!D:D,UdS_data!F:F,1,UdS_data!B:B,D95)","v":0},{"$error":"#DIV/0!"},0,0,0,0,0,0,{"$error":"#DIV/0!"},0,0,0,0,0,0]
[null,{"$f":"INDEX(Sistema_Analisado!$A$3:$F$99,MATCH($D96,Sistema_Analisado!$B$3:$B$99,FALSE),MATCH($B$4,Sistema_Analisado!$A$3:$F$3,FALSE))","v":{"$error":"#N/A"}},{"$f":"INDEX(Sistema_Analisado!$A$3:$F$99,MATCH(D96,Sistema_Analisado!$B$3:$B$99,FALSE),MATCH(\"Seq. Corredor\",Sistema_Analisado!$A$3:$F$3,0))","v":{"$error":"#N/A"}},null,{"$f":"SUMIF(SEE_data!$B:$B,SEE_agrg!$D96,SEE_data!F:F)","v":0},{"$f":"SUMIF(SEE_data!$B:$B,SEE_agrg!$D96,SEE_data!AF:AF)","v":0},{"$f":"SUMIF(SEE_data!$B:$B,SEE_agrg!$D96,SEE_data!AG:AG)","v":0},{"$f":"SUMIF(SEE_data!$B:$B,SEE_agrg!$D96,SEE_data!AH:AH)","v":0},{"$f":"SUMIF(SEE_data!$B:$B,SEE_agrg!$D96,SEE_data!AI:AI)","v":0},{"$f":"SUMIF(SEE_data!$B:$B,SEE_agrg!$D96,SEE_data!AJ:AJ)","v":0},{"$f":"SUMIF(SEE_data!$B:$B,SEE_agrg!$D96,SEE_data!AK:AK)","v":0},{"$f":"SUMIF(SEE_data!$B:$B,SEE_agrg!$D96,SEE_data!AL:AL)","v":0},{"$f":"SUMIF(SEE_data!$B:$B,SEE_agrg!$D96,SEE_data!AM:AM)","v":0},{"$f":"SUMIF(SEE_data!$B:$B,SEE_agrg!$D96,SEE_data!AN:AN)","v":0},{"$f":"SUMIF(SEE_data!$B:$B,SEE_agrg!$D96,SEE_data!AO:AO)","v":0},{"$f":"SUMIF(SEE_data!$B:$B,SEE_agrg!$D96,SEE_data!AP:AP)","v":0},{"$f":"SUMIF(SEE_data!$B:$B,SEE_agrg!$D96,SEE_data!AQ:AQ)","v":0},{"$f":"SUMIF(SEE_data!$B:$B,SEE_agrg!$D96,SEE_data!AR:AR)","v":0},{"$f":"SUMIF(SEE_data!$B:$B,SEE_agrg!$D96,SEE_data!AS:AS)","v":0},{"$f":"SUMIF(SEE_data!$B:$B,SEE_agrg!$D96,SEE_data!AT:AT)","v":0},{"$f":"SUMIF(SEE_data!$B:$B,SEE_agrg!$D96,SEE_data!AU:AU)","v":0},{"$f":"SUMIF(SEE_data!$B:$B,SEE_agrg!$D96,SEE_data!AV:AV)","v":0},{"$f":"SUMIF(SEE_data!$B:$B,SEE_agrg!$D96,SEE_data!AW:AW)","v":0},{"$f":"SUMIF(SEE_data!$B:$B,SEE_agrg!$D96,SEE_data!AX:AX)","v":0},{"$f":"SUMIF(SEE_data!$B:$B,SEE_agrg!$D96,SEE_data!AY:AY)","v":0},{"$f":"SUMIF(SEE_data!$B:$B,SEE_agrg!$D96,SEE_data!AZ:AZ)","v":0},{"$f":"SUMIF(SEE_data!$B:$B,SEE_agrg!$D96,SEE_data!BA:BA)","v":0},{"$f":"SUMIF(SEE_data!$B:$B,SEE_agrg!$D96,SEE_data!BB:BB)","v":0},{"$f":"SUMIF(SEE_data!$B:$B,SEE_agrg!$D96,SEE_data!BC:BC)","v":0},0,0,0,0,0,0,0,0,0,0,{"$f":"SUMIFS(UdS_data!D:D,UdS_data!F:F,1,UdS_data!B:B,D96)","v":0},{"$error":"#DIV/0!"},0,0,0,0,0,0,{"$error":"#DIV/0!"},0,0,0,0,0,0]
[null,{"$f":"INDEX(Sistema_Analisado!$A$3:$F$99,MATCH($D97,Sistema_Analisado!$B$3:$B$99,FALSE),MATCH($B$4,Sistema_Analisado!$A$3:$F$3,FALSE))","v":{"$error":"#N/A"}},{"$f":"INDEX(Sistema_Analisado!$A$3:$F$99,MATCH(D97,Sistema_Analisado!$B$3:$B$99,FALSE),MATCH(\"Seq. Corredor\",Sistema_Analisado!$A$3:$F$3,0))","v":{"$error":"#N/A"}},null,{"$f":"SUMIF(SEE_data!$B:$B,SEE_agrg!$D97,SEE_data!F:F)","v":0},{"$f":"SUMIF(SEE_data!$B:$B,SEE_agrg!$D97,SEE_data!AF:AF)","v":0},{"$f":"SUMIF(SEE_data!$B:$B,SEE_agrg!$D97,SEE_data!AG:AG)","v":0},{"$f":"SUMIF(SEE_data!$B:$B,SEE_agrg!$D97,SEE_data!AH:AH)","v":0},{"$f":"SUMIF(SEE_data!$B:$B,SEE_agrg!$D97,SEE_data!AI:AI)","v":0},{"$f":"SUMIF(SEE_data!$B:$B,SEE_agrg!$D97,SEE_data!AJ:AJ)","v":0},{"$f":"SUMIF(SEE_data!$B:$B,SEE_agrg!$D97,SEE_data!AK:AK)","v":0},{"$f":"SUMIF(SEE_data!$B:$B,SEE_agrg!$D97,SEE_data!AL:AL)","v":0},{"$f":"SUMIF(SEE_data!$B:$B,SEE_agrg!$D97,SEE_data!AM:AM)","v":0},{"$f":"SUMIF(SEE_data!$B:$B,SEE_agrg!$D97,SEE_data!AN:AN)","v":0},{"$f":"SUMIF(SEE_data!$B:$B,SEE_agrg!$D97,SEE_data!AO:AO)","v":0},{"$f":"SUMIF(SEE_data!$B:$B,SEE_agrg!$D97,SEE_data!AP:AP)","v":0},{"$f":"SUMIF(SEE_data!$B:$B,SEE_agrg!$D97,SEE_data!AQ:AQ)","v":0},{"$f":"SUMIF(SEE_data!$B:$B,SEE_agrg!$D97,SEE_data!AR:AR)","v":0},{"$f":"SUMIF(SEE_data!$B:$B,SEE_agrg!$D97,SEE_data!AS:AS)","v":0},{"$f":"SUMIF(SEE_data!$B:$B,SEE_agrg!$D97,SEE_data!AT:AT)","v":0},{"$f":"SUMIF(SEE_data!$B:$B,SEE_agrg!$D97,SEE_data!AU:AU)","v":0},{"$f":"SUMIF(SEE_data!$B:$B,SEE_agrg!$D97,SEE_data!AV:AV)","v":0},{"$f":"SUMIF(SEE_data!$B:$B,SEE_agrg!$D97,SEE_data!AW:AW)","v":0},{"$f":"SUMIF(SEE_data!$B:$B,SEE_agrg!$D97,SEE_data!AX:AX)","v":0},{"$f":"SUMIF(SEE_data!$B:$B,SEE_agrg!$D97,SEE_data!AY:AY)","v":0},{"$f":"SUMIF(SEE_data!$B:$B,SEE_agrg!$D97,SEE_data!AZ:AZ)","v":0},{"$f":"SUMIF(SEE_data!$B:$B,SEE_agrg!$D97,SEE_data!BA:BA)","v":0},{"$f":"SUMIF(SEE_data!$B:$B,SEE_agrg!$D97,SEE_data!BB:BB)","v":0},{"$f":"SUMIF(SEE_data!$B:$B,SEE_agrg!$D97,SEE_data!BC:BC)","v":0},0,0,0,0,0,0,0,0,0,0,{"$f":"SUMIFS(UdS_data!D:D,UdS_data!F:F,1,UdS_data!B:B,D97)","v":0},{"$error":"#DIV/0!"},0,0,0,0,0,0,{"$error":"#DIV/0!"},0,0,0,0,0,0]
[null,{"$f":"INDEX(Sistema_Analisado!$A$3:$F$99,MATCH($D98,Sistema_Analisado!$B$3:$B$99,FALSE),MATCH($B$4,Sistema_Analisado!$A$3:$F$3,FALSE))","v":{"$error":"#N/A"}},{"$f":"INDEX(Sistema_Analisado!$A$3:$F$99,MATCH(D98,Sistema_Analisado!$B$3:$B$99,FALSE),MATCH(\"Seq. Corredor\",Sistema_Analisado!$A$3:$F$3,0))","v":{"$error":"#N/A"}},null,{"$f":"SUMIF(SEE_data!$B:$B,SEE_agrg!$D98,SEE_data!F:F)","v":0},{"$f":"SUMIF(SEE_data!$B:$B,SEE_agrg!$D98,SEE_data!AF:AF)","v":0},{"$f":"SUMIF(SEE_data!$B:$B,SEE_agrg!$D98,SEE_data!AG:AG)","v":0},{"$f":"SUMIF(SEE_data!$B:$B,SEE_agrg!$D98,SEE_data!AH:AH)","v":0},{"$f":"SUMIF(SEE_data!$B:$B,SEE_agrg!$D98,SEE_data!AI:AI)","v":0},{"$f":"SUMIF(SEE_data!$B:$B,SEE_agrg!$D98,SEE_data!AJ:AJ)","v":0},{"$f":"SUMIF(SEE_data!$B:$B,SEE_agrg!$D98,SEE_data!AK:AK)","v":0},{"$f":"SUMIF(SEE_data!$B:$B,SEE_agrg!$D98,SEE_data!AL:AL)","v":0},{"$f":"SUMIF(SEE_data!$B:$B,SEE_agrg!$D98,SEE_data!AM:AM)","v":0},{"$f":"SUMIF(SEE_data!$B:$B,SEE_agrg!$D98,SEE_data!AN:AN)","v":0},{"$f":"SUMIF(SEE_data!$B:$B,SEE_agrg!$D98,SEE_data!AO:AO)","v":0},{"$f":"SUMIF(SEE_data!$B:$B,SEE_agrg!$D98,SEE_data!AP:AP)","v":0},{"$f":"SUMIF(SEE_data!$B:$B,SEE_agrg!$D98,SEE_data!AQ:AQ)","v":0},{"$f":"SUMIF(SEE_data!$B:$B,SEE_agrg!$D98,SEE_data!AR:AR)","v":0},{"$f":"SUMIF(SEE_data!$B:$B,SEE_agrg!$D98,SEE_data!AS:AS)","v":0},{"$f":"SUMIF(SEE_data!$B:$B,SEE_agrg!$D98,SEE_data!AT:AT)","v":0},{"$f":"SUMIF(SEE_data!$B:$B,SEE_agrg!$D98,SEE_data!AU:AU)","v":0},{"$f":"SUMIF(SEE_data!$B:$B,SEE_agrg!$D98,SEE_data!AV:AV)","v":0},{"$f":"SUMIF(SEE_data!$B:$B,SEE_agrg!$D98,SEE_data!AW:AW)","v":0},{"$f":"SUMIF(SEE_data!$B:$B,SEE_agrg!$D98,SEE_data!AX:AX)","v":0},{"$f":"SUMIF(SEE_data!$B:$B,SEE_agrg!$D98,SEE_data!AY:AY)","v":0},{"$f":"SUMIF(SEE_data!$B:$B,SEE_agrg!$D98,SEE_data!AZ:AZ)","v":0},{"$f":"SUMIF(SEE_data!$B:$B,SEE_agrg!$D98,SEE_data!BA:BA)","v":0},{"$f":"SUMIF(SEE_data!$B:$B,SEE_agrg!$D98,SEE_data!BB:BB)","v":0},{"$f":"SUMIF(SEE_data!$B:$B,SEE_agrg!$D98,SEE_data!BC:BC)","v":0},0,0,0,0,0,0,0,0,0,0,{"$f":"SUMIFS(UdS_data!D:D,UdS_data!F:F,1,UdS_data!B:B,D98)","v":0},{"$error":"#DIV/0!"},0,0,0,0,0,0,{"$error":"#DIV/0!"},0,0,0,0,0,0]
[null,{"$f":"INDEX(Sistema_Analisado!$A$3:$F$99,MATCH($D99,Sistema_Analisado!$B$3:$B$99,FALSE),MATCH($B$4,Sistema_Analisado!$A$3:$F$3,FALSE))","v":{"$error":"#N/A"}},{"$f":"INDEX(Sistema_Analisado!$A$3:$F$99,MATCH(D99,Sistema_Analisado!$B$3:$B$99,FALSE),MATCH(\"Seq. Corredor\",Sistema_Analisado!$A$3:$F$3,0))","v":{"$error":"#N/A"}},null,{"$f":"SUMIF(SEE_data!$B:$B,SEE_agrg!$D99,SEE_data!F:F)","v":0},{"$f":"SUMIF(SEE_data!$B:$B,SEE_agrg!$D99,SEE_data!AF:AF)","v":0},{"$f":"SUMIF(SEE_data!$B:$B,SEE_agrg!$D99,SEE_data!AG:AG)","v":0},{"$f":"SUMIF(SEE_data!$B:$B,SEE_agrg!$D99,SEE_data!AH:AH)","v":0},{"$f":"SUMIF(SEE_data!$B:$B,SEE_agrg!$D99,SEE_data!AI:AI)","v":0},{"$f":"SUMIF(SEE_data!$B:$B,SEE_agrg!$D99,SEE_data!AJ:AJ)","v":0},{"$f":"SUMIF(SEE_data!$B:$B,SEE_agrg!$D99,SEE_data!AK:AK)","v":0},{"$f":"SUMIF(SEE_data!$B:$B,SEE_agrg!$D99,SEE_data!AL:AL)","v":0},{"$f":"SUMIF(SEE_data!$B:$B,SEE_agrg!$D99,SEE_data!AM:AM)","v":0},{"$f":"SUMIF(SEE_data!$B:$B,SEE_agrg!$D99,SEE_data!AN:AN)","v":0},{"$f":"SUMIF(SEE_data!$B:$B,SEE_agrg!$D99,SEE_data!AO:AO)","v":0},{"$f":"SUMIF(SEE_data!$B:$B,SEE_agrg!$D99,SEE_data!AP:AP)","v":0},{"$f":"SUMIF(SEE_data!$B:$B,SEE_agrg!$D99,SEE_data!AQ:AQ)","v":0},{"$f":"SUMIF(SEE_data!$B:$B,SEE_agrg!$D99,SEE_data!AR:AR)","v":0},{"$f":"SUMIF(SEE_data!$B:$B,SEE_agrg!$D99,SEE_data!AS:AS)","v":0},{"$f":"SUMIF(SEE_data!$B:$B,SEE_agrg!$D99,SEE_data!AT:AT)","v":0},{"$f":"SUMIF(SEE_data!$B:$B,SEE_agrg!$D99,SEE_data!AU:AU)","v":0},{"$f":"SUMIF(SEE_data!$B:$B,SEE_agrg!$D99,SEE_data!AV:AV)","v":0},{"$f":"SUMIF(SEE_data!$B:$B,SEE_agrg!$D99,SEE_data!AW:AW)","v":0},{"$f":"SUMIF(SEE_data!$B:$B,SEE_agrg!$D99,SEE_data!AX:AX)","v":0},{"$f":"SUMIF(SEE_data!$B:$B,SEE_agrg!$D99,SEE_data!AY:AY)","v":0},{"$f":"SUMIF(SEE_data!$B:$B,SEE_agrg!$D99,SEE_data!AZ:AZ)","v":0},{"$f":"SUMIF(SEE_data!$B:$B,SEE_agrg!$D99,SEE_data!BA:BA)","v":0},{"$f":"SUMIF(SEE_data!$B:$B,SEE_agrg!$D99,SEE_data!BB:BB)","v":0},{"$f":"SUMIF(SEE_data!$B:$B,SEE_agrg!$D99,SEE_data!BC:BC)","v":0},0,0,0,0,0,0,0,0,0,0,{"$f":"SUMIFS(UdS_data!D:D,UdS_data!F:F,1,UdS_data!B:B,D99)","v":0},{"$error":"#DIV/0!"},0,0,0,0,0,0,{"$error":"#DIV/0!"},0,0,0,0,0,0]
[null,{"$f":"INDEX(Sistema_Analisado!$A$3:$F$99,MATCH($D100,Sistema_Analisado!$B$3:$B$99,FALSE),MATCH($B$4,Sistema_Analisado!$A$3:$F$3,FALSE))","v":{"$error":"#N/A"}},{"$f":"INDEX(Sistema_Analisado!$A$3:$F$99,MATCH(D100,Sistema_Analisado!$B$3:$B$99,FALSE),MATCH(\"Seq. Corredor\",Sistema_Analisado!$A$3:$F$3,0))","v":{"$error":"#N/A"}},null,{"$f":"SUMIF(SEE_data!$B:$B,SEE_agrg!$D100,SEE_data!F:F)","v":0},{"$f":"SUMIF(SEE_data!$B:$B,SEE_agrg!$D100,SEE_data!AF:AF)","v":0},{"$f":"SUMIF(SEE_data!$B:$B,SEE_agrg!$D100,SEE_data!AG:AG)","v":0},{"$f":"SUMIF(SEE_data!$B:$B,SEE_agrg!$D100,SEE_data!AH:AH)","v":0},{"$f":"SUMIF(SEE_data!$B:$B,SEE_agrg!$D100,SEE_data!AI:AI)","v":0},{"$f":"SUMIF(SEE_data!$B:$B,SEE_agrg!$D100,SEE_data!AJ:AJ)","v":0},{"$f":"SUMIF(SEE_data!$B:$B,SEE_agrg!$D100,SEE_data!AK:AK)","v":0},{"$f":"SUMIF(SEE_data!$B:$B,SEE_agrg!$D100,SEE_data!AL:AL)","v":0},{"$f":"SUMIF(SEE_data!$B:$B,SEE_agrg!$D100,SEE_data!AM:AM)","v":0},{"$f":"SUMIF(SEE_data!$B:$B,SEE_agrg!$D100,SEE_data!AN:AN)","v":0},{"$f":"SUMIF(SEE_data!$B:$B,SEE_agrg!$D100,SEE_data!AO:AO)","v":0},{"$f":"SUMIF(SEE_data!$B:$B,SEE_agrg!$D100,SEE_data!AP:AP)","v":0},{"$f":"SUMIF(SEE_data!$B:$B,SEE_agrg!$D100,SEE_data!AQ:AQ)","v":0},{"$f":"SUMIF(SEE_data!$B:$B,SEE_agrg!$D100,SEE_data!AR:AR)","v":0},{"$f":"SUMIF(SEE_data!$B:$B,SEE_agrg!$D100,SEE_data!AS:AS)","v":0},{"$f":"SUMIF(SEE_data!$B:$B,SEE_agrg!$D100,SEE_data!AT:AT)","v":0},{"$f":"SUMIF(SEE_data!$B:$B,SEE_agrg!$D100,SEE_data!AU:AU)","v":0},{"$f":"SUMIF(SEE_data!$B:$B,SEE_agrg!$D100,SEE_data!AV:AV)","v":0},{"$f":"SUMIF(SEE_data!$B:$B,SEE_agrg!$D100,SEE_data!AW:AW)","v":0},{"$f":"SUMIF(SEE_data!$B:$B,SEE_agrg!$D100,SEE_data!AX:AX)","v":0},{"$f":"SUMIF(SEE_data!$B:$B,SEE_agrg!$D100,SEE_data!AY:AY)","v":0},{"$f":"SUMIF(SEE_data!$B:$B,SEE_agrg!$D100,SEE_data!AZ:AZ)","v":0},{"$f":"SUMIF(SEE_data!$B:$B,SEE_agrg!$D100,SEE_data!BA:BA)","v":0},{"$f":"SUMIF(SEE_data!$B:$B,SEE_agrg!$D100,SEE_data!BB:BB)","v":0},{"$f":"SUMIF(SEE_data!$B:$B,SEE_agrg!$D100,SEE_data!BC:BC)","v":0},0,0,0,0,0,0,0,0,0,0,{"$f":"SUMIFS(UdS_data!D:D,UdS_data!F:F,1,UdS_data!B:B,D100)","v":0},{"$error":"#DIV/0!"},0,0,0,0,0,0,{"$error":"#DIV/0!"},0,0,0,0,0,0]
[null,{"$f":"INDEX(Sistema_Analisado!$A$3:$F$99,MATCH($D101,Sistema_Analisado!$B$3:$B$99,FALSE),MATCH($B$4,Sistema_Analisado!$A$3:$F$3,FALSE))","v":{"$error":"#N/A"}},{"$f":"INDEX(Sistema_Analisado!$A$3:$F$99,MATCH(D101,Sistema_Analisado!$B$3:$B$99,FALSE),MATCH(\"Seq. Corredor\",Sistema_Analisado!$A$3:$F$3,0))","v":{"$error":"#N/A"}},null,{"$f":"SUMIF(SEE_data!$B:$B,SEE_agrg!$D101,SEE_data!F:F)","v":0},{"$f":"SUMIF(SEE_data!$B:$B,SEE_agrg!$D101,SEE_data!AF:AF)","v":0},{"$f":"SUMIF(SEE_data!$B:$B,SEE_agrg!$D101,SEE_data!AG:AG)","v":0},{"$f":"SUMIF(SEE_data!$B:$B,SEE_agrg!$D101,SEE_data!AH:AH)","v":0},{"$f":"SUMIF(SEE_data!$B:$B,SEE_agrg!$D101,SEE_data!AI:AI)","v":0},{"$f":"SUMIF(SEE_data!$B:$B,SEE_agrg!$D101,SEE_data!AJ:AJ)","v":0},{"$f":"SUMIF(SEE_data!$B:$B,SEE_agrg!$D101,SEE_data!AK:AK)","v":0},{"$f":"SUMIF(SEE_data!$B:$B,SEE_agrg!$D101,SEE_data!AL:AL)","v":0},{"$f":"SUMIF(SEE_data!$B:$B,SEE_agrg!$D101,SEE_data!AM:AM)","v":0},{"$f":"SUMIF(SEE_data!$B:$B,SEE_agrg!$D101,SEE_data!AN:AN)","v":0},{"$f":"SUMIF(SEE_data!$B:$B,SEE_agrg!$D101,SEE_data!AO:AO)","v":0},{"$f":"SUMIF(SEE_data!$B:$B,SEE_agrg!$D101,SEE_data!AP:AP)","v":0},{"$f":"SUMIF(SEE_data!$B:$B,SEE_agrg!$D101,SEE_data!AQ:AQ)","v":0},{"$f":"SUMIF(SEE_data!$B:$B,SEE_agrg!$D101,SEE_data!AR:AR)","v":0},{"$f":"SUMIF(SEE_data!$B:$B,SEE_agrg!$D101,SEE_data!AS:AS)","v":0},{"$f":"SUMIF(SEE_data!$B:$B,SEE_agrg!$D101,SEE_data!AT:AT)","v":0},{"$f":"SUMIF(SEE_data!$B:$B,SEE_agrg!$D101,SEE_data!AU:AU)","v":0},{"$f":"SUMIF(SEE_data!$B:$B,SEE_agrg!$D101,SEE_data!AV:AV)","v":0},{"$f":"SUMIF(SEE_data!$B:$B,SEE_agrg!$D101,SEE_data!AW:AW)","v":0},{"$f":"SUMIF(SEE_data!$B:$B,SEE_agrg!$D101,SEE_data!AX:AX)","v":0},{"$f":"SUMIF(SEE_data!$B:$B,SEE_agrg!$D101,SEE_data!AY:AY)","v":0},{"$f":"SUMIF(SEE_data!$B:$B,SEE_agrg!$D101,SEE_data!AZ:AZ)","v":0},{"$f":"SUMIF(SEE_data!$B:$B,SEE_agrg!$D101,SEE_data!BA:BA)","v":0},{"$f":"SUMIF(SEE_data!$B:$B,SEE_agrg!$D101,SEE_data!BB:BB)","v":0},{"$f":"SUMIF(SEE_data!$B:$B,SEE_agrg!$D101,SEE_data!BC:BC)","v":0},{"$f":"IF(OR(G101=0,Q101=0),0,1)","v":0},{"$f":"IF($AC101=0,0,T101/$AC101)","v":0},{"$f":"IF($AC101=0,0,U101/$AC101)","v":0},{"$f":"IF($AC101=0,0,V101/$AC101)","v":0},{"$f":"IF($AC101=0,0,W101/$AC101)","v":0},{"$f":"IF($AC101=0,0,X101/$AC101)","v":0},{"$f":"IF($AC101=0,0,Y101/$AC101)","v":0},{"$f":"IF($AC101=0,0,Z101/$AC101)","v":0},{"$f":"IF($AC101=0,0,AA101/$AC101)","v":0},{"$f":"IF($AC101=0,0,AB101/$AC101)","v":0},{"$f":"SUMIFS(UdS_data!D:D,UdS_data!F:F,1,UdS_data!B:B,D101)","v":0},{"$f":"1000000*F101/E101","v":{"$error":"#DIV/0!"}},{"$f":"IF(G101=0,0,(H101+I101+J101)/G101)","v":0},{"$f":"IF(G101=0,0,(K101+L101+M101)/G101)","v":0},{"$f":"IF(G101=0,0,(N101+O101+P101)/G101)","v":0},{"$f":"IF(Q101=0,0,R101/Q101)","v":0},{"$f":"IF(Q101=0,0,S101/Q101)","v":0},{"$f":"IF(AD101<>0,(1-SUMSQ(AE101:AM101))/(1-1/9),0)","v":0},{"$f":"IF(AND($AO101<=dens_ref,$AO101<=dens_urb_mun),5,IF(AND($AO101<=dens_ref,$AO101>dens_urb_mun),3,IF(AND($AO101>dens_ref,$AO101<=dens_urb_mun),2,IF($AO101<(1+dens_toler)*dens_ref,1,0))))","v":{"$error":"#DIV/0!"}},{"$f":"IF(AP101>0.95,5,IF(AP101>0.9,4,IF(AP101>0.8,2,IF(AP101>0.7,1,0))))","v":0},{"$f":"IF(AQ101>0.95,5,IF(AQ101>0.9,4,IF(AQ101>0.8,2,IF(AQ101>0.7,1,0))))","v":0},{"$f":"IF(AR101>0.95,5,IF(AR101>0.9,4,IF(AR101>0.8,2,IF(AR101>0.7,1,0))))","v":0},{"$f":"IF(AS101>0.95,5,IF(AS101>0.9,4,IF(AS101>0.8,2,IF(AS101>0.7,1,0))))","v":0},{"$f":"IF(AT101>0.95,5,IF(AT101>0.9,4,IF(AT101>0.8,2,IF(AT101>0.7,1,0))))","v":0},{"$f":"IF(AU101>=0.95,5,IF(AU101>=0.9,4,IF(AU101>=0.85,3,IF(AU101>=0.8,2,IF(AU101>=0.75,1,0)))))","v":0}]
[null,{"$f":"INDEX(Sistema_Analisado!$A$3:$F$99,MATCH($D102,Sistema_Analisado!$B$3:$B$99,FALSE),MATCH($B$4,Sistema_Analisado!$A$3:$F$3,FALSE))","v":{"$error":"#N/A"}},{"$f":"INDEX(Sistema_Analisado!$A$3:$F$99,MATCH(D102,Sistema_Analisado!$B$3:$B$99,FALSE),MATCH(\"Seq. Corredor\",Sistema_Analisado!$A$3:$F$3,0))","v":{"$error":"#N/A"}},null,{"$f":"SUMIF(SEE_data!$B:$B,SEE_agrg!$D102,SEE_data!F:F)","v":0},{"$f":"SUMIF(SEE_data!$B:$B,SEE_agrg!$D102,SEE_data!AF:AF)","v":0},{"$f":"SUMIF(SEE_data!$B:$B,SEE_agrg!$D102,SEE_data!AG:AG)","v":0},{"$f":"SUMIF(SEE_data!$B:$B,SEE_agrg!$D102,SEE_data!AH:AH)","v":0},{"$f":"SUMIF(SEE_data!$B:$B,SEE_agrg!$D102,SEE_data!AI:AI)","v":0},{"$f":"SUMIF(SEE_data!$B:$B,SEE_agrg!$D102,SEE_data!AJ:AJ)","v":0},{"$f":"SUMIF(SEE_data!$B:$B,SEE_agrg!$D102,SEE_data!AK:AK)","v":0},{"$f":"SUMIF(SEE_data!$B:$B,SEE_agrg!$D102,SEE_data!AL:AL)","v":0},{"$f":"SUMIF(SEE_data!$B:$B,SEE_agrg!$D102,SEE_data!AM:AM)","v":0},{"$f":"SUMIF(SEE_data!$B:$B,SEE_agrg!$D102,SEE_data!AN:AN)","v":0},{"$f":"SUMIF(SEE_data!$B:$B,SEE_agrg!$D102,SEE_data!AO:AO)","v":0},{"$f":"SUMIF(SEE_data!$B:$B,SEE_agrg!$D102,SEE_data!AP:AP)","v":0},{"$f":"SUMIF(SEE_data!$B:$B,SEE_agrg!$D102,SEE_data!AQ:AQ)","v":0},{"$f":"SUMIF(SEE_data!$B:$B,SEE_agrg!$D102,SEE_data!AR:AR)","v":0},{"$f":"SUMIF(SEE_data!$B:$B,SEE_agrg!$D102,SEE_data!AS:AS)","v":0},{"$f":"SUMIF(SEE_data!$B:$B,SEE_agrg!$D102,SEE_data!AT:AT)","v":0},{"$f":"SUMIF(SEE_data!$B:$B,SEE_agrg!$D102,SEE_data!AU:AU)","v":0},{"$f":"SUMIF(SEE_data!$B:$B,SEE_agrg!$D102,SEE_data!AV:AV)","v":0},{"$f":"SUMIF(SEE_data!$B:$B,SEE_agrg!$D102,SEE_data!AW:AW)","v":0},{"$f":"SUMIF(SEE_data!$B:$B,SEE_agrg!$D102,SEE_data!AX:AX)","v":0},{"$f":"SUMIF(SEE_data!$B:$B,SEE_agrg!$D102,SEE_data!AY:AY)","v":0},{"$f":"SUMIF(SEE_data!$B:$B,SEE_agrg!$D102,SEE_data!AZ:AZ)","v":0},{"$f":"SUMIF(SEE_data!$B:$B,SEE_agrg!$D102,SEE_data!BA:BA)","v":0},{"$f":"SUMIF(SEE_data!$B:$B,SEE_agrg!$D102,SEE_data!BB:BB)","v":0},{"$f":"SUMIF(SEE_data!$B:$B,SEE_agrg!$D102,SEE_data!BC:BC)","v":0},0,0,0,0,0,0,0,0,0,0,{"$f":"SUMIFS(UdS_data!D:D,UdS_data!F:F,1,UdS_data!B:B,D102)","v":0},{"$error":"#DIV/0!"},0,0,0,0,0,0,{"$error":"#DIV/0!"},0,0,0,0,0,0]
[null,{"$f":"INDEX(Sistema_Analisado!$A$3:$F$99,MATCH($D103,Sistema_Analisado!$B$3:$B$99,FALSE),MATCH($B$4,Sistema_Analisado!$A$3:$F$3,FALSE))","v":{"$error":"#N/A"}},{"$f":"INDEX(Sistema_Analisado!$A$3:$F$99,MATCH(D103,Sistema_Analisado!$B$3:$B$99,FALSE),MATCH(\"Seq. Corredor\",Sistema_Analisado!$A$3:$F$3,0))","v":{"$error":"#N/A"}},null,{"$f":"SUMIF(SEE_data!$B:$B,SEE_agrg!$D103,SEE_data!F:F)","v":0},{"$f":"SUMIF(SEE_data!$B:$B,SEE_agrg!$D103,SEE_data!AF:AF)","v":0},{"$f":"SUMIF(SEE_data!$B:$B,SEE_agrg!$D103,SEE_data!AG:AG)","v":0},{"$f":"SUMIF(SEE_data!$B:$B,SEE_agrg!$D103,SEE_data!AH:AH)","v":0},{"$f":"SUMIF(SEE_data!$B:$B,SEE_agrg!$D103,SEE_data!AI:AI)","v":0},{"$f":"SUMIF(SEE_data!$B:$B,SEE_agrg!$D103,SEE_data!AJ:AJ)","v":0},{"$f":"SUMIF(SEE_data!$B:$B,SEE_agrg!$D103,SEE_data!AK:AK)","v":0},{"$f":"SUMIF(SEE_data!$B:$B,SEE_agrg!$D103,SEE_data!AL:AL)","v":0},{"$f":"SUMIF(SEE_data!$B:$B,SEE_agrg!$D103,SEE_data!AM:AM)","v":0},{"$f":"SUMIF(SEE_data!$B:$B,SEE_agrg!$D103,SEE_data!AN:AN)","v":0},{"$f":"SUMIF(SEE_data!$B:$B,SEE_agrg!$D103,SEE_data!AO:AO)","v":0},{"$f":"SUMIF(SEE_data!$B:$B,SEE_agrg!$D103,SEE_data!AP:AP)","v":0},{"$f":"SUMIF(SEE_data!$B:$B,SEE_agrg!$D103,SEE_data!AQ:AQ)","v":0},{"$f":"SUMIF(SEE_data!$B:$B,SEE_agrg!$D103,SEE_data!AR:AR)","v":0},{"$f":"SUMIF(SEE_data!$B:$B,SEE_agrg!$D103,SEE_data!AS:AS)","v":0},{"$f":"SUMIF(SEE_data!$B:$B,SEE_agrg!$D103,SEE_data!AT:AT)","v":0},{"$f":"SUMIF(SEE_data!$B:$B,SEE_agrg!$D103,SEE_data!AU:AU)","v":0},{"$f":"SUMIF(SEE_data!$B:$B,SEE_agrg!$D103,SEE_data!AV:AV)","v":0},{"$f":"SUMIF(SEE_data!$B:$B,SEE_agrg!$D103,SEE_data!AW:AW)","v":0},{"$f":"SUMIF(SEE_data!$B:$B,SEE_agrg!$D103,SEE_data!AX:AX)","v":0},{"$f":"SUMIF(SEE_data!$B:$B,SEE_agrg!$D103,SEE_data!AY:AY)","v":0},{"$f":"SUMIF(SEE_data!$B:$B,SEE_agrg!$D103,SEE_data!AZ:AZ)","v":0},{"$f":"SUMIF(SEE_data!$B:$B,SEE_agrg!$D103,SEE_data!BA:BA)","v":0},{"$f":"SUMIF(SEE_data!$B:$B,SEE_agrg!$D103,SEE_data!BB:BB)","v":0},{"$f":"SUMIF(SEE_data!$B:$B,SEE_agrg!$D103,SEE_data!BC:BC)","v":0},0,0,0,0,0,0,0,0,0,0,{"$f":"SUMIFS(UdS_data!D:D,UdS_data!F:F,1,UdS_data!B:B,D103)","v":0},{"$error":"#DIV/0!"},0,0,0,0,0,0,{"$error":"#DIV/0!"},0,0,0,0,0,0]
[null,{"$f":"INDEX(Sistema_Analisado!$A$3:$F$99,MATCH($D104,Sistema_Analisado!$B$3:$B$99,FALSE),MATCH($B$4,Sistema_Analisado!$A$3:$F$3,FALSE))","v":{"$error":"#N/A"}},{"$f":"INDEX(Sistema_Analisado!$A$3:$F$99,MATCH(D104,Sistema_Analisado!$B$3:$B$99,FALSE),MATCH(\"Seq. Corredor\",Sistema_Analisado!$A$3:$F$3,0))","v":{"$error":"#N/A"}},null,{"$f":"SUMIF(SEE_data!$B:$B,SEE_agrg!$D104,SEE_data!F:F)","v":0},{"$f":"SUMIF(SEE_data!$B:$B,SEE_agrg!$D104,SEE_data!AF:AF)","v":0},{"$f":"SUMIF(SEE_data!$B:$B,SEE_agrg!$D104,SEE_data!AG:AG)","v":0},{"$f":"SUMIF(SEE_data!$B:$B,SEE_agrg!$D104,SEE_data!AH:AH)","v":0},{"$f":"SUMIF(SEE_data!$B:$B,SEE_agrg!$D104,SEE_data!AI:AI)","v":0},{"$f":"SUMIF(SEE_data!$B:$B,SEE_agrg!$D104,SEE_data!AJ:AJ)","v":0},{"$f":"SUMIF(SEE_data!$B:$B,SEE_agrg!$D104,SEE_data!AK:AK)","v":0},{"$f":"SUMIF(SEE_data!$B:$B,SEE_agrg!$D104,SEE_data!AL:AL)","v":0},{"$f":"SUMIF(SEE_data!$B:$B,SEE_agrg!$D104,SEE_data!AM:AM)","v":0},{"$f":"SUMIF(SEE_data!$B:$B,SEE_agrg!$D104,SEE_data!AN:AN)","v":0},{"$f":"SUMIF(SEE_data!$B:$B,SEE_agrg!$D104,SEE_data!AO:AO)","v":0},{"$f":"SUMIF(SEE_data!$B:$B,SEE_agrg!$D104,SEE_data!AP:AP)","v":0},{"$f":"SUMIF(SEE_data!$B:$B,SEE_agrg!$D104,SEE_data!AQ:AQ)","v":0},{"$f":"SUMIF(SEE_data!$B:$B,SEE_agrg!$D104,SEE_data!AR:AR)","v":0},{"$f":"SUMIF(SEE_data!$B:$B,SEE_agrg!$D104,SEE_data!AS:AS)","v":0},{"$f":"SUMIF(SEE_data!$B:$B,SEE_agrg!$D104,SEE_data!AT:AT)","v":0},{"$f":"SUMIF(SEE_data!$B:$B,SEE_agrg!$D104,SEE_data!AU:AU)","v":0},{"$f":"SUMIF(SEE_data!$B:$B,SEE_agrg!$D104,SEE_data!AV:AV)","v":0},{"$f":"SUMIF(SEE_data!$B:$B,SEE_agrg!$D104,SEE_data!AW:AW)","v":0},{"$f":"SUMIF(SEE_data!$B:$B,SEE_agrg!$D104,SEE_data!AX:AX)","v":0},{"$f":"SUMIF(SEE_data!$B:$B,SEE_agrg!$D104,SEE_data!AY:AY)","v":0},{"$f":"SUMIF(SEE_data!$B:$B,SEE_agrg!$D104,SEE_data!AZ:AZ)","v":0},{"$f":"SUMIF(SEE_data!$B:$B,SEE_agrg!$D104,SEE_data!BA:BA)","v":0},{"$f":"SUMIF(SEE_data!$B:$B,SEE_agrg!$D104,SEE_data!BB:BB)","v":0},{"$f":"SUMIF(SEE_data!$B:$B,SEE_agrg!$D104,SEE_data!BC:BC)","v":0},0,0,0,0,0,0,0,0,0,0,{"$f":"SUMIFS(UdS_data!D:D,UdS_data!F:F,1,UdS_data!B:B,D104)","v":0},{"$error":"#DIV/0!"},0,0,0,0,0,0,{"$error":"#DIV/0!"},0,0,0,0,0,0]
[null,{"$f":"INDEX(Sistema_Analisado!$A$3:$F$99,MATCH($D105,Sistema_Analisado!$B$3:$B$99,FALSE),MATCH($B$4,Sistema_Analisado!$A$3:$F$3,FALSE))","v":{"$error":"#N/A"}},{"$f":"INDEX(Sistema_Analisado!$A$3:$F$99,MATCH(D105,Sistema_Analisado!$B$3:$B$99,FALSE),MATCH(\"Seq. Corredor\",Sistema_Analisado!$A$3:$F$3,0))","v":{"$error":"#N/A"}},null,{"$f":"SUMIF(SEE_data!$B:$B,SEE_agrg!$D105,SEE_data!F:F)","v":0},{"$f":"SUMIF(SEE_data!$B:$B,SEE_agrg!$D105,SEE_data!AF:AF)","v":0},{"$f":"SUMIF(SEE_data!$B:$B,SEE_agrg!$D105,SEE_data!AG:AG)","v":0},{"$f":"SUMIF(SEE_data!$B:$B,SEE_agrg!$D105,SEE_data!AH:AH)","v":0},{"$f":"SUMIF(SEE_data!$B:$B,SEE_agrg!$D105,SEE_data!AI:AI)","v":0},{"$f":"SUMIF(SEE_data!$B:$B,SEE_agrg!$D105,SEE_data!AJ:AJ)","v":0},{"$f":"SUMIF(SEE_data!$B:$B,SEE_agrg!$D105,SEE_data!AK:AK)","v":0},{"$f":"SUMIF(SEE_data!$B:$B,SEE_agrg!$D105,SEE_data!AL:AL)","v":0},{"$f":"SUMIF(SEE_data!$B:$B,SEE_agrg!$D105,SEE_data!AM:AM)","v":0},{"$f":"SUMIF(SEE_data!$B:$B,SEE_agrg!$D105,SEE_data!AN:AN)","v":0},{"$f":"SUMIF(SEE_data!$B:$B,SEE_agrg!$D105,SEE_data!AO:AO)","v":0},{"$f":"SUMIF(SEE_data!$B:$B,SEE_agrg!$D105,SEE_data!AP:AP)","v":0},{"$f":"SUMIF(SEE_data!$B:$B,SEE_agrg!$D105,SEE_data!AQ:AQ)","v":0},{"$f":"SUMIF(SEE_data!$B:$B,SEE_agrg!$D105,SEE_data!AR:AR)","v":0},{"$f":"SUMIF(SEE_data!$B:$B,SEE_agrg!$D105,SEE_data!AS:AS)","v":0},{"$f":"SUMIF(SEE_data!$B:$B,SEE_agrg!$D105,SEE_data!AT:AT)","v":0},{"$f":"SUMIF(SEE_data!$B:$B,SEE_agrg!$D105,SEE_data!AU:AU)","v":0},{"$f":"SUMIF(SEE_data!$B:$B,SEE_agrg!$D105,SEE_data!AV:AV)","v":0},{"$f":"SUMIF(SEE_data!$B:$B,SEE_agrg!$D105,SEE_data!AW:AW)","v":0},{"$f":"SUMIF(SEE_data!$B:$B,SEE_agrg!$D105,SEE_data!AX:AX)","v":0},{"$f":"SUMIF(SEE_data!$B:$B,SEE_agrg!$D105,SEE_data!AY:AY)","v":0},{"$f":"SUMIF(SEE_data!$B:$B,SEE_agrg!$D105,SEE_data!AZ:AZ)","v":0},{"$f":"SUMIF(SEE_data!$B:$B,SEE_agrg!$D105,SEE_data!BA:BA)","v":0},{"$f":"SUMIF(SEE_data!$B:$B,SEE_agrg!$D105,SEE_data!BB:BB)","v":0},{"$f":"SUMIF(SEE_data!$B:$B,SEE_agrg!$D105,SEE_data!BC:BC)","v":0},0,0,0,0,0,0,0,0,0,0,{"$f":"SUMIFS(UdS_data!D:D,UdS_data!F:F,1,UdS_data!B:B,D105)","v":0},{"$error":"#DIV/0!"},0,0,0,0,0,0,{"$error":"#DIV/0!"},0,0,0,0,0,0]
[null,{"$f":"INDEX(Sistema_Analisado!$A$3:$F$99,MATCH($D106,Sistema_Analisado!$B$3:$B$99,FALSE),MATCH($B$4,Sistema_Analisado!$A$3:$F$3,FALSE))","v":{"$error":"#N/A"}},{"$f":"INDEX(Sistema_Analisado!$A$3:$F$99,MATCH(D106,Sistema_Analisado!$B$3:$B$99,FALSE),MATCH(\"Seq. Corredor\",Sistema_Analisado!$A$3:$F$3,0))","v":{"$error":"#N/A"}},null,{"$f":"SUMIF(SEE_data!$B:$B,SEE_agrg!$D106,SEE_data!F:F)","v":0},{"$f":"SUMIF(SEE_data!$B:$B,SEE_agrg!$D106,SEE_data!AF:AF)","v":0},{"$f":"SUMIF(SEE_data!$B:$B,SEE_agrg!$D106,SEE_data!AG:AG)","v":0},{"$f":"SUMIF(SEE_data!$B:$B,SEE_agrg!$D106,SEE_data!AH:AH)","v":0},{"$f":"SUMIF(SEE_data!$B:$B,SEE_agrg!$D106,SEE_data!AI:AI)","v":0},{"$f":"SUMIF(SEE_data!$B:$B,SEE_agrg!$D106,SEE_data!AJ:AJ)","v":0},{"$f":"SUMIF(SEE_data!$B:$B,SEE_agrg!$D106,SEE_data!AK:AK)","v":0},{"$f":"SUMIF(SEE_data!$B:$B,SEE_agrg!$D106,SEE_data!AL:AL)","v":0},{"$f":"SUMIF(SEE_data!$B:$B,SEE_agrg!$D106,SEE_data!AM:AM)","v":0},{"$f":"SUMIF(SEE_data!$B:$B,SEE_agrg!$D106,SEE_data!AN:AN)","v":0},{"$f":"SUMIF(SEE_data!$B:$B,SEE_agrg!$D106,SEE_data!AO:AO)","v":0},{"$f":"SUMIF(SEE_data!$B:$B,SEE_agrg!$D106,SEE_data!AP:AP)","v":0},{"$f":"SUMIF(SEE_data!$B:$B,SEE_agrg!$D106,SEE_data!AQ:AQ)","v":0},{"$f":"SUMIF(SEE_data!$B:$B,SEE_agrg!$D106,SEE_data!AR:AR)","v":0},{"$f":"SUMIF(SEE_data!$B:$B,SEE_agrg!$D106,SEE_data!AS:AS)","v":0},{"$f":"SUMIF(SEE_data!$B:$B,SEE_agrg!$D106,SEE_data!AT:AT)","v":0},{"$f":"SUMIF(SEE_data!$B:$B,SEE_agrg!$D106,SEE_data!AU:AU)","v":0},{"$f":"SUMIF(SEE_data!$B:$B,SEE_agrg!$D106,SEE_data!AV:AV)","v":0},{"$f":"SUMIF(SEE_data!$B:$B,SEE_agrg!$D106,SEE_data!AW:AW)","v":0},{"$f":"SUMIF(SEE_data!$B:$B,SEE_agrg!$D106,SEE_data!AX:AX)","v":0},{"$f":"SUMIF(SEE_data!$B:$B,SEE_agrg!$D106,SEE_data!AY:AY)","v":0},{"$f":"SUMIF(SEE_data!$B:$B,SEE_agrg!$D106,SEE_data!AZ:AZ)","v":0},{"$f":"SUMIF(SEE_data!$B:$B,SEE_agrg!$D106,SEE_data!BA:BA)","v":0},{"$f":"SUMIF(SEE_data!$B:$B,SEE_agrg!$D106,SEE_data!BB:BB)","v":0},{"$f":"SUMIF(SEE_data!$B:$B,SEE_agrg!$D106,SEE_data!BC:BC)","v":0},0,0,0,0,0,0,0,0,0,0,{"$f":"SUMIFS(UdS_data!D:D,UdS_data!F:F,1,UdS_data!B:B,D106)","v":0},{"$error":"#DIV/0!"},0,0,0,0,0,0,{"$error":"#DIV/0!"},0,0,0,0,0,0]
[null,{"$f":"INDEX(Sistema_Analisado!$A$3:$F$99,MATCH($D107,Sistema_Analisado!$B$3:$B$99,FALSE),MATCH($B$4,Sistema_Analisado!$A$3:$F$3,FALSE))","v":{"$error":"#N/A"}},{"$f":"INDEX(Sistema_Analisado!$A$3:$F$99,MATCH(D107,Sistema_Analisado!$B$3:$B$99,FALSE),MATCH(\"Seq. Corredor\",Sistema_Analisado!$A$3:$F$3,0))","v":{"$error":"#N/A"}},null,{"$f":"SUMIF(SEE_data!$B:$B,SEE_agrg!$D107,SEE_data!F:F)","v":0},{"$f":"SUMIF(SEE_data!$B:$B,SEE_agrg!$D107,SEE_data!AF:AF)","v":0},{"$f":"SUMIF(SEE_data!$B:$B,SEE_agrg!$D107,SEE_data!AG:AG)","v":0},{"$f":"SUMIF(SEE_data!$B:$B,SEE_agrg!$D107,SEE_data!AH:AH)","v":0},{"$f":"SUMIF(SEE_data!$B:$B,SEE_agrg!$D107,SEE_data!AI:AI)","v":0},{"$f":"SUMIF(SEE_data!$B:$B,SEE_agrg!$D107,SEE_data!AJ:AJ)","v":0},{"$f":"SUMIF(SEE_data!$B:$B,SEE_agrg!$D107,SEE_data!AK:AK)","v":0},{"$f":"SUMIF(SEE_data!$B:$B,SEE_agrg!$D107,SEE_data!AL:AL)","v":0},{"$f":"SUMIF(SEE_data!$B:$B,SEE_agrg!$D107,SEE_data!AM:AM)","v":0},{"$f":"SUMIF(SEE_data!$B:$B,SEE_agrg!$D107,SEE_data!AN:AN)","v":0},{"$f":"SUMIF(SEE_data!$B:$B,SEE_agrg!$D107,SEE_data!AO:AO)","v":0},{"$f":"SUMIF(SEE_data!$B:$B,SEE_agrg!$D107,SEE_data!AP:AP)","v":0},{"$f":"SUMIF(SEE_data!$B:$B,SEE_agrg!$D107,SEE_data!AQ:AQ)","v":0},{"$f":"SUMIF(SEE_data!$B:$B,SEE_agrg!$D107,SEE_data!AR:AR)","v":0},{"$f":"SUMIF(SEE_data!$B:$B,SEE_agrg!$D107,SEE_data!AS:AS)","v":0},{"$f":"SUMIF(SEE_data!$B:$B,SEE_agrg!$D107,SEE_data!AT:AT)","v":0},{"$f":"SUMIF(SEE_data!$B:$B,SEE_agrg!$D107,SEE_data!AU:AU)","v":0},{"$f":"SUMIF(SEE_data!$B:$B,SEE_agrg!$D107,SEE_data!AV:AV)","v":0},{"$f":"SUMIF(SEE_data!$B:$B,SEE_agrg!$D107,SEE_data!AW:AW)","v":0},{"$f":"SUMIF(SEE_data!$B:$B,SEE_agrg!$D107,SEE_data!AX:AX)","v":0},{"$f":"SUMIF(SEE_data!$B:$B,SEE_agrg!$D107,SEE_data!AY:AY)","v":0},{"$f":"SUMIF(SEE_data!$B:$B,SEE_agrg!$D107,SEE_data!AZ:AZ)","v":0},{"$f":"SUMIF(SEE_data!$B:$B,SEE_agrg!$D107,SEE_data!BA:BA)","v":0},{"$f":"SUMIF(SEE_data!$B:$B,SEE_agrg!$D107,SEE_data!BB:BB)","v":0},{"$f":"SUMIF(SEE_data!$B:$B,SEE_agrg!$D107,SEE_data!BC:BC)","v":0},0,0,0,0,0,0,0,0,0,0,{"$f":"SUMIFS(UdS_data!D:D,UdS_data!F:F,1,UdS_data!B:B,D107)","v":0},{"$error":"#DIV/0!"},0,0,0,0,0,0,{"$error":"#DIV/0!"},0,0,0,0,0,0]
[null,{"$f":"INDEX(Sistema_Analisado!$A$3:$F$99,MATCH($D108,Sistema_Analisado!$B$3:$B$99,FALSE),MATCH($B$4,Sistema_Analisado!$A$3:$F$3,FALSE))","v":{"$error":"#N/A"}},{"$f":"INDEX(Sistema_Analisado!$A$3:$F$99,MATCH(D108,Sistema_Analisado!$B$3:$B$99,FALSE),MATCH(\"Seq. Corredor\",Sistema_Analisado!$A$3:$F$3,0))","v":{"$error":"#N/A"}},null,{"$f":"SUMIF(SEE_data!$B:$B,SEE_agrg!$D108,SEE_data!F:F)","v":0},{"$f":"SUMIF(SEE_data!$B:$B,SEE_agrg!$D108,SEE_data!AF:AF)","v":0},{"$f":"SUMIF(SEE_data!$B:$B,SEE_agrg!$D108,SEE_data!AG:AG)","v":0},{"$f":"SUMIF(SEE_data!$B:$B,SEE_agrg!$D108,SEE_data!AH:AH)","v":0},{"$f":"SUMIF(SEE_data!$B:$B,SEE_agrg!$D108,SEE_data!AI:AI)","v":0},{"$f":"SUMIF(SEE_data!$B:$B,SEE_agrg!$D108,SEE_data!AJ:AJ)","v":0},{"$f":"SUMIF(SEE_data!$B:$B,SEE_agrg!$D108,SEE_data!AK:AK)","v":0},{"$f":"SUMIF(SEE_data!$B:$B,SEE_agrg!$D108,SEE_data!AL:AL)","v":0},{"$f":"SUMIF(SEE_data!$B:$B,SEE_agrg!$D108,SEE_data!AM:AM)","v":0},{"$f":"SUMIF(SEE_data!$B:$B,SEE_agrg!$D108,SEE_data!AN:AN)","v":0},{"$f":"SUMIF(SEE_data!$B:$B,SEE_agrg!$D108,SEE_data!AO:AO)","v":0},{"$f":"SUMIF(SEE_data!$B:$B,SEE_agrg!$D108,SEE_data!AP:AP)","v":0},{"$f":"SUMIF(SEE_data!$B:$B,SEE_agrg!$D108,SEE_data!AQ:AQ)","v":0},{"$f":"SUMIF(SEE_data!$B:$B,SEE_agrg!$D108,SEE_data!AR:AR)","v":0},{"$f":"SUMIF(SEE_data!$B:$B,SEE_agrg!$D108,SEE_data!AS:AS)","v":0},{"$f":"SUMIF(SEE_data!$B:$B,SEE_agrg!$D108,SEE_data!AT:AT)","v":0},{"$f":"SUMIF(SEE_data!$B:$B,SEE_agrg!$D108,SEE_data!AU:AU)","v":0},{"$f":"SUMIF(SEE_data!$B:$B,SEE_agrg!$D108,SEE_data!AV:AV)","v":0},{"$f":"SUMIF(SEE_data!$B:$B,SEE_agrg!$D108,SEE_data!AW:AW)","v":0},{"$f":"SUMIF(SEE_data!$B:$B,SEE_agrg!$D108,SEE_data!AX:AX)","v":0},{"$f":"SUMIF(SEE_data!$B:$B,SEE_agrg!$D108,SEE_data!AY:AY)","v":0},{"$f":"SUMIF(SEE_data!$B:$B,SEE_agrg!$D108,SEE_data!AZ:AZ)","v":0},{"$f":"SUMIF(SEE_data!$B:$B,SEE_agrg!$D108,SEE_data!BA:BA)","v":0},{"$f":"SUMIF(SEE_data!$B:$B,SEE_agrg!$D108,SEE_data!BB:BB)","v":0},{"$f":"SUMIF(SEE_data!$B:$B,SEE_agrg!$D108,SEE_data!BC:BC)","v":0},0,0,0,0,0,0,0,0,0,0,{"$f":"SUMIFS(UdS_data!D:D,UdS_data!F:F,1,UdS_data!B:B,D108)","v":0},{"$error":"#DIV/0!"},0,0,0,0,0,0,{"$error":"#DIV/0!"},0,0,0,0,0,0]
[null,{"$f":"INDEX(Sistema_Analisado!$A$3:$F$99,MATCH($D109,Sistema_Analisado!$B$3:$B$99,FALSE),MATCH($B$4,Sistema_Analisado!$A$3:$F$3,FALSE))","v":{"$error":"#N/A"}},{"$f":"INDEX(Sistema_Analisado!$A$3:$F$99,MATCH(D109,Sistema_Analisado!$B$3:$B$99,FALSE),MATCH(\"Seq. Corredor\",Sistema_Analisado!$A$3:$F$3,0))","v":{"$error":"#N/A"}},null,{"$f":"SUMIF(SEE_data!$B:$B,SEE_agrg!$D109,SEE_data!F:F)","v":0},{"$f":"SUMIF(SEE_data!$B:$B,SEE_agrg!$D109,SEE_data!AF:AF)","v":0},{"$f":"SUMIF(SEE_data!$B:$B,SEE_agrg!$D109,SEE_data!AG:AG)","v":0},{"$f":"SUMIF(SEE_data!$B:$B,SEE_agrg!$D109,SEE_data!AH:AH)","v":0},{"$f":"SUMIF(SEE_data!$B:$B,SEE_agrg!$D109,SEE_data!AI:AI)","v":0},{"$f":"SUMIF(SEE_data!$B:$B,SEE_agrg!$D109,SEE_data!AJ:AJ)","v":0},{"$f":"SUMIF(SEE_data!$B:$B,SEE_agrg!$D109,SEE_data!AK:AK)","v":0},{"$f":"SUMIF(SEE_data!$B:$B,SEE_agrg!$D109,SEE_data!AL:AL)","v":0},{"$f":"SUMIF(SEE_data!$B:$B,SEE_agrg!$D109,SEE_data!AM:AM)","v":0},{"$f":"SUMIF(SEE_data!$B:$B,SEE_agrg!$D109,SEE_data!AN:AN)","v":0},{"$f":"SUMIF(SEE_data!$B:$B,SEE_agrg!$D109,SEE_data!AO:AO)","v":0},{"$f":"SUMIF(SEE_data!$B:$B,SEE_agrg!$D109,SEE_data!AP:AP)","v":0},{"$f":"SUMIF(SEE_data!$B:$B,SEE_agrg!$D109,SEE_data!AQ:AQ)","v":0},{"$f":"SUMIF(SEE_data!$B:$B,SEE_agrg!$D109,SEE_data!AR:AR)","v":0},{"$f":"SUMIF(SEE_data!$B:$B,SEE_agrg!$D109,SEE_data!AS:AS)","v":0},{"$f":"SUMIF(SEE_data!$B:$B,SEE_agrg!$D109,SEE_data!AT:AT)","v":0},{"$f":"SUMIF(SEE_data!$B:$B,SEE_agrg!$D109,SEE_data!AU:AU)","v":0},{"$f":"SUMIF(SEE_data!$B:$B,SEE_agrg!$D109,SEE_data!AV:AV)","v":0},{"$f":"SUMIF(SEE_data!$B:$B,SEE_agrg!$D109,SEE_data!AW:AW)","v":0},{"$f":"SUMIF(SEE_data!$B:$B,SEE_agrg!$D109,SEE_data!AX:AX)","v":0},{"$f":"SUMIF(SEE_data!$B:$B,SEE_agrg!$D109,SEE_data!AY:AY)","v":0},{"$f":"SUMIF(SEE_data!$B:$B,SEE_agrg!$D109,SEE_data!AZ:AZ)","v":0},{"$f":"SUMIF(SEE_data!$B:$B,SEE_agrg!$D109,SEE_data!BA:BA)","v":0},{"$f":"SUMIF(SEE_data!$B:$B,SEE_agrg!$D109,SEE_data!BB:BB)","v":0},{"$f":"SUMIF(SEE_data!$B:$B,SEE_agrg!$D109,SEE_data!BC:BC)","v":0},0,0,0,0,0,0,0,0,0,0,{"$f":"SUMIFS(UdS_data!D:D,UdS_data!F:F,1,UdS_data!B:B,D109)","v":0},{"$error":"#DIV/0!"},0,0,0,0,0,0,{"$error":"#DIV/0!"},0,0,0,0,0,0]
[null,{"$f":"INDEX(Sistema_Analisado!$A$3:$F$99,MATCH($D110,Sistema_Analisado!$B$3:$B$99,FALSE),MATCH($B$4,Sistema_Analisado!$A$3:$F$3,FALSE))","v":{"$error":"#N/A"}},{"$f":"INDEX(Sistema_Analisado!$A$3:$F$99,MATCH(D110,Sistema_Analisado!$B$3:$B$99,FALSE),MATCH(\"Seq. Corredor\",Sistema_Analisado!$A$3:$F$3,0))","v":{"$error":"#N/A"}},null,{"$f":"SUMIF(SEE_data!$B:$B,SEE_agrg!$D110,SEE_data!F:F)","v":0},{"$f":"SUMIF(SEE_data!$B:$B,SEE_agrg!$D110,SEE_data!AF:AF)","v":0},{"$f":"SUMIF(SEE_data!$B:$B,SEE_agrg!$D110,SEE_data!AG:AG)","v":0},{"$f":"SUMIF(SEE_data!$B:$B,SEE_agrg!$D110,SEE_data!AH:AH)","v":0},{"$f":"SUMIF(SEE_data!$B:$B,SEE_agrg!$D110,SEE_data!AI:AI)","v":0},{"$f":"SUMIF(SEE_data!$B:$B,SEE_agrg!$D110,SEE_data!AJ:AJ)","v":0},{"$f":"SUMIF(SEE_data!$B:$B,SEE_agrg!$D110,SEE_data!AK:AK)","v":0},{"$f":"SUMIF(SEE_data!$B:$B,SEE_agrg!$D110,SEE_data!AL:AL)","v":0},{"$f":"SUMIF(SEE_data!$B:$B,SEE_agrg!$D110,SEE_data!AM:AM)","v":0},{"$f":"SUMIF(SEE_data!$B:$B,SEE_agrg!$D110,SEE_data!AN:AN)","v":0},{"$f":"SUMIF(SEE_data!$B:$B,SEE_agrg!$D110,SEE_data!AO:AO)","v":0},{"$f":"SUMIF(SEE_data!$B:$B,SEE_agrg!$D110,SEE_data!AP:AP)","v":0},{"$f":"SUMIF(SEE_data!$B:$B,SEE_agrg!$D110,SEE_data!AQ:AQ)","v":0},{"$f":"SUMIF(SEE_data!$B:$B,SEE_agrg!$D110,SEE_data!AR:AR)","v":0},{"$f":"SUMIF(SEE_data!$B:$B,SEE_agrg!$D110,SEE_data!AS:AS)","v":0},{"$f":"SUMIF(SEE_data!$B:$B,SEE_agrg!$D110,SEE_data!AT:AT)","v":0},{"$f":"SUMIF(SEE_data!$B:$B,SEE_agrg!$D110,SEE_data!AU:AU)","v":0},{"$f":"SUMIF(SEE_data!$B:$B,SEE_agrg!$D110,SEE_data!AV:AV)","v":0},{"$f":"SUMIF(SEE_data!$B:$B,SEE_agrg!$D110,SEE_data!AW:AW)","v":0},{"$f":"SUMIF(SEE_data!$B:$B,SEE_agrg!$D110,SEE_data!AX:AX)","v":0},{"$f":"SUMIF(SEE_data!$B:$B,SEE_agrg!$D110,SEE_data!AY:AY)","v":0},{"$f":"SUMIF(SEE_data!$B:$B,SEE_agrg!$D110,SEE_data!AZ:AZ)","v":0},{"$f":"SUMIF(SEE_data!$B:$B,SEE_agrg!$D110,SEE_data!BA:BA)","v":0},{"$f":"SUMIF(SEE_data!$B:$B,SEE_agrg!$D110,SEE_data!BB:BB)","v":0},{"$f":"SUMIF(SEE_data!$B:$B,SEE_agrg!$D110,SEE_data!BC:BC)","v":0},0,0,0,0,0,0,0,0,0,0,{"$f":"SUMIFS(UdS_data!D:D,UdS_data!F:F,1,UdS_data!B:B,D110)","v":0},{"$error":"#DIV/0!"},0,0,0,0,0,0,{"$error":"#DIV/0!"},0,0,0,0,0,0]
[null,{"$f":"INDEX(Sistema_Analisado!$A$3:$F$99,MATCH($D111,Sistema_Analisado!$B$3:$B$99,FALSE),MATCH($B$4,Sistema_Analisado!$A$3:$F$3,FALSE))","v":{"$error":"#N/A"}},{"$f":"INDEX(Sistema_Analisado!$A$3:$F$99,MATCH(D111,Sistema_Analisado!$B$3:$B$99,FALSE),MATCH(\"Seq. Corredor\",Sistema_Analisado!$A$3:$F$3,0))","v":{"$error":"#N/A"}},null,{"$f":"SUMIF(SEE_data!$B:$B,SEE_agrg!$D111,SEE_data!F:F)","v":0},{"$f":"SUMIF(SEE_data!$B:$B,SEE_agrg!$D111,SEE_data!AF:AF)","v":0},{"$f":"SUMIF(SEE_data!$B:$B,SEE_agrg!$D111,SEE_data!AG:AG)","v":0},{"$f":"SUMIF(SEE_data!$B:$B,SEE_agrg!$D111,SEE_data!AH:AH)","v":0},{"$f":"SUMIF(SEE_data!$B:$B,SEE_agrg!$D111,SEE_data!AI:AI)","v":0},{"$f":"SUMIF(SEE_data!$B:$B,SEE_agrg!$D111,SEE_data!AJ:AJ)","v":0},{"$f":"SUMIF(SEE_data!$B:$B,SEE_agrg!$D111,SEE_data!AK:AK)","v":0},{"$f":"SUMIF(SEE_data!$B:$B,SEE_agrg!$D111,SEE_data!AL:AL)","v":0},{"$f":"SUMIF(SEE_data!$B:$B,SEE_agrg!$D111,SEE_data!AM:AM)","v":0},{"$f":"SUMIF(SEE_data!$B:$B,SEE_agrg!$D111,SEE_data!AN:AN)","v":0},{"$f":"SUMIF(SEE_data!$B:$B,SEE_agrg!$D111,SEE_data!AO:AO)","v":0},{"$f":"SUMIF(SEE_data!$B:$B,SEE_agrg!$D111,SEE_data!AP:AP)","v":0},{"$f":"SUMIF(SEE_data!$B:$B,SEE_agrg!$D111,SEE_data!AQ:AQ)","v":0},{"$f":"SUMIF(SEE_data!$B:$B,SEE_agrg!$D111,SEE_data!AR:AR)","v":0},{"$f":"SUMIF(SEE_data!$B:$B,SEE_agrg!$D111,SEE_data!AS:AS)","v":0},{"$f":"SUMIF(SEE_data!$B:$B,SEE_agrg!$D111,SEE_data!AT:AT)","v":0},{"$f":"SUMIF(SEE_data!$B:$B,SEE_agrg!$D111,SEE_data!AU:AU)","v":0},{"$f":"SUMIF(SEE_data!$B:$B,SEE_agrg!$D111,SEE_data!AV:AV)","v":0},{"$f":"SUMIF(SEE_data!$B:$B,SEE_agrg!$D111,SEE_data!AW:AW)","v":0},{"$f":"SUMIF(SEE_data!$B:$B,SEE_agrg!$D111,SEE_data!AX:AX)","v":0},{"$f":"SUMIF(SEE_data!$B:$B,SEE_agrg!$D111,SEE_data!AY:AY)","v":0},{"$f":"SUMIF(SEE_data!$B:$B,SEE_agrg!$D111,SEE_data!AZ:AZ)","v":0},{"$f":"SUMIF(SEE_data!$B:$B,SEE_agrg!$D111,SEE_data!BA:BA)","v":0},{"$f":"SUMIF(SEE_data!$B:$B,SEE_agrg!$D111,SEE_data!BB:BB)","v":0},{"$f":"SUMIF(SEE_data!$B:$B,SEE_agrg!$D111,SEE_data!BC:BC)","v":0},0,0,0,0,0,0,0,0,0,0,{"$f":"SUMIFS(UdS_data!D:D,UdS_data!F:F,1,UdS_data!B:B,D111)","v":0},{"$error":"#DIV/0!"},0,0,0,0,0,0,{"$error":"#DIV/0!"},0,0,0,0,0,0]
[null,{"$f":"INDEX(Sistema_Analisado!$A$3:$F$99,MATCH($D112,Sistema_Analisado!$B$3:$B$99,FALSE),MATCH($B$4,Sistema_Analisado!$A$3:$F$3,FALSE))","v":{"$error":"#N/A"}},{"$f":"INDEX(Sistema_Analisado!$A$3:$F$99,MATCH(D112,Sistema_Analisado!$B$3:$B$99,FALSE),MATCH(\"Seq. Corredor\",Sistema_Analisado!$A$3:$F$3,0))","v":{"$error":"#N/A"}},null,{"$f":"SUMIF(SEE_data!$B:$B,SEE_agrg!$D112,SEE_data!F:F)","v":0},{"$f":"SUMIF(SEE_data!$B:$B,SEE_agrg!$D112,SEE_data!AF:AF)","v":0},{"$f":"SUMIF(SEE_data!$B:$B,SEE_agrg!$D112,SEE_data!AG:AG)","v":0},{"$f":"SUMIF(SEE_data!$B:$B,SEE_agrg!$D112,SEE_data!AH:AH)","v":0},{"$f":"SUMIF(SEE_data!$B:$B,SEE_agrg!$D112,SEE_data!AI:AI)","v":0},{"$f":"SUMIF(SEE_data!$B:$B,SEE_agrg!$D112,SEE_data!AJ:AJ)","v":0},{"$f":"SUMIF(SEE_data!$B:$B,SEE_agrg!$D112,SEE_data!AK:AK)","v":0},{"$f":"SUMIF(SEE_data!$B:$B,SEE_agrg!$D112,SEE_data!AL:AL)","v":0},{"$f":"SUMIF(SEE_data!$B:$B,SEE_agrg!$D112,SEE_data!AM:AM)","v":0},{"$f":"SUMIF(SEE_data!$B:$B,SEE_agrg!$D112,SEE_data!AN:AN)","v":0},{"$f":"SUMIF(SEE_data!$B:$B,SEE_agrg!$D112,SEE_data!AO:AO)","v":0},{"$f":"SUMIF(SEE_data!$B:$B,SEE_agrg!$D112,SEE_data!AP:AP)","v":0},{"$f":"SUMIF(SEE_data!$B:$B,SEE_agrg!$D112,SEE_data!AQ:AQ)","v":0},{"$f":"SUMIF(SEE_data!$B:$B,SEE_agrg!$D112,SEE_data!AR:AR)","v":0},{"$f":"SUMIF(SEE_data!$B:$B,SEE_agrg!$D112,SEE_data!AS:AS)","v":0},{"$f":"SUMIF(SEE_data!$B:$B,SEE_agrg!$D112,SEE_data!AT:AT)","v":0},{"$f":"SUMIF(SEE_data!$B:$B,SEE_agrg!$D112,SEE_data!AU:AU)","v":0},{"$f":"SUMIF(SEE_data!$B:$B,SEE_agrg!$D112,SEE_data!AV:AV)","v":0},{"$f":"SUMIF(SEE_data!$B:$B,SEE_agrg!$D112,SEE_data!AW:AW)","v":0},{"$f":"SUMIF(SEE_data!$B:$B,SEE_agrg!$D112,SEE_data!AX:AX)","v":0},{"$f":"SUMIF(SEE_data!$B:$B,SEE_agrg!$D112,SEE_data!AY:AY)","v":0},{"$f":"SUMIF(SEE_data!$B:$B,SEE_agrg!$D112,SEE_data!AZ:AZ)","v":0},{"$f":"SUMIF(SEE_data!$B:$B,SEE_agrg!$D112,SEE_data!BA:BA)","v":0},{"$f":"SUMIF(SEE_data!$B:$B,SEE_agrg!$D112,SEE_data!BB:BB)","v":0},{"$f":"SUMIF(SEE_data!$B:$B,SEE_agrg!$D112,SEE_data!BC:BC)","v":0},0,0,0,0,0,0,0,0,0,0,{"$f":"SUMIFS(UdS_data!D:D,UdS_data!F:F,1,UdS_data!B:B,D112)","v":0},{"$error":"#DIV/0!"},0,0,0,0,0,0,{"$error":"#DIV/0!"},0,0,0,0,0,0]
[null,{"$f":"INDEX(Sistema_Analisado!$A$3:$F$99,MATCH($D113,Sistema_Analisado!$B$3:$B$99,FALSE),MATCH($B$4,Sistema_Analisado!$A$3:$F$3,FALSE))","v":{"$error":"#N/A"}},{"$f":"INDEX(Sistema_Analisado!$A$3:$F$99,MATCH(D113,Sistema_Analisado!$B$3:$B$99,FALSE),MATCH(\"Seq. Corredor\",Sistema_Analisado!$A$3:$F$3,0))","v":{"$error":"#N/A"}},null,{"$f":"SUMIF(SEE_data!$B:$B,SEE_agrg!$D113,SEE_data!F:F)","v":0},{"$f":"SUMIF(SEE_data!$B:$B,SEE_agrg!$D113,SEE_data!AF:AF)","v":0},{"$f":"SUMIF(SEE_data!$B:$B,SEE_agrg!$D113,SEE_data!AG:AG)","v":0},{"$f":"SUMIF(SEE_data!$B:$B,SEE_agrg!$D113,SEE_data!AH:AH)","v":0},{"$f":"SUMIF(SEE_data!$B:$B,SEE_agrg!$D113,SEE_data!AI:AI)","v":0},{"$f":"SUMIF(SEE_data!$B:$B,SEE_agrg!$D113,SEE_data!AJ:AJ)","v":0},{"$f":"SUMIF(SEE_data!$B:$B,SEE_agrg!$D113,SEE_data!AK:AK)","v":0},{"$f":"SUMIF(SEE_data!$B:$B,SEE_agrg!$D113,SEE_data!AL:AL)","v":0},{"$f":"SUMIF(SEE_data!$B:$B,SEE_agrg!$D113,SEE_data!AM:AM)","v":0},{"$f":"SUMIF(SEE_data!$B:$B,SEE_agrg!$D113,SEE_data!AN:AN)","v":0},{"$f":"SUMIF(SEE_data!$B:$B,SEE_agrg!$D113,SEE_data!AO:AO)","v":0},{"$f":"SUMIF(SEE_data!$B:$B,SEE_agrg!$D113,SEE_data!AP:AP)","v":0},{"$f":"SUMIF(SEE_data!$B:$B,SEE_agrg!$D113,SEE_data!AQ:AQ)","v":0},{"$f":"SUMIF(SEE_data!$B:$B,SEE_agrg!$D113,SEE_data!AR:AR)","v":0},{"$f":"SUMIF(SEE_data!$B:$B,SEE_agrg!$D113,SEE_data!AS:AS)","v":0},{"$f":"SUMIF(SEE_data!$B:$B,SEE_agrg!$D113,SEE_data!AT:AT)","v":0},{"$f":"SUMIF(SEE_data!$B:$B,SEE_agrg!$D113,SEE_data!AU:AU)","v":0},{"$f":"SUMIF(SEE_data!$B:$B,SEE_agrg!$D113,SEE_data!AV:AV)","v":0},{"$f":"SUMIF(SEE_data!$B:$B,SEE_agrg!$D113,SEE_data!AW:AW)","v":0},{"$f":"SUMIF(SEE_data!$B:$B,SEE_agrg!$D113,SEE_data!AX:AX)","v":0},{"$f":"SUMIF(SEE_data!$B:$B,SEE_agrg!$D113,SEE_data!AY:AY)","v":0},{"$f":"SUMIF(SEE_data!$B:$B,SEE_agrg!$D113,SEE_data!AZ:AZ)","v":0},{"$f":"SUMIF(SEE_data!$B:$B,SEE_agrg!$D113,SEE_data!BA:BA)","v":0},{"$f":"SUMIF(SEE_data!$B:$B,SEE_agrg!$D113,SEE_data!BB:BB)","v":0},{"$f":"SUMIF(SEE_data!$B:$B,SEE_agrg!$D113,SEE_data!BC:BC)","v":0},0,0,0,0,0,0,0,0,0,0,{"$f":"SUMIFS(UdS_data!D:D,UdS_data!F:F,1,UdS_data!B:B,D113)","v":0},{"$error":"#DIV/0!"},0,0,0,0,0,0,{"$error":"#DIV/0!"},0,0,0,0,0,0]
[null,{"$f":"INDEX(Sistema_Analisado!$A$3:$F$99,MATCH($D114,Sistema_Analisado!$B$3:$B$99,FALSE),MATCH($B$4,Sistema_Analisado!$A$3:$F$3,FALSE))","v":{"$error":"#N/A"}},{"$f":"INDEX(Sistema_Analisado!$A$3:$F$99,MATCH(D114,Sistema_Analisado!$B$3:$B$99,FALSE),MATCH(\"Seq. Corredor\",Sistema_Analisado!$A$3:$F$3,0))","v":{"$error":"#N/A"}},null,{"$f":"SUMIF(SEE_data!$B:$B,SEE_agrg!$D114,SEE_data!F:F)","v":0},{"$f":"SUMIF(SEE_data!$B:$B,SEE_agrg!$D114,SEE_data!AF:AF)","v":0},{"$f":"SUMIF(SEE_data!$B:$B,SEE_agrg!$D114,SEE_data!AG:AG)","v":0},{"$f":"SUMIF(SEE_data!$B:$B,SEE_agrg!$D114,SEE_data!AH:AH)","v":0},{"$f":"SUMIF(SEE_data!$B:$B,SEE_agrg!$D114,SEE_data!AI:AI)","v":0},{"$f":"SUMIF(SEE_data!$B:$B,SEE_agrg!$D114,SEE_data!AJ:AJ)","v":0},{"$f":"SUMIF(SEE_data!$B:$B,SEE_agrg!$D114,SEE_data!AK:AK)","v":0},{"$f":"SUMIF(SEE_data!$B:$B,SEE_agrg!$D114,SEE_data!AL:AL)","v":0},{"$f":"SUMIF(SEE_data!$B:$B,SEE_agrg!$D114,SEE_data!AM:AM)","v":0},{"$f":"SUMIF(SEE_data!$B:$B,SEE_agrg!$D114,SEE_data!AN:AN)","v":0},{"$f":"SUMIF(SEE_data!$B:$B,SEE_agrg!$D114,SEE_data!AO:AO)","v":0},{"$f":"SUMIF(SEE_data!$B:$B,SEE_agrg!$D114,SEE_data!AP:AP)","v":0},{"$f":"SUMIF(SEE_data!$B:$B,SEE_agrg!$D114,SEE_data!AQ:AQ)","v":0},{"$f":"SUMIF(SEE_data!$B:$B,SEE_agrg!$D114,SEE_data!AR:AR)","v":0},{"$f":"SUMIF(SEE_data!$B:$B,SEE_agrg!$D114,SEE_data!AS:AS)","v":0},{"$f":"SUMIF(SEE_data!$B:$B,SEE_agrg!$D114,SEE_data!AT:AT)","v":0},{"$f":"SUMIF(SEE_data!$B:$B,SEE_agrg!$D114,SEE_data!AU:AU)","v":0},{"$f":"SUMIF(SEE_data!$B:$B,SEE_agrg!$D114,SEE_data!AV:AV)","v":0},{"$f":"SUMIF(SEE_data!$B:$B,SEE_agrg!$D114,SEE_data!AW:AW)","v":0},{"$f":"SUMIF(SEE_data!$B:$B,SEE_agrg!$D114,SEE_data!AX:AX)","v":0},{"$f":"SUMIF(SEE_data!$B:$B,SEE_agrg!$D114,SEE_data!AY:AY)","v":0},{"$f":"SUMIF(SEE_data!$B:$B,SEE_agrg!$D114,SEE_data!AZ:AZ)","v":0},{"$f":"SUMIF(SEE_data!$B:$B,SEE_agrg!$D114,SEE_data!BA:BA)","v":0},{"$f":"SUMIF(SEE_data!$B:$B,SEE_agrg!$D114,SEE_data!BB:BB)","v":0},{"$f":"SUMIF(SEE_data!$B:$B,SEE_agrg!$D114,SEE_data!BC:BC)","v":0},0,0,0,0,0,0,0,0,0,0,{"$f":"SUMIFS(UdS_data!D:D,UdS_data!F:F,1,UdS_data!B:B,D114)","v":0},{"$error":"#DIV/0!"},0,0,0,0,0,0,{"$error":"#DIV/0!"},0,0,0,0,0,0]
[null,{"$f":"INDEX(Sistema_Analisado!$A$3:$F$99,MATCH($D115,Sistema_Analisado!$B$3:$B$99,FALSE),MATCH($B$4,Sistema_Analisado!$A$3:$F$3,FALSE))","v":{"$error":"#N/A"}},{"$f":"INDEX(Sistema_Analisado!$A$3:$F$99,MATCH(D115,Sistema_Analisado!$B$3:$B$99,FALSE),MATCH(\"Seq. Corredor\",Sistema_Analisado!$A$3:$F$3,0))","v":{"$error":"#N/A"}},null,{"$f":"SUMIF(SEE_data!$B:$B,SEE_agrg!$D115,SEE_data!F:F)","v":0},{"$f":"SUMIF(SEE_data!$B:$B,SEE_agrg!$D115,SEE_data!AF:AF)","v":0},{"$f":"SUMIF(SEE_data!$B:$B,SEE_agrg!$D115,SEE_data!AG:AG)","v":0},{"$f":"SUMIF(SEE_data!$B:$B,SEE_agrg!$D115,SEE_data!AH:AH)","v":0},{"$f":"SUMIF(SEE_data!$B:$B,SEE_agrg!$D115,SEE_data!AI:AI)","v":0},{"$f":"SUMIF(SEE_data!$B:$B,SEE_agrg!$D115,SEE_data!AJ:AJ)","v":0},{"$f":"SUMIF(SEE_data!$B:$B,SEE_agrg!$D115,SEE_data!AK:AK)","v":0},{"$f":"SUMIF(SEE_data!$B:$B,SEE_agrg!$D115,SEE_data!AL:AL)","v":0},{"$f":"SUMIF(SEE_data!$B:$B,SEE_agrg!$D115,SEE_data!AM:AM)","v":0},{"$f":"SUMIF(SEE_data!$B:$B,SEE_agrg!$D115,SEE_data!AN:AN)","v":0},{"$f":"SUMIF(SEE_data!$B:$B,SEE_agrg!$D115,SEE_data!AO:AO)","v":0},{"$f":"SUMIF(SEE_data!$B:$B,SEE_agrg!$D115,SEE_data!AP:AP)","v":0},{"$f":"SUMIF(SEE_data!$B:$B,SEE_agrg!$D115,SEE_data!AQ:AQ)","v":0},{"$f":"SUMIF(SEE_data!$B:$B,SEE_agrg!$D115,SEE_data!AR:AR)","v":0},{"$f":"SUMIF(SEE_data!$B:$B,SEE_agrg!$D115,SEE_data!AS:AS)","v":0},{"$f":"SUMIF(SEE_data!$B:$B,SEE_agrg!$D115,SEE_data!AT:AT)","v":0},{"$f":"SUMIF(SEE_data!$B:$B,SEE_agrg!$D115,SEE_data!AU:AU)","v":0},{"$f":"SUMIF(SEE_data!$B:$B,SEE_agrg!$D115,SEE_data!AV:AV)","v":0},{"$f":"SUMIF(SEE_data!$B:$B,SEE_agrg!$D115,SEE_data!AW:AW)","v":0},{"$f":"SUMIF(SEE_data!$B:$B,SEE_agrg!$D115,SEE_data!AX:AX)","v":0},{"$f":"SUMIF(SEE_data!$B:$B,SEE_agrg!$D115,SEE_data!AY:AY)","v":0},{"$f":"SUMIF(SEE_data!$B:$B,SEE_agrg!$D115,SEE_data!AZ:AZ)","v":0},{"$f":"SUMIF(SEE_data!$B:$B,SEE_agrg!$D115,SEE_data!BA:BA)","v":0},{"$f":"SUMIF(SEE_data!$B:$B,SEE_agrg!$D115,SEE_data!BB:BB)","v":0},{"$f":"SUMIF(SEE_data!$B:$B,SEE_agrg!$D115,SEE_data!BC:BC)","v":0},0,0,0,0,0,0,0,0,0,0,{"$f":"SUMIFS(UdS_data!D:D,UdS_data!F:F,1,UdS_data!B:B,D115)","v":0},{"$error":"#DIV/0!"},0,0,0,0,0,0,{"$error":"#DIV/0!"},0,0,0,0,0,0]
[null,{"$f":"INDEX(Sistema_Analisado!$A$3:$F$99,MATCH($D116,Sistema_Analisado!$B$3:$B$99,FALSE),MATCH($B$4,Sistema_Analisado!$A$3:$F$3,FALSE))","v":{"$error":"#N/A"}},{"$f":"INDEX(Sistema_Analisado!$A$3:$F$99,MATCH(D116,Sistema_Analisado!$B$3:$B$99,FALSE),MATCH(\"Seq. Corredor\",Sistema_Analisado!$A$3:$F$3,0))","v":{"$error":"#N/A"}},null,{"$f":"SUMIF(SEE_data!$B:$B,SEE_agrg!$D116,SEE_data!F:F)","v":0},{"$f":"SUMIF(SEE_data!$B:$B,SEE_agrg!$D116,SEE_data!AF:AF)","v":0},{"$f":"SUMIF(SEE_data!$B:$B,SEE_agrg!$D116,SEE_data!AG:AG)","v":0},{"$f":"SUMIF(SEE_data!$B:$B,SEE_agrg!$D116,SEE_data!AH:AH)","v":0},{"$f":"SUMIF(SEE_data!$B:$B,SEE_agrg!$D116,SEE_data!AI:AI)","v":0},{"$f":"SUMIF(SEE_data!$B:$B,SEE_agrg!$D116,SEE_data!AJ:AJ)","v":0},{"$f":"SUMIF(SEE_data!$B:$B,SEE_agrg!$D116,SEE_data!AK:AK)","v":0},{"$f":"SUMIF(SEE_data!$B:$B,SEE_agrg!$D116,SEE_data!AL:AL)","v":0},{"$f":"SUMIF(SEE_data!$B:$B,SEE_agrg!$D116,SEE_data!AM:AM)","v":0},{"$f":"SUMIF(SEE_data!$B:$B,SEE_agrg!$D116,SEE_data!AN:AN)","v":0},{"$f":"SUMIF(SEE_data!$B:$B,SEE_agrg!$D116,SEE_data!AO:AO)","v":0},{"$f":"SUMIF(SEE_data!$B:$B,SEE_agrg!$D116,SEE_data!AP:AP)","v":0},{"$f":"SUMIF(SEE_data!$B:$B,SEE_agrg!$D116,SEE_data!AQ:AQ)","v":0},{"$f":"SUMIF(SEE_data!$B:$B,SEE_agrg!$D116,SEE_data!AR:AR)","v":0},{"$f":"SUMIF(SEE_data!$B:$B,SEE_agrg!$D116,SEE_data!AS:AS)","v":0},{"$f":"SUMIF(SEE_data!$B:$B,SEE_agrg!$D116,SEE_data!AT:AT)","v":0},{"$f":"SUMIF(SEE_data!$B:$B,SEE_agrg!$D116,SEE_data!AU:AU)","v":0},{"$f":"SUMIF(SEE_data!$B:$B,SEE_agrg!$D116,SEE_data!AV:AV)","v":0},{"$f":"SUMIF(SEE_data!$B:$B,SEE_agrg!$D116,SEE_data!AW:AW)","v":0},{"$f":"SUMIF(SEE_data!$B:$B,SEE_agrg!$D116,SEE_data!AX:AX)","v":0},{"$f":"SUMIF(SEE_data!$B:$B,SEE_agrg!$D116,SEE_data!AY:AY)","v":0},{"$f":"SUMIF(SEE_data!$B:$B,SEE_agrg!$D116,SEE_data!AZ:AZ)","v":0},{"$f":"SUMIF(SEE_data!$B:$B,SEE_agrg!$D116,SEE_data!BA:BA)","v":0},{"$f":"SUMIF(SEE_data!$B:$B,SEE_agrg!$D116,SEE_data!BB:BB)","v":0},{"$f":"SUMIF(SEE_data!$B:$B,SEE_agrg!$D116,SEE_data!BC:BC)","v":0},0,0,0,0,0,0,0,0,0,0,{"$f":"SUMIFS(UdS_data!D:D,UdS_data!F:F,1,UdS_data!B:B,D116)","v":0},{"$error":"#DIV/0!"},0,0,0,0,0,0,{"$error":"#DIV/0!"},0,0,0,0,0,0]
[null,{"$f":"INDEX(Sistema_Analisado!$A$3:$F$99,MATCH($D117,Sistema_Analisado!$B$3:$B$99,FALSE),MATCH($B$4,Sistema_Analisado!$A$3:$F$3,FALSE))","v":{"$error":"#N/A"}},{"$f":"INDEX(Sistema_Analisado!$A$3:$F$99,MATCH(D117,Sistema_Analisado!$B$3:$B$99,FALSE),MATCH(\"Seq. Corredor\",Sistema_Analisado!$A$3:$F$3,0))","v":{"$error":"#N/A"}},null,{"$f":"SUMIF(SEE_data!$B:$B,SEE_agrg!$D117,SEE_data!F:F)","v":0},{"$f":"SUMIF(SEE_data!$B:$B,SEE_agrg!$D117,SEE_data!AF:AF)","v":0},{"$f":"SUMIF(SEE_data!$B:$B,SEE_agrg!$D117,SEE_data!AG:AG)","v":0},{"$f":"SUMIF(SEE_data!$B:$B,SEE_agrg!$D117,SEE_data!AH:AH)","v":0},{"$f":"SUMIF(SEE_data!$B:$B,SEE_agrg!$D117,SEE_data!AI:AI)","v":0},{"$f":"SUMIF(SEE_data!$B:$B,SEE_agrg!$D117,SEE_data!AJ:AJ)","v":0},{"$f":"SUMIF(SEE_data!$B:$B,SEE_agrg!$D117,SEE_data!AK:AK)","v":0},{"$f":"SUMIF(SEE_data!$B:$B,SEE_agrg!$D117,SEE_data!AL:AL)","v":0},{"$f":"SUMIF(SEE_data!$B:$B,SEE_agrg!$D117,SEE_data!AM:AM)","v":0},{"$f":"SUMIF(SEE_data!$B:$B,SEE_agrg!$D117,SEE_data!AN:AN)","v":0},{"$f":"SUMIF(SEE_data!$B:$B,SEE_agrg!$D117,SEE_data!AO:AO)","v":0},{"$f":"SUMIF(SEE_data!$B:$B,SEE_agrg!$D117,SEE_data!AP:AP)","v":0},{"$f":"SUMIF(SEE_data!$B:$B,SEE_agrg!$D117,SEE_data!AQ:AQ)","v":0},{"$f":"SUMIF(SEE_data!$B:$B,SEE_agrg!$D117,SEE_data!AR:AR)","v":0},{"$f":"SUMIF(SEE_data!$B:$B,SEE_agrg!$D117,SEE_data!AS:AS)","v":0},{"$f":"SUMIF(SEE_data!$B:$B,SEE_agrg!$D117,SEE_data!AT:AT)","v":0},{"$f":"SUMIF(SEE_data!$B:$B,SEE_agrg!$D117,SEE_data!AU:AU)","v":0},{"$f":"SUMIF(SEE_data!$B:$B,SEE_agrg!$D117,SEE_data!AV:AV)","v":0},{"$f":"SUMIF(SEE_data!$B:$B,SEE_agrg!$D117,SEE_data!AW:AW)","v":0},{"$f":"SUMIF(SEE_data!$B:$B,SEE_agrg!$D117,SEE_data!AX:AX)","v":0},{"$f":"SUMIF(SEE_data!$B:$B,SEE_agrg!$D117,SEE_data!AY:AY)","v":0},{"$f":"SUMIF(SEE_data!$B:$B,SEE_agrg!$D117,SEE_data!AZ:AZ)","v":0},{"$f":"SUMIF(SEE_data!$B:$B,SEE_agrg!$D117,SEE_data!BA:BA)","v":0},{"$f":"SUMIF(SEE_data!$B:$B,SEE_agrg!$D117,SEE_data!BB:BB)","v":0},{"$f":"SUMIF(SEE_data!$B:$B,SEE_agrg!$D117,SEE_data!BC:BC)","v":0},0,0,0,0,0,0,0,0,0,0,{"$f":"SUMIFS(UdS_data!D:D,UdS_data!F:F,1,UdS_data!B:B,D117)","v":0},{"$error":"#DIV/0!"},0,0,0,0,0,0,{"$error":"#DIV/0!"},0,0,0,0,0,0]
[null,{"$f":"INDEX(Sistema_Analisado!$A$3:$F$99,MATCH($D118,Sistema_Analisado!$B$3:$B$99,FALSE),MATCH($B$4,Sistema_Analisado!$A$3:$F$3,FALSE))","v":{"$error":"#N/A"}},{"$f":"INDEX(Sistema_Analisado!$A$3:$F$99,MATCH(D118,Sistema_Analisado!$B$3:$B$99,FALSE),MATCH(\"Seq. Corredor\",Sistema_Analisado!$A$3:$F$3,0))","v":{"$error":"#N/A"}},null,{"$f":"SUMIF(SEE_data!$B:$B,SEE_agrg!$D118,SEE_data!F:F)","v":0},{"$f":"SUMIF(SEE_data!$B:$B,SEE_agrg!$D118,SEE_data!AF:AF)","v":0},{"$f":"SUMIF(SEE_data!$B:$B,SEE_agrg!$D118,SEE_data!AG:AG)","v":0},{"$f":"SUMIF(SEE_data!$B:$B,SEE_agrg!$D118,SEE_data!AH:AH)","v":0},{"$f":"SUMIF(SEE_data!$B:$B,SEE_agrg!$D118,SEE_data!AI:AI)","v":0},{"$f":"SUMIF(SEE_data!$B:$B,SEE_agrg!$D118,SEE_data!AJ:AJ)","v":0},{"$f":"SUMIF(SEE_data!$B:$B,SEE_agrg!$D118,SEE_data!AK:AK)","v":0},{"$f":"SUMIF(SEE_data!$B:$B,SEE_agrg!$D118,SEE_data!AL:AL)","v":0},{"$f":"SUMIF(SEE_data!$B:$B,SEE_agrg!$D118,SEE_data!AM:AM)","v":0},{"$f":"SUMIF(SEE_data!$B:$B,SEE_agrg!$D118,SEE_data!AN:AN)","v":0},{"$f":"SUMIF(SEE_data!$B:$B,SEE_agrg!$D118,SEE_data!AO:AO)","v":0},{"$f":"SUMIF(SEE_data!$B:$B,SEE_agrg!$D118,SEE_data!AP:AP)","v":0},{"$f":"SUMIF(SEE_data!$B:$B,SEE_agrg!$D118,SEE_data!AQ:AQ)","v":0},{"$f":"SUMIF(SEE_data!$B:$B,SEE_agrg!$D118,SEE_data!AR:AR)","v":0},{"$f":"SUMIF(SEE_data!$B:$B,SEE_agrg!$D118,SEE_data!AS:AS)","v":0},{"$f":"SUMIF(SEE_data!$B:$B,SEE_agrg!$D118,SEE_data!AT:AT)","v":0},{"$f":"SUMIF(SEE_data!$B:$B,SEE_agrg!$D118,SEE_data!AU:AU)","v":0},{"$f":"SUMIF(SEE_data!$B:$B,SEE_agrg!$D118,SEE_data!AV:AV)","v":0},{"$f":"SUMIF(SEE_data!$B:$B,SEE_agrg!$D118,SEE_data!AW:AW)","v":0},{"$f":"SUMIF(SEE_data!$B:$B,SEE_agrg!$D118,SEE_data!AX:AX)","v":0},{"$f":"SUMIF(SEE_data!$B:$B,SEE_agrg!$D118,SEE_data!AY:AY)","v":0},{"$f":"SUMIF(SEE_data!$B:$B,SEE_agrg!$D118,SEE_data!AZ:AZ)","v":0},{"$f":"SUMIF(SEE_data!$B:$B,SEE_agrg!$D118,SEE_data!BA:BA)","v":0},{"$f":"SUMIF(SEE_data!$B:$B,SEE_agrg!$D118,SEE_data!BB:BB)","v":0},{"$f":"SUMIF(SEE_data!$B:$B,SEE_agrg!$D118,SEE_data!BC:BC)","v":0},0,0,0,0,0,0,0,0,0,0,{"$f":"SUMIFS(UdS_data!D:D,UdS_data!F:F,1,UdS_data!B:B,D118)","v":0},{"$error":"#DIV/0!"},0,0,0,0,0,0,{"$error":"#DIV/0!"},0,0,0,0,0,0]
[null,{"$f":"INDEX(Sistema_Analisado!$A$3:$F$99,MATCH($D119,Sistema_Analisado!$B$3:$B$99,FALSE),MATCH($B$4,Sistema_Analisado!$A$3:$F$3,FALSE))","v":{"$error":"#N/A"}},{"$f":"INDEX(Sistema_Analisado!$A$3:$F$99,MATCH(D119,Sistema_Analisado!$B$3:$B$99,FALSE),MATCH(\"Seq. Corredor\",Sistema_Analisado!$A$3:$F$3,0))","v":{"$error":"#N/A"}},null,{"$f":"SUMIF(SEE_data!$B:$B,SEE_agrg!$D119,SEE_data!F:F)","v":0},{"$f":"SUMIF(SEE_data!$B:$B,SEE_agrg!$D119,SEE_data!AF:AF)","v":0},{"$f":"SUMIF(SEE_data!$B:$B,SEE_agrg!$D119,SEE_data!AG:AG)","v":0},{"$f":"SUMIF(SEE_data!$B:$B,SEE_agrg!$D119,SEE_data!AH:AH)","v":0},{"$f":"SUMIF(SEE_data!$B:$B,SEE_agrg!$D119,SEE_data!AI:AI)","v":0},{"$f":"SUMIF(SEE_data!$B:$B,SEE_agrg!$D119,SEE_data!AJ:AJ)","v":0},{"$f":"SUMIF(SEE_data!$B:$B,SEE_agrg!$D119,SEE_data!AK:AK)","v":0},{"$f":"SUMIF(SEE_data!$B:$B,SEE_agrg!$D119,SEE_data!AL:AL)","v":0},{"$f":"SUMIF(SEE_data!$B:$B,SEE_agrg!$D119,SEE_data!AM:AM)","v":0},{"$f":"SUMIF(SEE_data!$B:$B,SEE_agrg!$D119,SEE_data!AN:AN)","v":0},{"$f":"SUMIF(SEE_data!$B:$B,SEE_agrg!$D119,SEE_data!AO:AO)","v":0},{"$f":"SUMIF(SEE_data!$B:$B,SEE_agrg!$D119,SEE_data!AP:AP)","v":0},{"$f":"SUMIF(SEE_data!$B:$B,SEE_agrg!$D119,SEE_data!AQ:AQ)","v":0},{"$f":"SUMIF(SEE_data!$B:$B,SEE_agrg!$D119,SEE_data!AR:AR)","v":0},{"$f":"SUMIF(SEE_data!$B:$B,SEE_agrg!$D119,SEE_data!AS:AS)","v":0},{"$f":"SUMIF(SEE_data!$B:$B,SEE_agrg!$D119,SEE_data!AT:AT)","v":0},{"$f":"SUMIF(SEE_data!$B:$B,SEE_agrg!$D119,SEE_data!AU:AU)","v":0},{"$f":"SUMIF(SEE_data!$B:$B,SEE_agrg!$D119,SEE_data!AV:AV)","v":0},{"$f":"SUMIF(SEE_data!$B:$B,SEE_agrg!$D119,SEE_data!AW:AW)","v":0},{"$f":"SUMIF(SEE_data!$B:$B,SEE_agrg!$D119,SEE_data!AX:AX)","v":0},{"$f":"SUMIF(SEE_data!$B:$B,SEE_agrg!$D119,SEE_data!AY:AY)","v":0},{"$f":"SUMIF(SEE_data!$B:$B,SEE_agrg!$D119,SEE_data!AZ:AZ)","v":0},{"$f":"SUMIF(SEE_data!$B:$B,SEE_agrg!$D119,SEE_data!BA:BA)","v":0},{"$f":"SUMIF(SEE_data!$B:$B,SEE_agrg!$D119,SEE_data!BB:BB)","v":0},{"$f":"SUMIF(SEE_data!$B:$B,SEE_agrg!$D119,SEE_data!BC:BC)","v":0},0,0,0,0,0,0,0,0,0,0,{"$f":"SUMIFS(UdS_data!D:D,UdS_data!F:F,1,UdS_data!B:B,D119)","v":0},{"$error":"#DIV/0!"},0,0,0,0,0,0,{"$error":"#DIV/0!"},0,0,0,0,0,0]
[null,{"$f":"INDEX(Sistema_Analisado!$A$3:$F$99,MATCH($D120,Sistema_Analisado!$B$3:$B$99,FALSE),MATCH($B$4,Sistema_Analisado!$A$3:$F$3,FALSE))","v":{"$error":"#N/A"}},{"$f":"INDEX(Sistema_Analisado!$A$3:$F$99,MATCH(D120,Sistema_Analisado!$B$3:$B$99,FALSE),MATCH(\"Seq. Corredor\",Sistema_Analisado!$A$3:$F$3,0))","v":{"$error":"#N/A"}},null,{"$f":"SUMIF(SEE_data!$B:$B,SEE_agrg!$D120,SEE_data!F:F)","v":0},{"$f":"SUMIF(SEE_data!$B:$B,SEE_agrg!$D120,SEE_data!AF:AF)","v":0},{"$f":"SUMIF(SEE_data!$B:$B,SEE_agrg!$D120,SEE_data!AG:AG)","v":0},{"$f":"SUMIF(SEE_data!$B:$B,SEE_agrg!$D120,SEE_data!AH:AH)","v":0},{"$f":"SUMIF(SEE_data!$B:$B,SEE_agrg!$D120,SEE_data!AI:AI)","v":0},{"$f":"SUMIF(SEE_data!$B:$B,SEE_agrg!$D120,SEE_data!AJ:AJ)","v":0},{"$f":"SUMIF(SEE_data!$B:$B,SEE_agrg!$D120,SEE_data!AK:AK)","v":0},{"$f":"SUMIF(SEE_data!$B:$B,SEE_agrg!$D120,SEE_data!AL:AL)","v":0},{"$f":"SUMIF(SEE_data!$B:$B,SEE_agrg!$D120,SEE_data!AM:AM)","v":0},{"$f":"SUMIF(SEE_data!$B:$B,SEE_agrg!$D120,SEE_data!AN:AN)","v":0},{"$f":"SUMIF(SEE_data!$B:$B,SEE_agrg!$D120,SEE_data!AO:AO)","v":0},{"$f":"SUMIF(SEE_data!$B:$B,SEE_agrg!$D120,SEE_data!AP:AP)","v":0},{"$f":"SUMIF(SEE_data!$B:$B,SEE_agrg!$D120,SEE_data!AQ:AQ)","v":0},{"$f":"SUMIF(SEE_data!$B:$B,SEE_agrg!$D120,SEE_data!AR:AR)","v":0},{"$f":"SUMIF(SEE_data!$B:$B,SEE_agrg!$D120,SEE_data!AS:AS)","v":0},{"$f":"SUMIF(SEE_data!$B:$B,SEE_agrg!$D120,SEE_data!AT:AT)","v":0},{"$f":"SUMIF(SEE_data!$B:$B,SEE_agrg!$D120,SEE_data!AU:AU)","v":0},{"$f":"SUMIF(SEE_data!$B:$B,SEE_agrg!$D120,SEE_data!AV:AV)","v":0},{"$f":"SUMIF(SEE_data!$B:$B,SEE_agrg!$D120,SEE_data!AW:AW)","v":0},{"$f":"SUMIF(SEE_data!$B:$B,SEE_agrg!$D120,SEE_data!AX:AX)","v":0},{"$f":"SUMIF(SEE_data!$B:$B,SEE_agrg!$D120,SEE_data!AY:AY)","v":0},{"$f":"SUMIF(SEE_data!$B:$B,SEE_agrg!$D120,SEE_data!AZ:AZ)","v":0},{"$f":"SUMIF(SEE_data!$B:$B,SEE_agrg!$D120,SEE_data!BA:BA)","v":0},{"$f":"SUMIF(SEE_data!$B:$B,SEE_agrg!$D120,SEE_data!BB:BB)","v":0},{"$f":"SUMIF(SEE_data!$B:$B,SEE_agrg!$D120,SEE_data!BC:BC)","v":0},0,0,0,0,0,0,0,0,0,0,{"$f":"SUMIFS(UdS_data!D:D,UdS_data!F:F,1,UdS_data!B:B,D120)","v":0},{"$error":"#DIV/0!"},0,0,0,0,0,0,{"$error":"#DIV/0!"},0,0,0,0,0,0]
[null,{"$f":"INDEX(Sistema_Analisado!$A$3:$F$99,MATCH($D121,Sistema_Analisado!$B$3:$B$99,FALSE),MATCH($B$4,Sistema_Analisado!$A$3:$F$3,FALSE))","v":{"$error":"#N/A"}},{"$f":"INDEX(Sistema_Analisado!$A$3:$F$99,MATCH(D121,Sistema_Analisado!$B$3:$B$99,FALSE),MATCH(\"Seq. Corredor\",Sistema_Analisado!$A$3:$F$3,0))","v":{"$error":"#N/A"}},null,{"$f":"SUMIF(SEE_data!$B:$B,SEE_agrg!$D121,SEE_data!F:F)","v":0},{"$f":"SUMIF(SEE_data!$B:$B,SEE_agrg!$D121,SEE_data!AF:AF)","v":0},{"$f":"SUMIF(SEE_data!$B:$B,SEE_agrg!$D121,SEE_data!AG:AG)","v":0},{"$f":"SUMIF(SEE_data!$B:$B,SEE_agrg!$D121,SEE_data!AH:AH)","v":0},{"$f":"SUMIF(SEE_data!$B:$B,SEE_agrg!$D121,SEE_data!AI:AI)","v":0},{"$f":"SUMIF(SEE_data!$B:$B,SEE_agrg!$D121,SEE_data!AJ:AJ)","v":0},{"$f":"SUMIF(SEE_data!$B:$B,SEE_agrg!$D121,SEE_data!AK:AK)","v":0},{"$f":"SUMIF(SEE_data!$B:$B,SEE_agrg!$D121,SEE_data!AL:AL)","v":0},{"$f":"SUMIF(SEE_data!$B:$B,SEE_agrg!$D121,SEE_data!AM:AM)","v":0},{"$f":"SUMIF(SEE_data!$B:$B,SEE_agrg!$D121,SEE_data!AN:AN)","v":0},{"$f":"SUMIF(SEE_data!$B:$B,SEE_agrg!$D121,SEE_data!AO:AO)","v":0},{"$f":"SUMIF(SEE_data!$B:$B,SEE_agrg!$D121,SEE_data!AP:AP)","v":0},{"$f":"SUMIF(SEE_data!$B:$B,SEE_agrg!$D121,SEE_data!AQ:AQ)","v":0},{"$f":"SUMIF(SEE_data!$B:$B,SEE_agrg!$D121,SEE_data!AR:AR)","v":0},{"$f":"SUMIF(SEE_data!$B:$B,SEE_agrg!$D121,SEE_data!AS:AS)","v":0},{"$f":"SUMIF(SEE_data!$B:$B,SEE_agrg!$D121,SEE_data!AT:AT)","v":0},{"$f":"SUMIF(SEE_data!$B:$B,SEE_agrg!$D121,SEE_data!AU:AU)","v":0},{"$f":"SUMIF(SEE_data!$B:$B,SEE_agrg!$D121,SEE_data!AV:AV)","v":0},{"$f":"SUMIF(SEE_data!$B:$B,SEE_agrg!$D121,SEE_data!AW:AW)","v":0},{"$f":"SUMIF(SEE_data!$B:$B,SEE_agrg!$D121,SEE_data!AX:AX)","v":0},{"$f":"SUMIF(SEE_data!$B:$B,SEE_agrg!$D121,SEE_data!AY:AY)","v":0},{"$f":"SUMIF(SEE_data!$B:$B,SEE_agrg!$D121,SEE_data!AZ:AZ)","v":0},{"$f":"SUMIF(SEE_data!$B:$B,SEE_agrg!$D121,SEE_data!BA:BA)","v":0},{"$f":"SUMIF(SEE_data!$B:$B,SEE_agrg!$D121,SEE_data!BB:BB)","v":0},{"$f":"SUMIF(SEE_data!$B:$B,SEE_agrg!$D121,SEE_data!BC:BC)","v":0},0,0,0,0,0,0,0,0,0,0,{"$f":"SUMIFS(UdS_data!D:D,UdS_data!F:F,1,UdS_data!B:B,D121)","v":0},{"$error":"#DIV/0!"},0,0,0,0,0,0,{"$error":"#DIV/0!"},0,0,0,0,0,0]
[null,{"$f":"INDEX(Sistema_Analisado!$A$3:$F$99,MATCH($D122,Sistema_Analisado!$B$3:$B$99,FALSE),MATCH($B$4,Sistema_Analisado!$A$3:$F$3,FALSE))","v":{"$error":"#N/A"}},{"$f":"INDEX(Sistema_Analisado!$A$3:$F$99,MATCH(D122,Sistema_Analisado!$B$3:$B$99,FALSE),MATCH(\"Seq. Corredor\",Sistema_Analisado!$A$3:$F$3,0))","v":{"$error":"#N/A"}},null,{"$f":"SUMIF(SEE_data!$B:$B,SEE_agrg!$D122,SEE_data!F:F)","v":0},{"$f":"SUMIF(SEE_data!$B:$B,SEE_agrg!$D122,SEE_data!AF:AF)","v":0},{"$f":"SUMIF(SEE_data!$B:$B,SEE_agrg!$D122,SEE_data!AG:AG)","v":0},{"$f":"SUMIF(SEE_data!$B:$B,SEE_agrg!$D122,SEE_data!AH:AH)","v":0},{"$f":"SUMIF(SEE_data!$B:$B,SEE_agrg!$D122,SEE_data!AI:AI)","v":0},{"$f":"SUMIF(SEE_data!$B:$B,SEE_agrg!$D122,SEE_data!AJ:AJ)","v":0},{"$f":"SUMIF(SEE_data!$B:$B,SEE_agrg!$D122,SEE_data!AK:AK)","v":0},{"$f":"SUMIF(SEE_data!$B:$B,SEE_agrg!$D122,SEE_data!AL:AL)","v":0},{"$f":"SUMIF(SEE_data!$B:$B,SEE_agrg!$D122,SEE_data!AM:AM)","v":0},{"$f":"SUMIF(SEE_data!$B:$B,SEE_agrg!$D122,SEE_data!AN:AN)","v":0},{"$f":"SUMIF(SEE_data!$B:$B,SEE_agrg!$D122,SEE_data!AO:AO)","v":0},{"$f":"SUMIF(SEE_data!$B:$B,SEE_agrg!$D122,SEE_data!AP:AP)","v":0},{"$f":"SUMIF(SEE_data!$B:$B,SEE_agrg!$D122,SEE_data!AQ:AQ)","v":0},{"$f":"SUMIF(SEE_data!$B:$B,SEE_agrg!$D122,SEE_data!AR:AR)","v":0},{"$f":"SUMIF(SEE_data!$B:$B,SEE_agrg!$D122,SEE_data!AS:AS)","v":0},{"$f":"SUMIF(SEE_data!$B:$B,SEE_agrg!$D122,SEE_data!AT:AT)","v":0},{"$f":"SUMIF(SEE_data!$B:$B,SEE_agrg!$D122,SEE_data!AU:AU)","v":0},{"$f":"SUMIF(SEE_data!$B:$B,SEE_agrg!$D122,SEE_data!AV:AV)","v":0},{"$f":"SUMIF(SEE_data!$B:$B,SEE_agrg!$D122,SEE_data!AW:AW)","v":0},{"$f":"SUMIF(SEE_data!$B:$B,SEE_agrg!$D122,SEE_data!AX:AX)","v":0},{"$f":"SUMIF(SEE_data!$B:$B,SEE_agrg!$D122,SEE_data!AY:AY)","v":0},{"$f":"SUMIF(SEE_data!$B:$B,SEE_agrg!$D122,SEE_data!AZ:AZ)","v":0},{"$f":"SUMIF(SEE_data!$B:$B,SEE_agrg!$D122,SEE_data!BA:BA)","v":0},{"$f":"SUMIF(SEE_data!$B:$B,SEE_agrg!$D122,SEE_data!BB:BB)","v":0},{"$f":"SUMIF(SEE_data!$B:$B,SEE_agrg!$D122,SEE_data!BC:BC)","v":0},0,0,0,0,0,0,0,0,0,0,{"$f":"SUMIFS(UdS_data!D:D,UdS_data!F:F,1,UdS_data!B:B,D122)","v":0},{"$error":"#DIV/0!"},0,0,0,0,0,0,{"$error":"#DIV/0!"},0,0,0,0,0,0]
[null,{"$f":"INDEX(Sistema_Analisado!$A$3:$F$99,MATCH($D123,Sistema_Analisado!$B$3:$B$99,FALSE),MATCH($B$4,Sistema_Analisado!$A$3:$F$3,FALSE))","v":{"$error":"#N/A"}},{"$f":"INDEX(Sistema_Analisado!$A$3:$F$99,MATCH(D123,Sistema_Analisado!$B$3:$B$99,FALSE),MATCH(\"Seq. Corredor\",Sistema_Analisado!$A$3:$F$3,0))","v":{"$error":"#N/A"}},null,{"$f":"SUMIF(SEE_data!$B:$B,SEE_agrg!$D123,SEE_data!F:F)","v":0},{"$f":"SUMIF(SEE_data!$B:$B,SEE_agrg!$D123,SEE_data!AF:AF)","v":0},{"$f":"SUMIF(SEE_data!$B:$B,SEE_agrg!$D123,SEE_data!AG:AG)","v":0},{"$f":"SUMIF(SEE_data!$B:$B,SEE_agrg!$D123,SEE_data!AH:AH)","v":0},{"$f":"SUMIF(SEE_data!$B:$B,SEE_agrg!$D123,SEE_data!AI:AI)","v":0},{"$f":"SUMIF(SEE_data!$B:$B,SEE_agrg!$D123,SEE_data!AJ:AJ)","v":0},{"$f":"SUMIF(SEE_data!$B:$B,SEE_agrg!$D123,SEE_data!AK:AK)","v":0},{"$f":"SUMIF(SEE_data!$B:$B,SEE_agrg!$D123,SEE_data!AL:AL)","v":0},{"$f":"SUMIF(SEE_data!$B:$B,SEE_agrg!$D123,SEE_data!AM:AM)","v":0},{"$f":"SUMIF(SEE_data!$B:$B,SEE_agrg!$D123,SEE_data!AN:AN)","v":0},{"$f":"SUMIF(SEE_data!$B:$B,SEE_agrg!$D123,SEE_data!AO:AO)","v":0},{"$f":"SUMIF(SEE_data!$B:$B,SEE_agrg!$D123,SEE_data!AP:AP)","v":0},{"$f":"SUMIF(SEE_data!$B:$B,SEE_agrg!$D123,SEE_data!AQ:AQ)","v":0},{"$f":"SUMIF(SEE_data!$B:$B,SEE_agrg!$D123,SEE_data!AR:AR)","v":0},{"$f":"SUMIF(SEE_data!$B:$B,SEE_agrg!$D123,SEE_data!AS:AS)","v":0},{"$f":"SUMIF(SEE_data!$B:$B,SEE_agrg!$D123,SEE_data!AT:AT)","v":0},{"$f":"SUMIF(SEE_data!$B:$B,SEE_agrg!$D123,SEE_data!AU:AU)","v":0},{"$f":"SUMIF(SEE_data!$B:$B,SEE_agrg!$D123,SEE_data!AV:AV)","v":0},{"$f":"SUMIF(SEE_data!$B:$B,SEE_agrg!$D123,SEE_data!AW:AW)","v":0},{"$f":"SUMIF(SEE_data!$B:$B,SEE_agrg!$D123,SEE_data!AX:AX)","v":0},{"$f":"SUMIF(SEE_data!$B:$B,SEE_agrg!$D123,SEE_data!AY:AY)","v":0},{"$f":"SUMIF(SEE_data!$B:$B,SEE_agrg!$D123,SEE_data!AZ:AZ)","v":0},{"$f":"SUMIF(SEE_data!$B:$B,SEE_agrg!$D123,SEE_data!BA:BA)","v":0},{"$f":"SUMIF(SEE_data!$B:$B,SEE_agrg!$D123,SEE_data!BB:BB)","v":0},{"$f":"SUMIF(SEE_data!$B:$B,SEE_agrg!$D123,SEE_data!BC:BC)","v":0},0,0,0,0,0,0,0,0,0,0,{"$f":"SUMIFS(UdS_data!D:D,UdS_data!F:F,1,UdS_data!B:B,D123)","v":0},{"$error":"#DIV/0!"},0,0,0,0,0,0,{"$error":"#DIV/0!"},0,0,0,0,0,0]
[null,{"$f":"INDEX(Sistema_Analisado!$A$3:$F$99,MATCH($D124,Sistema_Analisado!$B$3:$B$99,FALSE),MATCH($B$4,Sistema_Analisado!$A$3:$F$3,FALSE))","v":{"$error":"#N/A"}},{"$f":"INDEX(Sistema_Analisado!$A$3:$F$99,MATCH(D124,Sistema_Analisado!$B$3:$B$99,FALSE),MATCH(\"Seq. Corredor\",Sistema_Analisado!$A$3:$F$3,0))","v":{"$error":"#N/A"}},null,{"$f":"SUMIF(SEE_data!$B:$B,SEE_agrg!$D124,SEE_data!F:F)","v":0},{"$f":"SUMIF(SEE_data!$B:$B,SEE_agrg!$D124,SEE_data!AF:AF)","v":0},{"$f":"SUMIF(SEE_data!$B:$B,SEE_agrg!$D124,SEE_data!AG:AG)","v":0},{"$f":"SUMIF(SEE_data!$B:$B,SEE_agrg!$D124,SEE_data!AH:AH)","v":0},{"$f":"SUMIF(SEE_data!$B:$B,SEE_agrg!$D124,SEE_data!AI:AI)","v":0},{"$f":"SUMIF(SEE_data!$B:$B,SEE_agrg!$D124,SEE_data!AJ:AJ)","v":0},{"$f":"SUMIF(SEE_data!$B:$B,SEE_agrg!$D124,SEE_data!AK:AK)","v":0},{"$f":"SUMIF(SEE_data!$B:$B,SEE_agrg!$D124,SEE_data!AL:AL)","v":0},{"$f":"SUMIF(SEE_data!$B:$B,SEE_agrg!$D124,SEE_data!AM:AM)","v":0},{"$f":"SUMIF(SEE_data!$B:$B,SEE_agrg!$D124,SEE_data!AN:AN)","v":0},{"$f":"SUMIF(SEE_data!$B:$B,SEE_agrg!$D124,SEE_data!AO:AO)","v":0},{"$f":"SUMIF(SEE_data!$B:$B,SEE_agrg!$D124,SEE_data!AP:AP)","v":0},{"$f":"SUMIF(SEE_data!$B:$B,SEE_agrg!$D124,SEE_data!AQ:AQ)","v":0},{"$f":"SUMIF(SEE_data!$B:$B,SEE_agrg!$D124,SEE_data!AR:AR)","v":0},{"$f":"SUMIF(SEE_data!$B:$B,SEE_agrg!$D124,SEE_data!AS:AS)","v":0},{"$f":"SUMIF(SEE_data!$B:$B,SEE_agrg!$D124,SEE_data!AT:AT)","v":0},{"$f":"SUMIF(SEE_data!$B:$B,SEE_agrg!$D124,SEE_data!AU:AU)","v":0},{"$f":"SUMIF(SEE_data!$B:$B,SEE_agrg!$D124,SEE_data!AV:AV)","v":0},{"$f":"SUMIF(SEE_data!$B:$B,SEE_agrg!$D124,SEE_data!AW:AW)","v":0},{"$f":"SUMIF(SEE_data!$B:$B,SEE_agrg!$D124,SEE_data!AX:AX)","v":0},{"$f":"SUMIF(SEE_data!$B:$B,SEE_agrg!$D124,SEE_data!AY:AY)","v":0},{"$f":"SUMIF(SEE_data!$B:$B,SEE_agrg!$D124,SEE_data!AZ:AZ)","v":0},{"$f":"SUMIF(SEE_data!$B:$B,SEE_agrg!$D124,SEE_data!BA:BA)","v":0},{"$f":"SUMIF(SEE_data!$B:$B,SEE_agrg!$D124,SEE_data!BB:BB)","v":0},{"$f":"SUMIF(SEE_data!$B:$B,SEE_agrg!$D124,SEE_data!BC:BC)","v":0},0,0,0,0,0,0,0,0,0,0,{"$f":"SUMIFS(UdS_data!D:D,UdS_data!F:F,1,UdS_data!B:B,D124)","v":0},{"$error":"#DIV/0!"},0,0,0,0,0,0,{"$error":"#DIV/0!"},0,0,0,0,0,0]
[null,{"$f":"INDEX(Sistema_Analisado!$A$3:$F$99,MATCH($D125,Sistema_Analisado!$B$3:$B$99,FALSE),MATCH($B$4,Sistema_Analisado!$A$3:$F$3,FALSE))","v":{"$error":"#N/A"}},{"$f":"INDEX(Sistema_Analisado!$A$3:$F$99,MATCH(D125,Sistema_Analisado!$B$3:$B$99,FALSE),MATCH(\"Seq. Corredor\",Sistema_Analisado!$A$3:$F$3,0))","v":{"$error":"#N/A"}},null,{"$f":"SUMIF(SEE_data!$B:$B,SEE_agrg!$D125,SEE_data!F:F)","v":0},{"$f":"SUMIF(SEE_data!$B:$B,SEE_agrg!$D125,SEE_data!AF:AF)","v":0},{"$f":"SUMIF(SEE_data!$B:$B,SEE_agrg!$D125,SEE_data!AG:AG)","v":0},{"$f":"SUMIF(SEE_data!$B:$B,SEE_agrg!$D125,SEE_data!AH:AH)","v":0},{"$f":"SUMIF(SEE_data!$B:$B,SEE_agrg!$D125,SEE_data!AI:AI)","v":0},{"$f":"SUMIF(SEE_data!$B:$B,SEE_agrg!$D125,SEE_data!AJ:AJ)","v":0},{"$f":"SUMIF(SEE_data!$B:$B,SEE_agrg!$D125,SEE_data!AK:AK)","v":0},{"$f":"SUMIF(SEE_data!$B:$B,SEE_agrg!$D125,SEE_data!AL:AL)","v":0},{"$f":"SUMIF(SEE_data!$B:$B,SEE_agrg!$D125,SEE_data!AM:AM)","v":0},{"$f":"SUMIF(SEE_data!$B:$B,SEE_agrg!$D125,SEE_data!AN:AN)","v":0},{"$f":"SUMIF(SEE_data!$B:$B,SEE_agrg!$D125,SEE_data!AO:AO)","v":0},{"$f":"SUMIF(SEE_data!$B:$B,SEE_agrg!$D125,SEE_data!AP:AP)","v":0},{"$f":"SUMIF(SEE_data!$B:$B,SEE_agrg!$D125,SEE_data!AQ:AQ)","v":0},{"$f":"SUMIF(SEE_data!$B:$B,SEE_agrg!$D125,SEE_data!AR:AR)","v":0},{"$f":"SUMIF(SEE_data!$B:$B,SEE_agrg!$D125,SEE_data!AS:AS)","v":0},{"$f":"SUMIF(SEE_data!$B:$B,SEE_agrg!$D125,SEE_data!AT:AT)","v":0},{"$f":"SUMIF(SEE_data!$B:$B,SEE_agrg!$D125,SEE_data!AU:AU)","v":0},{"$f":"SUMIF(SEE_data!$B:$B,SEE_agrg!$D125,SEE_data!AV:AV)","v":0},{"$f":"SUMIF(SEE_data!$B:$B,SEE_agrg!$D125,SEE_data!AW:AW)","v":0},{"$f":"SUMIF(SEE_data!$B:$B,SEE_agrg!$D125,SEE_data!AX:AX)","v":0},{"$f":"SUMIF(SEE_data!$B:$B,SEE_agrg!$D125,SEE_data!AY:AY)","v":0},{"$f":"SUMIF(SEE_data!$B:$B,SEE_agrg!$D125,SEE_data!AZ:AZ)","v":0},{"$f":"SUMIF(SEE_data!$B:$B,SEE_agrg!$D125,SEE_data!BA:BA)","v":0},{"$f":"SUMIF(SEE_data!$B:$B,SEE_agrg!$D125,SEE_data!BB:BB)","v":0},{"$f":"SUMIF(SEE_data!$B:$B,SEE_agrg!$D125,SEE_data!BC:BC)","v":0},0,0,0,0,0,0,0,0,0,0,{"$f":"SUMIFS(UdS_data!D:D,UdS_data!F:F,1,UdS_data!B:B,D125)","v":0},{"$error":"#DIV/0!"},0,0,0,0,0,0,{"$error":"#DIV/0!"},0,0,0,0,0,0]
[null,{"$f":"INDEX(Sistema_Analisado!$A$3:$F$99,MATCH($D126,Sistema_Analisado!$B$3:$B$99,FALSE),MATCH($B$4,Sistema_Analisado!$A$3:$F$3,FALSE))","v":{"$error":"#N/A"}},{"$f":"INDEX(Sistema_Analisado!$A$3:$F$99,MATCH(D126,Sistema_Analisado!$B$3:$B$99,FALSE),MATCH(\"Seq. Corredor\",Sistema_Analisado!$A$3:$F$3,0))","v":{"$error":"#N/A"}},null,{"$f":"SUMIF(SEE_data!$B:$B,SEE_agrg!$D126,SEE_data!F:F)","v":0},{"$f":"SUMIF(SEE_data!$B:$B,SEE_agrg!$D126,SEE_data!AF:AF)","v":0},{"$f":"SUMIF(SEE_data!$B:$B,SEE_agrg!$D126,SEE_data!AG:AG)","v":0},{"$f":"SUMIF(SEE_data!$B:$B,SEE_agrg!$D126,SEE_data!AH:AH)","v":0},{"$f":"SUMIF(SEE_data!$B:$B,SEE_agrg!$D126,SEE_data!AI:AI)","v":0},{"$f":"SUMIF(SEE_data!$B:$B,SEE_agrg!$D126,SEE_data!AJ:AJ)","v":0},{"$f":"SUMIF(SEE_data!$B:$B,SEE_agrg!$D126,SEE_data!AK:AK)","v":0},{"$f":"SUMIF(SEE_data!$B:$B,SEE_agrg!$D126,SEE_data!AL:AL)","v":0},{"$f":"SUMIF(SEE_data!$B:$B,SEE_agrg!$D126,SEE_data!AM:AM)","v":0},{"$f":"SUMIF(SEE_data!$B:$B,SEE_agrg!$D126,SEE_data!AN:AN)","v":0},{"$f":"SUMIF(SEE_data!$B:$B,SEE_agrg!$D126,SEE_data!AO:AO)","v":0},{"$f":"SUMIF(SEE_data!$B:$B,SEE_agrg!$D126,SEE_data!AP:AP)","v":0},{"$f":"SUMIF(SEE_data!$B:$B,SEE_agrg!$D126,SEE_data!AQ:AQ)","v":0},{"$f":"SUMIF(SEE_data!$B:$B,SEE_agrg!$D126,SEE_data!AR:AR)","v":0},{"$f":"SUMIF(SEE_data!$B:$B,SEE_agrg!$D126,SEE_data!AS:AS)","v":0},{"$f":"SUMIF(SEE_data!$B:$B,SEE_agrg!$D126,SEE_data!AT:AT)","v":0},{"$f":"SUMIF(SEE_data!$B:$B,SEE_agrg!$D126,SEE_data!AU:AU)","v":0},{"$f":"SUMIF(SEE_data!$B:$B,SEE_agrg!$D126,SEE_data!AV:AV)","v":0},{"$f":"SUMIF(SEE_data!$B:$B,SEE_agrg!$D126,SEE_data!AW:AW)","v":0},{"$f":"SUMIF(SEE_data!$B:$B,SEE_agrg!$D126,SEE_data!AX:AX)","v":0},{"$f":"SUMIF(SEE_data!$B:$B,SEE_agrg!$D126,SEE_data!AY:AY)","v":0},{"$f":"SUMIF(SEE_data!$B:$B,SEE_agrg!$D126,SEE_data!AZ:AZ)","v":0},{"$f":"SUMIF(SEE_data!$B:$B,SEE_agrg!$D126,SEE_data!BA:BA)","v":0},{"$f":"SUMIF(SEE_data!$B:$B,SEE_agrg!$D126,SEE_data!BB:BB)","v":0},{"$f":"SUMIF(SEE_data!$B:$B,SEE_agrg!$D126,SEE_data!BC:BC)","v":0},0,0,0,0,0,0,0,0,0,0,{"$f":"SUMIFS(UdS_data!D:D,UdS_data!F:F,1,UdS_data!B:B,D126)","v":0},{"$error":"#DIV/0!"},0,0,0,0,0,0,{"$error":"#DIV/0!"},0,0,0,0,0,0]
[null,{"$f":"INDEX(Sistema_Analisado!$A$3:$F$99,MATCH($D127,Sistema_Analisado!$B$3:$B$99,FALSE),MATCH($B$4,Sistema_Analisado!$A$3:$F$3,FALSE))","v":{"$error":"#N/A"}},{"$f":"INDEX(Sistema_Analisado!$A$3:$F$99,MATCH(D127,Sistema_Analisado!$B$3:$B$99,FALSE),MATCH(\"Seq. Corredor\",Sistema_Analisado!$A$3:$F$3,0))","v":{"$error":"#N/A"}},null,{"$f":"SUMIF(SEE_data!$B:$B,SEE_agrg!$D127,SEE_data!F:F)","v":0},{"$f":"SUMIF(SEE_data!$B:$B,SEE_agrg!$D127,SEE_data!AF:AF)","v":0},{"$f":"SUMIF(SEE_data!$B:$B,SEE_agrg!$D127,SEE_data!AG:AG)","v":0},{"$f":"SUMIF(SEE_data!$B:$B,SEE_agrg!$D127,SEE_data!AH:AH)","v":0},{"$f":"SUMIF(SEE_data!$B:$B,SEE_agrg!$D127,SEE_data!AI:AI)","v":0},{"$f":"SUMIF(SEE_data!$B:$B,SEE_agrg!$D127,SEE_data!AJ:AJ)","v":0},{"$f":"SUMIF(SEE_data!$B:$B,SEE_agrg!$D127,SEE_data!AK:AK)","v":0},{"$f":"SUMIF(SEE_data!$B:$B,SEE_agrg!$D127,SEE_data!AL:AL)","v":0},{"$f":"SUMIF(SEE_data!$B:$B,SEE_agrg!$D127,SEE_data!AM:AM)","v":0},{"$f":"SUMIF(SEE_data!$B:$B,SEE_agrg!$D127,SEE_data!AN:AN)","v":0},{"$f":"SUMIF(SEE_data!$B:$B,SEE_agrg!$D127,SEE_data!AO:AO)","v":0},{"$f":"SUMIF(SEE_data!$B:$B,SEE_agrg!$D127,SEE_data!AP:AP)","v":0},{"$f":"SUMIF(SEE_data!$B:$B,SEE_agrg!$D127,SEE_data!AQ:AQ)","v":0},{"$f":"SUMIF(SEE_data!$B:$B,SEE_agrg!$D127,SEE_data!AR:AR)","v":0},{"$f":"SUMIF(SEE_data!$B:$B,SEE_agrg!$D127,SEE_data!AS:AS)","v":0},{"$f":"SUMIF(SEE_data!$B:$B,SEE_agrg!$D127,SEE_data!AT:AT)","v":0},{"$f":"SUMIF(SEE_data!$B:$B,SEE_agrg!$D127,SEE_data!AU:AU)","v":0},{"$f":"SUMIF(SEE_data!$B:$B,SEE_agrg!$D127,SEE_data!AV:AV)","v":0},{"$f":"SUMIF(SEE_data!$B:$B,SEE_agrg!$D127,SEE_data!AW:AW)","v":0},{"$f":"SUMIF(SEE_data!$B:$B,SEE_agrg!$D127,SEE_data!AX:AX)","v":0},{"$f":"SUMIF(SEE_data!$B:$B,SEE_agrg!$D127,SEE_data!AY:AY)","v":0},{"$f":"SUMIF(SEE_data!$B:$B,SEE_agrg!$D127,SEE_data!AZ:AZ)","v":0},{"$f":"SUMIF(SEE_data!$B:$B,SEE_agrg!$D127,SEE_data!BA:BA)","v":0},{"$f":"SUMIF(SEE_data!$B:$B,SEE_agrg!$D127,SEE_data!BB:BB)","v":0},{"$f":"SUMIF(SEE_data!$B:$B,SEE_agrg!$D127,SEE_data!BC:BC)","v":0},0,0,0,0,0,0,0,0,0,0,{"$f":"SUMIFS(UdS_data!D:D,UdS_data!F:F,1,UdS_data!B:B,D127)","v":0},{"$error":"#DIV/0!"},0,0,0,0,0,0,{"$error":"#DIV/0!"},0,0,0,0,0,0]
[null,{"$f":"INDEX(Sistema_Analisado!$A$3:$F$99,MATCH($D128,Sistema_Analisado!$B$3:$B$99,FALSE),MATCH($B$4,Sistema_Analisado!$A$3:$F$3,FALSE))","v":{"$error":"#N/A"}},{"$f":"INDEX(Sistema_Analisado!$A$3:$F$99,MATCH(D128,Sistema_Analisado!$B$3:$B$99,FALSE),MATCH(\"Seq. Corredor\",Sistema_Analisado!$A$3:$F$3,0))","v":{"$error":"#N/A"}},null,{"$f":"SUMIF(SEE_data!$B:$B,SEE_agrg!$D128,SEE_data!F:F)","v":0},{"$f":"SUMIF(SEE_data!$B:$B,SEE_agrg!$D128,SEE_data!AF:AF)","v":0},{"$f":"SUMIF(SEE_data!$B:$B,SEE_agrg!$D128,SEE_data!AG:AG)","v":0},{"$f":"SUMIF(SEE_data!$B:$B,SEE_agrg!$D128,SEE_data!AH:AH)","v":0},{"$f":"SUMIF(SEE_data!$B:$B,SEE_agrg!$D128,SEE_data!AI:AI)","v":0},{"$f":"SUMIF(SEE_data!$B:$B,SEE_agrg!$D128,SEE_data!AJ:AJ)","v":0},{"$f":"SUMIF(SEE_data!$B:$B,SEE_agrg!$D128,SEE_data!AK:AK)","v":0},{"$f":"SUMIF(SEE_data!$B:$B,SEE_agrg!$D128,SEE_data!AL:AL)","v":0},{"$f":"SUMIF(SEE_data!$B:$B,SEE_agrg!$D128,SEE_data!AM:AM)","v":0},{"$f":"SUMIF(SEE_data!$B:$B,SEE_agrg!$D128,SEE_data!AN:AN)","v":0},{"$f":"SUMIF(SEE_data!$B:$B,SEE_agrg!$D128,SEE_data!AO:AO)","v":0},{"$f":"SUMIF(SEE_data!$B:$B,SEE_agrg!$D128,SEE_data!AP:AP)","v":0},{"$f":"SUMIF(SEE_data!$B:$B,SEE_agrg!$D128,SEE_data!AQ:AQ)","v":0},{"$f":"SUMIF(SEE_data!$B:$B,SEE_agrg!$D128,SEE_data!AR:AR)","v":0},{"$f":"SUMIF(SEE_data!$B:$B,SEE_agrg!$D128,SEE_data!AS:AS)","v":0},{"$f":"SUMIF(SEE_data!$B:$B,SEE_agrg!$D128,SEE_data!AT:AT)","v":0},{"$f":"SUMIF(SEE_data!$B:$B,SEE_agrg!$D128,SEE_data!AU:AU)","v":0},{"$f":"SUMIF(SEE_data!$B:$B,SEE_agrg!$D128,SEE_data!AV:AV)","v":0},{"$f":"SUMIF(SEE_data!$B:$B,SEE_agrg!$D128,SEE_data!AW:AW)","v":0},{"$f":"SUMIF(SEE_data!$B:$B,SEE_agrg!$D128,SEE_data!AX:AX)","v":0},{"$f":"SUMIF(SEE_data!$B:$B,SEE_agrg!$D128,SEE_data!AY:AY)","v":0},{"$f":"SUMIF(SEE_data!$B:$B,SEE_agrg!$D128,SEE_data!AZ:AZ)","v":0},{"$f":"SUMIF(SEE_data!$B:$B,SEE_agrg!$D128,SEE_data!BA:BA)","v":0},{"$f":"SUMIF(SEE_data!$B:$B,SEE_agrg!$D128,SEE_data!BB:BB)","v":0},{"$f":"SUMIF(SEE_data!$B:$B,SEE_agrg!$D128,SEE_data!BC:BC)","v":0},0,0,0,0,0,0,0,0,0,0,{"$f":"SUMIFS(UdS_data!D:D,UdS_data!F:F,1,UdS_data!B:B,D128)","v":0},{"$error":"#DIV/0!"},0,0,0,0,0,0,{"$error":"#DIV/0!"},0,0,0,0,0,0]
[null,{"$f":"INDEX(Sistema_Analisado!$A$3:$F$99,MATCH($D129,Sistema_Analisado!$B$3:$B$99,FALSE),MATCH($B$4,Sistema_Analisado!$A$3:$F$3,FALSE))","v":{"$error":"#N/A"}},{"$f":"INDEX(Sistema_Analisado!$A$3:$F$99,MATCH(D129,Sistema_Analisado!$B$3:$B$99,FALSE),MATCH(\"Seq. Corredor\",Sistema_Analisado!$A$3:$F$3,0))","v":{"$error":"#N/A"}},null,{"$f":"SUMIF(SEE_data!$B:$B,SEE_agrg!$D129,SEE_data!F:F)","v":0},{"$f":"SUMIF(SEE_data!$B:$B,SEE_agrg!$D129,SEE_data!AF:AF)","v":0},{"$f":"SUMIF(SEE_data!$B:$B,SEE_agrg!$D129,SEE_data!AG:AG)","v":0},{"$f":"SUMIF(SEE_data!$B:$B,SEE_agrg!$D129,SEE_data!AH:AH)","v":0},{"$f":"SUMIF(SEE_data!$B:$B,SEE_agrg!$D129,SEE_data!AI:AI)","v":0},{"$f":"SUMIF(SEE_data!$B:$B,SEE_agrg!$D129,SEE_data!AJ:AJ)","v":0},{"$f":"SUMIF(SEE_data!$B:$B,SEE_agrg!$D129,SEE_data!AK:AK)","v":0},{"$f":"SUMIF(SEE_data!$B:$B,SEE_agrg!$D129,SEE_data!AL:AL)","v":0},{"$f":"SUMIF(SEE_data!$B:$B,SEE_agrg!$D129,SEE_data!AM:AM)","v":0},{"$f":"SUMIF(SEE_data!$B:$B,SEE_agrg!$D129,SEE_data!AN:AN)","v":0},{"$f":"SUMIF(SEE_data!$B:$B,SEE_agrg!$D129,SEE_data!AO:AO)","v":0},{"$f":"SUMIF(SEE_data!$B:$B,SEE_agrg!$D129,SEE_data!AP:AP)","v":0},{"$f":"SUMIF(SEE_data!$B:$B,SEE_agrg!$D129,SEE_data!AQ:AQ)","v":0},{"$f":"SUMIF(SEE_data!$B:$B,SEE_agrg!$D129,SEE_data!AR:AR)","v":0},{"$f":"SUMIF(SEE_data!$B:$B,SEE_agrg!$D129,SEE_data!AS:AS)","v":0},{"$f":"SUMIF(SEE_data!$B:$B,SEE_agrg!$D129,SEE_data!AT:AT)","v":0},{"$f":"SUMIF(SEE_data!$B:$B,SEE_agrg!$D129,SEE_data!AU:AU)","v":0},{"$f":"SUMIF(SEE_data!$B:$B,SEE_agrg!$D129,SEE_data!AV:AV)","v":0},{"$f":"SUMIF(SEE_data!$B:$B,SEE_agrg!$D129,SEE_data!AW:AW)","v":0},{"$f":"SUMIF(SEE_data!$B:$B,SEE_agrg!$D129,SEE_data!AX:AX)","v":0},{"$f":"SUMIF(SEE_data!$B:$B,SEE_agrg!$D129,SEE_data!AY:AY)","v":0},{"$f":"SUMIF(SEE_data!$B:$B,SEE_agrg!$D129,SEE_data!AZ:AZ)","v":0},{"$f":"SUMIF(SEE_data!$B:$B,SEE_agrg!$D129,SEE_data!BA:BA)","v":0},{"$f":"SUMIF(SEE_data!$B:$B,SEE_agrg!$D129,SEE_data!BB:BB)","v":0},{"$f":"SUMIF(SEE_data!$B:$B,SEE_agrg!$D129,SEE_data!BC:BC)","v":0},0,0,0,0,0,0,0,0,0,0,{"$f":"SUMIFS(UdS_data!D:D,UdS_data!F:F,1,UdS_data!B:B,D129)","v":0},{"$error":"#DIV/0!"},0,0,0,0,0,0,{"$error":"#DIV/0!"},0,0,0,0,0,0]
[null,{"$f":"INDEX(Sistema_Analisado!$A$3:$F$99,MATCH($D130,Sistema_Analisado!$B$3:$B$99,FALSE),MATCH($B$4,Sistema_Analisado!$A$3:$F$3,FALSE))","v":{"$error":"#N/A"}},{"$f":"INDEX(Sistema_Analisado!$A$3:$F$99,MATCH(D130,Sistema_Analisado!$B$3:$B$99,FALSE),MATCH(\"Seq. Corredor\",Sistema_Analisado!$A$3:$F$3,0))","v":{"$error":"#N/A"}},null,{"$f":"SUMIF(SEE_data!$B:$B,SEE_agrg!$D130,SEE_data!F:F)","v":0},{"$f":"SUMIF(SEE_data!$B:$B,SEE_agrg!$D130,SEE_data!AF:AF)","v":0},{"$f":"SUMIF(SEE_data!$B:$B,SEE_agrg!$D130,SEE_data!AG:AG)","v":0},{"$f":"SUMIF(SEE_data!$B:$B,SEE_agrg!$D130,SEE_data!AH:AH)","v":0},{"$f":"SUMIF(SEE_data!$B:$B,SEE_agrg!$D130,SEE_data!AI:AI)","v":0},{"$f":"SUMIF(SEE_data!$B:$B,SEE_agrg!$D130,SEE_data!AJ:AJ)","v":0},{"$f":"SUMIF(SEE_data!$B:$B,SEE_agrg!$D130,SEE_data!AK:AK)","v":0},{"$f":"SUMIF(SEE_data!$B:$B,SEE_agrg!$D130,SEE_data!AL:AL)","v":0},{"$f":"SUMIF(SEE_data!$B:$B,SEE_agrg!$D130,SEE_data!AM:AM)","v":0},{"$f":"SUMIF(SEE_data!$B:$B,SEE_agrg!$D130,SEE_data!AN:AN)","v":0},{"$f":"SUMIF(SEE_data!$B:$B,SEE_agrg!$D130,SEE_data!AO:AO)","v":0},{"$f":"SUMIF(SEE_data!$B:$B,SEE_agrg!$D130,SEE_data!AP:AP)","v":0},{"$f":"SUMIF(SEE_data!$B:$B,SEE_agrg!$D130,SEE_data!AQ:AQ)","v":0},{"$f":"SUMIF(SEE_data!$B:$B,SEE_agrg!$D130,SEE_data!AR:AR)","v":0},{"$f":"SUMIF(SEE_data!$B:$B,SEE_agrg!$D130,SEE_data!AS:AS)","v":0},{"$f":"SUMIF(SEE_data!$B:$B,SEE_agrg!$D130,SEE_data!AT:AT)","v":0},{"$f":"SUMIF(SEE_data!$B:$B,SEE_agrg!$D130,SEE_data!AU:AU)","v":0},{"$f":"SUMIF(SEE_data!$B:$B,SEE_agrg!$D130,SEE_data!AV:AV)","v":0},{"$f":"SUMIF(SEE_data!$B:$B,SEE_agrg!$D130,SEE_data!AW:AW)","v":0},{"$f":"SUMIF(SEE_data!$B:$B,SEE_agrg!$D130,SEE_data!AX:AX)","v":0},{"$f":"SUMIF(SEE_data!$B:$B,SEE_agrg!$D130,SEE_data!AY:AY)","v":0},{"$f":"SUMIF(SEE_data!$B:$B,SEE_agrg!$D130,SEE_data!AZ:AZ)","v":0},{"$f":"SUMIF(SEE_data!$B:$B,SEE_agrg!$D130,SEE_data!BA:BA)","v":0},{"$f":"SUMIF(SEE_data!$B:$B,SEE_agrg!$D130,SEE_data!BB:BB)","v":0},{"$f":"SUMIF(SEE_data!$B:$B,SEE_agrg!$D130,SEE_data!BC:BC)","v":0},0,0,0,0,0,0,0,0,0,0,{"$f":"SUMIFS(UdS_data!D:D,UdS_data!F:F,1,UdS_data!B:B,D130)","v":0},{"$error":"#DIV/0!"},0,0,0,0,0,0,{"$error":"#DIV/0!"},0,0,0,0,0,0]
[null,{"$f":"INDEX(Sistema_Analisado!$A$3:$F$99,MATCH($D131,Sistema_Analisado!$B$3:$B$99,FALSE),MATCH($B$4,Sistema_Analisado!$A$3:$F$3,FALSE))","v":{"$error":"#N/A"}},{"$f":"INDEX(Sistema_Analisado!$A$3:$F$99,MATCH(D131,Sistema_Analisado!$B$3:$B$99,FALSE),MATCH(\"Seq. Corredor\",Sistema_Analisado!$A$3:$F$3,0))","v":{"$error":"#N/A"}},null,{"$f":"SUMIF(SEE_data!$B:$B,SEE_agrg!$D131,SEE_data!F:F)","v":0},{"$f":"SUMIF(SEE_data!$B:$B,SEE_agrg!$D131,SEE_data!AF:AF)","v":0},{"$f":"SUMIF(SEE_data!$B:$B,SEE_agrg!$D131,SEE_data!AG:AG)","v":0},{"$f":"SUMIF(SEE_data!$B:$B,SEE_agrg!$D131,SEE_data!AH:AH)","v":0},{"$f":"SUMIF(SEE_data!$B:$B,SEE_agrg!$D131,SEE_data!AI:AI)","v":0},{"$f":"SUMIF(SEE_data!$B:$B,SEE_agrg!$D131,SEE_data!AJ:AJ)","v":0},{"$f":"SUMIF(SEE_data!$B:$B,SEE_agrg!$D131,SEE_data!AK:AK)","v":0},{"$f":"SUMIF(SEE_data!$B:$B,SEE_agrg!$D131,SEE_data!AL:AL)","v":0},{"$f":"SUMIF(SEE_data!$B:$B,SEE_agrg!$D131,SEE_data!AM:AM)","v":0},{"$f":"SUMIF(SEE_data!$B:$B,SEE_agrg!$D131,SEE_data!AN:AN)","v":0},{"$f":"SUMIF(SEE_data!$B:$B,SEE_agrg!$D131,SEE_data!AO:AO)","v":0},{"$f":"SUMIF(SEE_data!$B:$B,SEE_agrg!$D131,SEE_data!AP:AP)","v":0},{"$f":"SUMIF(SEE_data!$B:$B,SEE_agrg!$D131,SEE_data!AQ:AQ)","v":0},{"$f":"SUMIF(SEE_data!$B:$B,SEE_agrg!$D131,SEE_data!AR:AR)","v":0},{"$f":"SUMIF(SEE_data!$B:$B,SEE_agrg!$D131,SEE_data!AS:AS)","v":0},{"$f":"SUMIF(SEE_data!$B:$B,SEE_agrg!$D131,SEE_data!AT:AT)","v":0},{"$f":"SUMIF(SEE_data!$B:$B,SEE_agrg!$D131,SEE_data!AU:AU)","v":0},{"$f":"SUMIF(SEE_data!$B:$B,SEE_agrg!$D131,SEE_data!AV:AV)","v":0},{"$f":"SUMIF(SEE_data!$B:$B,SEE_agrg!$D131,SEE_data!AW:AW)","v":0},{"$f":"SUMIF(SEE_data!$B:$B,SEE_agrg!$D131,SEE_data!AX:AX)","v":0},{"$f":"SUMIF(SEE_data!$B:$B,SEE_agrg!$D131,SEE_data!AY:AY)","v":0},{"$f":"SUMIF(SEE_data!$B:$B,SEE_agrg!$D131,SEE_data!AZ:AZ)","v":0},{"$f":"SUMIF(SEE_data!$B:$B,SEE_agrg!$D131,SEE_data!BA:BA)","v":0},{"$f":"SUMIF(SEE_data!$B:$B,SEE_agrg!$D131,SEE_data!BB:BB)","v":0},{"$f":"SUMIF(SEE_data!$B:$B,SEE_agrg!$D131,SEE_data!BC:BC)","v":0},0,0,0,0,0,0,0,0,0,0,{"$f":"SUMIFS(UdS_data!D:D,UdS_data!F:F,1,UdS_data!B:B,D131)","v":0},{"$error":"#DIV/0!"},0,0,0,0,0,0,{"$error":"#DIV/0!"},0,0,0,0,0,0]
[null,{"$f":"INDEX(Sistema_Analisado!$A$3:$F$99,MATCH($D132,Sistema_Analisado!$B$3:$B$99,FALSE),MATCH($B$4,Sistema_Analisado!$A$3:$F$3,FALSE))","v":{"$error":"#N/A"}},{"$f":"INDEX(Sistema_Analisado!$A$3:$F$99,MATCH(D132,Sistema_Analisado!$B$3:$B$99,FALSE),MATCH(\"Seq. Corredor\",Sistema_Analisado!$A$3:$F$3,0))","v":{"$error":"#N/A"}},null,{"$f":"SUMIF(SEE_data!$B:$B,SEE_agrg!$D132,SEE_data!F:F)","v":0},{"$f":"SUMIF(SEE_data!$B:$B,SEE_agrg!$D132,SEE_data!AF:AF)","v":0},{"$f":"SUMIF(SEE_data!$B:$B,SEE_agrg!$D132,SEE_data!AG:AG)","v":0},{"$f":"SUMIF(SEE_data!$B:$B,SEE_agrg!$D132,SEE_data!AH:AH)","v":0},{"$f":"SUMIF(SEE_data!$B:$B,SEE_agrg!$D132,SEE_data!AI:AI)","v":0},{"$f":"SUMIF(SEE_data!$B:$B,SEE_agrg!$D132,SEE_data!AJ:AJ)","v":0},{"$f":"SUMIF(SEE_data!$B:$B,SEE_agrg!$D132,SEE_data!AK:AK)","v":0},{"$f":"SUMIF(SEE_data!$B:$B,SEE_agrg!$D132,SEE_data!AL:AL)","v":0},{"$f":"SUMIF(SEE_data!$B:$B,SEE_agrg!$D132,SEE_data!AM:AM)","v":0},{"$f":"SUMIF(SEE_data!$B:$B,SEE_agrg!$D132,SEE_data!AN:AN)","v":0},{"$f":"SUMIF(SEE_data!$B:$B,SEE_agrg!$D132,SEE_data!AO:AO)","v":0},{"$f":"SUMIF(SEE_data!$B:$B,SEE_agrg!$D132,SEE_data!AP:AP)","v":0},{"$f":"SUMIF(SEE_data!$B:$B,SEE_agrg!$D132,SEE_data!AQ:AQ)","v":0},{"$f":"SUMIF(SEE_data!$B:$B,SEE_agrg!$D132,SEE_data!AR:AR)","v":0},{"$f":"SUMIF(SEE_data!$B:$B,SEE_agrg!$D132,SEE_data!AS:AS)","v":0},{"$f":"SUMIF(SEE_data!$B:$B,SEE_agrg!$D132,SEE_data!AT:AT)","v":0},{"$f":"SUMIF(SEE_data!$B:$B,SEE_agrg!$D132,SEE_data!AU:AU)","v":0},{"$f":"SUMIF(SEE_data!$B:$B,SEE_agrg!$D132,SEE_data!AV:AV)","v":0},{"$f":"SUMIF(SEE_data!$B:$B,SEE_agrg!$D132,SEE_data!AW:AW)","v":0},{"$f":"SUMIF(SEE_data!$B:$B,SEE_agrg!$D132,SEE_data!AX:AX)","v":0},{"$f":"SUMIF(SEE_data!$B:$B,SEE_agrg!$D132,SEE_data!AY:AY)","v":0},{"$f":"SUMIF(SEE_data!$B:$B,SEE_agrg!$D132,SEE_data!AZ:AZ)","v":0},{"$f":"SUMIF(SEE_data!$B:$B,SEE_agrg!$D132,SEE_data!BA:BA)","v":0},{"$f":"SUMIF(SEE_data!$B:$B,SEE_agrg!$D132,SEE_data!BB:BB)","v":0},{"$f":"SUMIF(SEE_data!$B:$B,SEE_agrg!$D132,SEE_data!BC:BC)","v":0},0,0,0,0,0,0,0,0,0,0,{"$f":"SUMIFS(UdS_data!D:D,UdS_data!F:F,1,UdS_data!B:B,D132)","v":0},{"$error":"#DIV/0!"},0,0,0,0,0,0,{"$error":"#DIV/0!"},0,0,0,0,0,0]
[null,{"$f":"INDEX(Sistema_Analisado!$A$3:$F$99,MATCH($D133,Sistema_Analisado!$B$3:$B$99,FALSE),MATCH($B$4,Sistema_Analisado!$A$3:$F$3,FALSE))","v":{"$error":"#N/A"}},{"$f":"INDEX(Sistema_Analisado!$A$3:$F$99,MATCH(D133,Sistema_Analisado!$B$3:$B$99,FALSE),MATCH(\"Seq. Corredor\",Sistema_Analisado!$A$3:$F$3,0))","v":{"$error":"#N/A"}},null,{"$f":"SUMIF(SEE_data!$B:$B,SEE_agrg!$D133,SEE_data!F:F)","v":0},{"$f":"SUMIF(SEE_data!$B:$B,SEE_agrg!$D133,SEE_data!AF:AF)","v":0},{"$f":"SUMIF(SEE_data!$B:$B,SEE_agrg!$D133,SEE_data!AG:AG)","v":0},{"$f":"SUMIF(SEE_data!$B:$B,SEE_agrg!$D133,SEE_data!AH:AH)","v":0},{"$f":"SUMIF(SEE_data!$B:$B,SEE_agrg!$D133,SEE_data!AI:AI)","v":0},{"$f":"SUMIF(SEE_data!$B:$B,SEE_agrg!$D133,SEE_data!AJ:AJ)","v":0},{"$f":"SUMIF(SEE_data!$B:$B,SEE_agrg!$D133,SEE_data!AK:AK)","v":0},{"$f":"SUMIF(SEE_data!$B:$B,SEE_agrg!$D133,SEE_data!AL:AL)","v":0},{"$f":"SUMIF(SEE_data!$B:$B,SEE_agrg!$D133,SEE_data!AM:AM)","v":0},{"$f":"SUMIF(SEE_data!$B:$B,SEE_agrg!$D133,SEE_data!AN:AN)","v":0},{"$f":"SUMIF(SEE_data!$B:$B,SEE_agrg!$D133,SEE_data!AO:AO)","v":0},{"$f":"SUMIF(SEE_data!$B:$B,SEE_agrg!$D133,SEE_data!AP:AP)","v":0},{"$f":"SUMIF(SEE_data!$B:$B,SEE_agrg!$D133,SEE_data!AQ:AQ)","v":0},{"$f":"SUMIF(SEE_data!$B:$B,SEE_agrg!$D133,SEE_data!AR:AR)","v":0},{"$f":"SUMIF(SEE_data!$B:$B,SEE_agrg!$D133,SEE_data!AS:AS)","v":0},{"$f":"SUMIF(SEE_data!$B:$B,SEE_agrg!$D133,SEE_data!AT:AT)","v":0},{"$f":"SUMIF(SEE_data!$B:$B,SEE_agrg!$D133,SEE_data!AU:AU)","v":0},{"$f":"SUMIF(SEE_data!$B:$B,SEE_agrg!$D133,SEE_data!AV:AV)","v":0},{"$f":"SUMIF(SEE_data!$B:$B,SEE_agrg!$D133,SEE_data!AW:AW)","v":0},{"$f":"SUMIF(SEE_data!$B:$B,SEE_agrg!$D133,SEE_data!AX:AX)","v":0},{"$f":"SUMIF(SEE_data!$B:$B,SEE_agrg!$D133,SEE_data!AY:AY)","v":0},{"$f":"SUMIF(SEE_data!$B:$B,SEE_agrg!$D133,SEE_data!AZ:AZ)","v":0},{"$f":"SUMIF(SEE_data!$B:$B,SEE_agrg!$D133,SEE_data!BA:BA)","v":0},{"$f":"SUMIF(SEE_data!$B:$B,SEE_agrg!$D133,SEE_data!BB:BB)","v":0},{"$f":"SUMIF(SEE_data!$B:$B,SEE_agrg!$D133,SEE_data!BC:BC)","v":0},{"$f":"IF(OR(G133=0,Q133=0),0,1)","v":0},{"$f":"IF($AC133=0,0,T133/$AC133)","v":0},{"$f":"IF($AC133=0,0,U133/$AC133)","v":0},{"$f":"IF($AC133=0,0,V133/$AC133)","v":0},{"$f":"IF($AC133=0,0,W133/$AC133)","v":0},{"$f":"IF($AC133=0,0,X133/$AC133)","v":0},{"$f":"IF($AC133=0,0,Y133/$AC133)","v":0},{"$f":"IF($AC133=0,0,Z133/$AC133)","v":0},{"$f":"IF($AC133=0,0,AA133/$AC133)","v":0},{"$f":"IF($AC133=0,0,AB133/$AC133)","v":0},{"$f":"SUMIFS(UdS_data!D:D,UdS_data!F:F,1,UdS_data!B:B,D133)","v":0},{"$f":"1000000*F133/E133","v":{"$error":"#DIV/0!"}},{"$f":"IF(G133=0,0,(H133+I133+J133)/G133)","v":0},{"$f":"IF(G133=0,0,(K133+L133+M133)/G133)","v":0},{"$f":"IF(G133=0,0,(N133+O133+P133)/G133)","v":0},{"$f":"IF(Q133=0,0,R133/Q133)","v":0},{"$f":"IF(Q133=0,0,S133/Q133)","v":0},{"$f":"IF(AD133<>0,(1-SUMSQ(AE133:AM133))/(1-1/9),0)","v":0},{"$f":"IF(AND($AO133<=dens_ref,$AO133<=dens_urb_mun),5,IF(AND($AO133<=dens_ref,$AO133>dens_urb_mun),3,IF(AND($AO133>dens_ref,$AO133<=dens_urb_mun),2,IF($AO133<(1+dens_toler)*dens_ref,1,0))))","v":{"$error":"#DIV/0!"}},{"$f":"IF(AP133>0.95,5,IF(AP133>0.9,4,IF(AP133>0.8,2,IF(AP133>0.7,1,0))))","v":0},{"$f":"IF(AQ133>0.95,5,IF(AQ133>0.9,4,IF(AQ133>0.8,2,IF(AQ133>0.7,1,0))))","v":0},{"$f":"IF(AR133>0.95,5,IF(AR133>0.9,4,IF(AR133>0.8,2,IF(AR133>0.7,1,0))))","v":0},{"$f":"IF(AS133>0.95,5,IF(AS133>0.9,4,IF(AS133>0.8,2,IF(AS133>0.7,1,0))))","v":0},{"$f":"IF(AT133>0.95,5,IF(AT133>0.9,4,IF(AT133>0.8,2,IF(AT133>0.7,1,0))))","v":0},{"$f":"IF(AU133>=0.95,5,IF(AU133>=0.9,4,IF(AU133>=0.85,3,IF(AU133>=0.8,2,IF(AU133>=0.75,1,0)))))","v":0}]
[null,{"$f":"INDEX(Sistema_Analisado!$A$3:$F$99,MATCH($D134,Sistema_Analisado!$B$3:$B$99,FALSE),MATCH($B$4,Sistema_Analisado!$A$3:$F$3,FALSE))","v":{"$error":"#N/A"}},{"$f":"INDEX(Sistema_Analisado!$A$3:$F$99,MATCH(D134,Sistema_Analisado!$B$3:$B$99,FALSE),MATCH(\"Seq. Corredor\",Sistema_Analisado!$A$3:$F$3,0))","v":{"$error":"#N/A"}},null,{"$f":"SUMIF(SEE_data!$B:$B,SEE_agrg!$D134,SEE_data!F:F)","v":0},{"$f":"SUMIF(SEE_data!$B:$B,SEE_agrg!$D134,SEE_data!AF:AF)","v":0},{"$f":"SUMIF(SEE_data!$B:$B,SEE_agrg!$D134,SEE_data!AG:AG)","v":0},{"$f":"SUMIF(SEE_data!$B:$B,SEE_agrg!$D134,SEE_data!AH:AH)","v":0},{"$f":"SUMIF(SEE_data!$B:$B,SEE_agrg!$D134,SEE_data!AI:AI)","v":0},{"$f":"SUMIF(SEE_data!$B:$B,SEE_agrg!$D134,SEE_data!AJ:AJ)","v":0},{"$f":"SUMIF(SEE_data!$B:$B,SEE_agrg!$D134,SEE_data!AK:AK)","v":0},{"$f":"SUMIF(SEE_data!$B:$B,SEE_agrg!$D134,SEE_data!AL:AL)","v":0},{"$f":"SUMIF(SEE_data!$B:$B,SEE_agrg!$D134,SEE_data!AM:AM)","v":0},{"$f":"SUMIF(SEE_data!$B:$B,SEE_agrg!$D134,SEE_data!AN:AN)","v":0},{"$f":"SUMIF(SEE_data!$B:$B,SEE_agrg!$D134,SEE_data!AO:AO)","v":0},{"$f":"SUMIF(SEE_data!$B:$B,SEE_agrg!$D134,SEE_data!AP:AP)","v":0},{"$f":"SUMIF(SEE_data!$B:$B,SEE_agrg!$D134,SEE_data!AQ:AQ)","v":0},{"$f":"SUMIF(SEE_data!$B:$B,SEE_agrg!$D134,SEE_data!AR:AR)","v":0},{"$f":"SUMIF(SEE_data!$B:$B,SEE_agrg!$D134,SEE_data!AS:AS)","v":0},{"$f":"SUMIF(SEE_data!$B:$B,SEE_agrg!$D134,SEE_data!AT:AT)","v":0},{"$f":"SUMIF(SEE_data!$B:$B,SEE_agrg!$D134,SEE_data!AU:AU)","v":0},{"$f":"SUMIF(SEE_data!$B:$B,SEE_agrg!$D134,SEE_data!AV:AV)","v":0},{"$f":"SUMIF(SEE_data!$B:$B,SEE_agrg!$D134,SEE_data!AW:AW)","v":0},{"$f":"SUMIF(SEE_data!$B:$B,SEE_agrg!$D134,SEE_data!AX:AX)","v":0},{"$f":"SUMIF(SEE_data!$B:$B,SEE_agrg!$D134,SEE_data!AY:AY)","v":0},{"$f":"SUMIF(SEE_data!$B:$B,SEE_agrg!$D134,SEE_data!AZ:AZ)","v":0},{"$f":"SUMIF(SEE_data!$B:$B,SEE_agrg!$D134,SEE_data!BA:BA)","v":0},{"$f":"SUMIF(SEE_data!$B:$B,SEE_agrg!$D134,SEE_data!BB:BB)","v":0},{"$f":"SUMIF(SEE_data!$B:$B,SEE_agrg!$D134,SEE_data!BC:BC)","v":0},0,0,0,0,0,0,0,0,0,0,{"$f":"SUMIFS(UdS_data!D:D,UdS_data!F:F,1,UdS_data!B:B,D134)","v":0},{"$error":"#DIV/0!"},0,0,0,0,0,0,{"$error":"#DIV/0!"},0,0,0,0,0,0]
[null,{"$f":"INDEX(Sistema_Analisado!$A$3:$F$99,MATCH($D135,Sistema_Analisado!$B$3:$B$99,FALSE),MATCH($B$4,Sistema_Analisado!$A$3:$F$3,FALSE))","v":{"$error":"#N/A"}},{"$f":"INDEX(Sistema_Analisado!$A$3:$F$99,MATCH(D135,Sistema_Analisado!$B$3:$B$99,FALSE),MATCH(\"Seq. Corredor\",Sistema_Analisado!$A$3:$F$3,0))","v":{"$error":"#N/A"}},null,{"$f":"SUMIF(SEE_data!$B:$B,SEE_agrg!$D135,SEE_data!F:F)","v":0},{"$f":"SUMIF(SEE_data!$B:$B,SEE_agrg!$D135,SEE_data!AF:AF)","v":0},{"$f":"SUMIF(SEE_data!$B:$B,SEE_agrg!$D135,SEE_data!AG:AG)","v":0},{"$f":"SUMIF(SEE_data!$B:$B,SEE_agrg!$D135,SEE_data!AH:AH)","v":0},{"$f":"SUMIF(SEE_data!$B:$B,SEE_agrg!$D135,SEE_data!AI:AI)","v":0},{"$f":"SUMIF(SEE_data!$B:$B,SEE_agrg!$D135,SEE_data!AJ:AJ)","v":0},{"$f":"SUMIF(SEE_data!$B:$B,SEE_agrg!$D135,SEE_data!AK:AK)","v":0},{"$f":"SUMIF(SEE_data!$B:$B,SEE_agrg!$D135,SEE_data!AL:AL)","v":0},{"$f":"SUMIF(SEE_data!$B:$B,SEE_agrg!$D135,SEE_data!AM:AM)","v":0},{"$f":"SUMIF(SEE_data!$B:$B,SEE_agrg!$D135,SEE_data!AN:AN)","v":0},{"$f":"SUMIF(SEE_data!$B:$B,SEE_agrg!$D135,SEE_data!AO:AO)","v":0},{"$f":"SUMIF(SEE_data!$B:$B,SEE_agrg!$D135,SEE_data!AP:AP)","v":0},{"$f":"SUMIF(SEE_data!$B:$B,SEE_agrg!$D135,SEE_data!AQ:AQ)","v":0},{"$f":"SUMIF(SEE_data!$B:$B,SEE_agrg!$D135,SEE_data!AR:AR)","v":0},{"$f":"SUMIF(SEE_data!$B:$B,SEE_agrg!$D135,SEE_data!AS:AS)","v":0},{"$f":"SUMIF(SEE_data!$B:$B,SEE_agrg!$D135,SEE_data!AT:AT)","v":0},{"$f":"SUMIF(SEE_data!$B:$B,SEE_agrg!$D135,SEE_data!AU:AU)","v":0},{"$f":"SUMIF(SEE_data!$B:$B,SEE_agrg!$D135,SEE_data!AV:AV)","v":0},{"$f":"SUMIF(SEE_data!$B:$B,SEE_agrg!$D135,SEE_data!AW:AW)","v":0},{"$f":"SUMIF(SEE_data!$B:$B,SEE_agrg!$D135,SEE_data!AX:AX)","v":0},{"$f":"SUMIF(SEE_data!$B:$B,SEE_agrg!$D135,SEE_data!AY:AY)","v":0},{"$f":"SUMIF(SEE_data!$B:$B,SEE_agrg!$D135,SEE_data!AZ:AZ)","v":0},{"$f":"SUMIF(SEE_data!$B:$B,SEE_agrg!$D135,SEE_data!BA:BA)","v":0},{"$f":"SUMIF(SEE_data!$B:$B,SEE_agrg!$D135,SEE_data!BB:BB)","v":0},{"$f":"SUMIF(SEE_data!$B:$B,SEE_agrg!$D135,SEE_data!BC:BC)","v":0},0,0,0,0,0,0,0,0,0,0,{"$f":"SUMIFS(UdS_data!D:D,UdS_data!F:F,1,UdS_data!B:B,D135)","v":0},{"$error":"#DIV/0!"},0,0,0,0,0,0,{"$error":"#DIV/0!"},0,0,0,0,0,0]
[null,{"$f":"INDEX(Sistema_Analisado!$A$3:$F$99,MATCH($D136,Sistema_Analisado!$B$3:$B$99,FALSE),MATCH($B$4,Sistema_Analisado!$A$3:$F$3,FALSE))","v":{"$error":"#N/A"}},{"$f":"INDEX(Sistema_Analisado!$A$3:$F$99,MATCH(D136,Sistema_Analisado!$B$3:$B$99,FALSE),MATCH(\"Seq. Corredor\",Sistema_Analisado!$A$3:$F$3,0))","v":{"$error":"#N/A"}},null,{"$f":"SUMIF(SEE_data!$B:$B,SEE_agrg!$D136,SEE_data!F:F)","v":0},{"$f":"SUMIF(SEE_data!$B:$B,SEE_agrg!$D136,SEE_data!AF:AF)","v":0},{"$f":"SUMIF(SEE_data!$B:$B,SEE_agrg!$D136,SEE_data!AG:AG)","v":0},{"$f":"SUMIF(SEE_data!$B:$B,SEE_agrg!$D136,SEE_data!AH:AH)","v":0},{"$f":"SUMIF(SEE_data!$B:$B,SEE_agrg!$D136,SEE_data!AI:AI)","v":0},{"$f":"SUMIF(SEE_data!$B:$B,SEE_agrg!$D136,SEE_data!AJ:AJ)","v":0},{"$f":"SUMIF(SEE_data!$B:$B,SEE_agrg!$D136,SEE_data!AK:AK)","v":0},{"$f":"SUMIF(SEE_data!$B:$B,SEE_agrg!$D136,SEE_data!AL:AL)","v":0},{"$f":"SUMIF(SEE_data!$B:$B,SEE_agrg!$D136,SEE_data!AM:AM)","v":0},{"$f":"SUMIF(SEE_data!$B:$B,SEE_agrg!$D136,SEE_data!AN:AN)","v":0},{"$f":"SUMIF(SEE_data!$B:$B,SEE_agrg!$D136,SEE_data!AO:AO)","v":0},{"$f":"SUMIF(SEE_data!$B:$B,SEE_agrg!$D136,SEE_data!AP:AP)","v":0},{"$f":"SUMIF(SEE_data!$B:$B,SEE_agrg!$D136,SEE_data!AQ:AQ)","v":0},{"$f":"SUMIF(SEE_data!$B:$B,SEE_agrg!$D136,SEE_data!AR:AR)","v":0},{"$f":"SUMIF(SEE_data!$B:$B,SEE_agrg!$D136,SEE_data!AS:AS)","v":0},{"$f":"SUMIF(SEE_data!$B:$B,SEE_agrg!$D136,SEE_data!AT:AT)","v":0},{"$f":"SUMIF(SEE_data!$B:$B,SEE_agrg!$D136,SEE_data!AU:AU)","v":0},{"$f":"SUMIF(SEE_data!$B:$B,SEE_agrg!$D136,SEE_data!AV:AV)","v":0},{"$f":"SUMIF(SEE_data!$B:$B,SEE_agrg!$D136,SEE_data!AW:AW)","v":0},{"$f":"SUMIF(SEE_data!$B:$B,SEE_agrg!$D136,SEE_data!AX:AX)","v":0},{"$f":"SUMIF(SEE_data!$B:$B,SEE_agrg!$D136,SEE_data!AY:AY)","v":0},{"$f":"SUMIF(SEE_data!$B:$B,SEE_agrg!$D136,SEE_data!AZ:AZ)","v":0},{"$f":"SUMIF(SEE_data!$B:$B,SEE_agrg!$D136,SEE_data!BA:BA)","v":0},{"$f":"SUMIF(SEE_data!$B:$B,SEE_agrg!$D136,SEE_data!BB:BB)","v":0},{"$f":"SUMIF(SEE_data!$B:$B,SEE_agrg!$D136,SEE_data!BC:BC)","v":0},0,0,0,0,0,0,0,0,0,0,{"$f":"SUMIFS(UdS_data!D:D,UdS_data!F:F,1,UdS_data!B:B,D136)","v":0},{"$error":"#DIV/0!"},0,0,0,0,0,0,{"$error":"#DIV/0!"},0,0,0,0,0,0]
[null,{"$f":"INDEX(Sistema_Analisado!$A$3:$F$99,MATCH($D137,Sistema_Analisado!$B$3:$B$99,FALSE),MATCH($B$4,Sistema_Analisado!$A$3:$F$3,FALSE))","v":{"$error":"#N/A"}},{"$f":"INDEX(Sistema_Analisado!$A$3:$F$99,MATCH(D137,Sistema_Analisado!$B$3:$B$99,FALSE),MATCH(\"Seq. Corredor\",Sistema_Analisado!$A$3:$F$3,0))","v":{"$error":"#N/A"}},null,{"$f":"SUMIF(SEE_data!$B:$B,SEE_agrg!$D137,SEE_data!F:F)","v":0},{"$f":"SUMIF(SEE_data!$B:$B,SEE_agrg!$D137,SEE_data!AF:AF)","v":0},{"$f":"SUMIF(SEE_data!$B:$B,SEE_agrg!$D137,SEE_data!AG:AG)","v":0},{"$f":"SUMIF(SEE_data!$B:$B,SEE_agrg!$D137,SEE_data!AH:AH)","v":0},{"$f":"SUMIF(SEE_data!$B:$B,SEE_agrg!$D137,SEE_data!AI:AI)","v":0},{"$f":"SUMIF(SEE_data!$B:$B,SEE_agrg!$D137,SEE_data!AJ:AJ)","v":0},{"$f":"SUMIF(SEE_data!$B:$B,SEE_agrg!$D137,SEE_data!AK:AK)","v":0},{"$f":"SUMIF(SEE_data!$B:$B,SEE_agrg!$D137,SEE_data!AL:AL)","v":0},{"$f":"SUMIF(SEE_data!$B:$B,SEE_agrg!$D137,SEE_data!AM:AM)","v":0},{"$f":"SUMIF(SEE_data!$B:$B,SEE_agrg!$D137,SEE_data!AN:AN)","v":0},{"$f":"SUMIF(SEE_data!$B:$B,SEE_agrg!$D137,SEE_data!AO:AO)","v":0},{"$f":"SUMIF(SEE_data!$B:$B,SEE_agrg!$D137,SEE_data!AP:AP)","v":0},{"$f":"SUMIF(SEE_data!$B:$B,SEE_agrg!$D137,SEE_data!AQ:AQ)","v":0},{"$f":"SUMIF(SEE_data!$B:$B,SEE_agrg!$D137,SEE_data!AR:AR)","v":0},{"$f":"SUMIF(SEE_data!$B:$B,SEE_agrg!$D137,SEE_data!AS:AS)","v":0},{"$f":"SUMIF(SEE_data!$B:$B,SEE_agrg!$D137,SEE_data!AT:AT)","v":0},{"$f":"SUMIF(SEE_data!$B:$B,SEE_agrg!$D137,SEE_data!AU:AU)","v":0},{"$f":"SUMIF(SEE_data!$B:$B,SEE_agrg!$D137,SEE_data!AV:AV)","v":0},{"$f":"SUMIF(SEE_data!$B:$B,SEE_agrg!$D137,SEE_data!AW:AW)","v":0},{"$f":"SUMIF(SEE_data!$B:$B,SEE_agrg!$D137,SEE_data!AX:AX)","v":0},{"$f":"SUMIF(SEE_data!$B:$B,SEE_agrg!$D137,SEE_data!AY:AY)","v":0},{"$f":"SUMIF(SEE_data!$B:$B,SEE_agrg!$D137,SEE_data!AZ:AZ)","v":0},{"$f":"SUMIF(SEE_data!$B:$B,SEE_agrg!$D137,SEE_data!BA:BA)","v":0},{"$f":"SUMIF(SEE_data!$B:$B,SEE_agrg!$D137,SEE_data!BB:BB)","v":0},{"$f":"SUMIF(SEE_data!$B:$B,SEE_agrg!$D137,SEE_data!BC:BC)","v":0},0,0,0,0,0,0,0,0,0,0,{"$f":"SUMIFS(UdS_data!D:D,UdS_data!F:F,1,UdS_data!B:B,D137)","v":0},{"$error":"#DIV/0!"},0,0,0,0,0,0,{"$error":"#DIV/0!"},0,0,0,0,0,0]
[null,{"$f":"INDEX(Sistema_Analisado!$A$3:$F$99,MATCH($D138,Sistema_Analisado!$B$3:$B$99,FALSE),MATCH($B$4,Sistema_Analisado!$A$3:$F$3,FALSE))","v":{"$error":"#N/A"}},{"$f":"INDEX(Sistema_Analisado!$A$3:$F$99,MATCH(D138,Sistema_Analisado!$B$3:$B$99,FALSE),MATCH(\"Seq. Corredor\",Sistema_Analisado!$A$3:$F$3,0))","v":{"$error":"#N/A"}},null,{"$f":"SUMIF(SEE_data!$B:$B,SEE_agrg!$D138,SEE_data!F:F)","v":0},{"$f":"SUMIF(SEE_data!$B:$B,SEE_agrg!$D138,SEE_data!AF:AF)","v":0},{"$f":"SUMIF(SEE_data!$B:$B,SEE_agrg!$D138,SEE_data!AG:AG)","v":0},{"$f":"SUMIF(SEE_data!$B:$B,SEE_agrg!$D138,SEE_data!AH:AH)","v":0},{"$f":"SUMIF(SEE_data!$B:$B,SEE_agrg!$D138,SEE_data!AI:AI)","v":0},{"$f":"SUMIF(SEE_data!$B:$B,SEE_agrg!$D138,SEE_data!AJ:AJ)","v":0},{"$f":"SUMIF(SEE_data!$B:$B,SEE_agrg!$D138,SEE_data!AK:AK)","v":0},{"$f":"SUMIF(SEE_data!$B:$B,SEE_agrg!$D138,SEE_data!AL:AL)","v":0},{"$f":"SUMIF(SEE_data!$B:$B,SEE_agrg!$D138,SEE_data!AM:AM)","v":0},{"$f":"SUMIF(SEE_data!$B:$B,SEE_agrg!$D138,SEE_data!AN:AN)","v":0},{"$f":"SUMIF(SEE_data!$B:$B,SEE_agrg!$D138,SEE_data!AO:AO)","v":0},{"$f":"SUMIF(SEE_data!$B:$B,SEE_agrg!$D138,SEE_data!AP:AP)","v":0},{"$f":"SUMIF(SEE_data!$B:$B,SEE_agrg!$D138,SEE_data!AQ:AQ)","v":0},{"$f":"SUMIF(SEE_data!$B:$B,SEE_agrg!$D138,SEE_data!AR:AR)","v":0},{"$f":"SUMIF(SEE_data!$B:$B,SEE_agrg!$D138,SEE_data!AS:AS)","v":0},{"$f":"SUMIF(SEE_data!$B:$B,SEE_agrg!$D138,SEE_data!AT:AT)","v":0},{"$f":"SUMIF(SEE_data!$B:$B,SEE_agrg!$D138,SEE_data!AU:AU)","v":0},{"$f":"SUMIF(SEE_data!$B:$B,SEE_agrg!$D138,SEE_data!AV:AV)","v":0},{"$f":"SUMIF(SEE_data!$B:$B,SEE_agrg!$D138,SEE_data!AW:AW)","v":0},{"$f":"SUMIF(SEE_data!$B:$B,SEE_agrg!$D138,SEE_data!AX:AX)","v":0},{"$f":"SUMIF(SEE_data!$B:$B,SEE_agrg!$D138,SEE_data!AY:AY)","v":0},{"$f":"SUMIF(SEE_data!$B:$B,SEE_agrg!$D138,SEE_data!AZ:AZ)","v":0},{"$f":"SUMIF(SEE_data!$B:$B,SEE_agrg!$D138,SEE_data!BA:BA)","v":0},{"$f":"SUMIF(SEE_data!$B:$B,SEE_agrg!$D138,SEE_data!BB:BB)","v":0},{"$f":"SUMIF(SEE_data!$B:$B,SEE_agrg!$D138,SEE_data!BC:BC)","v":0},0,0,0,0,0,0,0,0,0,0,{"$f":"SUMIFS(UdS_data!D:D,UdS_data!F:F,1,UdS_data!B:B,D138)","v":0},{"$error":"#DIV/0!"},0,0,0,0,0,0,{"$error":"#DIV/0!"},0,0,0,0,0,0]
[null,{"$f":"INDEX(Sistema_Analisado!$A$3:$F$99,MATCH($D139,Sistema_Analisado!$B$3:$B$99,FALSE),MATCH($B$4,Sistema_Analisado!$A$3:$F$3,FALSE))","v":{"$error":"#N/A"}},{"$f":"INDEX(Sistema_Analisado!$A$3:$F$99,MATCH(D139,Sistema_Analisado!$B$3:$B$99,FALSE),MATCH(\"Seq. Corredor\",Sistema_Analisado!$A$3:$F$3,0))","v":{"$error":"#N/A"}},null,{"$f":"SUMIF(SEE_data!$B:$B,SEE_agrg!$D139,SEE_data!F:F)","v":0},{"$f":"SUMIF(SEE_data!$B:$B,SEE_agrg!$D139,SEE_data!AF:AF)","v":0},{"$f":"SUMIF(SEE_data!$B:$B,SEE_agrg!$D139,SEE_data!AG:AG)","v":0},{"$f":"SUMIF(SEE_data!$B:$B,SEE_agrg!$D139,SEE_data!AH:AH)","v":0},{"$f":"SUMIF(SEE_data!$B:$B,SEE_agrg!$D139,SEE_data!AI:AI)","v":0},{"$f":"SUMIF(SEE_data!$B:$B,SEE_agrg!$D139,SEE_data!AJ:AJ)","v":0},{"$f":"SUMIF(SEE_data!$B:$B,SEE_agrg!$D139,SEE_data!AK:AK)","v":0},{"$f":"SUMIF(SEE_data!$B:$B,SEE_agrg!$D139,SEE_data!AL:AL)","v":0},{"$f":"SUMIF(SEE_data!$B:$B,SEE_agrg!$D139,SEE_data!AM:AM)","v":0},{"$f":"SUMIF(SEE_data!$B:$B,SEE_agrg!$D139,SEE_data!AN:AN)","v":0},{"$f":"SUMIF(SEE_data!$B:$B,SEE_agrg!$D139,SEE_data!AO:AO)","v":0},{"$f":"SUMIF(SEE_data!$B:$B,SEE_agrg!$D139,SEE_data!AP:AP)","v":0},{"$f":"SUMIF(SEE_data!$B:$B,SEE_agrg!$D139,SEE_data!AQ:AQ)","v":0},{"$f":"SUMIF(SEE_data!$B:$B,SEE_agrg!$D139,SEE_data!AR:AR)","v":0},{"$f":"SUMIF(SEE_data!$B:$B,SEE_agrg!$D139,SEE_data!AS:AS)","v":0},{"$f":"SUMIF(SEE_data!$B:$B,SEE_agrg!$D139,SEE_data!AT:AT)","v":0},{"$f":"SUMIF(SEE_data!$B:$B,SEE_agrg!$D139,SEE_data!AU:AU)","v":0},{"$f":"SUMIF(SEE_data!$B:$B,SEE_agrg!$D139,SEE_data!AV:AV)","v":0},{"$f":"SUMIF(SEE_data!$B:$B,SEE_agrg!$D139,SEE_data!AW:AW)","v":0},{"$f":"SUMIF(SEE_data!$B:$B,SEE_agrg!$D139,SEE_data!AX:AX)","v":0},{"$f":"SUMIF(SEE_data!$B:$B,SEE_agrg!$D139,SEE_data!AY:AY)","v":0},{"$f":"SUMIF(SEE_data!$B:$B,SEE_agrg!$D139,SEE_data!AZ:AZ)","v":0},{"$f":"SUMIF(SEE_data!$B:$B,SEE_agrg!$D139,SEE_data!BA:BA)","v":0},{"$f":"SUMIF(SEE_data!$B:$B,SEE_agrg!$D139,SEE_data!BB:BB)","v":0},{"$f":"SUMIF(SEE_data!$B:$B,SEE_agrg!$D139,SEE_data!BC:BC)","v":0},0,0,0,0,0,0,0,0,0,0,{"$f":"SUMIFS(UdS_data!D:D,UdS_data!F:F,1,UdS_data!B:B,D139)","v":0},{"$error":"#DIV/0!"},0,0,0,0,0,0,{"$error":"#DIV/0!"},0,0,0,0,0,0]
[null,{"$f":"INDEX(Sistema_Analisado!$A$3:$F$99,MATCH($D140,Sistema_Analisado!$B$3:$B$99,FALSE),MATCH($B$4,Sistema_Analisado!$A$3:$F$3,FALSE))","v":{"$error":"#N/A"}},{"$f":"INDEX(Sistema_Analisado!$A$3:$F$99,MATCH(D140,Sistema_Analisado!$B$3:$B$99,FALSE),MATCH(\"Seq. Corredor\",Sistema_Analisado!$A$3:$F$3,0))","v":{"$error":"#N/A"}},null,{"$f":"SUMIF(SEE_data!$B:$B,SEE_agrg!$D140,SEE_data!F:F)","v":0},{"$f":"SUMIF(SEE_data!$B:$B,SEE_agrg!$D140,SEE_data!AF:AF)","v":0},{"$f":"SUMIF(SEE_data!$B:$B,SEE_agrg!$D140,SEE_data!AG:AG)","v":0},{"$f":"SUMIF(SEE_data!$B:$B,SEE_agrg!$D140,SEE_data!AH:AH)","v":0},{"$f":"SUMIF(SEE_data!$B:$B,SEE_agrg!$D140,SEE_data!AI:AI)","v":0},{"$f":"SUMIF(SEE_data!$B:$B,SEE_agrg!$D140,SEE_data!AJ:AJ)","v":0},{"$f":"SUMIF(SEE_data!$B:$B,SEE_agrg!$D140,SEE_data!AK:AK)","v":0},{"$f":"SUMIF(SEE_data!$B:$B,SEE_agrg!$D140,SEE_data!AL:AL)","v":0},{"$f":"SUMIF(SEE_data!$B:$B,SEE_agrg!$D140,SEE_data!AM:AM)","v":0},{"$f":"SUMIF(SEE_data!$B:$B,SEE_agrg!$D140,SEE_data!AN:AN)","v":0},{"$f":"SUMIF(SEE_data!$B:$B,SEE_agrg!$D140,SEE_data!AO:AO)","v":0},{"$f":"SUMIF(SEE_data!$B:$B,SEE_agrg!$D140,SEE_data!AP:AP)","v":0},{"$f":"SUMIF(SEE_data!$B:$B,SEE_agrg!$D140,SEE_data!AQ:AQ)","v":0},{"$f":"SUMIF(SEE_data!$B:$B,SEE_agrg!$D140,SEE_data!AR:AR)","v":0},{"$f":"SUMIF(SEE_data!$B:$B,SEE_agrg!$D140,SEE_data!AS:AS)","v":0},{"$f":"SUMIF(SEE_data!$B:$B,SEE_agrg!$D140,SEE_data!AT:AT)","v":0},{"$f":"SUMIF(SEE_data!$B:$B,SEE_agrg!$D140,SEE_data!AU:AU)","v":0},{"$f":"SUMIF(SEE_data!$B:$B,SEE_agrg!$D140,SEE_data!AV:AV)","v":0},{"$f":"SUMIF(SEE_data!$B:$B,SEE_agrg!$D140,SEE_data!AW:AW)","v":0},{"$f":"SUMIF(SEE_data!$B:$B,SEE_agrg!$D140,SEE_data!AX:AX)","v":0},{"$f":"SUMIF(SEE_data!$B:$B,SEE_agrg!$D140,SEE_data!AY:AY)","v":0},{"$f":"SUMIF(SEE_data!$B:$B,SEE_agrg!$D140,SEE_data!AZ:AZ)","v":0},{"$f":"SUMIF(SEE_data!$B:$B,SEE_agrg!$D140,SEE_data!BA:BA)","v":0},{"$f":"SUMIF(SEE_data!$B:$B,SEE_agrg!$D140,SEE_data!BB:BB)","v":0},{"$f":"SUMIF(SEE_data!$B:$B,SEE_agrg!$D140,SEE_data!BC:BC)","v":0},0,0,0,0,0,0,0,0,0,0,{"$f":"SUMIFS(UdS_data!D:D,UdS_data!F:F,1,UdS_data!B:B,D140)","v":0},{"$error":"#DIV/0!"},0,0,0,0,0,0,{"$error":"#DIV/0!"},0,0,0,0,0,0]
[null,{"$f":"INDEX(Sistema_Analisado!$A$3:$F$99,MATCH($D141,Sistema_Analisado!$B$3:$B$99,FALSE),MATCH($B$4,Sistema_Analisado!$A$3:$F$3,FALSE))","v":{"$error":"#N/A"}},{"$f":"INDEX(Sistema_Analisado!$A$3:$F$99,MATCH(D141,Sistema_Analisado!$B$3:$B$99,FALSE),MATCH(\"Seq. Corredor\",Sistema_Analisado!$A$3:$F$3,0))","v":{"$error":"#N/A"}},null,{"$f":"SUMIF(SEE_data!$B:$B,SEE_agrg!$D141,SEE_data!F:F)","v":0},{"$f":"SUMIF(SEE_data!$B:$B,SEE_agrg!$D141,SEE_data!AF:AF)","v":0},{"$f":"SUMIF(SEE_data!$B:$B,SEE_agrg!$D141,SEE_data!AG:AG)","v":0},{"$f":"SUMIF(SEE_data!$B:$B,SEE_agrg!$D141,SEE_data!AH:AH)","v":0},{"$f":"SUMIF(SEE_data!$B:$B,SEE_agrg!$D141,SEE_data!AI:AI)","v":0},{"$f":"SUMIF(SEE_data!$B:$B,SEE_agrg!$D141,SEE_data!AJ:AJ)","v":0},{"$f":"SUMIF(SEE_data!$B:$B,SEE_agrg!$D141,SEE_data!AK:AK)","v":0},{"$f":"SUMIF(SEE_data!$B:$B,SEE_agrg!$D141,SEE_data!AL:AL)","v":0},{"$f":"SUMIF(SEE_data!$B:$B,SEE_agrg!$D141,SEE_data!AM:AM)","v":0},{"$f":"SUMIF(SEE_data!$B:$B,SEE_agrg!$D141,SEE_data!AN:AN)","v":0},{"$f":"SUMIF(SEE_data!$B:$B,SEE_agrg!$D141,SEE_data!AO:AO)","v":0},{"$f":"SUMIF(SEE_data!$B:$B,SEE_agrg!$D141,SEE_data!AP:AP)","v":0},{"$f":"SUMIF(SEE_data!$B:$B,SEE_agrg!$D141,SEE_data!AQ:AQ)","v":0},{"$f":"SUMIF(SEE_data!$B:$B,SEE_agrg!$D141,SEE_data!AR:AR)","v":0},{"$f":"SUMIF(SEE_data!$B:$B,SEE_agrg!$D141,SEE_data!AS:AS)","v":0},{"$f":"SUMIF(SEE_data!$B:$B,SEE_agrg!$D141,SEE_data!AT:AT)","v":0},{"$f":"SUMIF(SEE_data!$B:$B,SEE_agrg!$D141,SEE_data!AU:AU)","v":0},{"$f":"SUMIF(SEE_data!$B:$B,SEE_agrg!$D141,SEE_data!AV:AV)","v":0},{"$f":"SUMIF(SEE_data!$B:$B,SEE_agrg!$D141,SEE_data!AW:AW)","v":0},{"$f":"SUMIF(SEE_data!$B:$B,SEE_agrg!$D141,SEE_data!AX:AX)","v":0},{"$f":"SUMIF(SEE_data!$B:$B,SEE_agrg!$D141,SEE_data!AY:AY)","v":0},{"$f":"SUMIF(SEE_data!$B:$B,SEE_agrg!$D141,SEE_data!AZ:AZ)","v":0},{"$f":"SUMIF(SEE_data!$B:$B,SEE_agrg!$D141,SEE_data!BA:BA)","v":0},{"$f":"SUMIF(SEE_data!$B:$B,SEE_agrg!$D141,SEE_data!BB:BB)","v":0},{"$f":"SUMIF(SEE_data!$B:$B,SEE_agrg!$D141,SEE_data!BC:BC)","v":0},0,0,0,0,0,0,0,0,0,0,{"$f":"SUMIFS(UdS_data!D:D,UdS_data!F:F,1,UdS_data!B:B,D141)","v":0},{"$error":"#DIV/0!"},0,0,0,0,0,0,{"$error":"#DIV/0!"},0,0,0,0,0,0]
[null,{"$f":"INDEX(Sistema_Analisado!$A$3:$F$99,MATCH($D142,Sistema_Analisado!$B$3:$B$99,FALSE),MATCH($B$4,Sistema_Analisado!$A$3:$F$3,FALSE))","v":{"$error":"#N/A"}},{"$f":"INDEX(Sistema_Analisado!$A$3:$F$99,MATCH(D142,Sistema_Analisado!$B$3:$B$99,FALSE),MATCH(\"Seq. Corredor\",Sistema_Analisado!$A$3:$F$3,0))","v":{"$error":"#N/A"}},null,{"$f":"SUMIF(SEE_data!$B:$B,SEE_agrg!$D142,SEE_data!F:F)","v":0},{"$f":"SUMIF(SEE_data!$B:$B,SEE_agrg!$D142,SEE_data!AF:AF)","v":0},{"$f":"SUMIF(SEE_data!$B:$B,SEE_agrg!$D142,SEE_data!AG:AG)","v":0},{"$f":"SUMIF(SEE_data!$B:$B,SEE_agrg!$D142,SEE_data!AH:AH)","v":0},{"$f":"SUMIF(SEE_data!$B:$B,SEE_agrg!$D142,SEE_data!AI:AI)","v":0},{"$f":"SUMIF(SEE_data!$B:$B,SEE_agrg!$D142,SEE_data!AJ:AJ)","v":0},{"$f":"SUMIF(SEE_data!$B:$B,SEE_agrg!$D142,SEE_data!AK:AK)","v":0},{"$f":"SUMIF(SEE_data!$B:$B,SEE_agrg!$D142,SEE_data!AL:AL)","v":0},{"$f":"SUMIF(SEE_data!$B:$B,SEE_agrg!$D142,SEE_data!AM:AM)","v":0},{"$f":"SUMIF(SEE_data!$B:$B,SEE_agrg!$D142,SEE_data!AN:AN)","v":0},{"$f":"SUMIF(SEE_data!$B:$B,SEE_agrg!$D142,SEE_data!AO:AO)","v":0},{"$f":"SUMIF(SEE_data!$B:$B,SEE_agrg!$D142,SEE_data!AP:AP)","v":0},{"$f":"SUMIF(SEE_data!$B:$B,SEE_agrg!$D142,SEE_data!AQ:AQ)","v":0},{"$f":"SUMIF(SEE_data!$B:$B,SEE_agrg!$D142,SEE_data!AR:AR)","v":0},{"$f":"SUMIF(SEE_data!$B:$B,SEE_agrg!$D142,SEE_data!AS:AS)","v":0},{"$f":"SUMIF(SEE_data!$B:$B,SEE_agrg!$D142,SEE_data!AT:AT)","v":0},{"$f":"SUMIF(SEE_data!$B:$B,SEE_agrg!$D142,SEE_data!AU:AU)","v":0},{"$f":"SUMIF(SEE_data!$B:$B,SEE_agrg!$D142,SEE_data!AV:AV)","v":0},{"$f":"SUMIF(SEE_data!$B:$B,SEE_agrg!$D142,SEE_data!AW:AW)","v":0},{"$f":"SUMIF(SEE_data!$B:$B,SEE_agrg!$D142,SEE_data!AX:AX)","v":0},{"$f":"SUMIF(SEE_data!$B:$B,SEE_agrg!$D142,SEE_data!AY:AY)","v":0},{"$f":"SUMIF(SEE_data!$B:$B,SEE_agrg!$D142,SEE_data!AZ:AZ)","v":0},{"$f":"SUMIF(SEE_data!$B:$B,SEE_agrg!$D142,SEE_data!BA:BA)","v":0},{"$f":"SUMIF(SEE_data!$B:$B,SEE_agrg!$D142,SEE_data!BB:BB)","v":0},{"$f":"SUMIF(SEE_data!$B:$B,SEE_agrg!$D142,SEE_data!BC:BC)","v":0},0,0,0,0,0,0,0,0,0,0,{"$f":"SUMIFS(UdS_data!D:D,UdS_data!F:F,1,UdS_data!B:B,D142)","v":0},{"$error":"#DIV/0!"},0,0,0,0,0,0,{"$error":"#DIV/0!"},0,0,0,0,0,0]
[null,{"$f":"INDEX(Sistema_Analisado!$A$3:$F$99,MATCH($D143,Sistema_Analisado!$B$3:$B$99,FALSE),MATCH($B$4,Sistema_Analisado!$A$3:$F$3,FALSE))","v":{"$error":"#N/A"}},{"$f":"INDEX(Sistema_Analisado!$A$3:$F$99,MATCH(D143,Sistema_Analisado!$B$3:$B$99,FALSE),MATCH(\"Seq. Corredor\",Sistema_Analisado!$A$3:$F$3,0))","v":{"$error":"#N/A"}},null,{"$f":"SUMIF(SEE_data!$B:$B,SEE_agrg!$D143,SEE_data!F:F)","v":0},{"$f":"SUMIF(SEE_data!$B:$B,SEE_agrg!$D143,SEE_data!AF:AF)","v":0},{"$f":"SUMIF(SEE_data!$B:$B,SEE_agrg!$D143,SEE_data!AG:AG)","v":0},{"$f":"SUMIF(SEE_data!$B:$B,SEE_agrg!$D143,SEE_data!AH:AH)","v":0},{"$f":"SUMIF(SEE_data!$B:$B,SEE_agrg!$D143,SEE_data!AI:AI)","v":0},{"$f":"SUMIF(SEE_data!$B:$B,SEE_agrg!$D143,SEE_data!AJ:AJ)","v":0},{"$f":"SUMIF(SEE_data!$B:$B,SEE_agrg!$D143,SEE_data!AK:AK)","v":0},{"$f":"SUMIF(SEE_data!$B:$B,SEE_agrg!$D143,SEE_data!AL:AL)","v":0},{"$f":"SUMIF(SEE_data!$B:$B,SEE_agrg!$D143,SEE_data!AM:AM)","v":0},{"$f":"SUMIF(SEE_data!$B:$B,SEE_agrg!$D143,SEE_data!AN:AN)","v":0},{"$f":"SUMIF(SEE_data!$B:$B,SEE_agrg!$D143,SEE_data!AO:AO)","v":0},{"$f":"SUMIF(SEE_data!$B:$B,SEE_agrg!$D143,SEE_data!AP:AP)","v":0},{"$f":"SUMIF(SEE_data!$B:$B,SEE_agrg!$D143,SEE_data!AQ:AQ)","v":0},{"$f":"SUMIF(SEE_data!$B:$B,SEE_agrg!$D143,SEE_data!AR:AR)","v":0},{"$f":"SUMIF(SEE_data!$B:$B,SEE_agrg!$D143,SEE_data!AS:AS)","v":0},{"$f":"SUMIF(SEE_data!$B:$B,SEE_agrg!$D143,SEE_data!AT:AT)","v":0},{"$f":"SUMIF(SEE_data!$B:$B,SEE_agrg!$D143,SEE_data!AU:AU)","v":0},{"$f":"SUMIF(SEE_data!$B:$B,SEE_agrg!$D143,SEE_data!AV:AV)","v":0},{"$f":"SUMIF(SEE_data!$B:$B,SEE_agrg!$D143,SEE_data!AW:AW)","v":0},{"$f":"SUMIF(SEE_data!$B:$B,SEE_agrg!$D143,SEE_data!AX:AX)","v":0},{"$f":"SUMIF(SEE_data!$B:$B,SEE_agrg!$D143,SEE_data!AY:AY)","v":0},{"$f":"SUMIF(SEE_data!$B:$B,SEE_agrg!$D143,SEE_data!AZ:AZ)","v":0},{"$f":"SUMIF(SEE_data!$B:$B,SEE_agrg!$D143,SEE_data!BA:BA)","v":0},{"$f":"SUMIF(SEE_data!$B:$B,SEE_agrg!$D143,SEE_data!BB:BB)","v":0},{"$f":"SUMIF(SEE_data!$B:$B,SEE_agrg!$D143,SEE_data!BC:BC)","v":0},0,0,0,0,0,0,0,0,0,0,{"$f":"SUMIFS(UdS_data!D:D,UdS_data!F:F,1,UdS_data!B:B,D143)","v":0},{"$error":"#DIV/0!"},0,0,0,0,0,0,{"$error":"#DIV/0!"},0,0,0,0,0,0]
[null,{"$f":"INDEX(Sistema_Analisado!$A$3:$F$99,MATCH($D144,Sistema_Analisado!$B$3:$B$99,FALSE),MATCH($B$4,Sistema_Analisado!$A$3:$F$3,FALSE))","v":{"$error":"#N/A"}},{"$f":"INDEX(Sistema_Analisado!$A$3:$F$99,MATCH(D144,Sistema_Analisado!$B$3:$B$99,FALSE),MATCH(\"Seq. Corredor\",Sistema_Analisado!$A$3:$F$3,0))","v":{"$error":"#N/A"}},null,{"$f":"SUMIF(SEE_data!$B:$B,SEE_agrg!$D144,SEE_data!F:F)","v":0},{"$f":"SUMIF(SEE_data!$B:$B,SEE_agrg!$D144,SEE_data!AF:AF)","v":0},{"$f":"SUMIF(SEE_data!$B:$B,SEE_agrg!$D144,SEE_data!AG:AG)","v":0},{"$f":"SUMIF(SEE_data!$B:$B,SEE_agrg!$D144,SEE_data!AH:AH)","v":0},{"$f":"SUMIF(SEE_data!$B:$B,SEE_agrg!$D144,SEE_data!AI:AI)","v":0},{"$f":"SUMIF(SEE_data!$B:$B,SEE_agrg!$D144,SEE_data!AJ:AJ)","v":0},{"$f":"SUMIF(SEE_data!$B:$B,SEE_agrg!$D144,SEE_data!AK:AK)","v":0},{"$f":"SUMIF(SEE_data!$B:$B,SEE_agrg!$D144,SEE_data!AL:AL)","v":0},{"$f":"SUMIF(SEE_data!$B:$B,SEE_agrg!$D144,SEE_data!AM:AM)","v":0},{"$f":"SUMIF(SEE_data!$B:$B,SEE_agrg!$D144,SEE_data!AN:AN)","v":0},{"$f":"SUMIF(SEE_data!$B:$B,SEE_agrg!$D144,SEE_data!AO:AO)","v":0},{"$f":"SUMIF(SEE_data!$B:$B,SEE_agrg!$D144,SEE_data!AP:AP)","v":0},{"$f":"SUMIF(SEE_data!$B:$B,SEE_agrg!$D144,SEE_data!AQ:AQ)","v":0},{"$f":"SUMIF(SEE_data!$B:$B,SEE_agrg!$D144,SEE_data!AR:AR)","v":0},{"$f":"SUMIF(SEE_data!$B:$B,SEE_agrg!$D144,SEE_data!AS:AS)","v":0},{"$f":"SUMIF(SEE_data!$B:$B,SEE_agrg!$D144,SEE_data!AT:AT)","v":0},{"$f":"SUMIF(SEE_data!$B:$B,SEE_agrg!$D144,SEE_data!AU:AU)","v":0},{"$f":"SUMIF(SEE_data!$B:$B,SEE_agrg!$D144,SEE_data!AV:AV)","v":0},{"$f":"SUMIF(SEE_data!$B:$B,SEE_agrg!$D144,SEE_data!AW:AW)","v":0},{"$f":"SUMIF(SEE_data!$B:$B,SEE_agrg!$D144,SEE_data!AX:AX)","v":0},{"$f":"SUMIF(SEE_data!$B:$B,SEE_agrg!$D144,SEE_data!AY:AY)","v":0},{"$f":"SUMIF(SEE_data!$B:$B,SEE_agrg!$D144,SEE_data!AZ:AZ)","v":0},{"$f":"SUMIF(SEE_data!$B:$B,SEE_agrg!$D144,SEE_data!BA:BA)","v":0},{"$f":"SUMIF(SEE_data!$B:$B,SEE_agrg!$D144,SEE_data!BB:BB)","v":0},{"$f":"SUMIF(SEE_data!$B:$B,SEE_agrg!$D144,SEE_data!BC:BC)","v":0},0,0,0,0,0,0,0,0,0,0,{"$f":"SUMIFS(UdS_data!D:D,UdS_data!F:F,1,UdS_data!B:B,D144)","v":0},{"$error":"#DIV/0!"},0,0,0,0,0,0,{"$error":"#DIV/0!"},0,0,0,0,0,0]
[null,{"$f":"INDEX(Sistema_Analisado!$A$3:$F$99,MATCH($D145,Sistema_Analisado!$B$3:$B$99,FALSE),MATCH($B$4,Sistema_Analisado!$A$3:$F$3,FALSE))","v":{"$error":"#N/A"}},{"$f":"INDEX(Sistema_Analisado!$A$3:$F$99,MATCH(D145,Sistema_Analisado!$B$3:$B$99,FALSE),MATCH(\"Seq. Corredor\",Sistema_Analisado!$A$3:$F$3,0))","v":{"$error":"#N/A"}},null,{"$f":"SUMIF(SEE_data!$B:$B,SEE_agrg!$D145,SEE_data!F:F)","v":0},{"$f":"SUMIF(SEE_data!$B:$B,SEE_agrg!$D145,SEE_data!AF:AF)","v":0},{"$f":"SUMIF(SEE_data!$B:$B,SEE_agrg!$D145,SEE_data!AG:AG)","v":0},{"$f":"SUMIF(SEE_data!$B:$B,SEE_agrg!$D145,SEE_data!AH:AH)","v":0},{"$f":"SUMIF(SEE_data!$B:$B,SEE_agrg!$D145,SEE_data!AI:AI)","v":0},{"$f":"SUMIF(SEE_data!$B:$B,SEE_agrg!$D145,SEE_data!AJ:AJ)","v":0},{"$f":"SUMIF(SEE_data!$B:$B,SEE_agrg!$D145,SEE_data!AK:AK)","v":0},{"$f":"SUMIF(SEE_data!$B:$B,SEE_agrg!$D145,SEE_data!AL:AL)","v":0},{"$f":"SUMIF(SEE_data!$B:$B,SEE_agrg!$D145,SEE_data!AM:AM)","v":0},{"$f":"SUMIF(SEE_data!$B:$B,SEE_agrg!$D145,SEE_data!AN:AN)","v":0},{"$f":"SUMIF(SEE_data!$B:$B,SEE_agrg!$D145,SEE_data!AO:AO)","v":0},{"$f":"SUMIF(SEE_data!$B:$B,SEE_agrg!$D145,SEE_data!AP:AP)","v":0},{"$f":"SUMIF(SEE_data!$B:$B,SEE_agrg!$D145,SEE_data!AQ:AQ)","v":0},{"$f":"SUMIF(SEE_data!$B:$B,SEE_agrg!$D145,SEE_data!AR:AR)","v":0},{"$f":"SUMIF(SEE_data!$B:$B,SEE_agrg!$D145,SEE_data!AS:AS)","v":0},{"$f":"SUMIF(SEE_data!$B:$B,SEE_agrg!$D145,SEE_data!AT:AT)","v":0},{"$f":"SUMIF(SEE_data!$B:$B,SEE_agrg!$D145,SEE_data!AU:AU)","v":0},{"$f":"SUMIF(SEE_data!$B:$B,SEE_agrg!$D145,SEE_data!AV:AV)","v":0},{"$f":"SUMIF(SEE_data!$B:$B,SEE_agrg!$D145,SEE_data!AW:AW)","v":0},{"$f":"SUMIF(SEE_data!$B:$B,SEE_agrg!$D145,SEE_data!AX:AX)","v":0},{"$f":"SUMIF(SEE_data!$B:$B,SEE_agrg!$D145,SEE_data!AY:AY)","v":0},{"$f":"SUMIF(SEE_data!$B:$B,SEE_agrg!$D145,SEE_data!AZ:AZ)","v":0},{"$f":"SUMIF(SEE_data!$B:$B,SEE_agrg!$D145,SEE_data!BA:BA)","v":0},{"$f":"SUMIF(SEE_data!$B:$B,SEE_agrg!$D145,SEE_data!BB:BB)","v":0},{"$f":"SUMIF(SEE_data!$B:$B,SEE_agrg!$D145,SEE_data!BC:BC)","v":0},0,0,0,0,0,0,0,0,0,0,{"$f":"SUMIFS(UdS_data!D:D,UdS_data!F:F,1,UdS_data!B:B,D145)","v":0},{"$error":"#DIV/0!"},0,0,0,0,0,0,{"$error":"#DIV/0!"},0,0,0,0,0,0]
[null,{"$f":"INDEX(Sistema_Analisado!$A$3:$F$99,MATCH($D146,Sistema_Analisado!$B$3:$B$99,FALSE),MATCH($B$4,Sistema_Analisado!$A$3:$F$3,FALSE))","v":{"$error":"#N/A"}},{"$f":"INDEX(Sistema_Analisado!$A$3:$F$99,MATCH(D146,Sistema_Analisado!$B$3:$B$99,FALSE),MATCH(\"Seq. Corredor\",Sistema_Analisado!$A$3:$F$3,0))","v":{"$error":"#N/A"}},null,{"$f":"SUMIF(SEE_data!$B:$B,SEE_agrg!$D146,SEE_data!F:F)","v":0},{"$f":"SUMIF(SEE_data!$B:$B,SEE_agrg!$D146,SEE_data!AF:AF)","v":0},{"$f":"SUMIF(SEE_data!$B:$B,SEE_agrg!$D146,SEE_data!AG:AG)","v":0},{"$f":"SUMIF(SEE_data!$B:$B,SEE_agrg!$D146,SEE_data!AH:AH)","v":0},{"$f":"SUMIF(SEE_data!$B:$B,SEE_agrg!$D146,SEE_data!AI:AI)","v":0},{"$f":"SUMIF(SEE_data!$B:$B,SEE_agrg!$D146,SEE_data!AJ:AJ)","v":0},{"$f":"SUMIF(SEE_data!$B:$B,SEE_agrg!$D146,SEE_data!AK:AK)","v":0},{"$f":"SUMIF(SEE_data!$B:$B,SEE_agrg!$D146,SEE_data!AL:AL)","v":0},{"$f":"SUMIF(SEE_data!$B:$B,SEE_agrg!$D146,SEE_data!AM:AM)","v":0},{"$f":"SUMIF(SEE_data!$B:$B,SEE_agrg!$D146,SEE_data!AN:AN)","v":0},{"$f":"SUMIF(SEE_data!$B:$B,SEE_agrg!$D146,SEE_data!AO:AO)","v":0},{"$f":"SUMIF(SEE_data!$B:$B,SEE_agrg!$D146,SEE_data!AP:AP)","v":0},{"$f":"SUMIF(SEE_data!$B:$B,SEE_agrg!$D146,SEE_data!AQ:AQ)","v":0},{"$f":"SUMIF(SEE_data!$B:$B,SEE_agrg!$D146,SEE_data!AR:AR)","v":0},{"$f":"SUMIF(SEE_data!$B:$B,SEE_agrg!$D146,SEE_data!AS:AS)","v":0},{"$f":"SUMIF(SEE_data!$B:$B,SEE_agrg!$D146,SEE_data!AT:AT)","v":0},{"$f":"SUMIF(SEE_data!$B:$B,SEE_agrg!$D146,SEE_data!AU:AU)","v":0},{"$f":"SUMIF(SEE_data!$B:$B,SEE_agrg!$D146,SEE_data!AV:AV)","v":0},{"$f":"SUMIF(SEE_data!$B:$B,SEE_agrg!$D146,SEE_data!AW:AW)","v":0},{"$f":"SUMIF(SEE_data!$B:$B,SEE_agrg!$D146,SEE_data!AX:AX)","v":0},{"$f":"SUMIF(SEE_data!$B:$B,SEE_agrg!$D146,SEE_data!AY:AY)","v":0},{"$f":"SUMIF(SEE_data!$B:$B,SEE_agrg!$D146,SEE_data!AZ:AZ)","v":0},{"$f":"SUMIF(SEE_data!$B:$B,SEE_agrg!$D146,SEE_data!BA:BA)","v":0},{"$f":"SUMIF(SEE_data!$B:$B,SEE_agrg!$D146,SEE_data!BB:BB)","v":0},{"$f":"SUMIF(SEE_data!$B:$B,SEE_agrg!$D146,SEE_data!BC:BC)","v":0},0,0,0,0,0,0,0,0,0,0,{"$f":"SUMIFS(UdS_data!D:D,UdS_data!F:F,1,UdS_data!B:B,D146)","v":0},{"$error":"#DIV/0!"},0,0,0,0,0,0,{"$error":"#DIV/0!"},0,0,0,0,0,0]
[null,{"$f":"INDEX(Sistema_Analisado!$A$3:$F$99,MATCH($D147,Sistema_Analisado!$B$3:$B$99,FALSE),MATCH($B$4,Sistema_Analisado!$A$3:$F$3,FALSE))","v":{"$error":"#N/A"}},{"$f":"INDEX(Sistema_Analisado!$A$3:$F$99,MATCH(D147,Sistema_Analisado!$B$3:$B$99,FALSE),MATCH(\"Seq. Corredor\",Sistema_Analisado!$A$3:$F$3,0))","v":{"$error":"#N/A"}},null,{"$f":"SUMIF(SEE_data!$B:$B,SEE_agrg!$D147,SEE_data!F:F)","v":0},{"$f":"SUMIF(SEE_data!$B:$B,SEE_agrg!$D147,SEE_data!AF:AF)","v":0},{"$f":"SUMIF(SEE_data!$B:$B,SEE_agrg!$D147,SEE_data!AG:AG)","v":0},{"$f":"SUMIF(SEE_data!$B:$B,SEE_agrg!$D147,SEE_data!AH:AH)","v":0},{"$f":"SUMIF(SEE_data!$B:$B,SEE_agrg!$D147,SEE_data!AI:AI)","v":0},{"$f":"SUMIF(SEE_data!$B:$B,SEE_agrg!$D147,SEE_data!AJ:AJ)","v":0},{"$f":"SUMIF(SEE_data!$B:$B,SEE_agrg!$D147,SEE_data!AK:AK)","v":0},{"$f":"SUMIF(SEE_data!$B:$B,SEE_agrg!$D147,SEE_data!AL:AL)","v":0},{"$f":"SUMIF(SEE_data!$B:$B,SEE_agrg!$D147,SEE_data!AM:AM)","v":0},{"$f":"SUMIF(SEE_data!$B:$B,SEE_agrg!$D147,SEE_data!AN:AN)","v":0},{"$f":"SUMIF(SEE_data!$B:$B,SEE_agrg!$D147,SEE_data!AO:AO)","v":0},{"$f":"SUMIF(SEE_data!$B:$B,SEE_agrg!$D147,SEE_data!AP:AP)","v":0},{"$f":"SUMIF(SEE_data!$B:$B,SEE_agrg!$D147,SEE_data!AQ:AQ)","v":0},{"$f":"SUMIF(SEE_data!$B:$B,SEE_agrg!$D147,SEE_data!AR:AR)","v":0},{"$f":"SUMIF(SEE_data!$B:$B,SEE_agrg!$D147,SEE_data!AS:AS)","v":0},{"$f":"SUMIF(SEE_data!$B:$B,SEE_agrg!$D147,SEE_data!AT:AT)","v":0},{"$f":"SUMIF(SEE_data!$B:$B,SEE_agrg!$D147,SEE_data!AU:AU)","v":0},{"$f":"SUMIF(SEE_data!$B:$B,SEE_agrg!$D147,SEE_data!AV:AV)","v":0},{"$f":"SUMIF(SEE_data!$B:$B,SEE_agrg!$D147,SEE_data!AW:AW)","v":0},{"$f":"SUMIF(SEE_data!$B:$B,SEE_agrg!$D147,SEE_data!AX:AX)","v":0},{"$f":"SUMIF(SEE_data!$B:$B,SEE_agrg!$D147,SEE_data!AY:AY)","v":0},{"$f":"SUMIF(SEE_data!$B:$B,SEE_agrg!$D147,SEE_data!AZ:AZ)","v":0},{"$f":"SUMIF(SEE_data!$B:$B,SEE_agrg!$D147,SEE_data!BA:BA)","v":0},{"$f":"SUMIF(SEE_data!$B:$B,SEE_agrg!$D147,SEE_data!BB:BB)","v":0},{"$f":"SUMIF(SEE_data!$B:$B,SEE_agrg!$D147,SEE_data!BC:BC)","v":0},0,0,0,0,0,0,0,0,0,0,{"$f":"SUMIFS(UdS_data!D:D,UdS_data!F:F,1,UdS_data!B:B,D147)","v":0},{"$error":"#DIV/0!"},0,0,0,0,0,0,{"$error":"#DIV/0!"},0,0,0,0,0,0]
[null,{"$f":"INDEX(Sistema_Analisado!$A$3:$F$99,MATCH($D148,Sistema_Analisado!$B$3:$B$99,FALSE),MATCH($B$4,Sistema_Analisado!$A$3:$F$3,FALSE))","v":{"$error":"#N/A"}},{"$f":"INDEX(Sistema_Analisado!$A$3:$F$99,MATCH(D148,Sistema_Analisado!$B$3:$B$99,FALSE),MATCH(\"Seq. Corredor\",Sistema_Analisado!$A$3:$F$3,0))","v":{"$error":"#N/A"}},null,{"$f":"SUMIF(SEE_data!$B:$B,SEE_agrg!$D148,SEE_data!F:F)","v":0},{"$f":"SUMIF(SEE_data!$B:$B,SEE_agrg!$D148,SEE_data!AF:AF)","v":0},{"$f":"SUMIF(SEE_data!$B:$B,SEE_agrg!$D148,SEE_data!AG:AG)","v":0},{"$f":"SUMIF(SEE_data!$B:$B,SEE_agrg!$D148,SEE_data!AH:AH)","v":0},{"$f":"SUMIF(SEE_data!$B:$B,SEE_agrg!$D148,SEE_data!AI:AI)","v":0},{"$f":"SUMIF(SEE_data!$B:$B,SEE_agrg!$D148,SEE_data!AJ:AJ)","v":0},{"$f":"SUMIF(SEE_data!$B:$B,SEE_agrg!$D148,SEE_data!AK:AK)","v":0},{"$f":"SUMIF(SEE_data!$B:$B,SEE_agrg!$D148,SEE_data!AL:AL)","v":0},{"$f":"SUMIF(SEE_data!$B:$B,SEE_agrg!$D148,SEE_data!AM:AM)","v":0},{"$f":"SUMIF(SEE_data!$B:$B,SEE_agrg!$D148,SEE_data!AN:AN)","v":0},{"$f":"SUMIF(SEE_data!$B:$B,SEE_agrg!$D148,SEE_data!AO:AO)","v":0},{"$f":"SUMIF(SEE_data!$B:$B,SEE_agrg!$D148,SEE_data!AP:AP)","v":0},{"$f":"SUMIF(SEE_data!$B:$B,SEE_agrg!$D148,SEE_data!AQ:AQ)","v":0},{"$f":"SUMIF(SEE_data!$B:$B,SEE_agrg!$D148,SEE_data!AR:AR)","v":0},{"$f":"SUMIF(SEE_data!$B:$B,SEE_agrg!$D148,SEE_data!AS:AS)","v":0},{"$f":"SUMIF(SEE_data!$B:$B,SEE_agrg!$D148,SEE_data!AT:AT)","v":0},{"$f":"SUMIF(SEE_data!$B:$B,SEE_agrg!$D148,SEE_data!AU:AU)","v":0},{"$f":"SUMIF(SEE_data!$B:$B,SEE_agrg!$D148,SEE_data!AV:AV)","v":0},{"$f":"SUMIF(SEE_data!$B:$B,SEE_agrg!$D148,SEE_data!AW:AW)","v":0},{"$f":"SUMIF(SEE_data!$B:$B,SEE_agrg!$D148,SEE_data!AX:AX)","v":0},{"$f":"SUMIF(SEE_data!$B:$B,SEE_agrg!$D148,SEE_data!AY:AY)","v":0},{"$f":"SUMIF(SEE_data!$B:$B,SEE_agrg!$D148,SEE_data!AZ:AZ)","v":0},{"$f":"SUMIF(SEE_data!$B:$B,SEE_agrg!$D148,SEE_data!BA:BA)","v":0},{"$f":"SUMIF(SEE_data!$B:$B,SEE_agrg!$D148,SEE_data!BB:BB)","v":0},{"$f":"SUMIF(SEE_data!$B:$B,SEE_agrg!$D148,SEE_data!BC:BC)","v":0},0,0,0,0,0,0,0,0,0,0,{"$f":"SUMIFS(UdS_data!D:D,UdS_data!F:F,1,UdS_data!B:B,D148)","v":0},{"$error":"#DIV/0!"},0,0,0,0,0,0,{"$error":"#DIV/0!"},0,0,0,0,0,0]
[null,{"$f":"INDEX(Sistema_Analisado!$A$3:$F$99,MATCH($D149,Sistema_Analisado!$B$3:$B$99,FALSE),MATCH($B$4,Sistema_Analisado!$A$3:$F$3,FALSE))","v":{"$error":"#N/A"}},{"$f":"INDEX(Sistema_Analisado!$A$3:$F$99,MATCH(D149,Sistema_Analisado!$B$3:$B$99,FALSE),MATCH(\"Seq. Corredor\",Sistema_Analisado!$A$3:$F$3,0))","v":{"$error":"#N/A"}},null,{"$f":"SUMIF(SEE_data!$B:$B,SEE_agrg!$D149,SEE_data!F:F)","v":0},{"$f":"SUMIF(SEE_data!$B:$B,SEE_agrg!$D149,SEE_data!AF:AF)","v":0},{"$f":"SUMIF(SEE_data!$B:$B,SEE_agrg!$D149,SEE_data!AG:AG)","v":0},{"$f":"SUMIF(SEE_data!$B:$B,SEE_agrg!$D149,SEE_data!AH:AH)","v":0},{"$f":"SUMIF(SEE_data!$B:$B,SEE_agrg!$D149,SEE_data!AI:AI)","v":0},{"$f":"SUMIF(SEE_data!$B:$B,SEE_agrg!$D149,SEE_data!AJ:AJ)","v":0},{"$f":"SUMIF(SEE_data!$B:$B,SEE_agrg!$D149,SEE_data!AK:AK)","v":0},{"$f":"SUMIF(SEE_data!$B:$B,SEE_agrg!$D149,SEE_data!AL:AL)","v":0},{"$f":"SUMIF(SEE_data!$B:$B,SEE_agrg!$D149,SEE_data!AM:AM)","v":0},{"$f":"SUMIF(SEE_data!$B:$B,SEE_agrg!$D149,SEE_data!AN:AN)","v":0},{"$f":"SUMIF(SEE_data!$B:$B,SEE_agrg!$D149,SEE_data!AO:AO)","v":0},{"$f":"SUMIF(SEE_data!$B:$B,SEE_agrg!$D149,SEE_data!AP:AP)","v":0},{"$f":"SUMIF(SEE_data!$B:$B,SEE_agrg!$D149,SEE_data!AQ:AQ)","v":0},{"$f":"SUMIF(SEE_data!$B:$B,SEE_agrg!$D149,SEE_data!AR:AR)","v":0},{"$f":"SUMIF(SEE_data!$B:$B,SEE_agrg!$D149,SEE_data!AS:AS)","v":0},{"$f":"SUMIF(SEE_data!$B:$B,SEE_agrg!$D149,SEE_data!AT:AT)","v":0},{"$f":"SUMIF(SEE_data!$B:$B,SEE_agrg!$D149,SEE_data!AU:AU)","v":0},{"$f":"SUMIF(SEE_data!$B:$B,SEE_agrg!$D149,SEE_data!AV:AV)","v":0},{"$f":"SUMIF(SEE_data!$B:$B,SEE_agrg!$D149,SEE_data!AW:AW)","v":0},{"$f":"SUMIF(SEE_data!$B:$B,SEE_agrg!$D149,SEE_data!AX:AX)","v":0},{"$f":"SUMIF(SEE_data!$B:$B,SEE_agrg!$D149,SEE_data!AY:AY)","v":0},{"$f":"SUMIF(SEE_data!$B:$B,SEE_agrg!$D149,SEE_data!AZ:AZ)","v":0},{"$f":"SUMIF(SEE_data!$B:$B,SEE_agrg!$D149,SEE_data!BA:BA)","v":0},{"$f":"SUMIF(SEE_data!$B:$B,SEE_agrg!$D149,SEE_data!BB:BB)","v":0},{"$f":"SUMIF(SEE_data!$B:$B,SEE_agrg!$D149,SEE_data!BC:BC)","v":0},0,0,0,0,0,0,0,0,0,0,{"$f":"SUMIFS(UdS_data!D:D,UdS_data!F:F,1,UdS_data!B:B,D149)","v":0},{"$error":"#DIV/0!"},0,0,0,0,0,0,{"$error":"#DIV/0!"},0,0,0,0,0,0]
[null,{"$f":"INDEX(Sistema_Analisado!$A$3:$F$99,MATCH($D150,Sistema_Analisado!$B$3:$B$99,FALSE),MATCH($B$4,Sistema_Analisado!$A$3:$F$3,FALSE))","v":{"$error":"#N/A"}},{"$f":"INDEX(Sistema_Analisado!$A$3:$F$99,MATCH(D150,Sistema_Analisado!$B$3:$B$99,FALSE),MATCH(\"Seq. Corredor\",Sistema_Analisado!$A$3:$F$3,0))","v":{"$error":"#N/A"}},null,{"$f":"SUMIF(SEE_data!$B:$B,SEE_agrg!$D150,SEE_data!F:F)","v":0},{"$f":"SUMIF(SEE_data!$B:$B,SEE_agrg!$D150,SEE_data!AF:AF)","v":0},{"$f":"SUMIF(SEE_data!$B:$B,SEE_agrg!$D150,SEE_data!AG:AG)","v":0},{"$f":"SUMIF(SEE_data!$B:$B,SEE_agrg!$D150,SEE_data!AH:AH)","v":0},{"$f":"SUMIF(SEE_data!$B:$B,SEE_agrg!$D150,SEE_data!AI:AI)","v":0},{"$f":"SUMIF(SEE_data!$B:$B,SEE_agrg!$D150,SEE_data!AJ:AJ)","v":0},{"$f":"SUMIF(SEE_data!$B:$B,SEE_agrg!$D150,SEE_data!AK:AK)","v":0},{"$f":"SUMIF(SEE_data!$B:$B,SEE_agrg!$D150,SEE_data!AL:AL)","v":0},{"$f":"SUMIF(SEE_data!$B:$B,SEE_agrg!$D150,SEE_data!AM:AM)","v":0},{"$f":"SUMIF(SEE_data!$B:$B,SEE_agrg!$D150,SEE_data!AN:AN)","v":0},{"$f":"SUMIF(SEE_data!$B:$B,SEE_agrg!$D150,SEE_data!AO:AO)","v":0},{"$f":"SUMIF(SEE_data!$B:$B,SEE_agrg!$D150,SEE_data!AP:AP)","v":0},{"$f":"SUMIF(SEE_data!$B:$B,SEE_agrg!$D150,SEE_data!AQ:AQ)","v":0},{"$f":"SUMIF(SEE_data!$B:$B,SEE_agrg!$D150,SEE_data!AR:AR)","v":0},{"$f":"SUMIF(SEE_data!$B:$B,SEE_agrg!$D150,SEE_data!AS:AS)","v":0},{"$f":"SUMIF(SEE_data!$B:$B,SEE_agrg!$D150,SEE_data!AT:AT)","v":0},{"$f":"SUMIF(SEE_data!$B:$B,SEE_agrg!$D150,SEE_data!AU:AU)","v":0},{"$f":"SUMIF(SEE_data!$B:$B,SEE_agrg!$D150,SEE_data!AV:AV)","v":0},{"$f":"SUMIF(SEE_data!$B:$B,SEE_agrg!$D150,SEE_data!AW:AW)","v":0},{"$f":"SUMIF(SEE_data!$B:$B,SEE_agrg!$D150,SEE_data!AX:AX)","v":0},{"$f":"SUMIF(SEE_data!$B:$B,SEE_agrg!$D150,SEE_data!AY:AY)","v":0},{"$f":"SUMIF(SEE_data!$B:$B,SEE_agrg!$D150,SEE_data!AZ:AZ)","v":0},{"$f":"SUMIF(SEE_data!$B:$B,SEE_agrg!$D150,SEE_data!BA:BA)","v":0},{"$f":"SUMIF(SEE_data!$B:$B,SEE_agrg!$D150,SEE_data!BB:BB)","v":0},{"$f":"SUMIF(SEE_data!$B:$B,SEE_agrg!$D150,SEE_data!BC:BC)","v":0},0,0,0,0,0,0,0,0,0,0,{"$f":"SUMIFS(UdS_data!D:D,UdS_data!F:F,1,UdS_data!B:B,D150)","v":0},{"$error":"#DIV/0!"},0,0,0,0,0,0,{"$error":"#DIV/0!"},0,0,0,0,0,0]
[null,{"$f":"INDEX(Sistema_Analisado!$A$3:$F$99,MATCH($D151,Sistema_Analisado!$B$3:$B$99,FALSE),MATCH($B$4,Sistema_Analisado!$A$3:$F$3,FALSE))","v":{"$error":"#N/A"}},{"$f":"INDEX(Sistema_Analisado!$A$3:$F$99,MATCH(D151,Sistema_Analisado!$B$3:$B$99,FALSE),MATCH(\"Seq. Corredor\",Sistema_Analisado!$A$3:$F$3,0))","v":{"$error":"#N/A"}},null,{"$f":"SUMIF(SEE_data!$B:$B,SEE_agrg!$D151,SEE_data!F:F)","v":0},{"$f":"SUMIF(SEE_data!$B:$B,SEE_agrg!$D151,SEE_data!AF:AF)","v":0},{"$f":"SUMIF(SEE_data!$B:$B,SEE_agrg!$D151,SEE_data!AG:AG)","v":0},{"$f":"SUMIF(SEE_data!$B:$B,SEE_agrg!$D151,SEE_data!AH:AH)","v":0},{"$f":"SUMIF(SEE_data!$B:$B,SEE_agrg!$D151,SEE_data!AI:AI)","v":0},{"$f":"SUMIF(SEE_data!$B:$B,SEE_agrg!$D151,SEE_data!AJ:AJ)","v":0},{"$f":"SUMIF(SEE_data!$B:$B,SEE_agrg!$D151,SEE_data!AK:AK)","v":0},{"$f":"SUMIF(SEE_data!$B:$B,SEE_agrg!$D151,SEE_data!AL:AL)","v":0},{"$f":"SUMIF(SEE_data!$B:$B,SEE_agrg!$D151,SEE_data!AM:AM)","v":0},{"$f":"SUMIF(SEE_data!$B:$B,SEE_agrg!$D151,SEE_data!AN:AN)","v":0},{"$f":"SUMIF(SEE_data!$B:$B,SEE_agrg!$D151,SEE_data!AO:AO)","v":0},{"$f":"SUMIF(SEE_data!$B:$B,SEE_agrg!$D151,SEE_data!AP:AP)","v":0},{"$f":"SUMIF(SEE_data!$B:$B,SEE_agrg!$D151,SEE_data!AQ:AQ)","v":0},{"$f":"SUMIF(SEE_data!$B:$B,SEE_agrg!$D151,SEE_data!AR:AR)","v":0},{"$f":"SUMIF(SEE_data!$B:$B,SEE_agrg!$D151,SEE_data!AS:AS)","v":0},{"$f":"SUMIF(SEE_data!$B:$B,SEE_agrg!$D151,SEE_data!AT:AT)","v":0},{"$f":"SUMIF(SEE_data!$B:$B,SEE_agrg!$D151,SEE_data!AU:AU)","v":0},{"$f":"SUMIF(SEE_data!$B:$B,SEE_agrg!$D151,SEE_data!AV:AV)","v":0},{"$f":"SUMIF(SEE_data!$B:$B,SEE_agrg!$D151,SEE_data!AW:AW)","v":0},{"$f":"SUMIF(SEE_data!$B:$B,SEE_agrg!$D151,SEE_data!AX:AX)","v":0},{"$f":"SUMIF(SEE_data!$B:$B,SEE_agrg!$D151,SEE_data!AY:AY)","v":0},{"$f":"SUMIF(SEE_data!$B:$B,SEE_agrg!$D151,SEE_data!AZ:AZ)","v":0},{"$f":"SUMIF(SEE_data!$B:$B,SEE_agrg!$D151,SEE_data!BA:BA)","v":0},{"$f":"SUMIF(SEE_data!$B:$B,SEE_agrg!$D151,SEE_data!BB:BB)","v":0},{"$f":"SUMIF(SEE_data!$B:$B,SEE_agrg!$D151,SEE_data!BC:BC)","v":0},0,0,0,0,0,0,0,0,0,0,{"$f":"SUMIFS(UdS_data!D:D,UdS_data!F:F,1,UdS_data!B:B,D151)","v":0},{"$error":"#DIV/0!"},0,0,0,0,0,0,{"$error":"#DIV/0!"},0,0,0,0,0,0]
[null,{"$f":"INDEX(Sistema_Analisado!$A$3:$F$99,MATCH($D152,Sistema_Analisado!$B$3:$B$99,FALSE),MATCH($B$4,Sistema_Analisado!$A$3:$F$3,FALSE))","v":{"$error":"#N/A"}},{"$f":"INDEX(Sistema_Analisado!$A$3:$F$99,MATCH(D152,Sistema_Analisado!$B$3:$B$99,FALSE),MATCH(\"Seq. Corredor\",Sistema_Analisado!$A$3:$F$3,0))","v":{"$error":"#N/A"}},null,{"$f":"SUMIF(SEE_data!$B:$B,SEE_agrg!$D152,SEE_data!F:F)","v":0},{"$f":"SUMIF(SEE_data!$B:$B,SEE_agrg!$D152,SEE_data!AF:AF)","v":0},{"$f":"SUMIF(SEE_data!$B:$B,SEE_agrg!$D152,SEE_data!AG:AG)","v":0},{"$f":"SUMIF(SEE_data!$B:$B,SEE_agrg!$D152,SEE_data!AH:AH)","v":0},{"$f":"SUMIF(SEE_data!$B:$B,SEE_agrg!$D152,SEE_data!AI:AI)","v":0},{"$f":"SUMIF(SEE_data!$B:$B,SEE_agrg!$D152,SEE_data!AJ:AJ)","v":0},{"$f":"SUMIF(SEE_data!$B:$B,SEE_agrg!$D152,SEE_data!AK:AK)","v":0},{"$f":"SUMIF(SEE_data!$B:$B,SEE_agrg!$D152,SEE_data!AL:AL)","v":0},{"$f":"SUMIF(SEE_data!$B:$B,SEE_agrg!$D152,SEE_data!AM:AM)","v":0},{"$f":"SUMIF(SEE_data!$B:$B,SEE_agrg!$D152,SEE_data!AN:AN)","v":0},{"$f":"SUMIF(SEE_data!$B:$B,SEE_agrg!$D152,SEE_data!AO:AO)","v":0},{"$f":"SUMIF(SEE_data!$B:$B,SEE_agrg!$D152,SEE_data!AP:AP)","v":0},{"$f":"SUMIF(SEE_data!$B:$B,SEE_agrg!$D152,SEE_data!AQ:AQ)","v":0},{"$f":"SUMIF(SEE_data!$B:$B,SEE_agrg!$D152,SEE_data!AR:AR)","v":0},{"$f":"SUMIF(SEE_data!$B:$B,SEE_agrg!$D152,SEE_data!AS:AS)","v":0},{"$f":"SUMIF(SEE_data!$B:$B,SEE_agrg!$D152,SEE_data!AT:AT)","v":0},{"$f":"SUMIF(SEE_data!$B:$B,SEE_agrg!$D152,SEE_data!AU:AU)","v":0},{"$f":"SUMIF(SEE_data!$B:$B,SEE_agrg!$D152,SEE_data!AV:AV)","v":0},{"$f":"SUMIF(SEE_data!$B:$B,SEE_agrg!$D152,SEE_data!AW:AW)","v":0},{"$f":"SUMIF(SEE_data!$B:$B,SEE_agrg!$D152,SEE_data!AX:AX)","v":0},{"$f":"SUMIF(SEE_data!$B:$B,SEE_agrg!$D152,SEE_data!AY:AY)","v":0},{"$f":"SUMIF(SEE_data!$B:$B,SEE_agrg!$D152,SEE_data!AZ:AZ)","v":0},{"$f":"SUMIF(SEE_data!$B:$B,SEE_agrg!$D152,SEE_data!BA:BA)","v":0},{"$f":"SUMIF(SEE_data!$B:$B,SEE_agrg!$D152,SEE_data!BB:BB)","v":0},{"$f":"SUMIF(SEE_data!$B:$B,SEE_agrg!$D152,SEE_data!BC:BC)","v":0},0,0,0,0,0,0,0,0,0,0,{"$f":"SUMIFS(UdS_data!D:D,UdS_data!F:F,1,UdS_data!B:B,D152)","v":0},{"$error":"#DIV/0!"},0,0,0,0,0,0,{"$error":"#DIV/0!"},0,0,0,0,0,0]
[null,{"$f":"INDEX(Sistema_Analisado!$A$3:$F$99,MATCH($D153,Sistema_Analisado!$B$3:$B$99,FALSE),MATCH($B$4,Sistema_Analisado!$A$3:$F$3,FALSE))","v":{"$error":"#N/A"}},{"$f":"INDEX(Sistema_Analisado!$A$3:$F$99,MATCH(D153,Sistema_Analisado!$B$3:$B$99,FALSE),MATCH(\"Seq. Corredor\",Sistema_Analisado!$A$3:$F$3,0))","v":{"$error":"#N/A"}},null,{"$f":"SUMIF(SEE_data!$B:$B,SEE_agrg!$D153,SEE_data!F:F)","v":0},{"$f":"SUMIF(SEE_data!$B:$B,SEE_agrg!$D153,SEE_data!AF:AF)","v":0},{"$f":"SUMIF(SEE_data!$B:$B,SEE_agrg!$D153,SEE_data!AG:AG)","v":0},{"$f":"SUMIF(SEE_data!$B:$B,SEE_agrg!$D153,SEE_data!AH:AH)","v":0},{"$f":"SUMIF(SEE_data!$B:$B,SEE_agrg!$D153,SEE_data!AI:AI)","v":0},{"$f":"SUMIF(SEE_data!$B:$B,SEE_agrg!$D153,SEE_data!AJ:AJ)","v":0},{"$f":"SUMIF(SEE_data!$B:$B,SEE_agrg!$D153,SEE_data!AK:AK)","v":0},{"$f":"SUMIF(SEE_data!$B:$B,SEE_agrg!$D153,SEE_data!AL:AL)","v":0},{"$f":"SUMIF(SEE_data!$B:$B,SEE_agrg!$D153,SEE_data!AM:AM)","v":0},{"$f":"SUMIF(SEE_data!$B:$B,SEE_agrg!$D153,SEE_data!AN:AN)","v":0},{"$f":"SUMIF(SEE_data!$B:$B,SEE_agrg!$D153,SEE_data!AO:AO)","v":0},{"$f":"SUMIF(SEE_data!$B:$B,SEE_agrg!$D153,SEE_data!AP:AP)","v":0},{"$f":"SUMIF(SEE_data!$B:$B,SEE_agrg!$D153,SEE_data!AQ:AQ)","v":0},{"$f":"SUMIF(SEE_data!$B:$B,SEE_agrg!$D153,SEE_data!AR:AR)","v":0},{"$f":"SUMIF(SEE_data!$B:$B,SEE_agrg!$D153,SEE_data!AS:AS)","v":0},{"$f":"SUMIF(SEE_data!$B:$B,SEE_agrg!$D153,SEE_data!AT:AT)","v":0},{"$f":"SUMIF(SEE_data!$B:$B,SEE_agrg!$D153,SEE_data!AU:AU)","v":0},{"$f":"SUMIF(SEE_data!$B:$B,SEE_agrg!$D153,SEE_data!AV:AV)","v":0},{"$f":"SUMIF(SEE_data!$B:$B,SEE_agrg!$D153,SEE_data!AW:AW)","v":0},{"$f":"SUMIF(SEE_data!$B:$B,SEE_agrg!$D153,SEE_data!AX:AX)","v":0},{"$f":"SUMIF(SEE_data!$B:$B,SEE_agrg!$D153,SEE_data!AY:AY)","v":0},{"$f":"SUMIF(SEE_data!$B:$B,SEE_agrg!$D153,SEE_data!AZ:AZ)","v":0},{"$f":"SUMIF(SEE_data!$B:$B,SEE_agrg!$D153,SEE_data!BA:BA)","v":0},{"$f":"SUMIF(SEE_data!$B:$B,SEE_agrg!$D153,SEE_data!BB:BB)","v":0},{"$f":"SUMIF(SEE_data!$B:$B,SEE_agrg!$D153,SEE_data!BC:BC)","v":0},0,0,0,0,0,0,0,0,0,0,{"$f":"SUMIFS(UdS_data!D:D,UdS_data!F:F,1,UdS_data!B:B,D153)","v":0},{"$error":"#DIV/0!"},0,0,0,0,0,0,{"$error":"#DIV/0!"},0,0,0,0,0,0]
[null,{"$f":"INDEX(Sistema_Analisado!$A$3:$F$99,MATCH($D154,Sistema_Analisado!$B$3:$B$99,FALSE),MATCH($B$4,Sistema_Analisado!$A$3:$F$3,FALSE))","v":{"$error":"#N/A"}},{"$f":"INDEX(Sistema_Analisado!$A$3:$F$99,MATCH(D154,Sistema_Analisado!$B$3:$B$99,FALSE),MATCH(\"Seq. Corredor\",Sistema_Analisado!$A$3:$F$3,0))","v":{"$error":"#N/A"}},null,{"$f":"SUMIF(SEE_data!$B:$B,SEE_agrg!$D154,SEE_data!F:F)","v":0},{"$f":"SUMIF(SEE_data!$B:$B,SEE_agrg!$D154,SEE_data!AF:AF)","v":0},{"$f":"SUMIF(SEE_data!$B:$B,SEE_agrg!$D154,SEE_data!AG:AG)","v":0},{"$f":"SUMIF(SEE_data!$B:$B,SEE_agrg!$D154,SEE_data!AH:AH)","v":0},{"$f":"SUMIF(SEE_data!$B:$B,SEE_agrg!$D154,SEE_data!AI:AI)","v":0},{"$f":"SUMIF(SEE_data!$B:$B,SEE_agrg!$D154,SEE_data!AJ:AJ)","v":0},{"$f":"SUMIF(SEE_data!$B:$B,SEE_agrg!$D154,SEE_data!AK:AK)","v":0},{"$f":"SUMIF(SEE_data!$B:$B,SEE_agrg!$D154,SEE_data!AL:AL)","v":0},{"$f":"SUMIF(SEE_data!$B:$B,SEE_agrg!$D154,SEE_data!AM:AM)","v":0},{"$f":"SUMIF(SEE_data!$B:$B,SEE_agrg!$D154,SEE_data!AN:AN)","v":0},{"$f":"SUMIF(SEE_data!$B:$B,SEE_agrg!$D154,SEE_data!AO:AO)","v":0},{"$f":"SUMIF(SEE_data!$B:$B,SEE_agrg!$D154,SEE_data!AP:AP)","v":0},{"$f":"SUMIF(SEE_data!$B:$B,SEE_agrg!$D154,SEE_data!AQ:AQ)","v":0},{"$f":"SUMIF(SEE_data!$B:$B,SEE_agrg!$D154,SEE_data!AR:AR)","v":0},{"$f":"SUMIF(SEE_data!$B:$B,SEE_agrg!$D154,SEE_data!AS:AS)","v":0},{"$f":"SUMIF(SEE_data!$B:$B,SEE_agrg!$D154,SEE_data!AT:AT)","v":0},{"$f":"SUMIF(SEE_data!$B:$B,SEE_agrg!$D154,SEE_data!AU:AU)","v":0},{"$f":"SUMIF(SEE_data!$B:$B,SEE_agrg!$D154,SEE_data!AV:AV)","v":0},{"$f":"SUMIF(SEE_data!$B:$B,SEE_agrg!$D154,SEE_data!AW:AW)","v":0},{"$f":"SUMIF(SEE_data!$B:$B,SEE_agrg!$D154,SEE_data!AX:AX)","v":0},{"$f":"SUMIF(SEE_data!$B:$B,SEE_agrg!$D154,SEE_data!AY:AY)","v":0},{"$f":"SUMIF(SEE_data!$B:$B,SEE_agrg!$D154,SEE_data!AZ:AZ)","v":0},{"$f":"SUMIF(SEE_data!$B:$B,SEE_agrg!$D154,SEE_data!BA:BA)","v":0},{"$f":"SUMIF(SEE_data!$B:$B,SEE_agrg!$D154,SEE_data!BB:BB)","v":0},{"$f":"SUMIF(SEE_data!$B:$B,SEE_agrg!$D154,SEE_data!BC:BC)","v":0},0,0,0,0,0,0,0,0,0,0,{"$f":"SUMIFS(UdS_data!D:D,UdS_data!F:F,1,UdS_data!B:B,D154)","v":0},{"$error":"#DIV/0!"},0,0,0,0,0,0,{"$error":"#DIV/0!"},0,0,0,0,0,0]
[null,{"$f":"INDEX(Sistema_Analisado!$A$3:$F$99,MATCH($D155,Sistema_Analisado!$B$3:$B$99,FALSE),MATCH($B$4,Sistema_Analisado!$A$3:$F$3,FALSE))","v":{"$error":"#N/A"}},{"$f":"INDEX(Sistema_Analisado!$A$3:$F$99,MATCH(D155,Sistema_Analisado!$B$3:$B$99,FALSE),MATCH(\"Seq. Corredor\",Sistema_Analisado!$A$3:$F$3,0))","v":{"$error":"#N/A"}},null,{"$f":"SUMIF(SEE_data!$B:$B,SEE_agrg!$D155,SEE_data!F:F)","v":0},{"$f":"SUMIF(SEE_data!$B:$B,SEE_agrg!$D155,SEE_data!AF:AF)","v":0},{"$f":"SUMIF(SEE_data!$B:$B,SEE_agrg!$D155,SEE_data!AG:AG)","v":0},{"$f":"SUMIF(SEE_data!$B:$B,SEE_agrg!$D155,SEE_data!AH:AH)","v":0},{"$f":"SUMIF(SEE_data!$B:$B,SEE_agrg!$D155,SEE_data!AI:AI)","v":0},{"$f":"SUMIF(SEE_data!$B:$B,SEE_agrg!$D155,SEE_data!AJ:AJ)","v":0},{"$f":"SUMIF(SEE_data!$B:$B,SEE_agrg!$D155,SEE_data!AK:AK)","v":0},{"$f":"SUMIF(SEE_data!$B:$B,SEE_agrg!$D155,SEE_data!AL:AL)","v":0},{"$f":"SUMIF(SEE_data!$B:$B,SEE_agrg!$D155,SEE_data!AM:AM)","v":0},{"$f":"SUMIF(SEE_data!$B:$B,SEE_agrg!$D155,SEE_data!AN:AN)","v":0},{"$f":"SUMIF(SEE_data!$B:$B,SEE_agrg!$D155,SEE_data!AO:AO)","v":0},{"$f":"SUMIF(SEE_data!$B:$B,SEE_agrg!$D155,SEE_data!AP:AP)","v":0},{"$f":"SUMIF(SEE_data!$B:$B,SEE_agrg!$D155,SEE_data!AQ:AQ)","v":0},{"$f":"SUMIF(SEE_data!$B:$B,SEE_agrg!$D155,SEE_data!AR:AR)","v":0},{"$f":"SUMIF(SEE_data!$B:$B,SEE_agrg!$D155,SEE_data!AS:AS)","v":0},{"$f":"SUMIF(SEE_data!$B:$B,SEE_agrg!$D155,SEE_data!AT:AT)","v":0},{"$f":"SUMIF(SEE_data!$B:$B,SEE_agrg!$D155,SEE_data!AU:AU)","v":0},{"$f":"SUMIF(SEE_data!$B:$B,SEE_agrg!$D155,SEE_data!AV:AV)","v":0},{"$f":"SUMIF(SEE_data!$B:$B,SEE_agrg!$D155,SEE_data!AW:AW)","v":0},{"$f":"SUMIF(SEE_data!$B:$B,SEE_agrg!$D155,SEE_data!AX:AX)","v":0},{"$f":"SUMIF(SEE_data!$B:$B,SEE_agrg!$D155,SEE_data!AY:AY)","v":0},{"$f":"SUMIF(SEE_data!$B:$B,SEE_agrg!$D155,SEE_data!AZ:AZ)","v":0},{"$f":"SUMIF(SEE_data!$B:$B,SEE_agrg!$D155,SEE_data!BA:BA)","v":0},{"$f":"SUMIF(SEE_data!$B:$B,SEE_agrg!$D155,SEE_data!BB:BB)","v":0},{"$f":"SUMIF(SEE_data!$B:$B,SEE_agrg!$D155,SEE_data!BC:BC)","v":0},0,0,0,0,0,0,0,0,0,0,{"$f":"SUMIFS(UdS_data!D:D,UdS_data!F:F,1,UdS_data!B:B,D155)","v":0},{"$error":"#DIV/0!"},0,0,0,0,0,0,{"$error":"#DIV/0!"},0,0,0,0,0,0]
[null,{"$f":"INDEX(Sistema_Analisado!$A$3:$F$99,MATCH($D156,Sistema_Analisado!$B$3:$B$99,FALSE),MATCH($B$4,Sistema_Analisado!$A$3:$F$3,FALSE))","v":{"$error":"#N/A"}},{"$f":"INDEX(Sistema_Analisado!$A$3:$F$99,MATCH(D156,Sistema_Analisado!$B$3:$B$99,FALSE),MATCH(\"Seq. Corredor\",Sistema_Analisado!$A$3:$F$3,0))","v":{"$error":"#N/A"}},null,{"$f":"SUMIF(SEE_data!$B:$B,SEE_agrg!$D156,SEE_data!F:F)","v":0},{"$f":"SUMIF(SEE_data!$B:$B,SEE_agrg!$D156,SEE_data!AF:AF)","v":0},{"$f":"SUMIF(SEE_data!$B:$B,SEE_agrg!$D156,SEE_data!AG:AG)","v":0},{"$f":"SUMIF(SEE_data!$B:$B,SEE_agrg!$D156,SEE_data!AH:AH)","v":0},{"$f":"SUMIF(SEE_data!$B:$B,SEE_agrg!$D156,SEE_data!AI:AI)","v":0},{"$f":"SUMIF(SEE_data!$B:$B,SEE_agrg!$D156,SEE_data!AJ:AJ)","v":0},{"$f":"SUMIF(SEE_data!$B:$B,SEE_agrg!$D156,SEE_data!AK:AK)","v":0},{"$f":"SUMIF(SEE_data!$B:$B,SEE_agrg!$D156,SEE_data!AL:AL)","v":0},{"$f":"SUMIF(SEE_data!$B:$B,SEE_agrg!$D156,SEE_data!AM:AM)","v":0},{"$f":"SUMIF(SEE_data!$B:$B,SEE_agrg!$D156,SEE_data!AN:AN)","v":0},{"$f":"SUMIF(SEE_data!$B:$B,SEE_agrg!$D156,SEE_data!AO:AO)","v":0},{"$f":"SUMIF(SEE_data!$B:$B,SEE_agrg!$D156,SEE_data!AP:AP)","v":0},{"$f":"SUMIF(SEE_data!$B:$B,SEE_agrg!$D156,SEE_data!AQ:AQ)","v":0},{"$f":"SUMIF(SEE_data!$B:$B,SEE_agrg!$D156,SEE_data!AR:AR)","v":0},{"$f":"SUMIF(SEE_data!$B:$B,SEE_agrg!$D156,SEE_data!AS:AS)","v":0},{"$f":"SUMIF(SEE_data!$B:$B,SEE_agrg!$D156,SEE_data!AT:AT)","v":0},{"$f":"SUMIF(SEE_data!$B:$B,SEE_agrg!$D156,SEE_data!AU:AU)","v":0},{"$f":"SUMIF(SEE_data!$B:$B,SEE_agrg!$D156,SEE_data!AV:AV)","v":0},{"$f":"SUMIF(SEE_data!$B:$B,SEE_agrg!$D156,SEE_data!AW:AW)","v":0},{"$f":"SUMIF(SEE_data!$B:$B,SEE_agrg!$D156,SEE_data!AX:AX)","v":0},{"$f":"SUMIF(SEE_data!$B:$B,SEE_agrg!$D156,SEE_data!AY:AY)","v":0},{"$f":"SUMIF(SEE_data!$B:$B,SEE_agrg!$D156,SEE_data!AZ:AZ)","v":0},{"$f":"SUMIF(SEE_data!$B:$B,SEE_agrg!$D156,SEE_data!BA:BA)","v":0},{"$f":"SUMIF(SEE_data!$B:$B,SEE_agrg!$D156,SEE_data!BB:BB)","v":0},{"$f":"SUMIF(SEE_data!$B:$B,SEE_agrg!$D156,SEE_data!BC:BC)","v":0},0,0,0,0,0,0,0,0,0,0,{"$f":"SUMIFS(UdS_data!D:D,UdS_data!F:F,1,UdS_data!B:B,D156)","v":0},{"$error":"#DIV/0!"},0,0,0,0,0,0,{"$error":"#DIV/0!"},0,0,0,0,0,0]
[null,{"$f":"INDEX(Sistema_Analisado!$A$3:$F$99,MATCH($D157,Sistema_Analisado!$B$3:$B$99,FALSE),MATCH($B$4,Sistema_Analisado!$A$3:$F$3,FALSE))","v":{"$error":"#N/A"}},{"$f":"INDEX(Sistema_Analisado!$A$3:$F$99,MATCH(D157,Sistema_Analisado!$B$3:$B$99,FALSE),MATCH(\"Seq. Corredor\",Sistema_Analisado!$A$3:$F$3,0))","v":{"$error":"#N/A"}},null,{"$f":"SUMIF(SEE_data!$B:$B,SEE_agrg!$D157,SEE_data!F:F)","v":0},{"$f":"SUMIF(SEE_data!$B:$B,SEE_agrg!$D157,SEE_data!AF:AF)","v":0},{"$f":"SUMIF(SEE_data!$B:$B,SEE_agrg!$D157,SEE_data!AG:AG)","v":0},{"$f":"SUMIF(SEE_data!$B:$B,SEE_agrg!$D157,SEE_data!AH:AH)","v":0},{"$f":"SUMIF(SEE_data!$B:$B,SEE_agrg!$D157,SEE_data!AI:AI)","v":0},{"$f":"SUMIF(SEE_data!$B:$B,SEE_agrg!$D157,SEE_data!AJ:AJ)","v":0},{"$f":"SUMIF(SEE_data!$B:$B,SEE_agrg!$D157,SEE_data!AK:AK)","v":0},{"$f":"SUMIF(SEE_data!$B:$B,SEE_agrg!$D157,SEE_data!AL:AL)","v":0},{"$f":"SUMIF(SEE_data!$B:$B,SEE_agrg!$D157,SEE_data!AM:AM)","v":0},{"$f":"SUMIF(SEE_data!$B:$B,SEE_agrg!$D157,SEE_data!AN:AN)","v":0},{"$f":"SUMIF(SEE_data!$B:$B,SEE_agrg!$D157,SEE_data!AO:AO)","v":0},{"$f":"SUMIF(SEE_data!$B:$B,SEE_agrg!$D157,SEE_data!AP:AP)","v":0},{"$f":"SUMIF(SEE_data!$B:$B,SEE_agrg!$D157,SEE_data!AQ:AQ)","v":0},{"$f":"SUMIF(SEE_data!$B:$B,SEE_agrg!$D157,SEE_data!AR:AR)","v":0},{"$f":"SUMIF(SEE_data!$B:$B,SEE_agrg!$D157,SEE_data!AS:AS)","v":0},{"$f":"SUMIF(SEE_data!$B:$B,SEE_agrg!$D157,SEE_data!AT:AT)","v":0},{"$f":"SUMIF(SEE_data!$B:$B,SEE_agrg!$D157,SEE_data!AU:AU)","v":0},{"$f":"SUMIF(SEE_data!$B:$B,SEE_agrg!$D157,SEE_data!AV:AV)","v":0},{"$f":"SUMIF(SEE_data!$B:$B,SEE_agrg!$D157,SEE_data!AW:AW)","v":0},{"$f":"SUMIF(SEE_data!$B:$B,SEE_agrg!$D157,SEE_data!AX:AX)","v":0},{"$f":"SUMIF(SEE_data!$B:$B,SEE_agrg!$D157,SEE_data!AY:AY)","v":0},{"$f":"SUMIF(SEE_data!$B:$B,SEE_agrg!$D157,SEE_data!AZ:AZ)","v":0},{"$f":"SUMIF(SEE_data!$B:$B,SEE_agrg!$D157,SEE_data!BA:BA)","v":0},{"$f":"SUMIF(SEE_data!$B:$B,SEE_agrg!$D157,SEE_data!BB:BB)","v":0},{"$f":"SUMIF(SEE_data!$B:$B,SEE_agrg!$D157,SEE_data!BC:BC)","v":0},0,0,0,0,0,0,0,0,0,0,{"$f":"SUMIFS(UdS_data!D:D,UdS_data!F:F,1,UdS_data!B:B,D157)","v":0},{"$error":"#DIV/0!"},0,0,0,0,0,0,{"$error":"#DIV/0!"},0,0,0,0,0,0]
[null,{"$f":"INDEX(Sistema_Analisado!$A$3:$F$99,MATCH($D158,Sistema_Analisado!$B$3:$B$99,FALSE),MATCH($B$4,Sistema_Analisado!$A$3:$F$3,FALSE))","v":{"$error":"#N/A"}},{"$f":"INDEX(Sistema_Analisado!$A$3:$F$99,MATCH(D158,Sistema_Analisado!$B$3:$B$99,FALSE),MATCH(\"Seq. Corredor\",Sistema_Analisado!$A$3:$F$3,0))","v":{"$error":"#N/A"}},null,{"$f":"SUMIF(SEE_data!$B:$B,SEE_agrg!$D158,SEE_data!F:F)","v":0},{"$f":"SUMIF(SEE_data!$B:$B,SEE_agrg!$D158,SEE_data!AF:AF)","v":0},{"$f":"SUMIF(SEE_data!$B:$B,SEE_agrg!$D158,SEE_data!AG:AG)","v":0},{"$f":"SUMIF(SEE_data!$B:$B,SEE_agrg!$D158,SEE_data!AH:AH)","v":0},{"$f":"SUMIF(SEE_data!$B:$B,SEE_agrg!$D158,SEE_data!AI:AI)","v":0},{"$f":"SUMIF(SEE_data!$B:$B,SEE_agrg!$D158,SEE_data!AJ:AJ)","v":0},{"$f":"SUMIF(SEE_data!$B:$B,SEE_agrg!$D158,SEE_data!AK:AK)","v":0},{"$f":"SUMIF(SEE_data!$B:$B,SEE_agrg!$D158,SEE_data!AL:AL)","v":0},{"$f":"SUMIF(SEE_data!$B:$B,SEE_agrg!$D158,SEE_data!AM:AM)","v":0},{"$f":"SUMIF(SEE_data!$B:$B,SEE_agrg!$D158,SEE_data!AN:AN)","v":0},{"$f":"SUMIF(SEE_data!$B:$B,SEE_agrg!$D158,SEE_data!AO:AO)","v":0},{"$f":"SUMIF(SEE_data!$B:$B,SEE_agrg!$D158,SEE_data!AP:AP)","v":0},{"$f":"SUMIF(SEE_data!$B:$B,SEE_agrg!$D158,SEE_data!AQ:AQ)","v":0},{"$f":"SUMIF(SEE_data!$B:$B,SEE_agrg!$D158,SEE_data!AR:AR)","v":0},{"$f":"SUMIF(SEE_data!$B:$B,SEE_agrg!$D158,SEE_data!AS:AS)","v":0},{"$f":"SUMIF(SEE_data!$B:$B,SEE_agrg!$D158,SEE_data!AT:AT)","v":0},{"$f":"SUMIF(SEE_data!$B:$B,SEE_agrg!$D158,SEE_data!AU:AU)","v":0},{"$f":"SUMIF(SEE_data!$B:$B,SEE_agrg!$D158,SEE_data!AV:AV)","v":0},{"$f":"SUMIF(SEE_data!$B:$B,SEE_agrg!$D158,SEE_data!AW:AW)","v":0},{"$f":"SUMIF(SEE_data!$B:$B,SEE_agrg!$D158,SEE_data!AX:AX)","v":0},{"$f":"SUMIF(SEE_data!$B:$B,SEE_agrg!$D158,SEE_data!AY:AY)","v":0},{"$f":"SUMIF(SEE_data!$B:$B,SEE_agrg!$D158,SEE_data!AZ:AZ)","v":0},{"$f":"SUMIF(SEE_data!$B:$B,SEE_agrg!$D158,SEE_data!BA:BA)","v":0},{"$f":"SUMIF(SEE_data!$B:$B,SEE_agrg!$D158,SEE_data!BB:BB)","v":0},{"$f":"SUMIF(SEE_data!$B:$B,SEE_agrg!$D158,SEE_data!BC:BC)","v":0},0,0,0,0,0,0,0,0,0,0,{"$f":"SUMIFS(UdS_data!D:D,UdS_data!F:F,1,UdS_data!B:B,D158)","v":0},{"$error":"#DIV/0!"},0,0,0,0,0,0,{"$error":"#DIV/0!"},0,0,0,0,0,0]
[null,{"$f":"INDEX(Sistema_Analisado!$A$3:$F$99,MATCH($D159,Sistema_Analisado!$B$3:$B$99,FALSE),MATCH($B$4,Sistema_Analisado!$A$3:$F$3,FALSE))","v":{"$error":"#N/A"}},{"$f":"INDEX(Sistema_Analisado!$A$3:$F$99,MATCH(D159,Sistema_Analisado!$B$3:$B$99,FALSE),MATCH(\"Seq. Corredor\",Sistema_Analisado!$A$3:$F$3,0))","v":{"$error":"#N/A"}},null,{"$f":"SUMIF(SEE_data!$B:$B,SEE_agrg!$D159,SEE_data!F:F)","v":0},{"$f":"SUMIF(SEE_data!$B:$B,SEE_agrg!$D159,SEE_data!AF:AF)","v":0},{"$f":"SUMIF(SEE_data!$B:$B,SEE_agrg!$D159,SEE_data!AG:AG)","v":0},{"$f":"SUMIF(SEE_data!$B:$B,SEE_agrg!$D159,SEE_data!AH:AH)","v":0},{"$f":"SUMIF(SEE_data!$B:$B,SEE_agrg!$D159,SEE_data!AI:AI)","v":0},{"$f":"SUMIF(SEE_data!$B:$B,SEE_agrg!$D159,SEE_data!AJ:AJ)","v":0},{"$f":"SUMIF(SEE_data!$B:$B,SEE_agrg!$D159,SEE_data!AK:AK)","v":0},{"$f":"SUMIF(SEE_data!$B:$B,SEE_agrg!$D159,SEE_data!AL:AL)","v":0},{"$f":"SUMIF(SEE_data!$B:$B,SEE_agrg!$D159,SEE_data!AM:AM)","v":0},{"$f":"SUMIF(SEE_data!$B:$B,SEE_agrg!$D159,SEE_data!AN:AN)","v":0},{"$f":"SUMIF(SEE_data!$B:$B,SEE_agrg!$D159,SEE_data!AO:AO)","v":0},{"$f":"SUMIF(SEE_data!$B:$B,SEE_agrg!$D159,SEE_data!AP:AP)","v":0},{"$f":"SUMIF(SEE_data!$B:$B,SEE_agrg!$D159,SEE_data!AQ:AQ)","v":0},{"$f":"SUMIF(SEE_data!$B:$B,SEE_agrg!$D159,SEE_data!AR:AR)","v":0},{"$f":"SUMIF(SEE_data!$B:$B,SEE_agrg!$D159,SEE_data!AS:AS)","v":0},{"$f":"SUMIF(SEE_data!$B:$B,SEE_agrg!$D159,SEE_data!AT:AT)","v":0},{"$f":"SUMIF(SEE_data!$B:$B,SEE_agrg!$D159,SEE_data!AU:AU)","v":0},{"$f":"SUMIF(SEE_data!$B:$B,SEE_agrg!$D159,SEE_data!AV:AV)","v":0},{"$f":"SUMIF(SEE_data!$B:$B,SEE_agrg!$D159,SEE_data!AW:AW)","v":0},{"$f":"SUMIF(SEE_data!$B:$B,SEE_agrg!$D159,SEE_data!AX:AX)","v":0},{"$f":"SUMIF(SEE_data!$B:$B,SEE_agrg!$D159,SEE_data!AY:AY)","v":0},{"$f":"SUMIF(SEE_data!$B:$B,SEE_agrg!$D159,SEE_data!AZ:AZ)","v":0},{"$f":"SUMIF(SEE_data!$B:$B,SEE_agrg!$D159,SEE_data!BA:BA)","v":0},{"$f":"SUMIF(SEE_data!$B:$B,SEE_agrg!$D159,SEE_data!BB:BB)","v":0},{"$f":"SUMIF(SEE_data!$B:$B,SEE_agrg!$D159,SEE_data!BC:BC)","v":0},0,0,0,0,0,0,0,0,0,0,{"$f":"SUMIFS(UdS_data!D:D,UdS_data!F:F,1,UdS_data!B:B,D159)","v":0},{"$error":"#DIV/0!"},0,0,0,0,0,0,{"$error":"#DIV/0!"},0,0,0,0,0,0]
[null,{"$f":"INDEX(Sistema_Analisado!$A$3:$F$99,MATCH($D160,Sistema_Analisado!$B$3:$B$99,FALSE),MATCH($B$4,Sistema_Analisado!$A$3:$F$3,FALSE))","v":{"$error":"#N/A"}},{"$f":"INDEX(Sistema_Analisado!$A$3:$F$99,MATCH(D160,Sistema_Analisado!$B$3:$B$99,FALSE),MATCH(\"Seq. Corredor\",Sistema_Analisado!$A$3:$F$3,0))","v":{"$error":"#N/A"}},null,{"$f":"SUMIF(SEE_data!$B:$B,SEE_agrg!$D160,SEE_data!F:F)","v":0},{"$f":"SUMIF(SEE_data!$B:$B,SEE_agrg!$D160,SEE_data!AF:AF)","v":0},{"$f":"SUMIF(SEE_data!$B:$B,SEE_agrg!$D160,SEE_data!AG:AG)","v":0},{"$f":"SUMIF(SEE_data!$B:$B,SEE_agrg!$D160,SEE_data!AH:AH)","v":0},{"$f":"SUMIF(SEE_data!$B:$B,SEE_agrg!$D160,SEE_data!AI:AI)","v":0},{"$f":"SUMIF(SEE_data!$B:$B,SEE_agrg!$D160,SEE_data!AJ:AJ)","v":0},{"$f":"SUMIF(SEE_data!$B:$B,SEE_agrg!$D160,SEE_data!AK:AK)","v":0},{"$f":"SUMIF(SEE_data!$B:$B,SEE_agrg!$D160,SEE_data!AL:AL)","v":0},{"$f":"SUMIF(SEE_data!$B:$B,SEE_agrg!$D160,SEE_data!AM:AM)","v":0},{"$f":"SUMIF(SEE_data!$B:$B,SEE_agrg!$D160,SEE_data!AN:AN)","v":0},{"$f":"SUMIF(SEE_data!$B:$B,SEE_agrg!$D160,SEE_data!AO:AO)","v":0},{"$f":"SUMIF(SEE_data!$B:$B,SEE_agrg!$D160,SEE_data!AP:AP)","v":0},{"$f":"SUMIF(SEE_data!$B:$B,SEE_agrg!$D160,SEE_data!AQ:AQ)","v":0},{"$f":"SUMIF(SEE_data!$B:$B,SEE_agrg!$D160,SEE_data!AR:AR)","v":0},{"$f":"SUMIF(SEE_data!$B:$B,SEE_agrg!$D160,SEE_data!AS:AS)","v":0},{"$f":"SUMIF(SEE_data!$B:$B,SEE_agrg!$D160,SEE_data!AT:AT)","v":0},{"$f":"SUMIF(SEE_data!$B:$B,SEE_agrg!$D160,SEE_data!AU:AU)","v":0},{"$f":"SUMIF(SEE_data!$B:$B,SEE_agrg!$D160,SEE_data!AV:AV)","v":0},{"$f":"SUMIF(SEE_data!$B:$B,SEE_agrg!$D160,SEE_data!AW:AW)","v":0},{"$f":"SUMIF(SEE_data!$B:$B,SEE_agrg!$D160,SEE_data!AX:AX)","v":0},{"$f":"SUMIF(SEE_data!$B:$B,SEE_agrg!$D160,SEE_data!AY:AY)","v":0},{"$f":"SUMIF(SEE_data!$B:$B,SEE_agrg!$D160,SEE_data!AZ:AZ)","v":0},{"$f":"SUMIF(SEE_data!$B:$B,SEE_agrg!$D160,SEE_data!BA:BA)","v":0},{"$f":"SUMIF(SEE_data!$B:$B,SEE_agrg!$D160,SEE_data!BB:BB)","v":0},{"$f":"SUMIF(SEE_data!$B:$B,SEE_agrg!$D160,SEE_data!BC:BC)","v":0},0,0,0,0,0,0,0,0,0,0,{"$f":"SUMIFS(UdS_data!D:D,UdS_data!F:F,1,UdS_data!B:B,D160)","v":0},{"$error":"#DIV/0!"},0,0,0,0,0,0,{"$error":"#DIV/0!"},0,0,0,0,0,0]
[]
[]
[]
[]
[null,null,null,null,null,null,null,null,null,null,null,null,null,null,null,null,null,null,null,null,null,null,null,null,null,null,null,null,null,null,null,null,null,null,null,null,null,null,null,null,null,null,null,null,null,null,null,null,null,null,null,"Estações eliminadas"]
[null,null,null,null,null,null,null,null,null,null,null,null,null,null,null,null,null,null,null,null,null,null,null,null,null,null,null,null,null,null,null,null,null,null,null,null,null,null,null,null,null,null,null,null,null,null,null,null,null,null,null,"Estações com pontuação mínima"]

{"sheet":"RR_PR_PnR","index":9,"n_rows":160,"n_cols":3,"rows_kept":160,"cut":false,"hidden":true,"merged":[]}
["Relação entre Responsáveis, Pessoas e Pessoas com e sem Renda"]
[]
["sum_rt_RR_V87","sum_rt_PR_V87","sum_rt_PR_V86"]
["sum_rt_RR_V87","sum_rt_PR_V87","sum_rt_PR_V86"]
[23.463339999999999,49.294540000000005,90.409199999999998]
[1781.5399400000001,3545.7123000000001,5340.6025100000006]
[1780.9207799999997,3443.9641200000001,5015.9847599999994]
[1379.19607,2690.9132300000006,3951.7693400000003]
[1915.6276499999999,3735.8323500000006,5452.1028000000006]
[1819.3114499999999,3558.89662,4869.5405199999996]
[2508.9418900000001,5204.9474399999981,7313.7823500000004]
[45.621090000000002,87.684979999999996,143.79980999999998]
[634.50085999999988,1326.59818,1933.23352]
[831.91291000000012,1669.8009300000001,2521.3302600000002]
[14.453939999999999,28.440690000000004,47.39855]
[15.541739999999997,31.09074,52.557099999999998]
[2573.5204600000002,5296.2088400000002,8020.5338800000018]
[65.571069999999992,124.48526,192.36899]
[1755.2059200000001,3531.1890299999995,5005.6351500000001]
[1989.2597499999999,4037.3811500000002,6134.5486000000001]
[10.54684,22.15804,40.639200000000002]
[1713.9665400000001,3365.3423800000005,4963.7809200000011]
[2445.9795399999994,4753.6878799999986,6883.3527399999994]
[3164.6529399999999,5919.7995800000008,9608.7668999999987]
[1736.1788499999998,3430.4984100000006,5089.9971400000004]
[2216.5972800000004,4288.1826099999998,6368.2629100000013]
[2761.85232,5453.2530100000004,7668.1875600000021]
[2715.9996100000003,5371.5083199999999,8152.8846800000019]
[1898.7864900000002,3711.3320200000003,5394.8612699999985]
[906.94695000000002,1743.6729500000001,2388.8961300000001]
[2489.0444900000002,4830.9506799999999,7246.6365999999998]
[2467.9586100000001,4814.0231100000001,6746.658699999999]
[1910.8363800000004,3691.2995999999998,5306.8254500000003]
[647.21163000000001,1318.1609700000001,1901.3874900000001]
[2739.1925700000002,5235.9610299999995,7886.0954599999986]
[2348.6675399999995,4677.2018199999993,6459.00666]
[1740.8527300000003,3454.8458299999998,5319.7356799999989]
[1908.2204300000001,3665.2372300000002,5059.3172599999998]
[2345.5526199999995,4568.6250299999992,6563.1702300000015]
[1599.9648899999997,3040.4427599999999,4692.2391199999993]
[1102.5431300000002,2150.0204699999999,3068.1470899999999]
[96.747530000000012,166.77030999999999,339.72678000000002]
[0,0,0]
[2249.5341100000001,4441.9061500000007,7082.8075299999991]
[21.856680000000001,45.919080000000001,84.218400000000003]
[1570.3751499999998,3047.5442399999997,4265.9676800000007]
[3013.4450500000003,5916.0685800000001,8535.0709999999999]
[2524.1133800000002,4990.9707699999999,7644.18613]
[1802.1069399999999,3517.5805299999997,5348.1225999999988]
[1370.27746,2611.7659799999992,4171.7491699999991]
[1618.4623200000001,3210.32339,4756.6524099999997]
[601.64879999999994,1305.5986,2736.4989000000005]
[1210.9440299999997,2487.9855900000002,3833.1854699999999]
[229.26148999999998,447.53661,768.35056999999995]
[1048.9256599999999,2032.4710600000001,3366.5893400000004]
[1252.8659599999999,2508.1246000000001,3523.9995799999997]
[1291.0324599999999,2683.7386900000001,4383.6062300000003]
[1227.0916299999999,2377.1824200000001,3648.4675099999999]
[1849.5858999999998,3664.2883999999995,6170.6670699999995]
[1609.1288199999999,3118.6463199999998,5418.2974400000003]
[1988.7111699999998,3996.0251199999998,6355.1685099999986]
[842.03892999999994,1598.2220600000001,2764.8726099999999]
[1256.9418900000001,2408.56405,4213.5154199999997]
[1207.3686799999998,2329.7748199999996,4054.6830199999999]
[1316.1278399999999,2584.60853,4246.4303600000012]
[37.848900000000008,69.184989999999999,108.25331000000001]
[3520.0435900000002,6766.3880100000015,9058.9398400000009]
[670.26146999999992,1314.4843699999997,1877.9508800000001]
[2328.4471400000007,4421.5663100000002,6830.7869000000001]
[626.94986000000006,1252.18676,1814.4970000000001]
[874.36403000000007,1748.5534500000001,2564.5710000000004]
[849.69478000000004,1514.8621000000003,2403.72532]
[2296.3685400000004,4779.8099400000001,7375.5015899999999]
[1085.1412,2125.9752799999997,3580.9454900000005]
[33.717329999999997,67.167689999999993,103.45197]
[11.46552,23.286560000000001,38.218400000000003]
[116.45674,213.12712999999999,343.61059]
[174.58367000000001,322.32884999999999,459.01549]
[202.08384999999998,419.49904999999995,601.59539000000007]
[40.3048,76.769190000000009,141.11245]
[1064.2518599999999,2171.4630999999999,3198.0949700000001]
[1438.8088499999999,2708.7851099999998,4020.8967199999997]
[190.00444000000002,438.88032999999996,618.72107000000005]
[921.60614999999984,1833.0501300000001,3394.4656300000001]
[632.8736100000001,1257.6137900000001,1764.8083800000002]
[722.62193999999988,1527.7672499999999,2591.0753300000001]
[770.19297000000006,1474.9825700000001,1991.4993000000002]
[870.34134000000006,1744.2389399999997,2554.4091899999999]
[118.95475999999999,241.60990000000001,421.01916999999997]
[262.98939000000001,538.94212000000005,854.96668]
[565.93378000000007,1115.8968500000001,1640.6891499999999]
[572.63942999999995,1096.5335600000001,1555.0436799999998]
[1585.9899700000001,3376.8096700000001,5200.8175800000008]
[208.26137000000003,391.18335999999999,614.92838000000006]
[1447.1946699999999,2783.1822999999999,4773.5935900000004]
[199.89959999999999,456.17414000000008,751.63388000000009]
[575.28666999999996,1192.1000300000001,2172.0113199999996]
[201.97664,401.52017999999998,648.12293]
[2972.8475700000004,5654.3997500000005,7810.4140600000019]
[973.36565000000007,1867.1479899999997,2743.1291999999999]
[1285.6446099999996,2470.8863100000003,3937.3545200000003]
[787.11063000000001,1598.0244,2515.3876700000001]
[671.69555000000003,1281.1433599999998,2068.0794399999995]
[1293.7538,2349.2583100000002,3688.7460000000001]
[221.45666000000003,421.82415999999995,740.18405000000007]
[471.58096999999992,889.76175999999987,1291.0768699999999]
[1360.0391500000001,2605.5574399999996,4154.9898499999999]
[757.87646999999981,1485.2380800000001,2158.9491199999998]
[363.36671000000001,723.41522999999995,1018.4198899999999]
[409.29569000000004,837.36589000000004,1218.7094099999997]
[32.169300000000007,57.743839999999999,96.302129999999991]
[168.77184,342.697,509.09395999999998]
[807.41980000000001,1609.4529800000003,2276.99494]
[754.62947000000008,1450.4493699999998,2186.94299]
[939.29300000000012,1826.3109100000001,2572.7593199999997]
[234.63009,505.70484000000005,815.74274000000003]
[727.95943,1184.8171500000001,1558.9030900000002]
[1377.4872899999998,2705.9697699999997,4037.16138]
[253.99947000000003,513.4298,817.38429000000008]
[1225.1191699999999,2286.9010699999999,3688.9788200000003]
[413.99086,807.54386999999997,1181.49767]
[252.15992,502.00098000000003,743.49892]
[1077.5875000000001,2099.7076299999999,3171.2792400000003]
[66.590299999999999,127.72617000000001,219.06679000000003]
[204.94609000000005,417.74154000000004,600.93718000000001]
[1479.8487400000001,2661.7229399999997,3655.8088399999997]
[2182.7961500000001,4085.4753300000002,6415.1706100000001]
[2083.07384,3247.6927700000001,3960.1624900000002]
[877.95435000000009,1686.74271,2471.8470399999997]
[2620.3775100000003,5160.1609399999998,8485.9855800000005]
[152.84016000000003,321.13297999999998,496.98345]
[1519.23134,2750.91743,4031.2435400000004]
[1019.5583300000001,1869.58296,2633.2892500000003]
[105.50671,225.40946000000002,385.86919]
[83.296600000000012,159.03731999999999,295.49099999999999]
[831.17362000000003,1627.8447400000002,2411.3250300000004]
[4164.4910099999988,7684.4509099999996,11875.930730000002]
[1295.7858099999999,2436.9879099999998,3283.28577]
[1268.26675,2395.7356499999996,3823.5882000000001]
[527.76171999999997,1058.6717699999999,1649.87896]
[1197.9098299999998,2213.3622300000002,3689.6857599999994]
[1005.8132999999999,1968.9301199999998,2842.79799]
[1366.3179600000001,2670.5936199999996,4612.2762500000008]
[87.731490000000008,146.71625,310.68944000000005]
[1577.3165499999998,3151.7347599999998,5087.5847100000001]
[466.81658999999996,876.05438000000004,1453.8882100000001]
[133.62736000000001,257.88253000000003,365.59800999999999]
[442.30015000000003,831.85529000000008,1346.23955]
[443.81549999999999,834.35342999999989,1350.6821199999997]
[957.81942000000004,1888.25064,2520.36411]
[959.46853999999996,1918.50352,2771.6149399999999]
[911.19569999999987,1764.0613900000003,2791.0178500000002]
[431.42254000000003,696.57185000000004,933.77201000000002]
[1692.7234699999999,3162.2835799999998,4262.7948799999995]
[545.50552000000005,1061.66417,1701.1087200000002]
[771.24053000000026,1423.7616599999999,2499.3244199999995]
[155.80699000000001,281.21600999999998,475.14090000000004]
[52.654879999999999,84.757599999999996,150.37707]
[729.20773999999994,1369.7109800000003,2325.1555700000004]
[1658.6359700000005,3126.5710999999997,5207.7026900000001]

{"sheet":"Níveis de Renda por Estc","index":10,"n_rows":118,"n_cols":12,"rows_kept":118,"cut":false,"hidden":true,"merged":[]}
["Estação",null,null,"até 1/2 SM","até 1 SM","até 2 SM","até 3 SM","até 5 SM","até 10 SM","até 15 SM","até 20 SM","mais 20 SM"]
["Centro Metropolitano","PR - ",{"$f":"_xlfn.CONCAT(B2,A2)","v":"PR - Centro Metropolitano"},0.11561866125760649,0.4016227180527383,0.36713995943204863,8.5192697768762676E-2,2.5354969574036511E-2,5.0709939148073022E-3,0,0,0]
["Maré","PR - ",{"$f":"_xlfn.CONCAT(B3,A3)","v":"PR - Maré"},1.8876541087223763E-2,0.39958119832158234,0.40962549276034771,0.11430450657250121,4.4163216417539577E-2,1.2379469779279249E-2,2.3947432355471735E-4,6.451603552429725E-4,1.8494038272829499E-4]
["Terminal Fundão - Aroldo Melodia","PR - ","PR - Terminal Fundão - Aroldo Melodia",0,0,0,0,0,0,0,0,0]
["Arroio Pavuna","PR - ","PR - Arroio Pavuna",2.3237776418379714E-2,0.22029321621790082,0.40909127344845669,0.1527700764992708,0.10824318181378148,7.1756680166160505E-2,8.9201798602773948E-3,4.1866976141776216E-3,1.5009179615947704E-3]
["Tanque / Terminal Mestre Candeia","PR - ","PR - Tanque / Terminal Mestre Candeia",2.6004702683499952E-2,0.27827831891168375,0.40115643551862162,0.1210022220579479,9.2254862906874791E-2,6.8968376171633636E-2,7.2826235347380787E-3,2.7321020837109918E-3,2.3203561312892468E-3]
["Curicica TCA","PR - ","PR - Curicica TCA",1.35676878435036E-2,0.19868751817524732,0.35941693361888977,0.14162099182135165,0.14691211923719061,0.1159514405484862,1.312900188058452E-2,6.6123488877393149E-3,4.1019579870070384E-3]
["Mercadão","PR - ","PR - Mercadão",1.3025276405826985E-2,0.25749404734456649,0.32980625692812954,0.15641620717148208,0.14430117459229486,8.523815931458191E-2,7.2765957061032413E-3,4.2418617532605117E-3,2.2004207837542761E-3]
["Praça do Carmo","PR - ","PR - Praça do Carmo",1.7355110070404786E-2,0.24161787162881163,0.34769676274691452,0.15600473443554261,0.13287955659211623,8.9910972847710449E-2,8.2233117766348247E-3,4.6882873763481768E-3,1.6233925255169442E-3]
["Aracy Cabral","PR - ","PR - Aracy Cabral",8.267902628439695E-3,0.17212001035597316,0.27064137648449133,0.1508945685531706,0.18280914029963816,0.17177808170661199,2.4280589775714616E-2,1.3957567014374121E-2,5.2507631815862238E-3]
["Campinho","PR - ","PR - Campinho",1.3308265827292809E-2,0.20380311231043333,0.2957127345395999,0.13723159445310759,0.17489610849373363,0.13789940546984128,2.2473762774713378E-2,9.785556892027019E-3,4.889459239250926E-3]
["Capitão Menezes","PR - ","PR - Capitão Menezes",6.511678330234835E-3,0.15574812622683037,0.24067900292085473,0.15707464691683007,0.19924680756812768,0.17759014590314229,3.5187892027051915E-2,1.8488929863885735E-2,9.4727702430423503E-3]
["Madureira","PR - ","PR - Madureira",1.0721435124826732E-2,0.15514484443036067,0.27664972085247386,0.15190224716452178,0.1975705752708585,0.16559788190109798,2.8748216102755044E-2,8.4926128675204809E-3,5.1724662855848853E-3]
["Pedro Correia","PR - ","PR - Pedro Correia",6.7259803508450365E-3,8.67882764368169E-2,0.12687694673476466,8.5451775804631258E-2,0.14682439731602187,0.30103387794138803,0.10418484154382275,9.0731269301390485E-2,5.1382634570318934E-2]
["Penha","PR - ","PR - Penha",1.0552851292814008E-2,0.16388070476047215,0.27857940216660076,0.17400447419123419,0.18879555815011451,0.14935848947347494,2.356145731091017E-2,8.6600207451019082E-3,2.6070419092774151E-3]
["Pinto Teles","PR - ","PR - Pinto Teles",1.7382322475260475E-2,0.22086198313461203,0.27938223708528021,0.14261174573854693,0.1639018111669939,0.13629341004994555,2.3890566888691452E-2,1.0764994529298029E-2,4.9109289313714879E-3]
["Praça Seca","PR - ","PR - Praça Seca",6.4773771083497956E-3,0.10386667257390234,0.21830935659731701,0.15413637848965006,0.21145489077911975,0.22415182203961428,5.1516464175155055E-2,2.1696842237181886E-2,8.390195999709929E-3]
["Rio II","PR - ","PR - Rio II",1.1495435999377317E-3,3.2584032766686699E-2,8.2452106381119564E-2,5.0735201661148685E-2,0.11190617530642075,0.30626842399502746,0.14536107939730822,0.15023786877773254,0.11930556811461832]
["Taquara","PR - ","PR - Taquara",6.3922461166148799E-3,0.12240244856831524,0.25711978453860956,0.16025976255007471,0.19272945340841341,0.19274150910758536,3.8604958026283359E-2,2.0862931598041947E-2,8.8869060860615901E-3]
["Vila Kosmos - Nossa Senhora do Carmo","PR - ","PR - Vila Kosmos - Nossa Senhora do Carmo",7.5633994763461649E-3,0.17746512160952665,0.26669588573295411,0.16042610682515113,0.18276177251481426,0.15743536563262761,2.4728847886344146E-2,1.5432005015736312E-2,7.4914953064996416E-3]
["Galeão - Tom Jobim 1","PR - ","PR - Galeão - Tom Jobim 1",1.4064356385165056E-5,5.7459576402682205E-2,0.1967754650115732,6.8347497898257739E-2,0.19673327194241771,0.40694371339091978,4.914508051668226E-2,5.470331416009948E-3,1.9110999065071906E-2]
["Galeão - Tom Jobim 2","PR - ","PR - Galeão - Tom Jobim 2",0,6.0377784510757856E-2,0.20982710607724356,7.4451428303089609E-2,0.2009112681139143,0.3856424774707839,4.6310251862773294E-2,5.4157604482878178E-3,1.7063923213149639E-2]
["Terminal Alvorada TCA","PR - ","PR - Terminal Alvorada TCA",4.4912070979540665E-5,1.5101608913481062E-2,6.6962698576263358E-2,4.6231670373461563E-2,4.4600324841993763E-2,0.15612761048414434,5.3864263968808362E-2,0.22462361555842883,0.3924432952124392]
["Hospital Sarah","PR - ","PR - Hospital Sarah",8.1569014676918378E-2,0.28009388420765635,0.43722557996022982,0.12058070168307475,5.2948517760255311E-2,1.4148422070211364E-2,5.8146643225069385E-3,4.0101133258668535E-3,3.6091019932801686E-3]
["Recanto das Palmeiras - Jardim São Luiz","PR - ","PR - Recanto das Palmeiras - Jardim São Luiz",4.0680576475969704E-2,0.34201456682656084,0.40864944471342735,0.12008518770865097,5.3902110011085511E-2,3.1129661146124137E-2,1.7286791636661831E-3,1.0860803013024751E-3,7.2369365321288447E-4]
["Vila Sapê - IV Centenário","PR - ","PR - Vila Sapê - IV Centenário",2.6228414449405657E-2,0.30766539693122541,0.41765254767315874,0.14202760554852176,6.9194540942037794E-2,3.279822850281696E-2,3.2809369683428403E-3,1.0701816114498451E-3,8.2147373041094242E-5]
["Aeroporto de Jacarepaguá","PR - ","PR - Aeroporto de Jacarepaguá",2.1834061135371178E-3,4.3668122270742356E-2,7.4235807860262001E-2,3.9301310043668117E-2,9.8253275109170299E-2,0.19213973799126638,8.9519650655021835E-2,0.27074235807860259,0.18995633187772926]
["Lourenço Jorge","PR - ","PR - Lourenço Jorge",2.1834061135371178E-3,4.3668122270742363E-2,7.4235807860262001E-2,3.9301310043668124E-2,9.8253275109170299E-2,0.19213973799126638,8.9519650655021835E-2,0.27074235807860259,0.18995633187772926]
["Via Parque","PR - ","PR - Via Parque",2.1834061135371178E-3,4.3668122270742356E-2,7.4235807860262015E-2,3.9301310043668124E-2,9.8253275109170313E-2,0.19213973799126635,8.9519650655021835E-2,0.27074235807860264,0.18995633187772928]
["Divina Providência","PR - ","PR - Divina Providência",1.497309622411098E-2,0.2336438571752382,0.39456062585855661,0.13698786836823718,0.11604537194742132,8.359177282288377E-2,1.2654352755690466E-2,4.9076329116669011E-3,2.6354219361945136E-3]
["Guaporé","PR - ","PR - Guaporé",1.2450415380523397E-2,0.26942442662438515,0.37171815717146073,0.14786034192715108,0.11151663347172691,7.3293342790462915E-2,7.7503439233714191E-3,4.8655841902186013E-3,1.120754520699754E-3]
["IPASE","PR - ","PR - IPASE",2.5660163395769563E-2,0.28571656406529755,0.38694658045847363,0.13084202862541228,9.9159451418155048E-2,6.1257634791305242E-2,6.3828652888023715E-3,3.4332973491987494E-3,6.0141460758541458E-4]
["Otaviano","PR - ","PR - Otaviano",1.9957796509565865E-2,0.2784195203480575,0.38187889840222755,0.1398922342169992,0.11264863125074707,5.9129853493366649E-2,4.7106321898054884E-3,2.0832063050774535E-3,1.2792272841532152E-3]
["Santa Luzia","PR - ","PR - Santa Luzia",1.2024403324691325E-2,0.2012441301185097,0.38488849455872293,0.17143568685478225,0.14261648651870212,7.7005752866524932E-2,7.3033921105142676E-3,2.0948775478735232E-3,1.3867760996791635E-3]
["Vaz Lobo","PR - ","PR - Vaz Lobo",1.229032495429918E-2,0.20676145757829664,0.38951381491929987,0.16859255794947398,0.12498997980855582,8.0361823943533792E-2,1.1284842206762966E-2,4.3607382384699854E-3,1.8444604013076679E-3]
["Vila Queiroz","PR - ","PR - Vila Queiroz",2.4155727523926175E-2,0.272037573964794,0.37395803261736993,0.14810920040711839,0.10589003509631854,6.5464410644104007E-2,7.7640086038812854E-3,1.6290898854532862E-3,9.9192125703433044E-4]
["André Rocha","PR - ","PR - André Rocha",6.888328192899351E-3,0.17656341717290483,0.30284894800968476,0.15308742054452643,0.18492628688458446,0.13810254994461904,2.3465059474791571E-2,1.0541613881081102E-2,3.5763758949083377E-3]
["Cardoso de Moraes - Viva Garcia","PR - ","PR - Cardoso de Moraes - Viva Garcia",1.1651850609273401E-2,0.19191395715611689,0.32979009102155321,0.16578143198310577,0.16814490445651847,0.10971141910320621,1.4664418974421002E-2,5.6755097607671546E-3,2.6664169350382534E-3]
["Ibiapina","PR - ","PR - Ibiapina",1.0711952738480277E-2,0.19237079188592748,0.29896947487968378,0.16831917944647673,0.16854174470518221,0.12946091418957542,1.7090268883169932E-2,1.249940165338586E-2,2.0362716181183882E-3]
["Marambaia","PR - ","PR - Marambaia",9.9584935307111509E-3,0.18235349309471285,0.33093009673996532,0.17127671831916744,0.16203114496444396,0.11691850917229343,1.784468440952838E-2,6.3191969599821537E-3,2.3676628091956267E-3]
["Merck-Santa Efigênia","PR - ","PR - Merck-Santa Efigênia",6.0164415432858625E-3,0.15040438308199752,0.32570022245391272,0.18582200957155598,0.18144526032672853,0.12541640571598703,1.8193185107851558E-2,5.1885756796164048E-3,1.8135165190644716E-3]
["Olaria - Cacique de Ramos","PR - ","PR - Olaria - Cacique de Ramos",5.0551166339520342E-3,0.17586970900512094,0.32269831177336117,0.16144286325713686,0.17748401334490804,0.12649787543967264,1.8171372173322285E-2,9.3908278060988032E-3,3.3899105664272119E-3]
["Pastor José Santos","PR - ","PR - Pastor José Santos",8.0629460901749227E-3,0.19131866299582651,0.31711572655253839,0.16834268576164732,0.17237086753558625,0.11612887709248929,1.768286955905389E-2,6.1868622576106789E-3,2.7905021550726147E-3]
["Pedro Taques","PR - ","PR - Pedro Taques",8.7876285253237138E-3,0.18432012433627243,0.30288488476144004,0.1668512769830223,0.17279639667114136,0.12974807476196384,2.1292779995841313E-2,1.0488596004461798E-2,2.8302379605332668E-3]
["Praça do Bandolim","PR - ","PR - Praça do Bandolim",1.6773368733562184E-2,0.21670788811172281,0.34813624469551691,0.1514002876295146,0.14548992449685411,9.8610892719725993E-2,1.3835002260763344E-2,5.7671560401306677E-3,3.2792353122092516E-3]
[]
[]
[]
["Aeroporto de Jacarepaguá","RR - ",{"$f":"_xlfn.CONCAT(B49,A49)","v":"RR - Aeroporto de Jacarepaguá"},0,4.5871559633027525E-2,2.2935779816513763E-2,1.3761467889908258E-2,3.669724770642202E-2,8.7155963302752312E-2,9.6330275229357804E-2,0.38990825688073399,0.30733944954128445]
["André Rocha","RR - ","RR - André Rocha",6.0713485884576904E-3,0.12498076804273046,0.24907148026105999,0.16267816594670342,0.21647437216591392,0.18630519167591603,3.1389809874259676E-2,1.8400659600143459E-2,4.6282038448152889E-3]
["Aracy Cabral","RR - ","RR - Aracy Cabral",4.2895226367115563E-3,0.12366021132057319,0.21829073160682647,0.1639243998264763,0.19688354133304012,0.23111043715262841,3.4144685537331992E-2,1.9519818281866531E-2,8.1766523045455185E-3]
["Arroio Pavuna","RR - ","RR - Arroio Pavuna",1.6427004464999673E-2,0.17776937255918951,0.40137124955699738,0.17341236333424298,0.12475044248059669,8.831696424424991E-2,1.1560191003154471E-2,4.9669152552037068E-3,1.4254971013657255E-3]
["Campinho","RR - ","RR - Campinho",8.8880842788002148E-3,0.15546762963042426,0.24648483748916444,0.1377987313975135,0.20760763711047919,0.1878318993777314,3.2897572761595918E-2,1.4677748047748216E-2,8.3458599065429039E-3]
["Capitão Menezes","RR - ","RR - Capitão Menezes",2.1843098937238043E-3,0.10833306743603466,0.18387279978917298,0.15493531907359789,0.22186998273440209,0.23455134083831555,5.1774043416260587E-2,2.9579762167714605E-2,1.2899374650777911E-2]
["Cardoso de Moraes - Viva Garcia","RR - ","RR - Cardoso de Moraes - Viva Garcia",6.373786520818942E-3,0.14747540844798124,0.27858567900111869,0.17819072326143032,0.20505759501667856,0.15118513167317715,2.0955367762622829E-2,7.714694420443511E-3,4.4616138957287686E-3]
["Centro Metropolitano","RR - ","RR - Centro Metropolitano",0.13450292397660818,0.40740740740740738,0.35282651072124749,7.7972709551656916E-2,1.7543859649122803E-2,9.7465886939571145E-3,0,0,0]
["Curicica TCA","RR - ","RR - Curicica TCA",8.1991063022357463E-3,0.16011533853555379,0.30962928876093254,0.14113243282286492,0.18164802802631352,0.16130567577166094,2.0899262453324338E-2,1.0601404070594959E-2,6.4694632565194636E-3]
["Divina Providência","RR - ","RR - Divina Providência",7.6773541115018884E-3,0.1965973217076292,0.34849191125066203,0.15736379184210519,0.13482368004121967,0.1224840951200048,1.9247964309148657E-2,8.0241091582531152E-3,5.2897724594753543E-3]
["Galeão - Tom Jobim 1","RR - ","RR - Galeão - Tom Jobim 1",1.7296321971725358E-5,1.0788061940204541E-2,4.8499578661596772E-2,3.7690761135026153E-2,0.19899625984333683,0.60729600371940107,5.9090462531323641E-2,1.076038782504978E-2,2.6861188022089477E-2]
["Galeão - Tom Jobim 2","RR - ","RR - Galeão - Tom Jobim 2",0,1.4076930897055286E-2,7.0372429341888365E-2,4.2783497858026195E-2,0.20205137906051707,0.57969506631818579,5.6884879041857607E-2,9.753090709277084E-3,2.4382726773192712E-2]
["Guaporé","RR - ","RR - Guaporé",8.4907659914232794E-3,0.2240631535527019,0.34013326631955348,0.16167349607937445,0.14236156101902528,0.1023186386480098,1.1317648510165717E-2,7.3349989997748052E-3,2.3064708799711655E-3]
["Hospital Sarah","RR - ","RR - Hospital Sarah",8.4383402619478382E-2,0.28647801538086842,0.42113435086540457,0.1106817381506814,5.9042349011538174E-2,1.848604880170478E-2,7.2324578506954371E-3,6.8518021743430458E-3,5.7098351452858718E-3]
["Ibiapina","RR - ","RR - Ibiapina",6.813229071150808E-3,0.14540311600589861,0.24503805798467226,0.18129398743140063,0.20368263115247465,0.17451163223059321,2.2174999273019771E-2,1.7950782663723009E-2,3.1315641870670072E-3]
["IPASE","RR - ","RR - IPASE",1.3963204151695123E-2,0.23815067891460631,0.36808644522164591,0.15592570050241053,0.12188917510646863,8.6683762640851703E-2,1.01080213380882E-2,4.517821264920281E-3,6.7519085931337024E-4]
["Lourenço Jorge","RR - ","RR - Lourenço Jorge",0,4.5871559633027525E-2,2.2935779816513763E-2,1.3761467889908256E-2,3.669724770642202E-2,8.7155963302752298E-2,9.633027522935779E-2,0.38990825688073399,0.30733944954128439]
["Madureira","RR - ","RR - Madureira",6.4623840323043873E-3,0.10348208431186759,0.20895596363275562,0.15469900596775943,0.2336229387535185,0.22709904826963542,4.4121298890700628E-2,1.3254651984046314E-2,8.3026241574120814E-3]
["Marambaia","RR - ","RR - Marambaia",5.6992013923387128E-3,0.14405859257514475,0.27451462656143077,0.1832090304402138,0.19565154253089143,0.15493517169812471,2.8649724518954894E-2,9.3593260391703868E-3,3.9227842437308379E-3]
["Maré","RR - ","RR - Maré",6.4304365710320215E-3,0.34273250197223837,0.42488497964645705,0.14504319705907467,6.1650049373186543E-2,1.7364150521984256E-2,3.7995003648014561E-4,1.1687853518623119E-3,3.4594946768475666E-4]
["Mercadão","RR - ","RR - Mercadão",6.9577739643585691E-3,0.20948385012292944,0.29603949500939952,0.18060405470323523,0.17177478000034388,0.11535732623398796,1.0424542379375261E-2,6.2293351862914344E-3,3.1288424000787711E-3]
["Merck-Santa Efigênia","RR - ","RR - Merck-Santa Efigênia",3.1827522589037908E-3,0.10293981322579263,0.26881417539229319,0.18772108661975803,0.22643438414757952,0.17221998485895459,2.7447227581186961E-2,8.0814409372549599E-3,3.1591349782762517E-3]
["Olaria - Cacique de Ramos","RR - ","RR - Olaria - Cacique de Ramos",3.9645566566716348E-3,0.12530101537072771,0.26502488011379266,0.18032753829502365,0.21708990218564619,0.16442475099465129,2.6693078216434098E-2,1.2009769588259523E-2,5.1645085787932355E-3]
["Otaviano","RR - ","RR - Otaviano",1.0058930015825735E-2,0.24888780451629008,0.35097078309226998,0.16042979844168678,0.13509977271314852,8.2729363867618491E-2,7.3613928096256248E-3,3.0525446209471287E-3,1.4096099225875808E-3]
["Pastor José Santos","RR - ","RR - Pastor José Santos",7.8262827749527534E-3,0.1334378095348677,0.25372480925962348,0.18558705355018612,0.22008647217623717,0.16040357965681548,2.5422494974671951E-2,8.7922207620088969E-3,4.7192773106364367E-3]
["Pedro Correia","RR - ","RR - Pedro Correia",5.836217873603302E-3,6.2499454901965332E-2,8.4430462002215226E-2,6.0123880454088299E-2,9.6668200935016102E-2,0.32812337039117895,0.14352704973537869,0.13784189913202749,8.0949464574526647E-2]
["Pedro Taques","RR - ","RR - Pedro Taques",6.0034563705207216E-3,0.12913353348698076,0.25750579894214742,0.17557494924488071,0.21170695104770906,0.17152889460806703,2.8887237768899825E-2,1.5244335789273096E-2,4.4148427415212649E-3]
["Penha","RR - ","RR - Penha",7.7543034645949751E-3,0.11183464296429187,0.20837748571480297,0.18685195048712749,0.22518675465144852,0.20572276939441864,3.5878446113810629E-2,1.4354146725337502E-2,4.0395004841673578E-3]
["Pinto Teles","RR - ","RR - Pinto Teles",1.0922463178139824E-2,0.17408747995472013,0.24758949272255318,0.14448208276210436,0.18507606077711372,0.18142479577450787,3.4711187569079045E-2,1.472084700417939E-2,6.9855902576022744E-3]
["Praça do Bandolim","RR - ","RR - Praça do Bandolim",1.195145396259335E-2,0.18170940469657504,0.28622240610849342,0.16377497728216039,0.18063905928266463,0.13759011098116392,2.2215839971849703E-2,9.2983186967761991E-3,6.5984290177233057E-3]
["Praça do Carmo","RR - ","RR - Praça do Carmo",9.5396980432084014E-3,0.18256168824231292,0.32269849140252305,0.17371801647373775,0.16473915888286741,0.12485253273011034,1.1498742492573275E-2,7.3676638221897616E-3,3.0240079104770644E-3]
["Praça Seca","RR - ","RR - Praça Seca",5.0155331903637594E-3,6.1588039829596333E-2,0.14369741321498405,0.14206108966788894,0.23202547858263498,0.29407221253630478,7.6534578410361154E-2,3.2552823546920566E-2,1.2452831020945607E-2]
["Recanto das Palmeiras - Jardim São Luiz","RR - ","RR - Recanto das Palmeiras - Jardim São Luiz",3.0885139836038859E-2,0.30074687592901667,0.40012502953078632,0.14883088933088554,7.0114937292828888E-2,4.3152392333612261E-2,3.1271283929916339E-3,1.5822992677847021E-3,1.4353080860550448E-3]
["Rio II","RR - ","RR - Rio II",1.0561306064624828E-3,1.7098071840683519E-2,3.0123532426492256E-2,2.3424023397548469E-2,8.343221123567994E-2,0.29338660313997372,0.17551816065610407,0.20224243170900333,0.17371883498805221]
["Santa Luzia","RR - ","RR - Santa Luzia",7.9194684619780589E-3,0.16324756338231289,0.33131065718747343,0.19356861412045406,0.17920564493667171,0.10843955400156406,1.1052077782846758E-2,2.9087942610300519E-3,2.3476258656691326E-3]
["Tanque / Terminal Mestre Candeia","RR - ","RR - Tanque / Terminal Mestre Candeia",1.6647996569474723E-2,0.21973548432053416,0.39661357818920634,0.14214096285575367,0.11591534361732148,9.0112271151150072E-2,1.2053101990256799E-2,3.5050331635714835E-3,3.2762281427313072E-3]
["Taquara","RR - ","RR - Taquara",5.0512400362968104E-3,8.2140305930707647E-2,0.18423047994503397,0.16646000052623788,0.22075316001470158,0.25020158621821886,4.9002355127821612E-2,2.8738639911528894E-2,1.3422232289452473E-2]
["Terminal Alvorada TCA","RR - ","RR - Terminal Alvorada TCA",0,7.1702088931882802E-3,2.3323592860716964E-2,2.4977485213317593E-2,3.2861407417843116E-2,0.12849950794609433,3.8455141955562072E-2,0.26283926835134702,0.48187338736193053]
["Terminal Fundão - Aroldo Melodia","RR - ","RR - Terminal Fundão - Aroldo Melodia",0,0,0,0,0,0,0,0,0]
["Vaz Lobo","RR - ","RR - Vaz Lobo",6.3965467053975914E-3,0.1541993599732524,0.34810335460972408,0.18753600940063098,0.16842217164691048,0.1089893453538253,1.6584385110746336E-2,6.5835943247822106E-3,3.1852328747306699E-3]
["Via Parque","RR - ","RR - Via Parque",0,4.5871559633027519E-2,2.2935779816513759E-2,1.3761467889908256E-2,3.669724770642202E-2,8.7155963302752298E-2,9.633027522935779E-2,0.38990825688073394,0.30733944954128439]
["Vicente de Carvalho","RR - ","RR - Vicente de Carvalho",8.1785616640711618E-3,0.17437885463228325,0.24914470914800199,0.1562324900518198,0.20226394310939017,0.16000021396161293,3.0383510589810342E-2,1.5378185269933748E-2,4.0395315730766632E-3]
["Vila Kosmos - Nossa Senhora do Carmo","RR - ","RR - Vila Kosmos - Nossa Senhora do Carmo",6.4354516768108964E-3,0.12334449569604726,0.20160581657196636,0.17023463560418994,0.21370879485590749,0.20829815031802223,3.9656103900086052E-2,2.3900648196654523E-2,1.2815903180315167E-2]
["Vila Queiroz","RR - ","RR - Vila Queiroz",1.8237813865556229E-2,0.22802582663699519,0.33030309438793903,0.17503697872716004,0.14068079223921393,9.2159774534375308E-2,1.1114465072088004E-2,2.8760910890619339E-3,1.5651634476102653E-3]
["Vila Sapê - IV Centenário","RR - ","RR - Vila Sapê - IV Centenário",1.6674060419522053E-2,0.26042495014197103,0.404971266577554,0.17688948581486511,8.9238039336333744E-2,4.6404970839299939E-2,3.9428348242196995E-3,1.4009434978370374E-3,5.3448548397466361E-5]
[]
[]
[]
[]
[]
[]
[]
[]
[]
[]
[null,null,null,"até 1/2 SM","até 1 SM","até 2 SM","até 3 SM","até 5 SM","até 10 SM","até 15 SM","até 20 SM","mais 20 SM"]
["Galeão - Tom Jobim 1","PR - ","PR - Galeão - Tom Jobim 1",1.4064356385165056E-5,5.7459576402682205E-2,0.1967754650115732,6.8347497898257739E-2,0.19673327194241771,0.40694371339091978,4.914508051668226E-2,5.470331416009948E-3,1.9110999065071906E-2]
["Galeão - Tom Jobim 2","PR - ","PR - Galeão - Tom Jobim 2",0,6.0377784510757856E-2,0.20982710607724356,7.4451428303089609E-2,0.2009112681139143,0.3856424774707839,4.6310251862773294E-2,5.4157604482878178E-3,1.7063923213149639E-2]
["Terminal Alvorada TCA","PR - ","PR - Terminal Alvorada TCA",4.4912070979540665E-5,1.5101608913481062E-2,6.6962698576263358E-2,4.6231670373461563E-2,4.4600324841993763E-2,0.15612761048414434,5.3864263968808362E-2,0.22462361555842883,0.3924432952124392]
["Aeroporto de Jacarepaguá","PR - ","PR - Aeroporto de Jacarepaguá",2.1834061135371178E-3,4.3668122270742356E-2,7.4235807860262001E-2,3.9301310043668117E-2,9.8253275109170299E-2,0.19213973799126638,8.9519650655021835E-2,0.27074235807860259,0.18995633187772926]
["Lourenço Jorge","PR - ","PR - Lourenço Jorge",2.1834061135371178E-3,4.3668122270742363E-2,7.4235807860262001E-2,3.9301310043668124E-2,9.8253275109170299E-2,0.19213973799126638,8.9519650655021835E-2,0.27074235807860259,0.18995633187772926]
["Via Parque","PR - ","PR - Via Parque",2.1834061135371178E-3,4.3668122270742356E-2,7.4235807860262015E-2,3.9301310043668124E-2,9.8253275109170313E-2,0.19213973799126635,8.9519650655021835E-2,0.27074235807860264,0.18995633187772928]
["Guaporé","PR - ","PR - Guaporé",1.2450415380523397E-2,0.26942442662438515,0.37171815717146073,0.14786034192715108,0.11151663347172691,7.3293342790462915E-2,7.7503439233714191E-3,4.8655841902186013E-3,1.120754520699754E-3]
["Aeroporto de Jacarepaguá","RR - ","RR - Aeroporto de Jacarepaguá",0,4.5871559633027525E-2,2.2935779816513763E-2,1.3761467889908258E-2,3.669724770642202E-2,8.7155963302752312E-2,9.6330275229357804E-2,0.38990825688073399,0.30733944954128445]
["Galeão - Tom Jobim 1","RR - ","RR - Galeão - Tom Jobim 1",1.7296321971725358E-5,1.0788061940204541E-2,4.8499578661596772E-2,3.7690761135026153E-2,0.19899625984333683,0.60729600371940107,5.9090462531323641E-2,1.076038782504978E-2,2.6861188022089477E-2]
["Galeão - Tom Jobim 2","RR - ","RR - Galeão - Tom Jobim 2",0,1.4076930897055286E-2,7.0372429341888365E-2,4.2783497858026195E-2,0.20205137906051707,0.57969506631818579,5.6884879041857607E-2,9.753090709277084E-3,2.4382726773192712E-2]
["Guaporé","RR - ","RR - Guaporé",8.4907659914232794E-3,0.2240631535527019,0.34013326631955348,0.16167349607937445,0.14236156101902528,0.1023186386480098,1.1317648510165717E-2,7.3349989997748052E-3,2.3064708799711655E-3]
["Lourenço Jorge","RR - ","RR - Lourenço Jorge",0,4.5871559633027525E-2,2.2935779816513763E-2,1.3761467889908256E-2,3.669724770642202E-2,8.7155963302752298E-2,9.633027522935779E-2,0.38990825688073399,0.30733944954128439]
["Terminal Alvorada TCA","RR - ","RR - Terminal Alvorada TCA",0,7.1702088931882802E-3,2.3323592860716964E-2,2.4977485213317593E-2,3.2861407417843116E-2,0.12849950794609433,3.8455141955562072E-2,0.26283926835134702,0.48187338736193053]
["Via Parque","RR - ","RR - Via Parque",0,4.5871559633027519E-2,2.2935779816513759E-2,1.3761467889908256E-2,3.669724770642202E-2,8.7155963302752298E-2,9.633027522935779E-2,0.38990825688073394,0.30733944954128439]

{"sheet":"QD_agrg","index":11,"n_rows":160,"n_cols":15,"rows_kept":160,"cut":false,"hidden":false,"merged":[]}
["Informações no nível de Quadras agregadas por Estação"]
[]
["proxy","corredor",null,"estc","Número de quadras","Elementos de segregação","Integração de transportes de média-alta capacidade","ar_comp","qd","dens_qd","pont_dens_qd","segr","pont_segr","intg","pont_intg"]
["Proxy","Corredor","Seq. Estação","Estação","Número de quadras","Elementos de segregação","Integração de sistemas de transportes de média e alta capacidade","Área Compatível (m²)","Número de quadras","Quadra por km2","Pontos Dens. Quadras","Elementos de segregação","Pontuação Segregação","Elementos de integração de transportes de média-alta capacidade","Pontuação Integração"]
[null,{"$f":"INDEX(Sistema_Analisado!$A$3:$F$99,MATCH($D5,Sistema_Analisado!$B$3:$B$99,FALSE),MATCH($B$4,Sistema_Analisado!$A$3:$F$3,FALSE))","v":{"$error":"#N/A"}},{"$f":"INDEX(Sistema_Analisado!$A$3:$F$99,MATCH(D5,Sistema_Analisado!$B$3:$B$99,FALSE),MATCH(\"Seq. Corredor\",Sistema_Analisado!$A$3:$F$3,0))","v":{"$error":"#N/A"}},"Estação xx",{"$f":"COUNTIF(QD_data!B:B,D5)","v":0},2,0,{"$f":"SUMIFS(UdS_data!D:D,UdS_data!B:B,D5,UdS_data!F:F,1)","v":0},{"$f":"E5","v":0},{"$f":"(I5*10^6)/H5","v":{"$error":"#DIV/0!"}},{"$f":"IF(J5>=55,5,IF(J5>=42,4,IF(J5>=32,3,IF(J5>=27,2,IF(J5>=23,1,0)))))","v":{"$error":"#DIV/0!"}},{"$f":"F5","v":2},{"$f":"IF($L5<=0,5,IF($L5=1,3,IF($L5=2,1,0)))","v":1},{"$f":"G5","v":0},{"$f":"IF(N5>=2,5,IF(N5=1,3,0))","v":0}]
[null,{"$f":"INDEX(Sistema_Analisado!$A$3:$F$89,MATCH($D6,Sistema_Analisado!$B$3:$B$89,FALSE),MATCH($B$4,Sistema_Analisado!$A$3:$F$3,FALSE))","v":{"$error":"#N/A"}},{"$f":"INDEX(Sistema_Analisado!$A$3:$F$99,MATCH(D6,Sistema_Analisado!$B$3:$B$99,FALSE),MATCH(\"Seq. Corredor\",Sistema_Analisado!$A$3:$F$3,0))","v":{"$error":"#N/A"}},"Estação yy",{"$f":"COUNTIF(QD_data!B:B,D6)","v":0},1,0,{"$f":"SUMIFS(UdS_data!D:D,UdS_data!B:B,D6,UdS_data!F:F,1)","v":0},{"$f":"E6","v":0},{"$error":"#DIV/0!"},{"$error":"#DIV/0!"},{"$f":"F6","v":1},{"$f":"IF($L6<=0,5,IF($L6=1,3,IF($L6=2,1,0)))","v":3},0,{"$f":"IF(N6>=2,5,IF(N6=1,3,0))","v":0}]
[null,{"$f":"INDEX(Sistema_Analisado!$A$3:$F$89,MATCH($D7,Sistema_Analisado!$B$3:$B$89,FALSE),MATCH($B$4,Sistema_Analisado!$A$3:$F$3,FALSE))","v":{"$error":"#N/A"}},{"$f":"INDEX(Sistema_Analisado!$A$3:$F$99,MATCH(D7,Sistema_Analisado!$B$3:$B$99,FALSE),MATCH(\"Seq. Corredor\",Sistema_Analisado!$A$3:$F$3,0))","v":{"$error":"#N/A"}},"Estação zz",{"$f":"COUNTIF(QD_data!B:B,D7)","v":0},1,0,{"$f":"SUMIFS(UdS_data!D:D,UdS_data!B:B,D7,UdS_data!F:F,1)","v":0},0,{"$error":"#DIV/0!"},{"$error":"#DIV/0!"},1,3,0,0]
[null,{"$f":"INDEX(Sistema_Analisado!$A$3:$F$99,MATCH($D8,Sistema_Analisado!$B$3:$B$99,FALSE),MATCH($B$4,Sistema_Analisado!$A$3:$F$3,FALSE))","v":{"$error":"#N/A"}},{"$f":"INDEX(Sistema_Analisado!$A$3:$F$99,MATCH(D8,Sistema_Analisado!$B$3:$B$99,FALSE),MATCH(\"Seq. Corredor\",Sistema_Analisado!$A$3:$F$3,0))","v":{"$error":"#N/A"}},null,{"$f":"COUNTIF(QD_data!B:B,D8)","v":0},null,null,{"$f":"SUMIFS(UdS_data!D:D,UdS_data!B:B,D8,UdS_data!F:F,1)","v":0},0,{"$error":"#DIV/0!"},{"$error":"#DIV/0!"},0,5,0,0]
[null,{"$f":"INDEX(Sistema_Analisado!$A$3:$F$89,MATCH($D9,Sistema_Analisado!$B$3:$B$89,FALSE),MATCH($B$4,Sistema_Analisado!$A$3:$F$3,FALSE))","v":{"$error":"#N/A"}},{"$f":"INDEX(Sistema_Analisado!$A$3:$F$99,MATCH(D9,Sistema_Analisado!$B$3:$B$99,FALSE),MATCH(\"Seq. Corredor\",Sistema_Analisado!$A$3:$F$3,0))","v":{"$error":"#N/A"}},null,{"$f":"COUNTIF(QD_data!B:B,D9)","v":0},null,null,{"$f":"SUMIFS(UdS_data!D:D,UdS_data!B:B,D9,UdS_data!F:F,1)","v":0},0,{"$error":"#DIV/0!"},{"$error":"#DIV/0!"},0,5,0,0]
[null,{"$f":"INDEX(Sistema_Analisado!$A$3:$F$89,MATCH($D10,Sistema_Analisado!$B$3:$B$89,FALSE),MATCH($B$4,Sistema_Analisado!$A$3:$F$3,FALSE))","v":{"$error":"#N/A"}},{"$f":"INDEX(Sistema_Analisado!$A$3:$F$99,MATCH(D10,Sistema_Analisado!$B$3:$B$99,FALSE),MATCH(\"Seq. Corredor\",Sistema_Analisado!$A$3:$F$3,0))","v":{"$error":"#N/A"}},null,{"$f":"COUNTIF(QD_data!B:B,D10)","v":0},null,null,{"$f":"SUMIFS(UdS_data!D:D,UdS_data!B:B,D10,UdS_data!F:F,1)","v":0},0,{"$error":"#DIV/0!"},{"$error":"#DIV/0!"},0,5,0,0]
[null,{"$f":"INDEX(Sistema_Analisado!$A$3:$F$99,MATCH($D11,Sistema_Analisado!$B$3:$B$99,FALSE),MATCH($B$4,Sistema_Analisado!$A$3:$F$3,FALSE))","v":{"$error":"#N/A"}},{"$f":"INDEX(Sistema_Analisado!$A$3:$F$99,MATCH(D11,Sistema_Analisado!$B$3:$B$99,FALSE),MATCH(\"Seq. Corredor\",Sistema_Analisado!$A$3:$F$3,0))","v":{"$error":"#N/A"}},null,{"$f":"COUNTIF(QD_data!B:B,D11)","v":0},null,null,{"$f":"SUMIFS(UdS_data!D:D,UdS_data!B:B,D11,UdS_data!F:F,1)","v":0},0,{"$error":"#DIV/0!"},{"$error":"#DIV/0!"},0,5,0,0]
[null,{"$f":"INDEX(Sistema_Analisado!$A$3:$F$89,MATCH($D12,Sistema_Analisado!$B$3:$B$89,FALSE),MATCH($B$4,Sistema_Analisado!$A$3:$F$3,FALSE))","v":{"$error":"#N/A"}},{"$f":"INDEX(Sistema_Analisado!$A$3:$F$99,MATCH(D12,Sistema_Analisado!$B$3:$B$99,FALSE),MATCH(\"Seq. Corredor\",Sistema_Analisado!$A$3:$F$3,0))","v":{"$error":"#N/A"}},null,{"$f":"COUNTIF(QD_data!B:B,D12)","v":0},null,null,{"$f":"SUMIFS(UdS_data!D:D,UdS_data!B:B,D12,UdS_data!F:F,1)","v":0},0,{"$error":"#DIV/0!"},{"$error":"#DIV/0!"},0,5,0,0]
[null,{"$f":"INDEX(Sistema_Analisado!$A$3:$F$89,MATCH($D13,Sistema_Analisado!$B$3:$B$89,FALSE),MATCH($B$4,Sistema_Analisado!$A$3:$F$3,FALSE))","v":{"$error":"#N/A"}},{"$f":"INDEX(Sistema_Analisado!$A$3:$F$99,MATCH(D13,Sistema_Analisado!$B$3:$B$99,FALSE),MATCH(\"Seq. Corredor\",Sistema_Analisado!$A$3:$F$3,0))","v":{"$error":"#N/A"}},null,{"$f":"COUNTIF(QD_data!B:B,D13)","v":0},null,null,{"$f":"SUMIFS(UdS_data!D:D,UdS_data!B:B,D13,UdS_data!F:F,1)","v":0},0,{"$error":"#DIV/0!"},{"$error":"#DIV/0!"},0,5,0,0]
[null,{"$f":"INDEX(Sistema_Analisado!$A$3:$F$99,MATCH($D14,Sistema_Analisado!$B$3:$B$99,FALSE),MATCH($B$4,Sistema_Analisado!$A$3:$F$3,FALSE))","v":{"$error":"#N/A"}},{"$f":"INDEX(Sistema_Analisado!$A$3:$F$99,MATCH(D14,Sistema_Analisado!$B$3:$B$99,FALSE),MATCH(\"Seq. Corredor\",Sistema_Analisado!$A$3:$F$3,0))","v":{"$error":"#N/A"}},null,{"$f":"COUNTIF(QD_data!B:B,D14)","v":0},null,null,{"$f":"SUMIFS(UdS_data!D:D,UdS_data!B:B,D14,UdS_data!F:F,1)","v":0},0,{"$error":"#DIV/0!"},{"$error":"#DIV/0!"},0,5,0,0]
[null,{"$f":"INDEX(Sistema_Analisado!$A$3:$F$89,MATCH($D15,Sistema_Analisado!$B$3:$B$89,FALSE),MATCH($B$4,Sistema_Analisado!$A$3:$F$3,FALSE))","v":{"$error":"#N/A"}},{"$f":"INDEX(Sistema_Analisado!$A$3:$F$99,MATCH(D15,Sistema_Analisado!$B$3:$B$99,FALSE),MATCH(\"Seq. Corredor\",Sistema_Analisado!$A$3:$F$3,0))","v":{"$error":"#N/A"}},null,{"$f":"COUNTIF(QD_data!B:B,D15)","v":0},null,null,{"$f":"SUMIFS(UdS_data!D:D,UdS_data!B:B,D15,UdS_data!F:F,1)","v":0},0,{"$error":"#DIV/0!"},{"$error":"#DIV/0!"},0,5,0,0]
[null,{"$f":"INDEX(Sistema_Analisado!$A$3:$F$89,MATCH($D16,Sistema_Analisado!$B$3:$B$89,FALSE),MATCH($B$4,Sistema_Analisado!$A$3:$F$3,FALSE))","v":{"$error":"#N/A"}},{"$f":"INDEX(Sistema_Analisado!$A$3:$F$99,MATCH(D16,Sistema_Analisado!$B$3:$B$99,FALSE),MATCH(\"Seq. Corredor\",Sistema_Analisado!$A$3:$F$3,0))","v":{"$error":"#N/A"}},null,{"$f":"COUNTIF(QD_data!B:B,D16)","v":0},null,null,{"$f":"SUMIFS(UdS_data!D:D,UdS_data!B:B,D16,UdS_data!F:F,1)","v":0},0,{"$error":"#DIV/0!"},{"$error":"#DIV/0!"},0,5,0,0]
[null,{"$f":"INDEX(Sistema_Analisado!$A$3:$F$99,MATCH($D17,Sistema_Analisado!$B$3:$B$99,FALSE),MATCH($B$4,Sistema_Analisado!$A$3:$F$3,FALSE))","v":{"$error":"#N/A"}},{"$f":"INDEX(Sistema_Analisado!$A$3:$F$99,MATCH(D17,Sistema_Analisado!$B$3:$B$99,FALSE),MATCH(\"Seq. Corredor\",Sistema_Analisado!$A$3:$F$3,0))","v":{"$error":"#N/A"}},null,{"$f":"COUNTIF(QD_data!B:B,D17)","v":0},null,null,{"$f":"SUMIFS(UdS_data!D:D,UdS_data!B:B,D17,UdS_data!F:F,1)","v":0},0,{"$error":"#DIV/0!"},{"$error":"#DIV/0!"},0,5,0,0]
[null,{"$f":"INDEX(Sistema_Analisado!$A$3:$F$89,MATCH($D18,Sistema_Analisado!$B$3:$B$89,FALSE),MATCH($B$4,Sistema_Analisado!$A$3:$F$3,FALSE))","v":{"$error":"#N/A"}},{"$f":"INDEX(Sistema_Analisado!$A$3:$F$99,MATCH(D18,Sistema_Analisado!$B$3:$B$99,FALSE),MATCH(\"Seq. Corredor\",Sistema_Analisado!$A$3:$F$3,0))","v":{"$error":"#N/A"}},null,{"$f":"COUNTIF(QD_data!B:B,D18)","v":0},null,null,{"$f":"SUMIFS(UdS_data!D:D,UdS_data!B:B,D18,UdS_data!F:F,1)","v":0},0,{"$error":"#DIV/0!"},{"$error":"#DIV/0!"},0,5,0,0]
[null,{"$f":"INDEX(Sistema_Analisado!$A$3:$F$89,MATCH($D19,Sistema_Analisado!$B$3:$B$89,FALSE),MATCH($B$4,Sistema_Analisado!$A$3:$F$3,FALSE))","v":{"$error":"#N/A"}},{"$f":"INDEX(Sistema_Analisado!$A$3:$F$99,MATCH(D19,Sistema_Analisado!$B$3:$B$99,FALSE),MATCH(\"Seq. Corredor\",Sistema_Analisado!$A$3:$F$3,0))","v":{"$error":"#N/A"}},null,{"$f":"COUNTIF(QD_data!B:B,D19)","v":0},null,null,{"$f":"SUMIFS(UdS_data!D:D,UdS_data!B:B,D19,UdS_data!F:F,1)","v":0},0,{"$error":"#DIV/0!"},{"$error":"#DIV/0!"},0,5,0,0]
[null,{"$f":"INDEX(Sistema_Analisado!$A$3:$F$99,MATCH($D20,Sistema_Analisado!$B$3:$B$99,FALSE),MATCH($B$4,Sistema_Analisado!$A$3:$F$3,FALSE))","v":{"$error":"#N/A"}},{"$f":"INDEX(Sistema_Analisado!$A$3:$F$99,MATCH(D20,Sistema_Analisado!$B$3:$B$99,FALSE),MATCH(\"Seq. Corredor\",Sistema_Analisado!$A$3:$F$3,0))","v":{"$error":"#N/A"}},null,{"$f":"COUNTIF(QD_data!B:B,D20)","v":0},null,null,{"$f":"SUMIFS(UdS_data!D:D,UdS_data!B:B,D20,UdS_data!F:F,1)","v":0},0,{"$error":"#DIV/0!"},{"$error":"#DIV/0!"},0,5,0,0]
[null,{"$f":"INDEX(Sistema_Analisado!$A$3:$F$89,MATCH($D21,Sistema_Analisado!$B$3:$B$89,FALSE),MATCH($B$4,Sistema_Analisado!$A$3:$F$3,FALSE))","v":{"$error":"#N/A"}},{"$f":"INDEX(Sistema_Analisado!$A$3:$F$99,MATCH(D21,Sistema_Analisado!$B$3:$B$99,FALSE),MATCH(\"Seq. Corredor\",Sistema_Analisado!$A$3:$F$3,0))","v":{"$error":"#N/A"}},null,{"$f":"COUNTIF(QD_data!B:B,D21)","v":0},null,null,{"$f":"SUMIFS(UdS_data!D:D,UdS_data!B:B,D21,UdS_data!F:F,1)","v":0},0,{"$error":"#DIV/0!"},{"$error":"#DIV/0!"},0,5,0,0]
[null,{"$f":"INDEX(Sistema_Analisado!$A$3:$F$89,MATCH($D22,Sistema_Analisado!$B$3:$B$89,FALSE),MATCH($B$4,Sistema_Analisado!$A$3:$F$3,FALSE))","v":{"$error":"#N/A"}},{"$f":"INDEX(Sistema_Analisado!$A$3:$F$99,MATCH(D22,Sistema_Analisado!$B$3:$B$99,FALSE),MATCH(\"Seq. Corredor\",Sistema_Analisado!$A$3:$F$3,0))","v":{"$error":"#N/A"}},null,{"$f":"COUNTIF(QD_data!B:B,D22)","v":0},null,null,{"$f":"SUMIFS(UdS_data!D:D,UdS_data!B:B,D22,UdS_data!F:F,1)","v":0},0,{"$error":"#DIV/0!"},{"$error":"#DIV/0!"},0,5,0,0]
[null,{"$f":"INDEX(Sistema_Analisado!$A$3:$F$99,MATCH($D23,Sistema_Analisado!$B$3:$B$99,FALSE),MATCH($B$4,Sistema_Analisado!$A$3:$F$3,FALSE))","v":{"$error":"#N/A"}},{"$f":"INDEX(Sistema_Analisado!$A$3:$F$99,MATCH(D23,Sistema_Analisado!$B$3:$B$99,FALSE),MATCH(\"Seq. Corredor\",Sistema_Analisado!$A$3:$F$3,0))","v":{"$error":"#N/A"}},null,{"$f":"COUNTIF(QD_data!B:B,D23)","v":0},null,null,{"$f":"SUMIFS(UdS_data!D:D,UdS_data!B:B,D23,UdS_data!F:F,1)","v":0},0,{"$error":"#DIV/0!"},{"$error":"#DIV/0!"},0,5,0,0]
[null,{"$f":"INDEX(Sistema_Analisado!$A$3:$F$89,MATCH($D24,Sistema_Analisado!$B$3:$B$89,FALSE),MATCH($B$4,Sistema_Analisado!$A$3:$F$3,FALSE))","v":{"$error":"#N/A"}},{"$f":"INDEX(Sistema_Analisado!$A$3:$F$99,MATCH(D24,Sistema_Analisado!$B$3:$B$99,FALSE),MATCH(\"Seq. Corredor\",Sistema_Analisado!$A$3:$F$3,0))","v":{"$error":"#N/A"}},null,{"$f":"COUNTIF(QD_data!B:B,D24)","v":0},null,null,{"$f":"SUMIFS(UdS_data!D:D,UdS_data!B:B,D24,UdS_data!F:F,1)","v":0},0,{"$error":"#DIV/0!"},{"$error":"#DIV/0!"},0,5,0,0]
[null,{"$f":"INDEX(Sistema_Analisado!$A$3:$F$89,MATCH($D25,Sistema_Analisado!$B$3:$B$89,FALSE),MATCH($B$4,Sistema_Analisado!$A$3:$F$3,FALSE))","v":{"$error":"#N/A"}},{"$f":"INDEX(Sistema_Analisado!$A$3:$F$99,MATCH(D25,Sistema_Analisado!$B$3:$B$99,FALSE),MATCH(\"Seq. Corredor\",Sistema_Analisado!$A$3:$F$3,0))","v":{"$error":"#N/A"}},null,{"$f":"COUNTIF(QD_data!B:B,D25)","v":0},null,null,{"$f":"SUMIFS(UdS_data!D:D,UdS_data!B:B,D25,UdS_data!F:F,1)","v":0},0,{"$error":"#DIV/0!"},{"$error":"#DIV/0!"},0,5,0,0]
[null,{"$f":"INDEX(Sistema_Analisado!$A$3:$F$99,MATCH($D26,Sistema_Analisado!$B$3:$B$99,FALSE),MATCH($B$4,Sistema_Analisado!$A$3:$F$3,FALSE))","v":{"$error":"#N/A"}},{"$f":"INDEX(Sistema_Analisado!$A$3:$F$99,MATCH(D26,Sistema_Analisado!$B$3:$B$99,FALSE),MATCH(\"Seq. Corredor\",Sistema_Analisado!$A$3:$F$3,0))","v":{"$error":"#N/A"}},null,{"$f":"COUNTIF(QD_data!B:B,D26)","v":0},null,null,{"$f":"SUMIFS(UdS_data!D:D,UdS_data!B:B,D26,UdS_data!F:F,1)","v":0},0,{"$error":"#DIV/0!"},{"$error":"#DIV/0!"},0,5,0,0]
[null,{"$f":"INDEX(Sistema_Analisado!$A$3:$F$89,MATCH($D27,Sistema_Analisado!$B$3:$B$89,FALSE),MATCH($B$4,Sistema_Analisado!$A$3:$F$3,FALSE))","v":{"$error":"#N/A"}},{"$f":"INDEX(Sistema_Analisado!$A$3:$F$99,MATCH(D27,Sistema_Analisado!$B$3:$B$99,FALSE),MATCH(\"Seq. Corredor\",Sistema_Analisado!$A$3:$F$3,0))","v":{"$error":"#N/A"}},null,{"$f":"COUNTIF(QD_data!B:B,D27)","v":0},null,null,{"$f":"SUMIFS(UdS_data!D:D,UdS_data!B:B,D27,UdS_data!F:F,1)","v":0},0,{"$error":"#DIV/0!"},{"$error":"#DIV/0!"},0,5,0,0]
[null,{"$f":"INDEX(Sistema_Analisado!$A$3:$F$89,MATCH($D28,Sistema_Analisado!$B$3:$B$89,FALSE),MATCH($B$4,Sistema_Analisado!$A$3:$F$3,FALSE))","v":{"$error":"#N/A"}},{"$f":"INDEX(Sistema_Analisado!$A$3:$F$99,MATCH(D28,Sistema_Analisado!$B$3:$B$99,FALSE),MATCH(\"Seq. Corredor\",Sistema_Analisado!$A$3:$F$3,0))","v":{"$error":"#N/A"}},null,{"$f":"COUNTIF(QD_data!B:B,D28)","v":0},null,null,{"$f":"SUMIFS(UdS_data!D:D,UdS_data!B:B,D28,UdS_data!F:F,1)","v":0},0,{"$error":"#DIV/0!"},{"$error":"#DIV/0!"},0,5,0,0]
[null,{"$f":"INDEX(Sistema_Analisado!$A$3:$F$99,MATCH($D29,Sistema_Analisado!$B$3:$B$99,FALSE),MATCH($B$4,Sistema_Analisado!$A$3:$F$3,FALSE))","v":{"$error":"#N/A"}},{"$f":"INDEX(Sistema_Analisado!$A$3:$F$99,MATCH(D29,Sistema_Analisado!$B$3:$B$99,FALSE),MATCH(\"Seq. Corredor\",Sistema_Analisado!$A$3:$F$3,0))","v":{"$error":"#N/A"}},null,{"$f":"COUNTIF(QD_data!B:B,D29)","v":0},null,null,{"$f":"SUMIFS(UdS_data!D:D,UdS_data!B:B,D29,UdS_data!F:F,1)","v":0},0,{"$error":"#DIV/0!"},{"$error":"#DIV/0!"},0,5,0,0]
[null,{"$f":"INDEX(Sistema_Analisado!$A$3:$F$89,MATCH($D30,Sistema_Analisado!$B$3:$B$89,FALSE),MATCH($B$4,Sistema_Analisado!$A$3:$F$3,FALSE))","v":{"$error":"#N/A"}},{"$f":"INDEX(Sistema_Analisado!$A$3:$F$99,MATCH(D30,Sistema_Analisado!$B$3:$B$99,FALSE),MATCH(\"Seq. Corredor\",Sistema_Analisado!$A$3:$F$3,0))","v":{"$error":"#N/A"}},null,{"$f":"COUNTIF(QD_data!B:B,D30)","v":0},null,null,{"$f":"SUMIFS(UdS_data!D:D,UdS_data!B:B,D30,UdS_data!F:F,1)","v":0},0,{"$error":"#DIV/0!"},{"$error":"#DIV/0!"},0,5,0,0]
[null,{"$f":"INDEX(Sistema_Analisado!$A$3:$F$89,MATCH($D31,Sistema_Analisado!$B$3:$B$89,FALSE),MATCH($B$4,Sistema_Analisado!$A$3:$F$3,FALSE))","v":{"$error":"#N/A"}},{"$f":"INDEX(Sistema_Analisado!$A$3:$F$99,MATCH(D31,Sistema_Analisado!$B$3:$B$99,FALSE),MATCH(\"Seq. Corredor\",Sistema_Analisado!$A$3:$F$3,0))","v":{"$error":"#N/A"}},null,{"$f":"COUNTIF(QD_data!B:B,D31)","v":0},null,null,{"$f":"SUMIFS(UdS_data!D:D,UdS_data!B:B,D31,UdS_data!F:F,1)","v":0},0,{"$error":"#DIV/0!"},{"$error":"#DIV/0!"},0,5,0,0]
[null,{"$f":"INDEX(Sistema_Analisado!$A$3:$F$99,MATCH($D32,Sistema_Analisado!$B$3:$B$99,FALSE),MATCH($B$4,Sistema_Analisado!$A$3:$F$3,FALSE))","v":{"$error":"#N/A"}},{"$f":"INDEX(Sistema_Analisado!$A$3:$F$99,MATCH(D32,Sistema_Analisado!$B$3:$B$99,FALSE),MATCH(\"Seq. Corredor\",Sistema_Analisado!$A$3:$F$3,0))","v":{"$error":"#N/A"}},null,{"$f":"COUNTIF(QD_data!B:B,D32)","v":0},null,null,{"$f":"SUMIFS(UdS_data!D:D,UdS_data!B:B,D32,UdS_data!F:F,1)","v":0},0,{"$error":"#DIV/0!"},{"$error":"#DIV/0!"},0,5,0,0]
[null,{"$f":"INDEX(Sistema_Analisado!$A$3:$F$89,MATCH($D33,Sistema_Analisado!$B$3:$B$89,FALSE),MATCH($B$4,Sistema_Analisado!$A$3:$F$3,FALSE))","v":{"$error":"#N/A"}},{"$f":"INDEX(Sistema_Analisado!$A$3:$F$99,MATCH(D33,Sistema_Analisado!$B$3:$B$99,FALSE),MATCH(\"Seq. Corredor\",Sistema_Analisado!$A$3:$F$3,0))","v":{"$error":"#N/A"}},null,{"$f":"COUNTIF(QD_data!B:B,D33)","v":0},null,null,{"$f":"SUMIFS(UdS_data!D:D,UdS_data!B:B,D33,UdS_data!F:F,1)","v":0},0,{"$error":"#DIV/0!"},{"$error":"#DIV/0!"},0,5,0,0]
[null,{"$f":"INDEX(Sistema_Analisado!$A$3:$F$89,MATCH($D34,Sistema_Analisado!$B$3:$B$89,FALSE),MATCH($B$4,Sistema_Analisado!$A$3:$F$3,FALSE))","v":{"$error":"#N/A"}},{"$f":"INDEX(Sistema_Analisado!$A$3:$F$99,MATCH(D34,Sistema_Analisado!$B$3:$B$99,FALSE),MATCH(\"Seq. Corredor\",Sistema_Analisado!$A$3:$F$3,0))","v":{"$error":"#N/A"}},null,{"$f":"COUNTIF(QD_data!B:B,D34)","v":0},null,null,{"$f":"SUMIFS(UdS_data!D:D,UdS_data!B:B,D34,UdS_data!F:F,1)","v":0},0,{"$error":"#DIV/0!"},{"$error":"#DIV/0!"},0,5,0,0]
[null,{"$f":"INDEX(Sistema_Analisado!$A$3:$F$99,MATCH($D35,Sistema_Analisado!$B$3:$B$99,FALSE),MATCH($B$4,Sistema_Analisado!$A$3:$F$3,FALSE))","v":{"$error":"#N/A"}},{"$f":"INDEX(Sistema_Analisado!$A$3:$F$99,MATCH(D35,Sistema_Analisado!$B$3:$B$99,FALSE),MATCH(\"Seq. Corredor\",Sistema_Analisado!$A$3:$F$3,0))","v":{"$error":"#N/A"}},null,{"$f":"COUNTIF(QD_data!B:B,D35)","v":0},null,null,{"$f":"SUMIFS(UdS_data!D:D,UdS_data!B:B,D35,UdS_data!F:F,1)","v":0},0,{"$error":"#DIV/0!"},{"$error":"#DIV/0!"},0,5,0,0]
[null,{"$f":"INDEX(Sistema_Analisado!$A$3:$F$89,MATCH($D36,Sistema_Analisado!$B$3:$B$89,FALSE),MATCH($B$4,Sistema_Analisado!$A$3:$F$3,FALSE))","v":{"$error":"#N/A"}},{"$f":"INDEX(Sistema_Analisado!$A$3:$F$99,MATCH(D36,Sistema_Analisado!$B$3:$B$99,FALSE),MATCH(\"Seq. Corredor\",Sistema_Analisado!$A$3:$F$3,0))","v":{"$error":"#N/A"}},null,{"$f":"COUNTIF(QD_data!B:B,D36)","v":0},null,null,{"$f":"SUMIFS(UdS_data!D:D,UdS_data!B:B,D36,UdS_data!F:F,1)","v":0},0,{"$error":"#DIV/0!"},{"$error":"#DIV/0!"},0,5,0,0]
[null,{"$f":"INDEX(Sistema_Analisado!$A$3:$F$89,MATCH($D37,Sistema_Analisado!$B$3:$B$89,FALSE),MATCH($B$4,Sistema_Analisado!$A$3:$F$3,FALSE))","v":{"$error":"#N/A"}},{"$f":"INDEX(Sistema_Analisado!$A$3:$F$99,MATCH(D37,Sistema_Analisado!$B$3:$B$99,FALSE),MATCH(\"Seq. Corredor\",Sistema_Analisado!$A$3:$F$3,0))","v":{"$error":"#N/A"}},null,{"$f":"COUNTIF(QD_data!B:B,D37)","v":0},null,null,{"$f":"SUMIFS(UdS_data!D:D,UdS_data!B:B,D37,UdS_data!F:F,1)","v":0},0,{"$f":"(I37*10^6)/H37","v":{"$error":"#DIV/0!"}},{"$f":"IF(J37>=55,5,IF(J37>=42,4,IF(J37>=32,3,IF(J37>=27,2,IF(J37>=23,1,0)))))","v":{"$error":"#DIV/0!"}},0,5,0,0]
[null,{"$f":"INDEX(Sistema_Analisado!$A$3:$F$99,MATCH($D38,Sistema_Analisado!$B$3:$B$99,FALSE),MATCH($B$4,Sistema_Analisado!$A$3:$F$3,FALSE))","v":{"$error":"#N/A"}},{"$f":"INDEX(Sistema_Analisado!$A$3:$F$99,MATCH(D38,Sistema_Analisado!$B$3:$B$99,FALSE),MATCH(\"Seq. Corredor\",Sistema_Analisado!$A$3:$F$3,0))","v":{"$error":"#N/A"}},null,{"$f":"COUNTIF(QD_data!B:B,D38)","v":0},null,null,{"$f":"SUMIFS(UdS_data!D:D,UdS_data!B:B,D38,UdS_data!F:F,1)","v":0},0,{"$error":"#DIV/0!"},{"$error":"#DIV/0!"},0,5,0,0]
[null,{"$f":"INDEX(Sistema_Analisado!$A$3:$F$89,MATCH($D39,Sistema_Analisado!$B$3:$B$89,FALSE),MATCH($B$4,Sistema_Analisado!$A$3:$F$3,FALSE))","v":{"$error":"#N/A"}},{"$f":"INDEX(Sistema_Analisado!$A$3:$F$99,MATCH(D39,Sistema_Analisado!$B$3:$B$99,FALSE),MATCH(\"Seq. Corredor\",Sistema_Analisado!$A$3:$F$3,0))","v":{"$error":"#N/A"}},null,{"$f":"COUNTIF(QD_data!B:B,D39)","v":0},null,null,{"$f":"SUMIFS(UdS_data!D:D,UdS_data!B:B,D39,UdS_data!F:F,1)","v":0},0,{"$error":"#DIV/0!"},{"$error":"#DIV/0!"},0,5,{"$f":"G39","v":0},0]
[null,{"$f":"INDEX(Sistema_Analisado!$A$3:$F$89,MATCH($D40,Sistema_Analisado!$B$3:$B$89,FALSE),MATCH($B$4,Sistema_Analisado!$A$3:$F$3,FALSE))","v":{"$error":"#N/A"}},{"$f":"INDEX(Sistema_Analisado!$A$3:$F$99,MATCH(D40,Sistema_Analisado!$B$3:$B$99,FALSE),MATCH(\"Seq. Corredor\",Sistema_Analisado!$A$3:$F$3,0))","v":{"$error":"#N/A"}},null,{"$f":"COUNTIF(QD_data!B:B,D40)","v":0},null,null,{"$f":"SUMIFS(UdS_data!D:D,UdS_data!B:B,D40,UdS_data!F:F,1)","v":0},0,{"$error":"#DIV/0!"},{"$error":"#DIV/0!"},0,5,{"$f":"G40","v":0},0]
[null,{"$f":"INDEX(Sistema_Analisado!$A$3:$F$99,MATCH($D41,Sistema_Analisado!$B$3:$B$99,FALSE),MATCH($B$4,Sistema_Analisado!$A$3:$F$3,FALSE))","v":{"$error":"#N/A"}},{"$f":"INDEX(Sistema_Analisado!$A$3:$F$99,MATCH(D41,Sistema_Analisado!$B$3:$B$99,FALSE),MATCH(\"Seq. Corredor\",Sistema_Analisado!$A$3:$F$3,0))","v":{"$error":"#N/A"}},null,{"$f":"COUNTIF(QD_data!B:B,D41)","v":0},null,null,{"$f":"SUMIFS(UdS_data!D:D,UdS_data!B:B,D41,UdS_data!F:F,1)","v":0},0,{"$error":"#DIV/0!"},{"$error":"#DIV/0!"},0,5,{"$f":"G41","v":0},0]
[null,{"$f":"INDEX(Sistema_Analisado!$A$3:$F$89,MATCH($D42,Sistema_Analisado!$B$3:$B$89,FALSE),MATCH($B$4,Sistema_Analisado!$A$3:$F$3,FALSE))","v":{"$error":"#N/A"}},{"$f":"INDEX(Sistema_Analisado!$A$3:$F$99,MATCH(D42,Sistema_Analisado!$B$3:$B$99,FALSE),MATCH(\"Seq. Corredor\",Sistema_Analisado!$A$3:$F$3,0))","v":{"$error":"#N/A"}},null,{"$f":"COUNTIF(QD_data!B:B,D42)","v":0},null,null,{"$f":"SUMIFS(UdS_data!D:D,UdS_data!B:B,D42,UdS_data!F:F,1)","v":0},0,{"$error":"#DIV/0!"},{"$error":"#DIV/0!"},0,5,{"$f":"G42","v":0},0]
[null,{"$f":"INDEX(Sistema_Analisado!$A$3:$F$89,MATCH($D43,Sistema_Analisado!$B$3:$B$89,FALSE),MATCH($B$4,Sistema_Analisado!$A$3:$F$3,FALSE))","v":{"$error":"#N/A"}},{"$f":"INDEX(Sistema_Analisado!$A$3:$F$99,MATCH(D43,Sistema_Analisado!$B$3:$B$99,FALSE),MATCH(\"Seq. Corredor\",Sistema_Analisado!$A$3:$F$3,0))","v":{"$error":"#N/A"}},null,{"$f":"COUNTIF(QD_data!B:B,D43)","v":0},null,null,{"$f":"SUMIFS(UdS_data!D:D,UdS_data!B:B,D43,UdS_data!F:F,1)","v":0},0,{"$error":"#DIV/0!"},{"$error":"#DIV/0!"},0,5,0,0]
[null,{"$f":"INDEX(Sistema_Analisado!$A$3:$F$99,MATCH($D44,Sistema_Analisado!$B$3:$B$99,FALSE),MATCH($B$4,Sistema_Analisado!$A$3:$F$3,FALSE))","v":{"$error":"#N/A"}},{"$f":"INDEX(Sistema_Analisado!$A$3:$F$99,MATCH(D44,Sistema_Analisado!$B$3:$B$99,FALSE),MATCH(\"Seq. Corredor\",Sistema_Analisado!$A$3:$F$3,0))","v":{"$error":"#N/A"}},null,{"$f":"COUNTIF(QD_data!B:B,D44)","v":0},null,null,{"$f":"SUMIFS(UdS_data!D:D,UdS_data!B:B,D44,UdS_data!F:F,1)","v":0},0,{"$error":"#DIV/0!"},{"$error":"#DIV/0!"},0,5,{"$f":"G44","v":0},0]
[null,{"$f":"INDEX(Sistema_Analisado!$A$3:$F$89,MATCH($D45,Sistema_Analisado!$B$3:$B$89,FALSE),MATCH($B$4,Sistema_Analisado!$A$3:$F$3,FALSE))","v":{"$error":"#N/A"}},{"$f":"INDEX(Sistema_Analisado!$A$3:$F$99,MATCH(D45,Sistema_Analisado!$B$3:$B$99,FALSE),MATCH(\"Seq. Corredor\",Sistema_Analisado!$A$3:$F$3,0))","v":{"$error":"#N/A"}},null,{"$f":"COUNTIF(QD_data!B:B,D45)","v":0},null,null,{"$f":"SUMIFS(UdS_data!D:D,UdS_data!B:B,D45,UdS_data!F:F,1)","v":0},0,{"$error":"#DIV/0!"},{"$error":"#DIV/0!"},0,5,0,0]
[null,{"$f":"INDEX(Sistema_Analisado!$A$3:$F$89,MATCH($D46,Sistema_Analisado!$B$3:$B$89,FALSE),MATCH($B$4,Sistema_Analisado!$A$3:$F$3,FALSE))","v":{"$error":"#N/A"}},{"$f":"INDEX(Sistema_Analisado!$A$3:$F$99,MATCH(D46,Sistema_Analisado!$B$3:$B$99,FALSE),MATCH(\"Seq. Corredor\",Sistema_Analisado!$A$3:$F$3,0))","v":{"$error":"#N/A"}},null,{"$f":"COUNTIF(QD_data!B:B,D46)","v":0},null,null,{"$f":"SUMIFS(UdS_data!D:D,UdS_data!B:B,D46,UdS_data!F:F,1)","v":0},0,{"$error":"#DIV/0!"},{"$error":"#DIV/0!"},0,5,0,0]
[null,{"$f":"INDEX(Sistema_Analisado!$A$3:$F$99,MATCH($D47,Sistema_Analisado!$B$3:$B$99,FALSE),MATCH($B$4,Sistema_Analisado!$A$3:$F$3,FALSE))","v":{"$error":"#N/A"}},{"$f":"INDEX(Sistema_Analisado!$A$3:$F$99,MATCH(D47,Sistema_Analisado!$B$3:$B$99,FALSE),MATCH(\"Seq. Corredor\",Sistema_Analisado!$A$3:$F$3,0))","v":{"$error":"#N/A"}},null,{"$f":"COUNTIF(QD_data!B:B,D47)","v":0},null,null,{"$f":"SUMIFS(UdS_data!D:D,UdS_data!B:B,D47,UdS_data!F:F,1)","v":0},0,{"$error":"#DIV/0!"},{"$error":"#DIV/0!"},0,5,0,0]
[null,{"$f":"INDEX(Sistema_Analisado!$A$3:$F$89,MATCH($D48,Sistema_Analisado!$B$3:$B$89,FALSE),MATCH($B$4,Sistema_Analisado!$A$3:$F$3,FALSE))","v":{"$error":"#N/A"}},{"$f":"INDEX(Sistema_Analisado!$A$3:$F$99,MATCH(D48,Sistema_Analisado!$B$3:$B$99,FALSE),MATCH(\"Seq. Corredor\",Sistema_Analisado!$A$3:$F$3,0))","v":{"$error":"#N/A"}},null,{"$f":"COUNTIF(QD_data!B:B,D48)","v":0},null,null,{"$f":"SUMIFS(UdS_data!D:D,UdS_data!B:B,D48,UdS_data!F:F,1)","v":0},0,{"$error":"#DIV/0!"},{"$error":"#DIV/0!"},0,5,0,0]
[null,{"$f":"INDEX(Sistema_Analisado!$A$3:$F$89,MATCH($D49,Sistema_Analisado!$B$3:$B$89,FALSE),MATCH($B$4,Sistema_Analisado!$A$3:$F$3,FALSE))","v":{"$error":"#N/A"}},{"$f":"INDEX(Sistema_Analisado!$A$3:$F$99,MATCH(D49,Sistema_Analisado!$B$3:$B$99,FALSE),MATCH(\"Seq. Corredor\",Sistema_Analisado!$A$3:$F$3,0))","v":{"$error":"#N/A"}},null,{"$f":"COUNTIF(QD_data!B:B,D49)","v":0},null,null,{"$f":"SUMIFS(UdS_data!D:D,UdS_data!B:B,D49,UdS_data!F:F,1)","v":0},0,{"$error":"#DIV/0!"},{"$error":"#DIV/0!"},0,5,0,0]
[null,{"$f":"INDEX(Sistema_Analisado!$A$3:$F$99,MATCH($D50,Sistema_Analisado!$B$3:$B$99,FALSE),MATCH($B$4,Sistema_Analisado!$A$3:$F$3,FALSE))","v":{"$error":"#N/A"}},{"$f":"INDEX(Sistema_Analisado!$A$3:$F$99,MATCH(D50,Sistema_Analisado!$B$3:$B$99,FALSE),MATCH(\"Seq. Corredor\",Sistema_Analisado!$A$3:$F$3,0))","v":{"$error":"#N/A"}},null,{"$f":"COUNTIF(QD_data!B:B,D50)","v":0},null,null,{"$f":"SUMIFS(UdS_data!D:D,UdS_data!B:B,D50,UdS_data!F:F,1)","v":0},0,{"$error":"#DIV/0!"},{"$error":"#DIV/0!"},0,5,0,0]
[null,{"$f":"INDEX(Sistema_Analisado!$A$3:$F$89,MATCH($D51,Sistema_Analisado!$B$3:$B$89,FALSE),MATCH($B$4,Sistema_Analisado!$A$3:$F$3,FALSE))","v":{"$error":"#N/A"}},{"$f":"INDEX(Sistema_Analisado!$A$3:$F$99,MATCH(D51,Sistema_Analisado!$B$3:$B$99,FALSE),MATCH(\"Seq. Corredor\",Sistema_Analisado!$A$3:$F$3,0))","v":{"$error":"#N/A"}},null,{"$f":"COUNTIF(QD_data!B:B,D51)","v":0},null,null,{"$f":"SUMIFS(UdS_data!D:D,UdS_data!B:B,D51,UdS_data!F:F,1)","v":0},0,{"$error":"#DIV/0!"},{"$error":"#DIV/0!"},0,5,0,0]
[null,{"$f":"INDEX(Sistema_Analisado!$A$3:$F$89,MATCH($D52,Sistema_Analisado!$B$3:$B$89,FALSE),MATCH($B$4,Sistema_Analisado!$A$3:$F$3,FALSE))","v":{"$error":"#N/A"}},{"$f":"INDEX(Sistema_Analisado!$A$3:$F$99,MATCH(D52,Sistema_Analisado!$B$3:$B$99,FALSE),MATCH(\"Seq. Corredor\",Sistema_Analisado!$A$3:$F$3,0))","v":{"$error":"#N/A"}},null,{"$f":"COUNTIF(QD_data!B:B,D52)","v":0},null,null,{"$f":"SUMIFS(UdS_data!D:D,UdS_data!B:B,D52,UdS_data!F:F,1)","v":0},0,{"$error":"#DIV/0!"},{"$error":"#DIV/0!"},0,5,0,0]
[null,{"$f":"INDEX(Sistema_Analisado!$A$3:$F$99,MATCH($D53,Sistema_Analisado!$B$3:$B$99,FALSE),MATCH($B$4,Sistema_Analisado!$A$3:$F$3,FALSE))","v":{"$error":"#N/A"}},{"$f":"INDEX(Sistema_Analisado!$A$3:$F$99,MATCH(D53,Sistema_Analisado!$B$3:$B$99,FALSE),MATCH(\"Seq. Corredor\",Sistema_Analisado!$A$3:$F$3,0))","v":{"$error":"#N/A"}},null,{"$f":"COUNTIF(QD_data!B:B,D53)","v":0},null,null,{"$f":"SUMIFS(UdS_data!D:D,UdS_data!B:B,D53,UdS_data!F:F,1)","v":0},0,{"$error":"#DIV/0!"},{"$error":"#DIV/0!"},0,5,0,0]
[null,{"$f":"INDEX(Sistema_Analisado!$A$3:$F$89,MATCH($D54,Sistema_Analisado!$B$3:$B$89,FALSE),MATCH($B$4,Sistema_Analisado!$A$3:$F$3,FALSE))","v":{"$error":"#N/A"}},{"$f":"INDEX(Sistema_Analisado!$A$3:$F$99,MATCH(D54,Sistema_Analisado!$B$3:$B$99,FALSE),MATCH(\"Seq. Corredor\",Sistema_Analisado!$A$3:$F$3,0))","v":{"$error":"#N/A"}},null,{"$f":"COUNTIF(QD_data!B:B,D54)","v":0},null,null,{"$f":"SUMIFS(UdS_data!D:D,UdS_data!B:B,D54,UdS_data!F:F,1)","v":0},0,{"$error":"#DIV/0!"},{"$error":"#DIV/0!"},0,5,0,0]
[null,{"$f":"INDEX(Sistema_Analisado!$A$3:$F$89,MATCH($D55,Sistema_Analisado!$B$3:$B$89,FALSE),MATCH($B$4,Sistema_Analisado!$A$3:$F$3,FALSE))","v":{"$error":"#N/A"}},{"$f":"INDEX(Sistema_Analisado!$A$3:$F$99,MATCH(D55,Sistema_Analisado!$B$3:$B$99,FALSE),MATCH(\"Seq. Corredor\",Sistema_Analisado!$A$3:$F$3,0))","v":{"$error":"#N/A"}},null,{"$f":"COUNTIF(QD_data!B:B,D55)","v":0},null,null,{"$f":"SUMIFS(UdS_data!D:D,UdS_data!B:B,D55,UdS_data!F:F,1)","v":0},0,{"$error":"#DIV/0!"},{"$error":"#DIV/0!"},0,5,0,0]
[null,{"$f":"INDEX(Sistema_Analisado!$A$3:$F$99,MATCH($D56,Sistema_Analisado!$B$3:$B$99,FALSE),MATCH($B$4,Sistema_Analisado!$A$3:$F$3,FALSE))","v":{"$error":"#N/A"}},{"$f":"INDEX(Sistema_Analisado!$A$3:$F$99,MATCH(D56,Sistema_Analisado!$B$3:$B$99,FALSE),MATCH(\"Seq. Corredor\",Sistema_Analisado!$A$3:$F$3,0))","v":{"$error":"#N/A"}},null,{"$f":"COUNTIF(QD_data!B:B,D56)","v":0},null,null,{"$f":"SUMIFS(UdS_data!D:D,UdS_data!B:B,D56,UdS_data!F:F,1)","v":0},0,{"$error":"#DIV/0!"},{"$error":"#DIV/0!"},0,5,0,0]
[null,{"$f":"INDEX(Sistema_Analisado!$A$3:$F$89,MATCH($D57,Sistema_Analisado!$B$3:$B$89,FALSE),MATCH($B$4,Sistema_Analisado!$A$3:$F$3,FALSE))","v":{"$error":"#N/A"}},{"$f":"INDEX(Sistema_Analisado!$A$3:$F$99,MATCH(D57,Sistema_Analisado!$B$3:$B$99,FALSE),MATCH(\"Seq. Corredor\",Sistema_Analisado!$A$3:$F$3,0))","v":{"$error":"#N/A"}},null,{"$f":"COUNTIF(QD_data!B:B,D57)","v":0},null,null,{"$f":"SUMIFS(UdS_data!D:D,UdS_data!B:B,D57,UdS_data!F:F,1)","v":0},0,{"$error":"#DIV/0!"},{"$error":"#DIV/0!"},0,5,0,0]
[null,{"$f":"INDEX(Sistema_Analisado!$A$3:$F$89,MATCH($D58,Sistema_Analisado!$B$3:$B$89,FALSE),MATCH($B$4,Sistema_Analisado!$A$3:$F$3,FALSE))","v":{"$error":"#N/A"}},{"$f":"INDEX(Sistema_Analisado!$A$3:$F$99,MATCH(D58,Sistema_Analisado!$B$3:$B$99,FALSE),MATCH(\"Seq. Corredor\",Sistema_Analisado!$A$3:$F$3,0))","v":{"$error":"#N/A"}},null,{"$f":"COUNTIF(QD_data!B:B,D58)","v":0},null,null,{"$f":"SUMIFS(UdS_data!D:D,UdS_data!B:B,D58,UdS_data!F:F,1)","v":0},0,{"$error":"#DIV/0!"},{"$error":"#DIV/0!"},0,5,0,0]
[null,{"$f":"INDEX(Sistema_Analisado!$A$3:$F$99,MATCH($D59,Sistema_Analisado!$B$3:$B$99,FALSE),MATCH($B$4,Sistema_Analisado!$A$3:$F$3,FALSE))","v":{"$error":"#N/A"}},{"$f":"INDEX(Sistema_Analisado!$A$3:$F$99,MATCH(D59,Sistema_Analisado!$B$3:$B$99,FALSE),MATCH(\"Seq. Corredor\",Sistema_Analisado!$A$3:$F$3,0))","v":{"$error":"#N/A"}},null,{"$f":"COUNTIF(QD_data!B:B,D59)","v":0},null,null,{"$f":"SUMIFS(UdS_data!D:D,UdS_data!B:B,D59,UdS_data!F:F,1)","v":0},0,{"$error":"#DIV/0!"},{"$error":"#DIV/0!"},0,5,0,0]
[null,{"$f":"INDEX(Sistema_Analisado!$A$3:$F$89,MATCH($D60,Sistema_Analisado!$B$3:$B$89,FALSE),MATCH($B$4,Sistema_Analisado!$A$3:$F$3,FALSE))","v":{"$error":"#N/A"}},{"$f":"INDEX(Sistema_Analisado!$A$3:$F$99,MATCH(D60,Sistema_Analisado!$B$3:$B$99,FALSE),MATCH(\"Seq. Corredor\",Sistema_Analisado!$A$3:$F$3,0))","v":{"$error":"#N/A"}},null,{"$f":"COUNTIF(QD_data!B:B,D60)","v":0},null,null,{"$f":"SUMIFS(UdS_data!D:D,UdS_data!B:B,D60,UdS_data!F:F,1)","v":0},0,{"$error":"#DIV/0!"},{"$error":"#DIV/0!"},0,5,0,0]
[null,{"$f":"INDEX(Sistema_Analisado!$A$3:$F$89,MATCH($D61,Sistema_Analisado!$B$3:$B$89,FALSE),MATCH($B$4,Sistema_Analisado!$A$3:$F$3,FALSE))","v":{"$error":"#N/A"}},{"$f":"INDEX(Sistema_Analisado!$A$3:$F$99,MATCH(D61,Sistema_Analisado!$B$3:$B$99,FALSE),MATCH(\"Seq. Corredor\",Sistema_Analisado!$A$3:$F$3,0))","v":{"$error":"#N/A"}},null,{"$f":"COUNTIF(QD_data!B:B,D61)","v":0},null,null,{"$f":"SUMIFS(UdS_data!D:D,UdS_data!B:B,D61,UdS_data!F:F,1)","v":0},0,{"$error":"#DIV/0!"},{"$error":"#DIV/0!"},0,5,0,0]
[null,{"$f":"INDEX(Sistema_Analisado!$A$3:$F$99,MATCH($D62,Sistema_Analisado!$B$3:$B$99,FALSE),MATCH($B$4,Sistema_Analisado!$A$3:$F$3,FALSE))","v":{"$error":"#N/A"}},{"$f":"INDEX(Sistema_Analisado!$A$3:$F$99,MATCH(D62,Sistema_Analisado!$B$3:$B$99,FALSE),MATCH(\"Seq. Corredor\",Sistema_Analisado!$A$3:$F$3,0))","v":{"$error":"#N/A"}},null,{"$f":"COUNTIF(QD_data!B:B,D62)","v":0},null,null,{"$f":"SUMIFS(UdS_data!D:D,UdS_data!B:B,D62,UdS_data!F:F,1)","v":0},0,{"$error":"#DIV/0!"},{"$error":"#DIV/0!"},0,5,0,0]
[null,{"$f":"INDEX(Sistema_Analisado!$A$3:$F$89,MATCH($D63,Sistema_Analisado!$B$3:$B$89,FALSE),MATCH($B$4,Sistema_Analisado!$A$3:$F$3,FALSE))","v":{"$error":"#N/A"}},{"$f":"INDEX(Sistema_Analisado!$A$3:$F$99,MATCH(D63,Sistema_Analisado!$B$3:$B$99,FALSE),MATCH(\"Seq. Corredor\",Sistema_Analisado!$A$3:$F$3,0))","v":{"$error":"#N/A"}},null,{"$f":"COUNTIF(QD_data!B:B,D63)","v":0},null,null,{"$f":"SUMIFS(UdS_data!D:D,UdS_data!B:B,D63,UdS_data!F:F,1)","v":0},0,{"$error":"#DIV/0!"},{"$error":"#DIV/0!"},0,5,0,0]
[null,{"$f":"INDEX(Sistema_Analisado!$A$3:$F$89,MATCH($D64,Sistema_Analisado!$B$3:$B$89,FALSE),MATCH($B$4,Sistema_Analisado!$A$3:$F$3,FALSE))","v":{"$error":"#N/A"}},{"$f":"INDEX(Sistema_Analisado!$A$3:$F$99,MATCH(D64,Sistema_Analisado!$B$3:$B$99,FALSE),MATCH(\"Seq. Corredor\",Sistema_Analisado!$A$3:$F$3,0))","v":{"$error":"#N/A"}},null,{"$f":"COUNTIF(QD_data!B:B,D64)","v":0},null,null,{"$f":"SUMIFS(UdS_data!D:D,UdS_data!B:B,D64,UdS_data!F:F,1)","v":0},0,{"$error":"#DIV/0!"},{"$error":"#DIV/0!"},0,5,0,0]
[null,{"$f":"INDEX(Sistema_Analisado!$A$3:$F$99,MATCH($D65,Sistema_Analisado!$B$3:$B$99,FALSE),MATCH($B$4,Sistema_Analisado!$A$3:$F$3,FALSE))","v":{"$error":"#N/A"}},{"$f":"INDEX(Sistema_Analisado!$A$3:$F$99,MATCH(D65,Sistema_Analisado!$B$3:$B$99,FALSE),MATCH(\"Seq. Corredor\",Sistema_Analisado!$A$3:$F$3,0))","v":{"$error":"#N/A"}},null,{"$f":"COUNTIF(QD_data!B:B,D65)","v":0},null,null,{"$f":"SUMIFS(UdS_data!D:D,UdS_data!B:B,D65,UdS_data!F:F,1)","v":0},0,{"$error":"#DIV/0!"},{"$error":"#DIV/0!"},0,5,0,0]
[null,{"$f":"INDEX(Sistema_Analisado!$A$3:$F$89,MATCH($D66,Sistema_Analisado!$B$3:$B$89,FALSE),MATCH($B$4,Sistema_Analisado!$A$3:$F$3,FALSE))","v":{"$error":"#N/A"}},{"$f":"INDEX(Sistema_Analisado!$A$3:$F$99,MATCH(D66,Sistema_Analisado!$B$3:$B$99,FALSE),MATCH(\"Seq. Corredor\",Sistema_Analisado!$A$3:$F$3,0))","v":{"$error":"#N/A"}},null,{"$f":"COUNTIF(QD_data!B:B,D66)","v":0},null,null,{"$f":"SUMIFS(UdS_data!D:D,UdS_data!B:B,D66,UdS_data!F:F,1)","v":0},0,{"$error":"#DIV/0!"},{"$error":"#DIV/0!"},0,5,0,0]
[null,{"$f":"INDEX(Sistema_Analisado!$A$3:$F$89,MATCH($D67,Sistema_Analisado!$B$3:$B$89,FALSE),MATCH($B$4,Sistema_Analisado!$A$3:$F$3,FALSE))","v":{"$error":"#N/A"}},{"$f":"INDEX(Sistema_Analisado!$A$3:$F$99,MATCH(D67,Sistema_Analisado!$B$3:$B$99,FALSE),MATCH(\"Seq. Corredor\",Sistema_Analisado!$A$3:$F$3,0))","v":{"$error":"#N/A"}},null,{"$f":"COUNTIF(QD_data!B:B,D67)","v":0},null,null,{"$f":"SUMIFS(UdS_data!D:D,UdS_data!B:B,D67,UdS_data!F:F,1)","v":0},0,{"$error":"#DIV/0!"},{"$error":"#DIV/0!"},0,5,0,0]
[null,{"$f":"INDEX(Sistema_Analisado!$A$3:$F$99,MATCH($D68,Sistema_Analisado!$B$3:$B$99,FALSE),MATCH($B$4,Sistema_Analisado!$A$3:$F$3,FALSE))","v":{"$error":"#N/A"}},{"$f":"INDEX(Sistema_Analisado!$A$3:$F$99,MATCH(D68,Sistema_Analisado!$B$3:$B$99,FALSE),MATCH(\"Seq. Corredor\",Sistema_Analisado!$A$3:$F$3,0))","v":{"$error":"#N/A"}},null,{"$f":"COUNTIF(QD_data!B:B,D68)","v":0},null,null,{"$f":"SUMIFS(UdS_data!D:D,UdS_data!B:B,D68,UdS_data!F:F,1)","v":0},0,{"$error":"#DIV/0!"},{"$error":"#DIV/0!"},0,5,0,0]
[null,{"$f":"INDEX(Sistema_Analisado!$A$3:$F$89,MATCH($D69,Sistema_Analisado!$B$3:$B$89,FALSE),MATCH($B$4,Sistema_Analisado!$A$3:$F$3,FALSE))","v":{"$error":"#N/A"}},{"$f":"INDEX(Sistema_Analisado!$A$3:$F$99,MATCH(D69,Sistema_Analisado!$B$3:$B$99,FALSE),MATCH(\"Seq. Corredor\",Sistema_Analisado!$A$3:$F$3,0))","v":{"$error":"#N/A"}},null,{"$f":"COUNTIF(QD_data!B:B,D69)","v":0},null,null,{"$f":"SUMIFS(UdS_data!D:D,UdS_data!B:B,D69,UdS_data!F:F,1)","v":0},0,{"$f":"(I69*10^6)/H69","v":{"$error":"#DIV/0!"}},{"$f":"IF(J69>=55,5,IF(J69>=42,4,IF(J69>=32,3,IF(J69>=27,2,IF(J69>=23,1,0)))))","v":{"$error":"#DIV/0!"}},0,5,0,0]
[null,{"$f":"INDEX(Sistema_Analisado!$A$3:$F$89,MATCH($D70,Sistema_Analisado!$B$3:$B$89,FALSE),MATCH($B$4,Sistema_Analisado!$A$3:$F$3,FALSE))","v":{"$error":"#N/A"}},{"$f":"INDEX(Sistema_Analisado!$A$3:$F$99,MATCH(D70,Sistema_Analisado!$B$3:$B$99,FALSE),MATCH(\"Seq. Corredor\",Sistema_Analisado!$A$3:$F$3,0))","v":{"$error":"#N/A"}},null,{"$f":"COUNTIF(QD_data!B:B,D70)","v":0},null,null,{"$f":"SUMIFS(UdS_data!D:D,UdS_data!B:B,D70,UdS_data!F:F,1)","v":0},{"$f":"E70","v":0},{"$error":"#DIV/0!"},{"$error":"#DIV/0!"},{"$f":"F70","v":0},{"$f":"IF($L70<=0,5,IF($L70=1,3,IF($L70=2,1,0)))","v":5},0,{"$f":"IF(N70>=2,5,IF(N70=1,3,0))","v":0}]
[null,{"$f":"INDEX(Sistema_Analisado!$A$3:$F$99,MATCH($D71,Sistema_Analisado!$B$3:$B$99,FALSE),MATCH($B$4,Sistema_Analisado!$A$3:$F$3,FALSE))","v":{"$error":"#N/A"}},{"$f":"INDEX(Sistema_Analisado!$A$3:$F$99,MATCH(D71,Sistema_Analisado!$B$3:$B$99,FALSE),MATCH(\"Seq. Corredor\",Sistema_Analisado!$A$3:$F$3,0))","v":{"$error":"#N/A"}},null,{"$f":"COUNTIF(QD_data!B:B,D71)","v":0},null,null,{"$f":"SUMIFS(UdS_data!D:D,UdS_data!B:B,D71,UdS_data!F:F,1)","v":0},0,{"$error":"#DIV/0!"},{"$error":"#DIV/0!"},0,5,0,0]
[null,{"$f":"INDEX(Sistema_Analisado!$A$3:$F$89,MATCH($D72,Sistema_Analisado!$B$3:$B$89,FALSE),MATCH($B$4,Sistema_Analisado!$A$3:$F$3,FALSE))","v":{"$error":"#N/A"}},{"$f":"INDEX(Sistema_Analisado!$A$3:$F$99,MATCH(D72,Sistema_Analisado!$B$3:$B$99,FALSE),MATCH(\"Seq. Corredor\",Sistema_Analisado!$A$3:$F$3,0))","v":{"$error":"#N/A"}},null,{"$f":"COUNTIF(QD_data!B:B,D72)","v":0},null,null,{"$f":"SUMIFS(UdS_data!D:D,UdS_data!B:B,D72,UdS_data!F:F,1)","v":0},0,{"$error":"#DIV/0!"},{"$error":"#DIV/0!"},0,5,0,0]
[null,{"$f":"INDEX(Sistema_Analisado!$A$3:$F$89,MATCH($D73,Sistema_Analisado!$B$3:$B$89,FALSE),MATCH($B$4,Sistema_Analisado!$A$3:$F$3,FALSE))","v":{"$error":"#N/A"}},{"$f":"INDEX(Sistema_Analisado!$A$3:$F$99,MATCH(D73,Sistema_Analisado!$B$3:$B$99,FALSE),MATCH(\"Seq. Corredor\",Sistema_Analisado!$A$3:$F$3,0))","v":{"$error":"#N/A"}},null,{"$f":"COUNTIF(QD_data!B:B,D73)","v":0},null,null,{"$f":"SUMIFS(UdS_data!D:D,UdS_data!B:B,D73,UdS_data!F:F,1)","v":0},0,{"$error":"#DIV/0!"},{"$error":"#DIV/0!"},0,5,0,0]
[null,{"$f":"INDEX(Sistema_Analisado!$A$3:$F$99,MATCH($D74,Sistema_Analisado!$B$3:$B$99,FALSE),MATCH($B$4,Sistema_Analisado!$A$3:$F$3,FALSE))","v":{"$error":"#N/A"}},{"$f":"INDEX(Sistema_Analisado!$A$3:$F$99,MATCH(D74,Sistema_Analisado!$B$3:$B$99,FALSE),MATCH(\"Seq. Corredor\",Sistema_Analisado!$A$3:$F$3,0))","v":{"$error":"#N/A"}},null,{"$f":"COUNTIF(QD_data!B:B,D74)","v":0},null,null,{"$f":"SUMIFS(UdS_data!D:D,UdS_data!B:B,D74,UdS_data!F:F,1)","v":0},0,{"$error":"#DIV/0!"},{"$error":"#DIV/0!"},0,5,0,0]
[null,{"$f":"INDEX(Sistema_Analisado!$A$3:$F$89,MATCH($D75,Sistema_Analisado!$B$3:$B$89,FALSE),MATCH($B$4,Sistema_Analisado!$A$3:$F$3,FALSE))","v":{"$error":"#N/A"}},{"$f":"INDEX(Sistema_Analisado!$A$3:$F$99,MATCH(D75,Sistema_Analisado!$B$3:$B$99,FALSE),MATCH(\"Seq. Corredor\",Sistema_Analisado!$A$3:$F$3,0))","v":{"$error":"#N/A"}},null,{"$f":"COUNTIF(QD_data!B:B,D75)","v":0},null,null,{"$f":"SUMIFS(UdS_data!D:D,UdS_data!B:B,D75,UdS_data!F:F,1)","v":0},0,{"$error":"#DIV/0!"},{"$error":"#DIV/0!"},0,5,0,0]
[null,{"$f":"INDEX(Sistema_Analisado!$A$3:$F$89,MATCH($D76,Sistema_Analisado!$B$3:$B$89,FALSE),MATCH($B$4,Sistema_Analisado!$A$3:$F$3,FALSE))","v":{"$error":"#N/A"}},{"$f":"INDEX(Sistema_Analisado!$A$3:$F$99,MATCH(D76,Sistema_Analisado!$B$3:$B$99,FALSE),MATCH(\"Seq. Corredor\",Sistema_Analisado!$A$3:$F$3,0))","v":{"$error":"#N/A"}},null,{"$f":"COUNTIF(QD_data!B:B,D76)","v":0},null,null,{"$f":"SUMIFS(UdS_data!D:D,UdS_data!B:B,D76,UdS_data!F:F,1)","v":0},0,{"$error":"#DIV/0!"},{"$error":"#DIV/0!"},0,5,{"$f":"G76","v":0},0]
[null,{"$f":"INDEX(Sistema_Analisado!$A$3:$F$99,MATCH($D77,Sistema_Analisado!$B$3:$B$99,FALSE),MATCH($B$4,Sistema_Analisado!$A$3:$F$3,FALSE))","v":{"$error":"#N/A"}},{"$f":"INDEX(Sistema_Analisado!$A$3:$F$99,MATCH(D77,Sistema_Analisado!$B$3:$B$99,FALSE),MATCH(\"Seq. Corredor\",Sistema_Analisado!$A$3:$F$3,0))","v":{"$error":"#N/A"}},null,{"$f":"COUNTIF(QD_data!B:B,D77)","v":0},null,null,{"$f":"SUMIFS(UdS_data!D:D,UdS_data!B:B,D77,UdS_data!F:F,1)","v":0},0,{"$error":"#DIV/0!"},{"$error":"#DIV/0!"},0,5,0,0]
[null,{"$f":"INDEX(Sistema_Analisado!$A$3:$F$89,MATCH($D78,Sistema_Analisado!$B$3:$B$89,FALSE),MATCH($B$4,Sistema_Analisado!$A$3:$F$3,FALSE))","v":{"$error":"#N/A"}},{"$f":"INDEX(Sistema_Analisado!$A$3:$F$99,MATCH(D78,Sistema_Analisado!$B$3:$B$99,FALSE),MATCH(\"Seq. Corredor\",Sistema_Analisado!$A$3:$F$3,0))","v":{"$error":"#N/A"}},null,{"$f":"COUNTIF(QD_data!B:B,D78)","v":0},null,null,{"$f":"SUMIFS(UdS_data!D:D,UdS_data!B:B,D78,UdS_data!F:F,1)","v":0},0,{"$error":"#DIV/0!"},{"$error":"#DIV/0!"},0,5,0,0]
[null,{"$f":"INDEX(Sistema_Analisado!$A$3:$F$89,MATCH($D79,Sistema_Analisado!$B$3:$B$89,FALSE),MATCH($B$4,Sistema_Analisado!$A$3:$F$3,FALSE))","v":{"$error":"#N/A"}},{"$f":"INDEX(Sistema_Analisado!$A$3:$F$99,MATCH(D79,Sistema_Analisado!$B$3:$B$99,FALSE),MATCH(\"Seq. Corredor\",Sistema_Analisado!$A$3:$F$3,0))","v":{"$error":"#N/A"}},null,{"$f":"COUNTIF(QD_data!B:B,D79)","v":0},null,null,{"$f":"SUMIFS(UdS_data!D:D,UdS_data!B:B,D79,UdS_data!F:F,1)","v":0},0,{"$error":"#DIV/0!"},{"$error":"#DIV/0!"},0,5,0,0]
[null,{"$f":"INDEX(Sistema_Analisado!$A$3:$F$99,MATCH($D80,Sistema_Analisado!$B$3:$B$99,FALSE),MATCH($B$4,Sistema_Analisado!$A$3:$F$3,FALSE))","v":{"$error":"#N/A"}},{"$f":"INDEX(Sistema_Analisado!$A$3:$F$99,MATCH(D80,Sistema_Analisado!$B$3:$B$99,FALSE),MATCH(\"Seq. Corredor\",Sistema_Analisado!$A$3:$F$3,0))","v":{"$error":"#N/A"}},null,{"$f":"COUNTIF(QD_data!B:B,D80)","v":0},null,null,{"$f":"SUMIFS(UdS_data!D:D,UdS_data!B:B,D80,UdS_data!F:F,1)","v":0},0,{"$error":"#DIV/0!"},{"$error":"#DIV/0!"},0,5,0,0]
[null,{"$f":"INDEX(Sistema_Analisado!$A$3:$F$89,MATCH($D81,Sistema_Analisado!$B$3:$B$89,FALSE),MATCH($B$4,Sistema_Analisado!$A$3:$F$3,FALSE))","v":{"$error":"#N/A"}},{"$f":"INDEX(Sistema_Analisado!$A$3:$F$99,MATCH(D81,Sistema_Analisado!$B$3:$B$99,FALSE),MATCH(\"Seq. Corredor\",Sistema_Analisado!$A$3:$F$3,0))","v":{"$error":"#N/A"}},null,{"$f":"COUNTIF(QD_data!B:B,D81)","v":0},null,null,{"$f":"SUMIFS(UdS_data!D:D,UdS_data!B:B,D81,UdS_data!F:F,1)","v":0},0,{"$error":"#DIV/0!"},{"$error":"#DIV/0!"},0,5,0,0]
[null,{"$f":"INDEX(Sistema_Analisado!$A$3:$F$89,MATCH($D82,Sistema_Analisado!$B$3:$B$89,FALSE),MATCH($B$4,Sistema_Analisado!$A$3:$F$3,FALSE))","v":{"$error":"#N/A"}},{"$f":"INDEX(Sistema_Analisado!$A$3:$F$99,MATCH(D82,Sistema_Analisado!$B$3:$B$99,FALSE),MATCH(\"Seq. Corredor\",Sistema_Analisado!$A$3:$F$3,0))","v":{"$error":"#N/A"}},null,{"$f":"COUNTIF(QD_data!B:B,D82)","v":0},null,null,{"$f":"SUMIFS(UdS_data!D:D,UdS_data!B:B,D82,UdS_data!F:F,1)","v":0},0,{"$error":"#DIV/0!"},{"$error":"#DIV/0!"},0,5,0,0]
[null,{"$f":"INDEX(Sistema_Analisado!$A$3:$F$99,MATCH($D83,Sistema_Analisado!$B$3:$B$99,FALSE),MATCH($B$4,Sistema_Analisado!$A$3:$F$3,FALSE))","v":{"$error":"#N/A"}},{"$f":"INDEX(Sistema_Analisado!$A$3:$F$99,MATCH(D83,Sistema_Analisado!$B$3:$B$99,FALSE),MATCH(\"Seq. Corredor\",Sistema_Analisado!$A$3:$F$3,0))","v":{"$error":"#N/A"}},null,{"$f":"COUNTIF(QD_data!B:B,D83)","v":0},null,null,{"$f":"SUMIFS(UdS_data!D:D,UdS_data!B:B,D83,UdS_data!F:F,1)","v":0},0,{"$error":"#DIV/0!"},{"$error":"#DIV/0!"},0,5,0,0]
[null,{"$f":"INDEX(Sistema_Analisado!$A$3:$F$89,MATCH($D84,Sistema_Analisado!$B$3:$B$89,FALSE),MATCH($B$4,Sistema_Analisado!$A$3:$F$3,FALSE))","v":{"$error":"#N/A"}},{"$f":"INDEX(Sistema_Analisado!$A$3:$F$99,MATCH(D84,Sistema_Analisado!$B$3:$B$99,FALSE),MATCH(\"Seq. Corredor\",Sistema_Analisado!$A$3:$F$3,0))","v":{"$error":"#N/A"}},null,{"$f":"COUNTIF(QD_data!B:B,D84)","v":0},null,null,{"$f":"SUMIFS(UdS_data!D:D,UdS_data!B:B,D84,UdS_data!F:F,1)","v":0},0,{"$error":"#DIV/0!"},{"$error":"#DIV/0!"},0,5,0,0]
[null,{"$f":"INDEX(Sistema_Analisado!$A$3:$F$89,MATCH($D85,Sistema_Analisado!$B$3:$B$89,FALSE),MATCH($B$4,Sistema_Analisado!$A$3:$F$3,FALSE))","v":{"$error":"#N/A"}},{"$f":"INDEX(Sistema_Analisado!$A$3:$F$99,MATCH(D85,Sistema_Analisado!$B$3:$B$99,FALSE),MATCH(\"Seq. Corredor\",Sistema_Analisado!$A$3:$F$3,0))","v":{"$error":"#N/A"}},null,{"$f":"COUNTIF(QD_data!B:B,D85)","v":0},null,null,{"$f":"SUMIFS(UdS_data!D:D,UdS_data!B:B,D85,UdS_data!F:F,1)","v":0},0,{"$error":"#DIV/0!"},{"$error":"#DIV/0!"},0,5,0,0]
[null,{"$f":"INDEX(Sistema_Analisado!$A$3:$F$99,MATCH($D86,Sistema_Analisado!$B$3:$B$99,FALSE),MATCH($B$4,Sistema_Analisado!$A$3:$F$3,FALSE))","v":{"$error":"#N/A"}},{"$f":"INDEX(Sistema_Analisado!$A$3:$F$99,MATCH(D86,Sistema_Analisado!$B$3:$B$99,FALSE),MATCH(\"Seq. Corredor\",Sistema_Analisado!$A$3:$F$3,0))","v":{"$error":"#N/A"}},null,{"$f":"COUNTIF(QD_data!B:B,D86)","v":0},null,null,{"$f":"SUMIFS(UdS_data!D:D,UdS_data!B:B,D86,UdS_data!F:F,1)","v":0},0,{"$error":"#DIV/0!"},{"$error":"#DIV/0!"},0,5,0,0]
[null,{"$f":"INDEX(Sistema_Analisado!$A$3:$F$89,MATCH($D87,Sistema_Analisado!$B$3:$B$89,FALSE),MATCH($B$4,Sistema_Analisado!$A$3:$F$3,FALSE))","v":{"$error":"#N/A"}},{"$f":"INDEX(Sistema_Analisado!$A$3:$F$99,MATCH(D87,Sistema_Analisado!$B$3:$B$99,FALSE),MATCH(\"Seq. Corredor\",Sistema_Analisado!$A$3:$F$3,0))","v":{"$error":"#N/A"}},null,{"$f":"COUNTIF(QD_data!B:B,D87)","v":0},null,null,{"$f":"SUMIFS(UdS_data!D:D,UdS_data!B:B,D87,UdS_data!F:F,1)","v":0},0,{"$error":"#DIV/0!"},{"$error":"#DIV/0!"},0,5,0,0]
[null,{"$f":"INDEX(Sistema_Analisado!$A$3:$F$89,MATCH($D88,Sistema_Analisado!$B$3:$B$89,FALSE),MATCH($B$4,Sistema_Analisado!$A$3:$F$3,FALSE))","v":{"$error":"#N/A"}},{"$f":"INDEX(Sistema_Analisado!$A$3:$F$99,MATCH(D88,Sistema_Analisado!$B$3:$B$99,FALSE),MATCH(\"Seq. Corredor\",Sistema_Analisado!$A$3:$F$3,0))","v":{"$error":"#N/A"}},null,{"$f":"COUNTIF(QD_data!B:B,D88)","v":0},null,null,{"$f":"SUMIFS(UdS_data!D:D,UdS_data!B:B,D88,UdS_data!F:F,1)","v":0},0,{"$error":"#DIV/0!"},{"$error":"#DIV/0!"},0,5,0,0]
[null,{"$f":"INDEX(Sistema_Analisado!$A$3:$F$99,MATCH($D89,Sistema_Analisado!$B$3:$B$99,FALSE),MATCH($B$4,Sistema_Analisado!$A$3:$F$3,FALSE))","v":{"$error":"#N/A"}},{"$f":"INDEX(Sistema_Analisado!$A$3:$F$99,MATCH(D89,Sistema_Analisado!$B$3:$B$99,FALSE),MATCH(\"Seq. Corredor\",Sistema_Analisado!$A$3:$F$3,0))","v":{"$error":"#N/A"}},null,{"$f":"COUNTIF(QD_data!B:B,D89)","v":0},null,null,{"$f":"SUMIFS(UdS_data!D:D,UdS_data!B:B,D89,UdS_data!F:F,1)","v":0},0,{"$error":"#DIV/0!"},{"$error":"#DIV/0!"},0,5,0,0]
[null,{"$f":"INDEX(Sistema_Analisado!$A$3:$F$89,MATCH($D90,Sistema_Analisado!$B$3:$B$89,FALSE),MATCH($B$4,Sistema_Analisado!$A$3:$F$3,FALSE))","v":{"$error":"#N/A"}},{"$f":"INDEX(Sistema_Analisado!$A$3:$F$99,MATCH(D90,Sistema_Analisado!$B$3:$B$99,FALSE),MATCH(\"Seq. Corredor\",Sistema_Analisado!$A$3:$F$3,0))","v":{"$error":"#N/A"}},null,{"$f":"COUNTIF(QD_data!B:B,D90)","v":0},null,null,{"$f":"SUMIFS(UdS_data!D:D,UdS_data!B:B,D90,UdS_data!F:F,1)","v":0},0,{"$error":"#DIV/0!"},{"$error":"#DIV/0!"},0,5,0,0]
[null,{"$f":"INDEX(Sistema_Analisado!$A$3:$F$89,MATCH($D91,Sistema_Analisado!$B$3:$B$89,FALSE),MATCH($B$4,Sistema_Analisado!$A$3:$F$3,FALSE))","v":{"$error":"#N/A"}},{"$f":"INDEX(Sistema_Analisado!$A$3:$F$99,MATCH(D91,Sistema_Analisado!$B$3:$B$99,FALSE),MATCH(\"Seq. Corredor\",Sistema_Analisado!$A$3:$F$3,0))","v":{"$error":"#N/A"}},null,{"$f":"COUNTIF(QD_data!B:B,D91)","v":0},null,null,{"$f":"SUMIFS(UdS_data!D:D,UdS_data!B:B,D91,UdS_data!F:F,1)","v":0},0,{"$error":"#DIV/0!"},{"$error":"#DIV/0!"},0,5,0,0]
[null,{"$f":"INDEX(Sistema_Analisado!$A$3:$F$99,MATCH($D92,Sistema_Analisado!$B$3:$B$99,FALSE),MATCH($B$4,Sistema_Analisado!$A$3:$F$3,FALSE))","v":{"$error":"#N/A"}},{"$f":"INDEX(Sistema_Analisado!$A$3:$F$99,MATCH(D92,Sistema_Analisado!$B$3:$B$99,FALSE),MATCH(\"Seq. Corredor\",Sistema_Analisado!$A$3:$F$3,0))","v":{"$error":"#N/A"}},null,{"$f":"COUNTIF(QD_data!B:B,D92)","v":0},null,null,{"$f":"SUMIFS(UdS_data!D:D,UdS_data!B:B,D92,UdS_data!F:F,1)","v":0},0,{"$error":"#DIV/0!"},{"$error":"#DIV/0!"},0,5,0,0]
[null,{"$f":"INDEX(Sistema_Analisado!$A$3:$F$89,MATCH($D93,Sistema_Analisado!$B$3:$B$89,FALSE),MATCH($B$4,Sistema_Analisado!$A$3:$F$3,FALSE))","v":{"$error":"#N/A"}},{"$f":"INDEX(Sistema_Analisado!$A$3:$F$99,MATCH(D93,Sistema_Analisado!$B$3:$B$99,FALSE),MATCH(\"Seq. Corredor\",Sistema_Analisado!$A$3:$F$3,0))","v":{"$error":"#N/A"}},null,{"$f":"COUNTIF(QD_data!B:B,D93)","v":0},null,null,{"$f":"SUMIFS(UdS_data!D:D,UdS_data!B:B,D93,UdS_data!F:F,1)","v":0},0,{"$error":"#DIV/0!"},{"$error":"#DIV/0!"},0,5,0,0]
[null,{"$f":"INDEX(Sistema_Analisado!$A$3:$F$89,MATCH($D94,Sistema_Analisado!$B$3:$B$89,FALSE),MATCH($B$4,Sistema_Analisado!$A$3:$F$3,FALSE))","v":{"$error":"#N/A"}},{"$f":"INDEX(Sistema_Analisado!$A$3:$F$99,MATCH(D94,Sistema_Analisado!$B$3:$B$99,FALSE),MATCH(\"Seq. Corredor\",Sistema_Analisado!$A$3:$F$3,0))","v":{"$error":"#N/A"}},null,{"$f":"COUNTIF(QD_data!B:B,D94)","v":0},null,null,{"$f":"SUMIFS(UdS_data!D:D,UdS_data!B:B,D94,UdS_data!F:F,1)","v":0},0,{"$error":"#DIV/0!"},{"$error":"#DIV/0!"},0,5,0,0]
[null,{"$f":"INDEX(Sistema_Analisado!$A$3:$F$99,MATCH($D95,Sistema_Analisado!$B$3:$B$99,FALSE),MATCH($B$4,Sistema_Analisado!$A$3:$F$3,FALSE))","v":{"$error":"#N/A"}},{"$f":"INDEX(Sistema_Analisado!$A$3:$F$99,MATCH(D95,Sistema_Analisado!$B$3:$B$99,FALSE),MATCH(\"Seq. Corredor\",Sistema_Analisado!$A$3:$F$3,0))","v":{"$error":"#N/A"}},null,{"$f":"COUNTIF(QD_data!B:B,D95)","v":0},null,null,{"$f":"SUMIFS(UdS_data!D:D,UdS_data!B:B,D95,UdS_data!F:F,1)","v":0},0,{"$error":"#DIV/0!"},{"$error":"#DIV/0!"},0,5,0,0]
[null,{"$f":"INDEX(Sistema_Analisado!$A$3:$F$89,MATCH($D96,Sistema_Analisado!$B$3:$B$89,FALSE),MATCH($B$4,Sistema_Analisado!$A$3:$F$3,FALSE))","v":{"$error":"#N/A"}},{"$f":"INDEX(Sistema_Analisado!$A$3:$F$99,MATCH(D96,Sistema_Analisado!$B$3:$B$99,FALSE),MATCH(\"Seq. Corredor\",Sistema_Analisado!$A$3:$F$3,0))","v":{"$error":"#N/A"}},null,{"$f":"COUNTIF(QD_data!B:B,D96)","v":0},null,null,{"$f":"SUMIFS(UdS_data!D:D,UdS_data!B:B,D96,UdS_data!F:F,1)","v":0},0,{"$error":"#DIV/0!"},{"$error":"#DIV/0!"},0,5,0,0]
[null,{"$f":"INDEX(Sistema_Analisado!$A$3:$F$89,MATCH($D97,Sistema_Analisado!$B$3:$B$89,FALSE),MATCH($B$4,Sistema_Analisado!$A$3:$F$3,FALSE))","v":{"$error":"#N/A"}},{"$f":"INDEX(Sistema_Analisado!$A$3:$F$99,MATCH(D97,Sistema_Analisado!$B$3:$B$99,FALSE),MATCH(\"Seq. Corredor\",Sistema_Analisado!$A$3:$F$3,0))","v":{"$error":"#N/A"}},null,{"$f":"COUNTIF(QD_data!B:B,D97)","v":0},null,null,{"$f":"SUMIFS(UdS_data!D:D,UdS_data!B:B,D97,UdS_data!F:F,1)","v":0},0,{"$error":"#DIV/0!"},{"$error":"#DIV/0!"},0,5,0,0]
[null,{"$f":"INDEX(Sistema_Analisado!$A$3:$F$99,MATCH($D98,Sistema_Analisado!$B$3:$B$99,FALSE),MATCH($B$4,Sistema_Analisado!$A$3:$F$3,FALSE))","v":{"$error":"#N/A"}},{"$f":"INDEX(Sistema_Analisado!$A$3:$F$99,MATCH(D98,Sistema_Analisado!$B$3:$B$99,FALSE),MATCH(\"Seq. Corredor\",Sistema_Analisado!$A$3:$F$3,0))","v":{"$error":"#N/A"}},null,{"$f":"COUNTIF(QD_data!B:B,D98)","v":0},null,null,{"$f":"SUMIFS(UdS_data!D:D,UdS_data!B:B,D98,UdS_data!F:F,1)","v":0},0,{"$error":"#DIV/0!"},{"$error":"#DIV/0!"},0,5,0,0]
[null,{"$f":"INDEX(Sistema_Analisado!$A$3:$F$89,MATCH($D99,Sistema_Analisado!$B$3:$B$89,FALSE),MATCH($B$4,Sistema_Analisado!$A$3:$F$3,FALSE))","v":{"$error":"#N/A"}},{"$f":"INDEX(Sistema_Analisado!$A$3:$F$99,MATCH(D99,Sistema_Analisado!$B$3:$B$99,FALSE),MATCH(\"Seq. Corredor\",Sistema_Analisado!$A$3:$F$3,0))","v":{"$error":"#N/A"}},null,{"$f":"COUNTIF(QD_data!B:B,D99)","v":0},null,null,{"$f":"SUMIFS(UdS_data!D:D,UdS_data!B:B,D99,UdS_data!F:F,1)","v":0},0,{"$error":"#DIV/0!"},{"$error":"#DIV/0!"},0,5,0,0]
[null,{"$f":"INDEX(Sistema_Analisado!$A$3:$F$89,MATCH($D100,Sistema_Analisado!$B$3:$B$89,FALSE),MATCH($B$4,Sistema_Analisado!$A$3:$F$3,FALSE))","v":{"$error":"#N/A"}},{"$f":"INDEX(Sistema_Analisado!$A$3:$F$99,MATCH(D100,Sistema_Analisado!$B$3:$B$99,FALSE),MATCH(\"Seq. Corredor\",Sistema_Analisado!$A$3:$F$3,0))","v":{"$error":"#N/A"}},null,{"$f":"COUNTIF(QD_data!B:B,D100)","v":0},null,null,{"$f":"SUMIFS(UdS_data!D:D,UdS_data!B:B,D100,UdS_data!F:F,1)","v":0},0,{"$error":"#DIV/0!"},{"$error":"#DIV/0!"},0,5,0,0]
[null,{"$f":"INDEX(Sistema_Analisado!$A$3:$F$99,MATCH($D101,Sistema_Analisado!$B$3:$B$99,FALSE),MATCH($B$4,Sistema_Analisado!$A$3:$F$3,FALSE))","v":{"$error":"#N/A"}},{"$f":"INDEX(Sistema_Analisado!$A$3:$F$99,MATCH(D101,Sistema_Analisado!$B$3:$B$99,FALSE),MATCH(\"Seq. Corredor\",Sistema_Analisado!$A$3:$F$3,0))","v":{"$error":"#N/A"}},null,{"$f":"COUNTIF(QD_data!B:B,D101)","v":0},null,null,{"$f":"SUMIFS(UdS_data!D:D,UdS_data!B:B,D101,UdS_data!F:F,1)","v":0},0,{"$f":"(I101*10^6)/H101","v":{"$error":"#DIV/0!"}},{"$f":"IF(J101>=55,5,IF(J101>=42,4,IF(J101>=32,3,IF(J101>=27,2,IF(J101>=23,1,0)))))","v":{"$error":"#DIV/0!"}},0,5,0,0]
[null,{"$f":"INDEX(Sistema_Analisado!$A$3:$F$89,MATCH($D102,Sistema_Analisado!$B$3:$B$89,FALSE),MATCH($B$4,Sistema_Analisado!$A$3:$F$3,FALSE))","v":{"$error":"#N/A"}},{"$f":"INDEX(Sistema_Analisado!$A$3:$F$99,MATCH(D102,Sistema_Analisado!$B$3:$B$99,FALSE),MATCH(\"Seq. Corredor\",Sistema_Analisado!$A$3:$F$3,0))","v":{"$error":"#N/A"}},null,{"$f":"COUNTIF(QD_data!B:B,D102)","v":0},null,null,{"$f":"SUMIFS(UdS_data!D:D,UdS_data!B:B,D102,UdS_data!F:F,1)","v":0},0,{"$error":"#DIV/0!"},{"$error":"#DIV/0!"},0,5,0,0]
[null,{"$f":"INDEX(Sistema_Analisado!$A$3:$F$89,MATCH($D103,Sistema_Analisado!$B$3:$B$89,FALSE),MATCH($B$4,Sistema_Analisado!$A$3:$F$3,FALSE))","v":{"$error":"#N/A"}},{"$f":"INDEX(Sistema_Analisado!$A$3:$F$99,MATCH(D103,Sistema_Analisado!$B$3:$B$99,FALSE),MATCH(\"Seq. Corredor\",Sistema_Analisado!$A$3:$F$3,0))","v":{"$error":"#N/A"}},null,{"$f":"COUNTIF(QD_data!B:B,D103)","v":0},null,null,{"$f":"SUMIFS(UdS_data!D:D,UdS_data!B:B,D103,UdS_data!F:F,1)","v":0},0,{"$error":"#DIV/0!"},{"$error":"#DIV/0!"},0,5,0,0]
[null,{"$f":"INDEX(Sistema_Analisado!$A$3:$F$99,MATCH($D104,Sistema_Analisado!$B$3:$B$99,FALSE),MATCH($B$4,Sistema_Analisado!$A$3:$F$3,FALSE))","v":{"$error":"#N/A"}},{"$f":"INDEX(Sistema_Analisado!$A$3:$F$99,MATCH(D104,Sistema_Analisado!$B$3:$B$99,FALSE),MATCH(\"Seq. Corredor\",Sistema_Analisado!$A$3:$F$3,0))","v":{"$error":"#N/A"}},null,{"$f":"COUNTIF(QD_data!B:B,D104)","v":0},null,null,{"$f":"SUMIFS(UdS_data!D:D,UdS_data!B:B,D104,UdS_data!F:F,1)","v":0},0,{"$error":"#DIV/0!"},{"$error":"#DIV/0!"},0,5,0,0]
[null,{"$f":"INDEX(Sistema_Analisado!$A$3:$F$89,MATCH($D105,Sistema_Analisado!$B$3:$B$89,FALSE),MATCH($B$4,Sistema_Analisado!$A$3:$F$3,FALSE))","v":{"$error":"#N/A"}},{"$f":"INDEX(Sistema_Analisado!$A$3:$F$99,MATCH(D105,Sistema_Analisado!$B$3:$B$99,FALSE),MATCH(\"Seq. Corredor\",Sistema_Analisado!$A$3:$F$3,0))","v":{"$error":"#N/A"}},null,{"$f":"COUNTIF(QD_data!B:B,D105)","v":0},null,null,{"$f":"SUMIFS(UdS_data!D:D,UdS_data!B:B,D105,UdS_data!F:F,1)","v":0},0,{"$error":"#DIV/0!"},{"$error":"#DIV/0!"},0,5,0,0]
[null,{"$f":"INDEX(Sistema_Analisado!$A$3:$F$89,MATCH($D106,Sistema_Analisado!$B$3:$B$89,FALSE),MATCH($B$4,Sistema_Analisado!$A$3:$F$3,FALSE))","v":{"$error":"#N/A"}},{"$f":"INDEX(Sistema_Analisado!$A$3:$F$99,MATCH(D106,Sistema_Analisado!$B$3:$B$99,FALSE),MATCH(\"Seq. Corredor\",Sistema_Analisado!$A$3:$F$3,0))","v":{"$error":"#N/A"}},null,{"$f":"COUNTIF(QD_data!B:B,D106)","v":0},null,null,{"$f":"SUMIFS(UdS_data!D:D,UdS_data!B:B,D106,UdS_data!F:F,1)","v":0},0,{"$error":"#DIV/0!"},{"$error":"#DIV/0!"},0,5,0,0]
[null,{"$f":"INDEX(Sistema_Analisado!$A$3:$F$99,MATCH($D107,Sistema_Analisado!$B$3:$B$99,FALSE),MATCH($B$4,Sistema_Analisado!$A$3:$F$3,FALSE))","v":{"$error":"#N/A"}},{"$f":"INDEX(Sistema_Analisado!$A$3:$F$99,MATCH(D107,Sistema_Analisado!$B$3:$B$99,FALSE),MATCH(\"Seq. Corredor\",Sistema_Analisado!$A$3:$F$3,0))","v":{"$error":"#N/A"}},null,{"$f":"COUNTIF(QD_data!B:B,D107)","v":0},null,null,{"$f":"SUMIFS(UdS_data!D:D,UdS_data!B:B,D107,UdS_data!F:F,1)","v":0},0,{"$error":"#DIV/0!"},{"$error":"#DIV/0!"},0,5,0,0]
[null,{"$f":"INDEX(Sistema_Analisado!$A$3:$F$89,MATCH($D108,Sistema_Analisado!$B$3:$B$89,FALSE),MATCH($B$4,Sistema_Analisado!$A$3:$F$3,FALSE))","v":{"$error":"#N/A"}},{"$f":"INDEX(Sistema_Analisado!$A$3:$F$99,MATCH(D108,Sistema_Analisado!$B$3:$B$99,FALSE),MATCH(\"Seq. Corredor\",Sistema_Analisado!$A$3:$F$3,0))","v":{"$error":"#N/A"}},null,{"$f":"COUNTIF(QD_data!B:B,D108)","v":0},null,null,{"$f":"SUMIFS(UdS_data!D:D,UdS_data!B:B,D108,UdS_data!F:F,1)","v":0},0,{"$error":"#DIV/0!"},{"$error":"#DIV/0!"},0,5,{"$f":"G108","v":0},0]
[null,{"$f":"INDEX(Sistema_Analisado!$A$3:$F$89,MATCH($D109,Sistema_Analisado!$B$3:$B$89,FALSE),MATCH($B$4,Sistema_Analisado!$A$3:$F$3,FALSE))","v":{"$error":"#N/A"}},{"$f":"INDEX(Sistema_Analisado!$A$3:$F$99,MATCH(D109,Sistema_Analisado!$B$3:$B$99,FALSE),MATCH(\"Seq. Corredor\",Sistema_Analisado!$A$3:$F$3,0))","v":{"$error":"#N/A"}},null,{"$f":"COUNTIF(QD_data!B:B,D109)","v":0},null,null,{"$f":"SUMIFS(UdS_data!D:D,UdS_data!B:B,D109,UdS_data!F:F,1)","v":0},0,{"$error":"#DIV/0!"},{"$error":"#DIV/0!"},0,5,0,0]
[null,{"$f":"INDEX(Sistema_Analisado!$A$3:$F$99,MATCH($D110,Sistema_Analisado!$B$3:$B$99,FALSE),MATCH($B$4,Sistema_Analisado!$A$3:$F$3,FALSE))","v":{"$error":"#N/A"}},{"$f":"INDEX(Sistema_Analisado!$A$3:$F$99,MATCH(D110,Sistema_Analisado!$B$3:$B$99,FALSE),MATCH(\"Seq. Corredor\",Sistema_Analisado!$A$3:$F$3,0))","v":{"$error":"#N/A"}},null,{"$f":"COUNTIF(QD_data!B:B,D110)","v":0},null,null,{"$f":"SUMIFS(UdS_data!D:D,UdS_data!B:B,D110,UdS_data!F:F,1)","v":0},0,{"$error":"#DIV/0!"},{"$error":"#DIV/0!"},0,5,0,0]
[null,{"$f":"INDEX(Sistema_Analisado!$A$3:$F$89,MATCH($D111,Sistema_Analisado!$B$3:$B$89,FALSE),MATCH($B$4,Sistema_Analisado!$A$3:$F$3,FALSE))","v":{"$error":"#N/A"}},{"$f":"INDEX(Sistema_Analisado!$A$3:$F$99,MATCH(D111,Sistema_Analisado!$B$3:$B$99,FALSE),MATCH(\"Seq. Corredor\",Sistema_Analisado!$A$3:$F$3,0))","v":{"$error":"#N/A"}},null,{"$f":"COUNTIF(QD_data!B:B,D111)","v":0},null,null,{"$f":"SUMIFS(UdS_data!D:D,UdS_data!B:B,D111,UdS_data!F:F,1)","v":0},0,{"$error":"#DIV/0!"},{"$error":"#DIV/0!"},0,5,0,0]
[null,{"$f":"INDEX(Sistema_Analisado!$A$3:$F$89,MATCH($D112,Sistema_Analisado!$B$3:$B$89,FALSE),MATCH($B$4,Sistema_Analisado!$A$3:$F$3,FALSE))","v":{"$error":"#N/A"}},{"$f":"INDEX(Sistema_Analisado!$A$3:$F$99,MATCH(D112,Sistema_Analisado!$B$3:$B$99,FALSE),MATCH(\"Seq. Corredor\",Sistema_Analisado!$A$3:$F$3,0))","v":{"$error":"#N/A"}},null,{"$f":"COUNTIF(QD_data!B:B,D112)","v":0},null,null,{"$f":"SUMIFS(UdS_data!D:D,UdS_data!B:B,D112,UdS_data!F:F,1)","v":0},0,{"$error":"#DIV/0!"},{"$error":"#DIV/0!"},0,5,0,0]
[null,{"$f":"INDEX(Sistema_Analisado!$A$3:$F$99,MATCH($D113,Sistema_Analisado!$B$3:$B$99,FALSE),MATCH($B$4,Sistema_Analisado!$A$3:$F$3,FALSE))","v":{"$error":"#N/A"}},{"$f":"INDEX(Sistema_Analisado!$A$3:$F$99,MATCH(D113,Sistema_Analisado!$B$3:$B$99,FALSE),MATCH(\"Seq. Corredor\",Sistema_Analisado!$A$3:$F$3,0))","v":{"$error":"#N/A"}},null,{"$f":"COUNTIF(QD_data!B:B,D113)","v":0},null,null,{"$f":"SUMIFS(UdS_data!D:D,UdS_data!B:B,D113,UdS_data!F:F,1)","v":0},0,{"$error":"#DIV/0!"},{"$error":"#DIV/0!"},0,5,0,0]
[null,{"$f":"INDEX(Sistema_Analisado!$A$3:$F$89,MATCH($D114,Sistema_Analisado!$B$3:$B$89,FALSE),MATCH($B$4,Sistema_Analisado!$A$3:$F$3,FALSE))","v":{"$error":"#N/A"}},{"$f":"INDEX(Sistema_Analisado!$A$3:$F$99,MATCH(D114,Sistema_Analisado!$B$3:$B$99,FALSE),MATCH(\"Seq. Corredor\",Sistema_Analisado!$A$3:$F$3,0))","v":{"$error":"#N/A"}},null,{"$f":"COUNTIF(QD_data!B:B,D114)","v":0},null,null,{"$f":"SUMIFS(UdS_data!D:D,UdS_data!B:B,D114,UdS_data!F:F,1)","v":0},0,{"$error":"#DIV/0!"},{"$error":"#DIV/0!"},0,5,0,0]
[null,{"$f":"INDEX(Sistema_Analisado!$A$3:$F$89,MATCH($D115,Sistema_Analisado!$B$3:$B$89,FALSE),MATCH($B$4,Sistema_Analisado!$A$3:$F$3,FALSE))","v":{"$error":"#N/A"}},{"$f":"INDEX(Sistema_Analisado!$A$3:$F$99,MATCH(D115,Sistema_Analisado!$B$3:$B$99,FALSE),MATCH(\"Seq. Corredor\",Sistema_Analisado!$A$3:$F$3,0))","v":{"$error":"#N/A"}},null,{"$f":"COUNTIF(QD_data!B:B,D115)","v":0},null,null,{"$f":"SUMIFS(UdS_data!D:D,UdS_data!B:B,D115,UdS_data!F:F,1)","v":0},0,{"$error":"#DIV/0!"},{"$error":"#DIV/0!"},0,5,0,0]
[null,{"$f":"INDEX(Sistema_Analisado!$A$3:$F$99,MATCH($D116,Sistema_Analisado!$B$3:$B$99,FALSE),MATCH($B$4,Sistema_Analisado!$A$3:$F$3,FALSE))","v":{"$error":"#N/A"}},{"$f":"INDEX(Sistema_Analisado!$A$3:$F$99,MATCH(D116,Sistema_Analisado!$B$3:$B$99,FALSE),MATCH(\"Seq. Corredor\",Sistema_Analisado!$A$3:$F$3,0))","v":{"$error":"#N/A"}},null,{"$f":"COUNTIF(QD_data!B:B,D116)","v":0},null,null,{"$f":"SUMIFS(UdS_data!D:D,UdS_data!B:B,D116,UdS_data!F:F,1)","v":0},0,{"$error":"#DIV/0!"},{"$error":"#DIV/0!"},0,5,0,0]
[null,{"$f":"INDEX(Sistema_Analisado!$A$3:$F$89,MATCH($D117,Sistema_Analisado!$B$3:$B$89,FALSE),MATCH($B$4,Sistema_Analisado!$A$3:$F$3,FALSE))","v":{"$error":"#N/A"}},{"$f":"INDEX(Sistema_Analisado!$A$3:$F$99,MATCH(D117,Sistema_Analisado!$B$3:$B$99,FALSE),MATCH(\"Seq. Corredor\",Sistema_Analisado!$A$3:$F$3,0))","v":{"$error":"#N/A"}},null,{"$f":"COUNTIF(QD_data!B:B,D117)","v":0},null,null,{"$f":"SUMIFS(UdS_data!D:D,UdS_data!B:B,D117,UdS_data!F:F,1)","v":0},0,{"$error":"#DIV/0!"},{"$error":"#DIV/0!"},0,5,0,0]
[null,{"$f":"INDEX(Sistema_Analisado!$A$3:$F$89,MATCH($D118,Sistema_Analisado!$B$3:$B$89,FALSE),MATCH($B$4,Sistema_Analisado!$A$3:$F$3,FALSE))","v":{"$error":"#N/A"}},{"$f":"INDEX(Sistema_Analisado!$A$3:$F$99,MATCH(D118,Sistema_Analisado!$B$3:$B$99,FALSE),MATCH(\"Seq. Corredor\",Sistema_Analisado!$A$3:$F$3,0))","v":{"$error":"#N/A"}},null,{"$f":"COUNTIF(QD_data!B:B,D118)","v":0},null,null,{"$f":"SUMIFS(UdS_data!D:D,UdS_data!B:B,D118,UdS_data!F:F,1)","v":0},0,{"$error":"#DIV/0!"},{"$error":"#DIV/0!"},0,5,0,0]
[null,{"$f":"INDEX(Sistema_Analisado!$A$3:$F$99,MATCH($D119,Sistema_Analisado!$B$3:$B$99,FALSE),MATCH($B$4,Sistema_Analisado!$A$3:$F$3,FALSE))","v":{"$error":"#N/A"}},{"$f":"INDEX(Sistema_Analisado!$A$3:$F$99,MATCH(D119,Sistema_Analisado!$B$3:$B$99,FALSE),MATCH(\"Seq. Corredor\",Sistema_Analisado!$A$3:$F$3,0))","v":{"$error":"#N/A"}},null,{"$f":"COUNTIF(QD_data!B:B,D119)","v":0},null,null,{"$f":"SUMIFS(UdS_data!D:D,UdS_data!B:B,D119,UdS_data!F:F,1)","v":0},0,{"$error":"#DIV/0!"},{"$error":"#DIV/0!"},0,5,0,0]
[null,{"$f":"INDEX(Sistema_Analisado!$A$3:$F$89,MATCH($D120,Sistema_Analisado!$B$3:$B$89,FALSE),MATCH($B$4,Sistema_Analisado!$A$3:$F$3,FALSE))","v":{"$error":"#N/A"}},{"$f":"INDEX(Sistema_Analisado!$A$3:$F$99,MATCH(D120,Sistema_Analisado!$B$3:$B$99,FALSE),MATCH(\"Seq. Corredor\",Sistema_Analisado!$A$3:$F$3,0))","v":{"$error":"#N/A"}},null,{"$f":"COUNTIF(QD_data!B:B,D120)","v":0},null,null,{"$f":"SUMIFS(UdS_data!D:D,UdS_data!B:B,D120,UdS_data!F:F,1)","v":0},0,{"$error":"#DIV/0!"},{"$error":"#DIV/0!"},0,5,0,0]
[null,{"$f":"INDEX(Sistema_Analisado!$A$3:$F$89,MATCH($D121,Sistema_Analisado!$B$3:$B$89,FALSE),MATCH($B$4,Sistema_Analisado!$A$3:$F$3,FALSE))","v":{"$error":"#N/A"}},{"$f":"INDEX(Sistema_Analisado!$A$3:$F$99,MATCH(D121,Sistema_Analisado!$B$3:$B$99,FALSE),MATCH(\"Seq. Corredor\",Sistema_Analisado!$A$3:$F$3,0))","v":{"$error":"#N/A"}},null,{"$f":"COUNTIF(QD_data!B:B,D121)","v":0},null,null,{"$f":"SUMIFS(UdS_data!D:D,UdS_data!B:B,D121,UdS_data!F:F,1)","v":0},0,{"$error":"#DIV/0!"},{"$error":"#DIV/0!"},0,5,0,0]
[null,{"$f":"INDEX(Sistema_Analisado!$A$3:$F$99,MATCH($D122,Sistema_Analisado!$B$3:$B$99,FALSE),MATCH($B$4,Sistema_Analisado!$A$3:$F$3,FALSE))","v":{"$error":"#N/A"}},{"$f":"INDEX(Sistema_Analisado!$A$3:$F$99,MATCH(D122,Sistema_Analisado!$B$3:$B$99,FALSE),MATCH(\"Seq. Corredor\",Sistema_Analisado!$A$3:$F$3,0))","v":{"$error":"#N/A"}},null,{"$f":"COUNTIF(QD_data!B:B,D122)","v":0},null,null,{"$f":"SUMIFS(UdS_data!D:D,UdS_data!B:B,D122,UdS_data!F:F,1)","v":0},0,{"$error":"#DIV/0!"},{"$error":"#DIV/0!"},0,5,0,0]
[null,{"$f":"INDEX(Sistema_Analisado!$A$3:$F$89,MATCH($D123,Sistema_Analisado!$B$3:$B$89,FALSE),MATCH($B$4,Sistema_Analisado!$A$3:$F$3,FALSE))","v":{"$error":"#N/A"}},{"$f":"INDEX(Sistema_Analisado!$A$3:$F$99,MATCH(D123,Sistema_Analisado!$B$3:$B$99,FALSE),MATCH(\"Seq. Corredor\",Sistema_Analisado!$A$3:$F$3,0))","v":{"$error":"#N/A"}},null,{"$f":"COUNTIF(QD_data!B:B,D123)","v":0},null,null,{"$f":"SUMIFS(UdS_data!D:D,UdS_data!B:B,D123,UdS_data!F:F,1)","v":0},0,{"$error":"#DIV/0!"},{"$error":"#DIV/0!"},0,5,0,0]
[null,{"$f":"INDEX(Sistema_Analisado!$A$3:$F$89,MATCH($D124,Sistema_Analisado!$B$3:$B$89,FALSE),MATCH($B$4,Sistema_Analisado!$A$3:$F$3,FALSE))","v":{"$error":"#N/A"}},{"$f":"INDEX(Sistema_Analisado!$A$3:$F$99,MATCH(D124,Sistema_Analisado!$B$3:$B$99,FALSE),MATCH(\"Seq. Corredor\",Sistema_Analisado!$A$3:$F$3,0))","v":{"$error":"#N/A"}},null,{"$f":"COUNTIF(QD_data!B:B,D124)","v":0},null,null,{"$f":"SUMIFS(UdS_data!D:D,UdS_data!B:B,D124,UdS_data!F:F,1)","v":0},0,{"$error":"#DIV/0!"},{"$error":"#DIV/0!"},0,5,0,0]
[null,{"$f":"INDEX(Sistema_Analisado!$A$3:$F$99,MATCH($D125,Sistema_Analisado!$B$3:$B$99,FALSE),MATCH($B$4,Sistema_Analisado!$A$3:$F$3,FALSE))","v":{"$error":"#N/A"}},{"$f":"INDEX(Sistema_Analisado!$A$3:$F$99,MATCH(D125,Sistema_Analisado!$B$3:$B$99,FALSE),MATCH(\"Seq. Corredor\",Sistema_Analisado!$A$3:$F$3,0))","v":{"$error":"#N/A"}},null,{"$f":"COUNTIF(QD_data!B:B,D125)","v":0},null,null,{"$f":"SUMIFS(UdS_data!D:D,UdS_data!B:B,D125,UdS_data!F:F,1)","v":0},0,{"$error":"#DIV/0!"},{"$error":"#DIV/0!"},0,5,0,0]
[null,{"$f":"INDEX(Sistema_Analisado!$A$3:$F$89,MATCH($D126,Sistema_Analisado!$B$3:$B$89,FALSE),MATCH($B$4,Sistema_Analisado!$A$3:$F$3,FALSE))","v":{"$error":"#N/A"}},{"$f":"INDEX(Sistema_Analisado!$A$3:$F$99,MATCH(D126,Sistema_Analisado!$B$3:$B$99,FALSE),MATCH(\"Seq. Corredor\",Sistema_Analisado!$A$3:$F$3,0))","v":{"$error":"#N/A"}},null,{"$f":"COUNTIF(QD_data!B:B,D126)","v":0},null,null,{"$f":"SUMIFS(UdS_data!D:D,UdS_data!B:B,D126,UdS_data!F:F,1)","v":0},0,{"$error":"#DIV/0!"},{"$error":"#DIV/0!"},0,5,0,0]
[null,{"$f":"INDEX(Sistema_Analisado!$A$3:$F$89,MATCH($D127,Sistema_Analisado!$B$3:$B$89,FALSE),MATCH($B$4,Sistema_Analisado!$A$3:$F$3,FALSE))","v":{"$error":"#N/A"}},{"$f":"INDEX(Sistema_Analisado!$A$3:$F$99,MATCH(D127,Sistema_Analisado!$B$3:$B$99,FALSE),MATCH(\"Seq. Corredor\",Sistema_Analisado!$A$3:$F$3,0))","v":{"$error":"#N/A"}},null,{"$f":"COUNTIF(QD_data!B:B,D127)","v":0},null,null,{"$f":"SUMIFS(UdS_data!D:D,UdS_data!B:B,D127,UdS_data!F:F,1)","v":0},0,{"$error":"#DIV/0!"},{"$error":"#DIV/0!"},0,5,0,0]
[null,{"$f":"INDEX(Sistema_Analisado!$A$3:$F$99,MATCH($D128,Sistema_Analisado!$B$3:$B$99,FALSE),MATCH($B$4,Sistema_Analisado!$A$3:$F$3,FALSE))","v":{"$error":"#N/A"}},{"$f":"INDEX(Sistema_Analisado!$A$3:$F$99,MATCH(D128,Sistema_Analisado!$B$3:$B$99,FALSE),MATCH(\"Seq. Corredor\",Sistema_Analisado!$A$3:$F$3,0))","v":{"$error":"#N/A"}},null,{"$f":"COUNTIF(QD_data!B:B,D128)","v":0},null,null,{"$f":"SUMIFS(UdS_data!D:D,UdS_data!B:B,D128,UdS_data!F:F,1)","v":0},0,{"$error":"#DIV/0!"},{"$error":"#DIV/0!"},0,5,0,0]
[null,{"$f":"INDEX(Sistema_Analisado!$A$3:$F$89,MATCH($D129,Sistema_Analisado!$B$3:$B$89,FALSE),MATCH($B$4,Sistema_Analisado!$A$3:$F$3,FALSE))","v":{"$error":"#N/A"}},{"$f":"INDEX(Sistema_Analisado!$A$3:$F$99,MATCH(D129,Sistema_Analisado!$B$3:$B$99,FALSE),MATCH(\"Seq. Corredor\",Sistema_Analisado!$A$3:$F$3,0))","v":{"$error":"#N/A"}},null,{"$f":"COUNTIF(QD_data!B:B,D129)","v":0},null,null,{"$f":"SUMIFS(UdS_data!D:D,UdS_data!B:B,D129,UdS_data!F:F,1)","v":0},0,{"$error":"#DIV/0!"},{"$error":"#DIV/0!"},0,5,0,0]
[null,{"$f":"INDEX(Sistema_Analisado!$A$3:$F$89,MATCH($D130,Sistema_Analisado!$B$3:$B$89,FALSE),MATCH($B$4,Sistema_Analisado!$A$3:$F$3,FALSE))","v":{"$error":"#N/A"}},{"$f":"INDEX(Sistema_Analisado!$A$3:$F$99,MATCH(D130,Sistema_Analisado!$B$3:$B$99,FALSE),MATCH(\"Seq. Corredor\",Sistema_Analisado!$A$3:$F$3,0))","v":{"$error":"#N/A"}},null,{"$f":"COUNTIF(QD_data!B:B,D130)","v":0},null,null,{"$f":"SUMIFS(UdS_data!D:D,UdS_data!B:B,D130,UdS_data!F:F,1)","v":0},0,{"$error":"#DIV/0!"},{"$error":"#DIV/0!"},0,5,0,0]
[null,{"$f":"INDEX(Sistema_Analisado!$A$3:$F$99,MATCH($D131,Sistema_Analisado!$B$3:$B$99,FALSE),MATCH($B$4,Sistema_Analisado!$A$3:$F$3,FALSE))","v":{"$error":"#N/A"}},{"$f":"INDEX(Sistema_Analisado!$A$3:$F$99,MATCH(D131,Sistema_Analisado!$B$3:$B$99,FALSE),MATCH(\"Seq. Corredor\",Sistema_Analisado!$A$3:$F$3,0))","v":{"$error":"#N/A"}},null,{"$f":"COUNTIF(QD_data!B:B,D131)","v":0},null,null,{"$f":"SUMIFS(UdS_data!D:D,UdS_data!B:B,D131,UdS_data!F:F,1)","v":0},0,{"$error":"#DIV/0!"},{"$error":"#DIV/0!"},0,5,0,0]
[null,{"$f":"INDEX(Sistema_Analisado!$A$3:$F$89,MATCH($D132,Sistema_Analisado!$B$3:$B$89,FALSE),MATCH($B$4,Sistema_Analisado!$A$3:$F$3,FALSE))","v":{"$error":"#N/A"}},{"$f":"INDEX(Sistema_Analisado!$A$3:$F$99,MATCH(D132,Sistema_Analisado!$B$3:$B$99,FALSE),MATCH(\"Seq. Corredor\",Sistema_Analisado!$A$3:$F$3,0))","v":{"$error":"#N/A"}},null,{"$f":"COUNTIF(QD_data!B:B,D132)","v":0},null,null,{"$f":"SUMIFS(UdS_data!D:D,UdS_data!B:B,D132,UdS_data!F:F,1)","v":0},0,{"$error":"#DIV/0!"},{"$error":"#DIV/0!"},0,5,0,0]
[null,{"$f":"INDEX(Sistema_Analisado!$A$3:$F$89,MATCH($D133,Sistema_Analisado!$B$3:$B$89,FALSE),MATCH($B$4,Sistema_Analisado!$A$3:$F$3,FALSE))","v":{"$error":"#N/A"}},{"$f":"INDEX(Sistema_Analisado!$A$3:$F$99,MATCH(D133,Sistema_Analisado!$B$3:$B$99,FALSE),MATCH(\"Seq. Corredor\",Sistema_Analisado!$A$3:$F$3,0))","v":{"$error":"#N/A"}},null,{"$f":"COUNTIF(QD_data!B:B,D133)","v":0},null,null,{"$f":"SUMIFS(UdS_data!D:D,UdS_data!B:B,D133,UdS_data!F:F,1)","v":0},0,{"$f":"(I133*10^6)/H133","v":{"$error":"#DIV/0!"}},{"$f":"IF(J133>=55,5,IF(J133>=42,4,IF(J133>=32,3,IF(J133>=27,2,IF(J133>=23,1,0)))))","v":{"$error":"#DIV/0!"}},0,5,0,0]
[null,{"$f":"INDEX(Sistema_Analisado!$A$3:$F$99,MATCH($D134,Sistema_Analisado!$B$3:$B$99,FALSE),MATCH($B$4,Sistema_Analisado!$A$3:$F$3,FALSE))","v":{"$error":"#N/A"}},{"$f":"INDEX(Sistema_Analisado!$A$3:$F$99,MATCH(D134,Sistema_Analisado!$B$3:$B$99,FALSE),MATCH(\"Seq. Corredor\",Sistema_Analisado!$A$3:$F$3,0))","v":{"$error":"#N/A"}},null,{"$f":"COUNTIF(QD_data!B:B,D134)","v":0},null,null,{"$f":"SUMIFS(UdS_data!D:D,UdS_data!B:B,D134,UdS_data!F:F,1)","v":0},{"$f":"E134","v":0},{"$error":"#DIV/0!"},{"$error":"#DIV/0!"},{"$f":"F134","v":0},{"$f":"IF($L134<=0,5,IF($L134=1,3,IF($L134=2,1,0)))","v":5},0,{"$f":"IF(N134>=2,5,IF(N134=1,3,0))","v":0}]
[null,{"$f":"INDEX(Sistema_Analisado!$A$3:$F$89,MATCH($D135,Sistema_Analisado!$B$3:$B$89,FALSE),MATCH($B$4,Sistema_Analisado!$A$3:$F$3,FALSE))","v":{"$error":"#N/A"}},{"$f":"INDEX(Sistema_Analisado!$A$3:$F$99,MATCH(D135,Sistema_Analisado!$B$3:$B$99,FALSE),MATCH(\"Seq. Corredor\",Sistema_Analisado!$A$3:$F$3,0))","v":{"$error":"#N/A"}},null,{"$f":"COUNTIF(QD_data!B:B,D135)","v":0},null,null,{"$f":"SUMIFS(UdS_data!D:D,UdS_data!B:B,D135,UdS_data!F:F,1)","v":0},0,{"$error":"#DIV/0!"},{"$error":"#DIV/0!"},0,5,0,0]
[null,{"$f":"INDEX(Sistema_Analisado!$A$3:$F$89,MATCH($D136,Sistema_Analisado!$B$3:$B$89,FALSE),MATCH($B$4,Sistema_Analisado!$A$3:$F$3,FALSE))","v":{"$error":"#N/A"}},{"$f":"INDEX(Sistema_Analisado!$A$3:$F$99,MATCH(D136,Sistema_Analisado!$B$3:$B$99,FALSE),MATCH(\"Seq. Corredor\",Sistema_Analisado!$A$3:$F$3,0))","v":{"$error":"#N/A"}},null,{"$f":"COUNTIF(QD_data!B:B,D136)","v":0},null,null,{"$f":"SUMIFS(UdS_data!D:D,UdS_data!B:B,D136,UdS_data!F:F,1)","v":0},0,{"$error":"#DIV/0!"},{"$error":"#DIV/0!"},0,5,0,0]
[null,{"$f":"INDEX(Sistema_Analisado!$A$3:$F$99,MATCH($D137,Sistema_Analisado!$B$3:$B$99,FALSE),MATCH($B$4,Sistema_Analisado!$A$3:$F$3,FALSE))","v":{"$error":"#N/A"}},{"$f":"INDEX(Sistema_Analisado!$A$3:$F$99,MATCH(D137,Sistema_Analisado!$B$3:$B$99,FALSE),MATCH(\"Seq. Corredor\",Sistema_Analisado!$A$3:$F$3,0))","v":{"$error":"#N/A"}},null,{"$f":"COUNTIF(QD_data!B:B,D137)","v":0},null,null,{"$f":"SUMIFS(UdS_data!D:D,UdS_data!B:B,D137,UdS_data!F:F,1)","v":0},0,{"$error":"#DIV/0!"},{"$error":"#DIV/0!"},0,5,0,0]
[null,{"$f":"INDEX(Sistema_Analisado!$A$3:$F$89,MATCH($D138,Sistema_Analisado!$B$3:$B$89,FALSE),MATCH($B$4,Sistema_Analisado!$A$3:$F$3,FALSE))","v":{"$error":"#N/A"}},{"$f":"INDEX(Sistema_Analisado!$A$3:$F$99,MATCH(D138,Sistema_Analisado!$B$3:$B$99,FALSE),MATCH(\"Seq. Corredor\",Sistema_Analisado!$A$3:$F$3,0))","v":{"$error":"#N/A"}},null,{"$f":"COUNTIF(QD_data!B:B,D138)","v":0},null,null,{"$f":"SUMIFS(UdS_data!D:D,UdS_data!B:B,D138,UdS_data!F:F,1)","v":0},0,{"$error":"#DIV/0!"},{"$error":"#DIV/0!"},0,5,0,0]
[null,{"$f":"INDEX(Sistema_Analisado!$A$3:$F$89,MATCH($D139,Sistema_Analisado!$B$3:$B$89,FALSE),MATCH($B$4,Sistema_Analisado!$A$3:$F$3,FALSE))","v":{"$error":"#N/A"}},{"$f":"INDEX(Sistema_Analisado!$A$3:$F$99,MATCH(D139,Sistema_Analisado!$B$3:$B$99,FALSE),MATCH(\"Seq. Corredor\",Sistema_Analisado!$A$3:$F$3,0))","v":{"$error":"#N/A"}},null,{"$f":"COUNTIF(QD_data!B:B,D139)","v":0},null,null,{"$f":"SUMIFS(UdS_data!D:D,UdS_data!B:B,D139,UdS_data!F:F,1)","v":0},0,{"$error":"#DIV/0!"},{"$error":"#DIV/0!"},0,5,0,0]
[null,{"$f":"INDEX(Sistema_Analisado!$A$3:$F$99,MATCH($D140,Sistema_Analisado!$B$3:$B$99,FALSE),MATCH($B$4,Sistema_Analisado!$A$3:$F$3,FALSE))","v":{"$error":"#N/A"}},{"$f":"INDEX(Sistema_Analisado!$A$3:$F$99,MATCH(D140,Sistema_Analisado!$B$3:$B$99,FALSE),MATCH(\"Seq. Corredor\",Sistema_Analisado!$A$3:$F$3,0))","v":{"$error":"#N/A"}},null,{"$f":"COUNTIF(QD_data!B:B,D140)","v":0},null,null,{"$f":"SUMIFS(UdS_data!D:D,UdS_data!B:B,D140,UdS_data!F:F,1)","v":0},0,{"$error":"#DIV/0!"},{"$error":"#DIV/0!"},0,5,{"$f":"G140","v":0},0]
[null,{"$f":"INDEX(Sistema_Analisado!$A$3:$F$89,MATCH($D141,Sistema_Analisado!$B$3:$B$89,FALSE),MATCH($B$4,Sistema_Analisado!$A$3:$F$3,FALSE))","v":{"$error":"#N/A"}},{"$f":"INDEX(Sistema_Analisado!$A$3:$F$99,MATCH(D141,Sistema_Analisado!$B$3:$B$99,FALSE),MATCH(\"Seq. Corredor\",Sistema_Analisado!$A$3:$F$3,0))","v":{"$error":"#N/A"}},null,{"$f":"COUNTIF(QD_data!B:B,D141)","v":0},null,null,{"$f":"SUMIFS(UdS_data!D:D,UdS_data!B:B,D141,UdS_data!F:F,1)","v":0},0,{"$error":"#DIV/0!"},{"$error":"#DIV/0!"},0,5,0,0]
[null,{"$f":"INDEX(Sistema_Analisado!$A$3:$F$89,MATCH($D142,Sistema_Analisado!$B$3:$B$89,FALSE),MATCH($B$4,Sistema_Analisado!$A$3:$F$3,FALSE))","v":{"$error":"#N/A"}},{"$f":"INDEX(Sistema_Analisado!$A$3:$F$99,MATCH(D142,Sistema_Analisado!$B$3:$B$99,FALSE),MATCH(\"Seq. Corredor\",Sistema_Analisado!$A$3:$F$3,0))","v":{"$error":"#N/A"}},null,{"$f":"COUNTIF(QD_data!B:B,D142)","v":0},null,null,{"$f":"SUMIFS(UdS_data!D:D,UdS_data!B:B,D142,UdS_data!F:F,1)","v":0},0,{"$error":"#DIV/0!"},{"$error":"#DIV/0!"},0,5,0,0]
[null,{"$f":"INDEX(Sistema_Analisado!$A$3:$F$99,MATCH($D143,Sistema_Analisado!$B$3:$B$99,FALSE),MATCH($B$4,Sistema_Analisado!$A$3:$F$3,FALSE))","v":{"$error":"#N/A"}},{"$f":"INDEX(Sistema_Analisado!$A$3:$F$99,MATCH(D143,Sistema_Analisado!$B$3:$B$99,FALSE),MATCH(\"Seq. Corredor\",Sistema_Analisado!$A$3:$F$3,0))","v":{"$error":"#N/A"}},null,{"$f":"COUNTIF(QD_data!B:B,D143)","v":0},null,null,{"$f":"SUMIFS(UdS_data!D:D,UdS_data!B:B,D143,UdS_data!F:F,1)","v":0},0,{"$error":"#DIV/0!"},{"$error":"#DIV/0!"},0,5,0,0]
[null,{"$f":"INDEX(Sistema_Analisado!$A$3:$F$89,MATCH($D144,Sistema_Analisado!$B$3:$B$89,FALSE),MATCH($B$4,Sistema_Analisado!$A$3:$F$3,FALSE))","v":{"$error":"#N/A"}},{"$f":"INDEX(Sistema_Analisado!$A$3:$F$99,MATCH(D144,Sistema_Analisado!$B$3:$B$99,FALSE),MATCH(\"Seq. Corredor\",Sistema_Analisado!$A$3:$F$3,0))","v":{"$error":"#N/A"}},null,{"$f":"COUNTIF(QD_data!B:B,D144)","v":0},null,null,{"$f":"SUMIFS(UdS_data!D:D,UdS_data!B:B,D144,UdS_data!F:F,1)","v":0},0,{"$error":"#DIV/0!"},{"$error":"#DIV/0!"},0,5,0,0]
[null,{"$f":"INDEX(Sistema_Analisado!$A$3:$F$89,MATCH($D145,Sistema_Analisado!$B$3:$B$89,FALSE),MATCH($B$4,Sistema_Analisado!$A$3:$F$3,FALSE))","v":{"$error":"#N/A"}},{"$f":"INDEX(Sistema_Analisado!$A$3:$F$99,MATCH(D145,Sistema_Analisado!$B$3:$B$99,FALSE),MATCH(\"Seq. Corredor\",Sistema_Analisado!$A$3:$F$3,0))","v":{"$error":"#N/A"}},null,{"$f":"COUNTIF(QD_data!B:B,D145)","v":0},null,null,{"$f":"SUMIFS(UdS_data!D:D,UdS_data!B:B,D145,UdS_data!F:F,1)","v":0},0,{"$error":"#DIV/0!"},{"$error":"#DIV/0!"},0,5,0,0]
[null,{"$f":"INDEX(Sistema_Analisado!$A$3:$F$99,MATCH($D146,Sistema_Analisado!$B$3:$B$99,FALSE),MATCH($B$4,Sistema_Analisado!$A$3:$F$3,FALSE))","v":{"$error":"#N/A"}},{"$f":"INDEX(Sistema_Analisado!$A$3:$F$99,MATCH(D146,Sistema_Analisado!$B$3:$B$99,FALSE),MATCH(\"Seq. Corredor\",Sistema_Analisado!$A$3:$F$3,0))","v":{"$error":"#N/A"}},null,{"$f":"COUNTIF(QD_data!B:B,D146)","v":0},null,null,{"$f":"SUMIFS(UdS_data!D:D,UdS_data!B:B,D146,UdS_data!F:F,1)","v":0},0,{"$error":"#DIV/0!"},{"$error":"#DIV/0!"},0,5,0,0]
[null,{"$f":"INDEX(Sistema_Analisado!$A$3:$F$89,MATCH($D147,Sistema_Analisado!$B$3:$B$89,FALSE),MATCH($B$4,Sistema_Analisado!$A$3:$F$3,FALSE))","v":{"$error":"#N/A"}},{"$f":"INDEX(Sistema_Analisado!$A$3:$F$99,MATCH(D147,Sistema_Analisado!$B$3:$B$99,FALSE),MATCH(\"Seq. Corredor\",Sistema_Analisado!$A$3:$F$3,0))","v":{"$error":"#N/A"}},null,{"$f":"COUNTIF(QD_data!B:B,D147)","v":0},null,null,{"$f":"SUMIFS(UdS_data!D:D,UdS_data!B:B,D147,UdS_data!F:F,1)","v":0},0,{"$error":"#DIV/0!"},{"$error":"#DIV/0!"},0,5,0,0]
[null,{"$f":"INDEX(Sistema_Analisado!$A$3:$F$89,MATCH($D148,Sistema_Analisado!$B$3:$B$89,FALSE),MATCH($B$4,Sistema_Analisado!$A$3:$F$3,FALSE))","v":{"$error":"#N/A"}},{"$f":"INDEX(Sistema_Analisado!$A$3:$F$99,MATCH(D148,Sistema_Analisado!$B$3:$B$99,FALSE),MATCH(\"Seq. Corredor\",Sistema_Analisado!$A$3:$F$3,0))","v":{"$error":"#N/A"}},null,{"$f":"COUNTIF(QD_data!B:B,D148)","v":0},null,null,{"$f":"SUMIFS(UdS_data!D:D,UdS_data!B:B,D148,UdS_data!F:F,1)","v":0},0,{"$error":"#DIV/0!"},{"$error":"#DIV/0!"},0,5,0,0]
[null,{"$f":"INDEX(Sistema_Analisado!$A$3:$F$99,MATCH($D149,Sistema_Analisado!$B$3:$B$99,FALSE),MATCH($B$4,Sistema_Analisado!$A$3:$F$3,FALSE))","v":{"$error":"#N/A"}},{"$f":"INDEX(Sistema_Analisado!$A$3:$F$99,MATCH(D149,Sistema_Analisado!$B$3:$B$99,FALSE),MATCH(\"Seq. Corredor\",Sistema_Analisado!$A$3:$F$3,0))","v":{"$error":"#N/A"}},null,{"$f":"COUNTIF(QD_data!B:B,D149)","v":0},null,null,{"$f":"SUMIFS(UdS_data!D:D,UdS_data!B:B,D149,UdS_data!F:F,1)","v":0},0,{"$error":"#DIV/0!"},{"$error":"#DIV/0!"},0,5,0,0]
[null,{"$f":"INDEX(Sistema_Analisado!$A$3:$F$89,MATCH($D150,Sistema_Analisado!$B$3:$B$89,FALSE),MATCH($B$4,Sistema_Analisado!$A$3:$F$3,FALSE))","v":{"$error":"#N/A"}},{"$f":"INDEX(Sistema_Analisado!$A$3:$F$99,MATCH(D150,Sistema_Analisado!$B$3:$B$99,FALSE),MATCH(\"Seq. Corredor\",Sistema_Analisado!$A$3:$F$3,0))","v":{"$error":"#N/A"}},null,{"$f":"COUNTIF(QD_data!B:B,D150)","v":0},null,null,{"$f":"SUMIFS(UdS_data!D:D,UdS_data!B:B,D150,UdS_data!F:F,1)","v":0},0,{"$error":"#DIV/0!"},{"$error":"#DIV/0!"},0,5,0,0]
[null,{"$f":"INDEX(Sistema_Analisado!$A$3:$F$89,MATCH($D151,Sistema_Analisado!$B$3:$B$89,FALSE),MATCH($B$4,Sistema_Analisado!$A$3:$F$3,FALSE))","v":{"$error":"#N/A"}},{"$f":"INDEX(Sistema_Analisado!$A$3:$F$99,MATCH(D151,Sistema_Analisado!$B$3:$B$99,FALSE),MATCH(\"Seq. Corredor\",Sistema_Analisado!$A$3:$F$3,0))","v":{"$error":"#N/A"}},null,{"$f":"COUNTIF(QD_data!B:B,D151)","v":0},null,null,{"$f":"SUMIFS(UdS_data!D:D,UdS_data!B:B,D151,UdS_data!F:F,1)","v":0},0,{"$error":"#DIV/0!"},{"$error":"#DIV/0!"},0,5,0,0]
[null,{"$f":"INDEX(Sistema_Analisado!$A$3:$F$99,MATCH($D152,Sistema_Analisado!$B$3:$B$99,FALSE),MATCH($B$4,Sistema_Analisado!$A$3:$F$3,FALSE))","v":{"$error":"#N/A"}},{"$f":"INDEX(Sistema_Analisado!$A$3:$F$99,MATCH(D152,Sistema_Analisado!$B$3:$B$99,FALSE),MATCH(\"Seq. Corredor\",Sistema_Analisado!$A$3:$F$3,0))","v":{"$error":"#N/A"}},null,{"$f":"COUNTIF(QD_data!B:B,D152)","v":0},null,null,{"$f":"SUMIFS(UdS_data!D:D,UdS_data!B:B,D152,UdS_data!F:F,1)","v":0},0,{"$error":"#DIV/0!"},{"$error":"#DIV/0!"},0,5,0,0]
[null,{"$f":"INDEX(Sistema_Analisado!$A$3:$F$89,MATCH($D153,Sistema_Analisado!$B$3:$B$89,FALSE),MATCH($B$4,Sistema_Analisado!$A$3:$F$3,FALSE))","v":{"$error":"#N/A"}},{"$f":"INDEX(Sistema_Analisado!$A$3:$F$99,MATCH(D153,Sistema_Analisado!$B$3:$B$99,FALSE),MATCH(\"Seq. Corredor\",Sistema_Analisado!$A$3:$F$3,0))","v":{"$error":"#N/A"}},null,{"$f":"COUNTIF(QD_data!B:B,D153)","v":0},null,null,{"$f":"SUMIFS(UdS_data!D:D,UdS_data!B:B,D153,UdS_data!F:F,1)","v":0},0,{"$error":"#DIV/0!"},{"$error":"#DIV/0!"},0,5,0,0]
[null,{"$f":"INDEX(Sistema_Analisado!$A$3:$F$89,MATCH($D154,Sistema_Analisado!$B$3:$B$89,FALSE),MATCH($B$4,Sistema_Analisado!$A$3:$F$3,FALSE))","v":{"$error":"#N/A"}},{"$f":"INDEX(Sistema_Analisado!$A$3:$F$99,MATCH(D154,Sistema_Analisado!$B$3:$B$99,FALSE),MATCH(\"Seq. Corredor\",Sistema_Analisado!$A$3:$F$3,0))","v":{"$error":"#N/A"}},null,{"$f":"COUNTIF(QD_data!B:B,D154)","v":0},null,null,{"$f":"SUMIFS(UdS_data!D:D,UdS_data!B:B,D154,UdS_data!F:F,1)","v":0},0,{"$error":"#DIV/0!"},{"$error":"#DIV/0!"},0,5,0,0]
[null,{"$f":"INDEX(Sistema_Analisado!$A$3:$F$99,MATCH($D155,Sistema_Analisado!$B$3:$B$99,FALSE),MATCH($B$4,Sistema_Analisado!$A$3:$F$3,FALSE))","v":{"$error":"#N/A"}},{"$f":"INDEX(Sistema_Analisado!$A$3:$F$99,MATCH(D155,Sistema_Analisado!$B$3:$B$99,FALSE),MATCH(\"Seq. Corredor\",Sistema_Analisado!$A$3:$F$3,0))","v":{"$error":"#N/A"}},null,{"$f":"COUNTIF(QD_data!B:B,D155)","v":0},null,null,{"$f":"SUMIFS(UdS_data!D:D,UdS_data!B:B,D155,UdS_data!F:F,1)","v":0},0,{"$error":"#DIV/0!"},{"$error":"#DIV/0!"},0,5,0,0]
[null,{"$f":"INDEX(Sistema_Analisado!$A$3:$F$89,MATCH($D156,Sistema_Analisado!$B$3:$B$89,FALSE),MATCH($B$4,Sistema_Analisado!$A$3:$F$3,FALSE))","v":{"$error":"#N/A"}},{"$f":"INDEX(Sistema_Analisado!$A$3:$F$99,MATCH(D156,Sistema_Analisado!$B$3:$B$99,FALSE),MATCH(\"Seq. Corredor\",Sistema_Analisado!$A$3:$F$3,0))","v":{"$error":"#N/A"}},null,{"$f":"COUNTIF(QD_data!B:B,D156)","v":0},null,null,{"$f":"SUMIFS(UdS_data!D:D,UdS_data!B:B,D156,UdS_data!F:F,1)","v":0},0,{"$error":"#DIV/0!"},{"$error":"#DIV/0!"},0,5,0,0]
[null,{"$f":"INDEX(Sistema_Analisado!$A$3:$F$89,MATCH($D157,Sistema_Analisado!$B$3:$B$89,FALSE),MATCH($B$4,Sistema_Analisado!$A$3:$F$3,FALSE))","v":{"$error":"#N/A"}},{"$f":"INDEX(Sistema_Analisado!$A$3:$F$99,MATCH(D157,Sistema_Analisado!$B$3:$B$99,FALSE),MATCH(\"Seq. Corredor\",Sistema_Analisado!$A$3:$F$3,0))","v":{"$error":"#N/A"}},null,{"$f":"COUNTIF(QD_data!B:B,D157)","v":0},null,null,{"$f":"SUMIFS(UdS_data!D:D,UdS_data!B:B,D157,UdS_data!F:F,1)","v":0},0,{"$error":"#DIV/0!"},{"$error":"#DIV/0!"},0,5,0,0]
[null,{"$f":"INDEX(Sistema_Analisado!$A$3:$F$99,MATCH($D158,Sistema_Analisado!$B$3:$B$99,FALSE),MATCH($B$4,Sistema_Analisado!$A$3:$F$3,FALSE))","v":{"$error":"#N/A"}},{"$f":"INDEX(Sistema_Analisado!$A$3:$F$99,MATCH(D158,Sistema_Analisado!$B$3:$B$99,FALSE),MATCH(\"Seq. Corredor\",Sistema_Analisado!$A$3:$F$3,0))","v":{"$error":"#N/A"}},null,{"$f":"COUNTIF(QD_data!B:B,D158)","v":0},null,null,{"$f":"SUMIFS(UdS_data!D:D,UdS_data!B:B,D158,UdS_data!F:F,1)","v":0},0,{"$error":"#DIV/0!"},{"$error":"#DIV/0!"},0,5,0,0]
[null,{"$f":"INDEX(Sistema_Analisado!$A$3:$F$89,MATCH($D159,Sistema_Analisado!$B$3:$B$89,FALSE),MATCH($B$4,Sistema_Analisado!$A$3:$F$3,FALSE))","v":{"$error":"#N/A"}},{"$f":"INDEX(Sistema_Analisado!$A$3:$F$99,MATCH(D159,Sistema_Analisado!$B$3:$B$99,FALSE),MATCH(\"Seq. Corredor\",Sistema_Analisado!$A$3:$F$3,0))","v":{"$error":"#N/A"}},null,{"$f":"COUNTIF(QD_data!B:B,D159)","v":0},null,null,{"$f":"SUMIFS(UdS_data!D:D,UdS_data!B:B,D159,UdS_data!F:F,1)","v":0},0,{"$error":"#DIV/0!"},{"$error":"#DIV/0!"},0,5,0,0]
[null,{"$f":"INDEX(Sistema_Analisado!$A$3:$F$89,MATCH($D160,Sistema_Analisado!$B$3:$B$89,FALSE),MATCH($B$4,Sistema_Analisado!$A$3:$F$3,FALSE))","v":{"$error":"#N/A"}},{"$f":"INDEX(Sistema_Analisado!$A$3:$F$99,MATCH(D160,Sistema_Analisado!$B$3:$B$99,FALSE),MATCH(\"Seq. Corredor\",Sistema_Analisado!$A$3:$F$3,0))","v":{"$error":"#N/A"}},null,{"$f":"COUNTIF(QD_data!B:B,D160)","v":0},null,null,{"$f":"SUMIFS(UdS_data!D:D,UdS_data!B:B,D160,UdS_data!F:F,1)","v":0},0,{"$error":"#DIV/0!"},{"$error":"#DIV/0!"},0,5,0,0]

{"sheet":"UdS_agrg","index":12,"n_rows":160,"n_cols":16,"rows_kept":160,"cut":false,"hidden":false,"merged":[]}
["Informações no nível de Uso do Solo agregadas por Estação"]
[]
["proxy","corredor",null,"estc","Área Monofuncional Predominante","Áreas Residenciais com Atividades Complementares","Áreas Não Edificadas ou Subutilizadas","Áreas Incompatíveis","ar_pred","pont_ar_pred","ar_mix","pont_ar_mix","ar_sub","pont_ar_sub","ar_incomp","pont_ar_incomp"]
["Proxy","Corredor","Seq. Estação","Estação","Área Monofuncional Predominante","Áreas Residenciais com Atividades Complementares","Áreas Não Edificadas ou Subutilizadas","Áreas Incompatíveis","Área Monofuncional Compatível Predominante","Pontuação Áreas Monof.","Áreas Residenciais com Atividades Complementares","Pontuação Áreas Residenciais com Atividades Complementaeres","Áreas Não Edificadas ou Subutilizadas","Pontuação Áreas Não Edificadas ou Subutilização","Áreas Incompatíveis","Eliminação Áreas Incompat."]
[null,{"$f":"INDEX(Sistema_Analisado!$A$3:$F$99,MATCH($D5,Sistema_Analisado!$B$3:$B$99,FALSE),MATCH($B$4,Sistema_Analisado!$A$3:$F$3,FALSE))","v":{"$error":"#N/A"}},{"$f":"INDEX(Sistema_Analisado!$A$3:$F$99,MATCH(D5,Sistema_Analisado!$B$3:$B$99,FALSE),MATCH(\"Seq. Corredor\",Sistema_Analisado!$A$3:$F$3,0))","v":{"$error":"#N/A"}},"Estação xx",{"$f":"MAX(IF((UdS_data!B:B=D5),UdS_data!G:G,0))","v":0},{"$f":"SUMIFS(UdS_data!G:G,UdS_data!B:B,D5,UdS_data!C:C,UdS_data!$I$13)","v":0},{"$f":"SUMIFS(UdS_data!G:G,UdS_data!B:B,D5,UdS_data!C:C,UdS_data!$I$16)","v":0},{"$f":"SUMIFS(UdS_data!E:E,UdS_data!B:B,D5,UdS_data!F:F,0)","v":0},{"$f":"E5","v":0},{"$f":"IF($I5<=0.5,5,IF($I5<=0.7,3,IF($I5<=0.8,1,0)))","v":5},{"$f":"F5","v":0},{"$f":"IF($K5>=0.3,5,IF($K5>=0.2,4,IF($K5>=0.1,3,IF($K5>=0.05,2,IF($K5>=0.025,1,0)))))","v":0},{"$f":"G5","v":0},{"$f":"IF($M5>0.3,5,IF($M5>0.2,4,IF($M5>0.1,3,IF($M5>0.05,2,IF($M5>0.025,1,0)))))","v":0},{"$f":"H5","v":0},{"$f":"IF(O5>=0.4,\"INVALIDADO\",\"VALIDADO\")","v":"VALIDADO"}]
[null,{"$f":"INDEX(Sistema_Analisado!$A$3:$F$99,MATCH($D6,Sistema_Analisado!$B$3:$B$99,FALSE),MATCH($B$4,Sistema_Analisado!$A$3:$F$3,FALSE))","v":{"$error":"#N/A"}},{"$f":"INDEX(Sistema_Analisado!$A$3:$F$99,MATCH(D6,Sistema_Analisado!$B$3:$B$99,FALSE),MATCH(\"Seq. Corredor\",Sistema_Analisado!$A$3:$F$3,0))","v":{"$error":"#N/A"}},"Estação yy",{"$f":"MAX(IF((UdS_data!B:B=D6),UdS_data!G:G,0))","v":0},{"$f":"SUMIFS(UdS_data!G:G,UdS_data!B:B,D6,UdS_data!C:C,UdS_data!$I$13)","v":0},{"$f":"SUMIFS(UdS_data!G:G,UdS_data!B:B,D6,UdS_data!C:C,UdS_data!$I$16)","v":0},{"$f":"SUMIFS(UdS_data!E:E,UdS_data!B:B,D6,UdS_data!F:F,0)","v":0},{"$f":"E6","v":0},{"$f":"IF($I6<=0.5,5,IF($I6<=0.7,3,IF($I6<=0.8,1,0)))","v":5},0,{"$f":"IF($K6>=0.3,5,IF($K6>=0.2,4,IF($K6>=0.1,3,IF($K6>=0.05,2,IF($K6>=0.025,1,0)))))","v":0},0,{"$f":"IF($M6>0.3,5,IF($M6>0.2,4,IF($M6>0.1,3,IF($M6>0.05,2,IF($M6>0.025,1,0)))))","v":0},0,{"$f":"IF(O6>=0.4,\"INVALIDADO\",\"VALIDADO\")","v":"VALIDADO"}]
[null,{"$f":"INDEX(Sistema_Analisado!$A$3:$F$99,MATCH($D7,Sistema_Analisado!$B$3:$B$99,FALSE),MATCH($B$4,Sistema_Analisado!$A$3:$F$3,FALSE))","v":{"$error":"#N/A"}},{"$f":"INDEX(Sistema_Analisado!$A$3:$F$99,MATCH(D7,Sistema_Analisado!$B$3:$B$99,FALSE),MATCH(\"Seq. Corredor\",Sistema_Analisado!$A$3:$F$3,0))","v":{"$error":"#N/A"}},"Estação zz",{"$f":"MAX(IF((UdS_data!B:B=D7),UdS_data!G:G,0))","v":0},{"$f":"SUMIFS(UdS_data!G:G,UdS_data!B:B,D7,UdS_data!C:C,UdS_data!$I$13)","v":0},{"$f":"SUMIFS(UdS_data!G:G,UdS_data!B:B,D7,UdS_data!C:C,UdS_data!$I$16)","v":0},{"$f":"SUMIFS(UdS_data!E:E,UdS_data!B:B,D7,UdS_data!F:F,0)","v":0},0,5,0,0,0,0,0,"VALIDADO"]
[null,{"$f":"INDEX(Sistema_Analisado!$A$3:$F$99,MATCH($D8,Sistema_Analisado!$B$3:$B$99,FALSE),MATCH($B$4,Sistema_Analisado!$A$3:$F$3,FALSE))","v":{"$error":"#N/A"}},{"$f":"INDEX(Sistema_Analisado!$A$3:$F$99,MATCH(D8,Sistema_Analisado!$B$3:$B$99,FALSE),MATCH(\"Seq. Corredor\",Sistema_Analisado!$A$3:$F$3,0))","v":{"$error":"#N/A"}},"Estação aa",{"$f":"MAX(IF((UdS_data!B:B=D8),UdS_data!G:G,0))","v":0},{"$f":"SUMIFS(UdS_data!G:G,UdS_data!B:B,D8,UdS_data!C:C,UdS_data!$I$13)","v":0},{"$f":"SUMIFS(UdS_data!G:G,UdS_data!B:B,D8,UdS_data!C:C,UdS_data!$I$16)","v":0},{"$f":"SUMIFS(UdS_data!E:E,UdS_data!B:B,D8,UdS_data!F:F,0)","v":0},0,5,0,0,0,0,0,"VALIDADO"]
[null,{"$f":"INDEX(Sistema_Analisado!$A$3:$F$99,MATCH($D9,Sistema_Analisado!$B$3:$B$99,FALSE),MATCH($B$4,Sistema_Analisado!$A$3:$F$3,FALSE))","v":{"$error":"#N/A"}},{"$f":"INDEX(Sistema_Analisado!$A$3:$F$99,MATCH(D9,Sistema_Analisado!$B$3:$B$99,FALSE),MATCH(\"Seq. Corredor\",Sistema_Analisado!$A$3:$F$3,0))","v":{"$error":"#N/A"}},null,{"$f":"MAX(IF((UdS_data!B:B=D9),UdS_data!G:G,0))","v":{"$error":"#DIV/0!"}},{"$f":"SUMIFS(UdS_data!G:G,UdS_data!B:B,D9,UdS_data!C:C,UdS_data!$I$13)","v":0},{"$f":"SUMIFS(UdS_data!G:G,UdS_data!B:B,D9,UdS_data!C:C,UdS_data!$I$16)","v":0},{"$f":"SUMIFS(UdS_data!E:E,UdS_data!B:B,D9,UdS_data!F:F,0)","v":0},{"$error":"#DIV/0!"},{"$error":"#DIV/0!"},0,0,0,0,0,"VALIDADO"]
[null,{"$f":"INDEX(Sistema_Analisado!$A$3:$F$99,MATCH($D10,Sistema_Analisado!$B$3:$B$99,FALSE),MATCH($B$4,Sistema_Analisado!$A$3:$F$3,FALSE))","v":{"$error":"#N/A"}},{"$f":"INDEX(Sistema_Analisado!$A$3:$F$99,MATCH(D10,Sistema_Analisado!$B$3:$B$99,FALSE),MATCH(\"Seq. Corredor\",Sistema_Analisado!$A$3:$F$3,0))","v":{"$error":"#N/A"}},null,{"$f":"MAX(IF((UdS_data!B:B=D10),UdS_data!G:G,0))","v":{"$error":"#DIV/0!"}},{"$f":"SUMIFS(UdS_data!G:G,UdS_data!B:B,D10,UdS_data!C:C,UdS_data!$I$13)","v":0},{"$f":"SUMIFS(UdS_data!G:G,UdS_data!B:B,D10,UdS_data!C:C,UdS_data!$I$16)","v":0},{"$f":"SUMIFS(UdS_data!E:E,UdS_data!B:B,D10,UdS_data!F:F,0)","v":0},{"$error":"#DIV/0!"},{"$error":"#DIV/0!"},0,0,0,0,0,"VALIDADO"]
[null,{"$f":"INDEX(Sistema_Analisado!$A$3:$F$99,MATCH($D11,Sistema_Analisado!$B$3:$B$99,FALSE),MATCH($B$4,Sistema_Analisado!$A$3:$F$3,FALSE))","v":{"$error":"#N/A"}},{"$f":"INDEX(Sistema_Analisado!$A$3:$F$99,MATCH(D11,Sistema_Analisado!$B$3:$B$99,FALSE),MATCH(\"Seq. Corredor\",Sistema_Analisado!$A$3:$F$3,0))","v":{"$error":"#N/A"}},null,{"$f":"MAX(IF((UdS_data!B:B=D11),UdS_data!G:G,0))","v":{"$error":"#DIV/0!"}},{"$f":"SUMIFS(UdS_data!G:G,UdS_data!B:B,D11,UdS_data!C:C,UdS_data!$I$13)","v":0},{"$f":"SUMIFS(UdS_data!G:G,UdS_data!B:B,D11,UdS_data!C:C,UdS_data!$I$16)","v":0},{"$f":"SUMIFS(UdS_data!E:E,UdS_data!B:B,D11,UdS_data!F:F,0)","v":0},{"$error":"#DIV/0!"},{"$error":"#DIV/0!"},0,0,0,0,0,"VALIDADO"]
[null,{"$f":"INDEX(Sistema_Analisado!$A$3:$F$99,MATCH($D12,Sistema_Analisado!$B$3:$B$99,FALSE),MATCH($B$4,Sistema_Analisado!$A$3:$F$3,FALSE))","v":{"$error":"#N/A"}},{"$f":"INDEX(Sistema_Analisado!$A$3:$F$99,MATCH(D12,Sistema_Analisado!$B$3:$B$99,FALSE),MATCH(\"Seq. Corredor\",Sistema_Analisado!$A$3:$F$3,0))","v":{"$error":"#N/A"}},null,{"$f":"MAX(IF((UdS_data!B:B=D12),UdS_data!G:G,0))","v":{"$error":"#DIV/0!"}},{"$f":"SUMIFS(UdS_data!G:G,UdS_data!B:B,D12,UdS_data!C:C,UdS_data!$I$13)","v":0},{"$f":"SUMIFS(UdS_data!G:G,UdS_data!B:B,D12,UdS_data!C:C,UdS_data!$I$16)","v":0},{"$f":"SUMIFS(UdS_data!E:E,UdS_data!B:B,D12,UdS_data!F:F,0)","v":0},{"$error":"#DIV/0!"},{"$error":"#DIV/0!"},0,0,0,0,0,"VALIDADO"]
[null,{"$f":"INDEX(Sistema_Analisado!$A$3:$F$99,MATCH($D13,Sistema_Analisado!$B$3:$B$99,FALSE),MATCH($B$4,Sistema_Analisado!$A$3:$F$3,FALSE))","v":{"$error":"#N/A"}},{"$f":"INDEX(Sistema_Analisado!$A$3:$F$99,MATCH(D13,Sistema_Analisado!$B$3:$B$99,FALSE),MATCH(\"Seq. Corredor\",Sistema_Analisado!$A$3:$F$3,0))","v":{"$error":"#N/A"}},null,{"$f":"MAX(IF((UdS_data!B:B=D13),UdS_data!G:G,0))","v":{"$error":"#DIV/0!"}},{"$f":"SUMIFS(UdS_data!G:G,UdS_data!B:B,D13,UdS_data!C:C,UdS_data!$I$13)","v":0},{"$f":"SUMIFS(UdS_data!G:G,UdS_data!B:B,D13,UdS_data!C:C,UdS_data!$I$16)","v":0},{"$f":"SUMIFS(UdS_data!E:E,UdS_data!B:B,D13,UdS_data!F:F,0)","v":0},{"$error":"#DIV/0!"},{"$error":"#DIV/0!"},0,0,0,0,0,"VALIDADO"]
[null,{"$f":"INDEX(Sistema_Analisado!$A$3:$F$99,MATCH($D14,Sistema_Analisado!$B$3:$B$99,FALSE),MATCH($B$4,Sistema_Analisado!$A$3:$F$3,FALSE))","v":{"$error":"#N/A"}},{"$f":"INDEX(Sistema_Analisado!$A$3:$F$99,MATCH(D14,Sistema_Analisado!$B$3:$B$99,FALSE),MATCH(\"Seq. Corredor\",Sistema_Analisado!$A$3:$F$3,0))","v":{"$error":"#N/A"}},null,{"$f":"MAX(IF((UdS_data!B:B=D14),UdS_data!G:G,0))","v":{"$error":"#DIV/0!"}},{"$f":"SUMIFS(UdS_data!G:G,UdS_data!B:B,D14,UdS_data!C:C,UdS_data!$I$13)","v":0},{"$f":"SUMIFS(UdS_data!G:G,UdS_data!B:B,D14,UdS_data!C:C,UdS_data!$I$16)","v":0},{"$f":"SUMIFS(UdS_data!E:E,UdS_data!B:B,D14,UdS_data!F:F,0)","v":0},{"$error":"#DIV/0!"},{"$error":"#DIV/0!"},0,0,0,0,0,"VALIDADO"]
[null,{"$f":"INDEX(Sistema_Analisado!$A$3:$F$99,MATCH($D15,Sistema_Analisado!$B$3:$B$99,FALSE),MATCH($B$4,Sistema_Analisado!$A$3:$F$3,FALSE))","v":{"$error":"#N/A"}},{"$f":"INDEX(Sistema_Analisado!$A$3:$F$99,MATCH(D15,Sistema_Analisado!$B$3:$B$99,FALSE),MATCH(\"Seq. Corredor\",Sistema_Analisado!$A$3:$F$3,0))","v":{"$error":"#N/A"}},null,{"$f":"MAX(IF((UdS_data!B:B=D15),UdS_data!G:G,0))","v":{"$error":"#DIV/0!"}},{"$f":"SUMIFS(UdS_data!G:G,UdS_data!B:B,D15,UdS_data!C:C,UdS_data!$I$13)","v":0},{"$f":"SUMIFS(UdS_data!G:G,UdS_data!B:B,D15,UdS_data!C:C,UdS_data!$I$16)","v":0},{"$f":"SUMIFS(UdS_data!E:E,UdS_data!B:B,D15,UdS_data!F:F,0)","v":0},{"$error":"#DIV/0!"},{"$error":"#DIV/0!"},0,0,0,0,0,"VALIDADO"]
[null,{"$f":"INDEX(Sistema_Analisado!$A$3:$F$99,MATCH($D16,Sistema_Analisado!$B$3:$B$99,FALSE),MATCH($B$4,Sistema_Analisado!$A$3:$F$3,FALSE))","v":{"$error":"#N/A"}},{"$f":"INDEX(Sistema_Analisado!$A$3:$F$99,MATCH(D16,Sistema_Analisado!$B$3:$B$99,FALSE),MATCH(\"Seq. Corredor\",Sistema_Analisado!$A$3:$F$3,0))","v":{"$error":"#N/A"}},null,{"$f":"MAX(IF((UdS_data!B:B=D16),UdS_data!G:G,0))","v":{"$error":"#DIV/0!"}},{"$f":"SUMIFS(UdS_data!G:G,UdS_data!B:B,D16,UdS_data!C:C,UdS_data!$I$13)","v":0},{"$f":"SUMIFS(UdS_data!G:G,UdS_data!B:B,D16,UdS_data!C:C,UdS_data!$I$16)","v":0},{"$f":"SUMIFS(UdS_data!E:E,UdS_data!B:B,D16,UdS_data!F:F,0)","v":0},{"$error":"#DIV/0!"},{"$error":"#DIV/0!"},0,0,0,0,0,"VALIDADO"]
[null,{"$f":"INDEX(Sistema_Analisado!$A$3:$F$99,MATCH($D17,Sistema_Analisado!$B$3:$B$99,FALSE),MATCH($B$4,Sistema_Analisado!$A$3:$F$3,FALSE))","v":{"$error":"#N/A"}},{"$f":"INDEX(Sistema_Analisado!$A$3:$F$99,MATCH(D17,Sistema_Analisado!$B$3:$B$99,FALSE),MATCH(\"Seq. Corredor\",Sistema_Analisado!$A$3:$F$3,0))","v":{"$error":"#N/A"}},null,{"$f":"MAX(IF((UdS_data!B:B=D17),UdS_data!G:G,0))","v":{"$error":"#DIV/0!"}},{"$f":"SUMIFS(UdS_data!G:G,UdS_data!B:B,D17,UdS_data!C:C,UdS_data!$I$13)","v":0},{"$f":"SUMIFS(UdS_data!G:G,UdS_data!B:B,D17,UdS_data!C:C,UdS_data!$I$16)","v":0},{"$f":"SUMIFS(UdS_data!E:E,UdS_data!B:B,D17,UdS_data!F:F,0)","v":0},{"$error":"#DIV/0!"},{"$error":"#DIV/0!"},0,0,0,0,0,"VALIDADO"]
[null,{"$f":"INDEX(Sistema_Analisado!$A$3:$F$99,MATCH($D18,Sistema_Analisado!$B$3:$B$99,FALSE),MATCH($B$4,Sistema_Analisado!$A$3:$F$3,FALSE))","v":{"$error":"#N/A"}},{"$f":"INDEX(Sistema_Analisado!$A$3:$F$99,MATCH(D18,Sistema_Analisado!$B$3:$B$99,FALSE),MATCH(\"Seq. Corredor\",Sistema_Analisado!$A$3:$F$3,0))","v":{"$error":"#N/A"}},null,{"$f":"MAX(IF((UdS_data!B:B=D18),UdS_data!G:G,0))","v":{"$error":"#DIV/0!"}},{"$f":"SUMIFS(UdS_data!G:G,UdS_data!B:B,D18,UdS_data!C:C,UdS_data!$I$13)","v":0},{"$f":"SUMIFS(UdS_data!G:G,UdS_data!B:B,D18,UdS_data!C:C,UdS_data!$I$16)","v":0},{"$f":"SUMIFS(UdS_data!E:E,UdS_data!B:B,D18,UdS_data!F:F,0)","v":0},{"$error":"#DIV/0!"},{"$error":"#DIV/0!"},0,0,0,0,0,"VALIDADO"]
[null,{"$f":"INDEX(Sistema_Analisado!$A$3:$F$99,MATCH($D19,Sistema_Analisado!$B$3:$B$99,FALSE),MATCH($B$4,Sistema_Analisado!$A$3:$F$3,FALSE))","v":{"$error":"#N/A"}},{"$f":"INDEX(Sistema_Analisado!$A$3:$F$99,MATCH(D19,Sistema_Analisado!$B$3:$B$99,FALSE),MATCH(\"Seq. Corredor\",Sistema_Analisado!$A$3:$F$3,0))","v":{"$error":"#N/A"}},null,{"$f":"MAX(IF((UdS_data!B:B=D19),UdS_data!G:G,0))","v":{"$error":"#DIV/0!"}},{"$f":"SUMIFS(UdS_data!G:G,UdS_data!B:B,D19,UdS_data!C:C,UdS_data!$I$13)","v":0},{"$f":"SUMIFS(UdS_data!G:G,UdS_data!B:B,D19,UdS_data!C:C,UdS_data!$I$16)","v":0},{"$f":"SUMIFS(UdS_data!E:E,UdS_data!B:B,D19,UdS_data!F:F,0)","v":0},{"$error":"#DIV/0!"},{"$error":"#DIV/0!"},0,0,0,0,0,"VALIDADO"]
[null,{"$f":"INDEX(Sistema_Analisado!$A$3:$F$99,MATCH($D20,Sistema_Analisado!$B$3:$B$99,FALSE),MATCH($B$4,Sistema_Analisado!$A$3:$F$3,FALSE))","v":{"$error":"#N/A"}},{"$f":"INDEX(Sistema_Analisado!$A$3:$F$99,MATCH(D20,Sistema_Analisado!$B$3:$B$99,FALSE),MATCH(\"Seq. Corredor\",Sistema_Analisado!$A$3:$F$3,0))","v":{"$error":"#N/A"}},null,{"$f":"MAX(IF((UdS_data!B:B=D20),UdS_data!G:G,0))","v":{"$error":"#DIV/0!"}},{"$f":"SUMIFS(UdS_data!G:G,UdS_data!B:B,D20,UdS_data!C:C,UdS_data!$I$13)","v":0},{"$f":"SUMIFS(UdS_data!G:G,UdS_data!B:B,D20,UdS_data!C:C,UdS_data!$I$16)","v":0},{"$f":"SUMIFS(UdS_data!E:E,UdS_data!B:B,D20,UdS_data!F:F,0)","v":0},{"$error":"#DIV/0!"},{"$error":"#DIV/0!"},0,0,0,0,0,"VALIDADO"]
[null,{"$f":"INDEX(Sistema_Analisado!$A$3:$F$99,MATCH($D21,Sistema_Analisado!$B$3:$B$99,FALSE),MATCH($B$4,Sistema_Analisado!$A$3:$F$3,FALSE))","v":{"$error":"#N/A"}},{"$f":"INDEX(Sistema_Analisado!$A$3:$F$99,MATCH(D21,Sistema_Analisado!$B$3:$B$99,FALSE),MATCH(\"Seq. Corredor\",Sistema_Analisado!$A$3:$F$3,0))","v":{"$error":"#N/A"}},null,{"$f":"MAX(IF((UdS_data!B:B=D21),UdS_data!G:G,0))","v":{"$error":"#DIV/0!"}},{"$f":"SUMIFS(UdS_data!G:G,UdS_data!B:B,D21,UdS_data!C:C,UdS_data!$I$13)","v":0},{"$f":"SUMIFS(UdS_data!G:G,UdS_data!B:B,D21,UdS_data!C:C,UdS_data!$I$16)","v":0},{"$f":"SUMIFS(UdS_data!E:E,UdS_data!B:B,D21,UdS_data!F:F,0)","v":0},{"$error":"#DIV/0!"},{"$error":"#DIV/0!"},0,0,0,0,0,"VALIDADO"]
[null,{"$f":"INDEX(Sistema_Analisado!$A$3:$F$99,MATCH($D22,Sistema_Analisado!$B$3:$B$99,FALSE),MATCH($B$4,Sistema_Analisado!$A$3:$F$3,FALSE))","v":{"$error":"#N/A"}},{"$f":"INDEX(Sistema_Analisado!$A$3:$F$99,MATCH(D22,Sistema_Analisado!$B$3:$B$99,FALSE),MATCH(\"Seq. Corredor\",Sistema_Analisado!$A$3:$F$3,0))","v":{"$error":"#N/A"}},null,{"$f":"MAX(IF((UdS_data!B:B=D22),UdS_data!G:G,0))","v":{"$error":"#DIV/0!"}},{"$f":"SUMIFS(UdS_data!G:G,UdS_data!B:B,D22,UdS_data!C:C,UdS_data!$I$13)","v":0},{"$f":"SUMIFS(UdS_data!G:G,UdS_data!B:B,D22,UdS_data!C:C,UdS_data!$I$16)","v":0},{"$f":"SUMIFS(UdS_data!E:E,UdS_data!B:B,D22,UdS_data!F:F,0)","v":0},{"$error":"#DIV/0!"},{"$error":"#DIV/0!"},0,0,0,0,0,"VALIDADO"]
[null,{"$f":"INDEX(Sistema_Analisado!$A$3:$F$99,MATCH($D23,Sistema_Analisado!$B$3:$B$99,FALSE),MATCH($B$4,Sistema_Analisado!$A$3:$F$3,FALSE))","v":{"$error":"#N/A"}},{"$f":"INDEX(Sistema_Analisado!$A$3:$F$99,MATCH(D23,Sistema_Analisado!$B$3:$B$99,FALSE),MATCH(\"Seq. Corredor\",Sistema_Analisado!$A$3:$F$3,0))","v":{"$error":"#N/A"}},null,{"$f":"MAX(IF((UdS_data!B:B=D23),UdS_data!G:G,0))","v":{"$error":"#DIV/0!"}},{"$f":"SUMIFS(UdS_data!G:G,UdS_data!B:B,D23,UdS_data!C:C,UdS_data!$I$13)","v":0},{"$f":"SUMIFS(UdS_data!G:G,UdS_data!B:B,D23,UdS_data!C:C,UdS_data!$I$16)","v":0},{"$f":"SUMIFS(UdS_data!E:E,UdS_data!B:B,D23,UdS_data!F:F,0)","v":0},{"$error":"#DIV/0!"},{"$error":"#DIV/0!"},0,0,0,0,0,"VALIDADO"]
[null,{"$f":"INDEX(Sistema_Analisado!$A$3:$F$99,MATCH($D24,Sistema_Analisado!$B$3:$B$99,FALSE),MATCH($B$4,Sistema_Analisado!$A$3:$F$3,FALSE))","v":{"$error":"#N/A"}},{"$f":"INDEX(Sistema_Analisado!$A$3:$F$99,MATCH(D24,Sistema_Analisado!$B$3:$B$99,FALSE),MATCH(\"Seq. Corredor\",Sistema_Analisado!$A$3:$F$3,0))","v":{"$error":"#N/A"}},null,{"$f":"MAX(IF((UdS_data!B:B=D24),UdS_data!G:G,0))","v":{"$error":"#DIV/0!"}},{"$f":"SUMIFS(UdS_data!G:G,UdS_data!B:B,D24,UdS_data!C:C,UdS_data!$I$13)","v":0},{"$f":"SUMIFS(UdS_data!G:G,UdS_data!B:B,D24,UdS_data!C:C,UdS_data!$I$16)","v":0},{"$f":"SUMIFS(UdS_data!E:E,UdS_data!B:B,D24,UdS_data!F:F,0)","v":0},{"$error":"#DIV/0!"},{"$error":"#DIV/0!"},0,0,0,0,0,"VALIDADO"]
[null,{"$f":"INDEX(Sistema_Analisado!$A$3:$F$99,MATCH($D25,Sistema_Analisado!$B$3:$B$99,FALSE),MATCH($B$4,Sistema_Analisado!$A$3:$F$3,FALSE))","v":{"$error":"#N/A"}},{"$f":"INDEX(Sistema_Analisado!$A$3:$F$99,MATCH(D25,Sistema_Analisado!$B$3:$B$99,FALSE),MATCH(\"Seq. Corredor\",Sistema_Analisado!$A$3:$F$3,0))","v":{"$error":"#N/A"}},null,{"$f":"MAX(IF((UdS_data!B:B=D25),UdS_data!G:G,0))","v":{"$error":"#DIV/0!"}},{"$f":"SUMIFS(UdS_data!G:G,UdS_data!B:B,D25,UdS_data!C:C,UdS_data!$I$13)","v":0},{"$f":"SUMIFS(UdS_data!G:G,UdS_data!B:B,D25,UdS_data!C:C,UdS_data!$I$16)","v":0},{"$f":"SUMIFS(UdS_data!E:E,UdS_data!B:B,D25,UdS_data!F:F,0)","v":0},{"$error":"#DIV/0!"},{"$error":"#DIV/0!"},0,0,0,0,0,"VALIDADO"]
[null,{"$f":"INDEX(Sistema_Analisado!$A$3:$F$99,MATCH($D26,Sistema_Analisado!$B$3:$B$99,FALSE),MATCH($B$4,Sistema_Analisado!$A$3:$F$3,FALSE))","v":{"$error":"#N/A"}},{"$f":"INDEX(Sistema_Analisado!$A$3:$F$99,MATCH(D26,Sistema_Analisado!$B$3:$B$99,FALSE),MATCH(\"Seq. Corredor\",Sistema_Analisado!$A$3:$F$3,0))","v":{"$error":"#N/A"}},null,{"$f":"MAX(IF((UdS_data!B:B=D26),UdS_data!G:G,0))","v":{"$error":"#DIV/0!"}},{"$f":"SUMIFS(UdS_data!G:G,UdS_data!B:B,D26,UdS_data!C:C,UdS_data!$I$13)","v":0},{"$f":"SUMIFS(UdS_data!G:G,UdS_data!B:B,D26,UdS_data!C:C,UdS_data!$I$16)","v":0},{"$f":"SUMIFS(UdS_data!E:E,UdS_data!B:B,D26,UdS_data!F:F,0)","v":0},{"$error":"#DIV/0!"},{"$error":"#DIV/0!"},0,0,0,0,0,"VALIDADO"]
[null,{"$f":"INDEX(Sistema_Analisado!$A$3:$F$99,MATCH($D27,Sistema_Analisado!$B$3:$B$99,FALSE),MATCH($B$4,Sistema_Analisado!$A$3:$F$3,FALSE))","v":{"$error":"#N/A"}},{"$f":"INDEX(Sistema_Analisado!$A$3:$F$99,MATCH(D27,Sistema_Analisado!$B$3:$B$99,FALSE),MATCH(\"Seq. Corredor\",Sistema_Analisado!$A$3:$F$3,0))","v":{"$error":"#N/A"}},null,{"$f":"MAX(IF((UdS_data!B:B=D27),UdS_data!G:G,0))","v":{"$error":"#DIV/0!"}},{"$f":"SUMIFS(UdS_data!G:G,UdS_data!B:B,D27,UdS_data!C:C,UdS_data!$I$13)","v":0},{"$f":"SUMIFS(UdS_data!G:G,UdS_data!B:B,D27,UdS_data!C:C,UdS_data!$I$16)","v":0},{"$f":"SUMIFS(UdS_data!E:E,UdS_data!B:B,D27,UdS_data!F:F,0)","v":0},{"$error":"#DIV/0!"},{"$error":"#DIV/0!"},0,0,0,0,0,"VALIDADO"]
[null,{"$f":"INDEX(Sistema_Analisado!$A$3:$F$99,MATCH($D28,Sistema_Analisado!$B$3:$B$99,FALSE),MATCH($B$4,Sistema_Analisado!$A$3:$F$3,FALSE))","v":{"$error":"#N/A"}},{"$f":"INDEX(Sistema_Analisado!$A$3:$F$99,MATCH(D28,Sistema_Analisado!$B$3:$B$99,FALSE),MATCH(\"Seq. Corredor\",Sistema_Analisado!$A$3:$F$3,0))","v":{"$error":"#N/A"}},null,{"$f":"MAX(IF((UdS_data!B:B=D28),UdS_data!G:G,0))","v":{"$error":"#DIV/0!"}},{"$f":"SUMIFS(UdS_data!G:G,UdS_data!B:B,D28,UdS_data!C:C,UdS_data!$I$13)","v":0},{"$f":"SUMIFS(UdS_data!G:G,UdS_data!B:B,D28,UdS_data!C:C,UdS_data!$I$16)","v":0},{"$f":"SUMIFS(UdS_data!E:E,UdS_data!B:B,D28,UdS_data!F:F,0)","v":0},{"$error":"#DIV/0!"},{"$error":"#DIV/0!"},0,0,0,0,0,"VALIDADO"]
[null,{"$f":"INDEX(Sistema_Analisado!$A$3:$F$99,MATCH($D29,Sistema_Analisado!$B$3:$B$99,FALSE),MATCH($B$4,Sistema_Analisado!$A$3:$F$3,FALSE))","v":{"$error":"#N/A"}},{"$f":"INDEX(Sistema_Analisado!$A$3:$F$99,MATCH(D29,Sistema_Analisado!$B$3:$B$99,FALSE),MATCH(\"Seq. Corredor\",Sistema_Analisado!$A$3:$F$3,0))","v":{"$error":"#N/A"}},null,{"$f":"MAX(IF((UdS_data!B:B=D29),UdS_data!G:G,0))","v":{"$error":"#DIV/0!"}},{"$f":"SUMIFS(UdS_data!G:G,UdS_data!B:B,D29,UdS_data!C:C,UdS_data!$I$13)","v":0},{"$f":"SUMIFS(UdS_data!G:G,UdS_data!B:B,D29,UdS_data!C:C,UdS_data!$I$16)","v":0},{"$f":"SUMIFS(UdS_data!E:E,UdS_data!B:B,D29,UdS_data!F:F,0)","v":0},{"$error":"#DIV/0!"},{"$error":"#DIV/0!"},0,0,0,0,0,"VALIDADO"]
[null,{"$f":"INDEX(Sistema_Analisado!$A$3:$F$99,MATCH($D30,Sistema_Analisado!$B$3:$B$99,FALSE),MATCH($B$4,Sistema_Analisado!$A$3:$F$3,FALSE))","v":{"$error":"#N/A"}},{"$f":"INDEX(Sistema_Analisado!$A$3:$F$99,MATCH(D30,Sistema_Analisado!$B$3:$B$99,FALSE),MATCH(\"Seq. Corredor\",Sistema_Analisado!$A$3:$F$3,0))","v":{"$error":"#N/A"}},null,{"$f":"MAX(IF((UdS_data!B:B=D30),UdS_data!G:G,0))","v":{"$error":"#DIV/0!"}},{"$f":"SUMIFS(UdS_data!G:G,UdS_data!B:B,D30,UdS_data!C:C,UdS_data!$I$13)","v":0},{"$f":"SUMIFS(UdS_data!G:G,UdS_data!B:B,D30,UdS_data!C:C,UdS_data!$I$16)","v":0},{"$f":"SUMIFS(UdS_data!E:E,UdS_data!B:B,D30,UdS_data!F:F,0)","v":0},{"$error":"#DIV/0!"},{"$error":"#DIV/0!"},0,0,0,0,0,"VALIDADO"]
[null,{"$f":"INDEX(Sistema_Analisado!$A$3:$F$99,MATCH($D31,Sistema_Analisado!$B$3:$B$99,FALSE),MATCH($B$4,Sistema_Analisado!$A$3:$F$3,FALSE))","v":{"$error":"#N/A"}},{"$f":"INDEX(Sistema_Analisado!$A$3:$F$99,MATCH(D31,Sistema_Analisado!$B$3:$B$99,FALSE),MATCH(\"Seq. Corredor\",Sistema_Analisado!$A$3:$F$3,0))","v":{"$error":"#N/A"}},null,{"$f":"MAX(IF((UdS_data!B:B=D31),UdS_data!G:G,0))","v":{"$error":"#DIV/0!"}},{"$f":"SUMIFS(UdS_data!G:G,UdS_data!B:B,D31,UdS_data!C:C,UdS_data!$I$13)","v":0},{"$f":"SUMIFS(UdS_data!G:G,UdS_data!B:B,D31,UdS_data!C:C,UdS_data!$I$16)","v":0},{"$f":"SUMIFS(UdS_data!E:E,UdS_data!B:B,D31,UdS_data!F:F,0)","v":0},{"$error":"#DIV/0!"},{"$error":"#DIV/0!"},0,0,0,0,0,"VALIDADO"]
[null,{"$f":"INDEX(Sistema_Analisado!$A$3:$F$99,MATCH($D32,Sistema_Analisado!$B$3:$B$99,FALSE),MATCH($B$4,Sistema_Analisado!$A$3:$F$3,FALSE))","v":{"$error":"#N/A"}},{"$f":"INDEX(Sistema_Analisado!$A$3:$F$99,MATCH(D32,Sistema_Analisado!$B$3:$B$99,FALSE),MATCH(\"Seq. Corredor\",Sistema_Analisado!$A$3:$F$3,0))","v":{"$error":"#N/A"}},null,{"$f":"MAX(IF((UdS_data!B:B=D32),UdS_data!G:G,0))","v":{"$error":"#DIV/0!"}},{"$f":"SUMIFS(UdS_data!G:G,UdS_data!B:B,D32,UdS_data!C:C,UdS_data!$I$13)","v":0},{"$f":"SUMIFS(UdS_data!G:G,UdS_data!B:B,D32,UdS_data!C:C,UdS_data!$I$16)","v":0},{"$f":"SUMIFS(UdS_data!E:E,UdS_data!B:B,D32,UdS_data!F:F,0)","v":0},{"$error":"#DIV/0!"},{"$error":"#DIV/0!"},0,0,0,0,0,"VALIDADO"]
[null,{"$f":"INDEX(Sistema_Analisado!$A$3:$F$99,MATCH($D33,Sistema_Analisado!$B$3:$B$99,FALSE),MATCH($B$4,Sistema_Analisado!$A$3:$F$3,FALSE))","v":{"$error":"#N/A"}},{"$f":"INDEX(Sistema_Analisado!$A$3:$F$99,MATCH(D33,Sistema_Analisado!$B$3:$B$99,FALSE),MATCH(\"Seq. Corredor\",Sistema_Analisado!$A$3:$F$3,0))","v":{"$error":"#N/A"}},null,{"$f":"MAX(IF((UdS_data!B:B=D33),UdS_data!G:G,0))","v":{"$error":"#DIV/0!"}},{"$f":"SUMIFS(UdS_data!G:G,UdS_data!B:B,D33,UdS_data!C:C,UdS_data!$I$13)","v":0},{"$f":"SUMIFS(UdS_data!G:G,UdS_data!B:B,D33,UdS_data!C:C,UdS_data!$I$16)","v":0},{"$f":"SUMIFS(UdS_data!E:E,UdS_data!B:B,D33,UdS_data!F:F,0)","v":0},{"$error":"#DIV/0!"},{"$error":"#DIV/0!"},0,0,0,0,0,"VALIDADO"]
[null,{"$f":"INDEX(Sistema_Analisado!$A$3:$F$99,MATCH($D34,Sistema_Analisado!$B$3:$B$99,FALSE),MATCH($B$4,Sistema_Analisado!$A$3:$F$3,FALSE))","v":{"$error":"#N/A"}},{"$f":"INDEX(Sistema_Analisado!$A$3:$F$99,MATCH(D34,Sistema_Analisado!$B$3:$B$99,FALSE),MATCH(\"Seq. Corredor\",Sistema_Analisado!$A$3:$F$3,0))","v":{"$error":"#N/A"}},null,{"$f":"MAX(IF((UdS_data!B:B=D34),UdS_data!G:G,0))","v":{"$error":"#DIV/0!"}},{"$f":"SUMIFS(UdS_data!G:G,UdS_data!B:B,D34,UdS_data!C:C,UdS_data!$I$13)","v":0},{"$f":"SUMIFS(UdS_data!G:G,UdS_data!B:B,D34,UdS_data!C:C,UdS_data!$I$16)","v":0},{"$f":"SUMIFS(UdS_data!E:E,UdS_data!B:B,D34,UdS_data!F:F,0)","v":0},{"$error":"#DIV/0!"},{"$error":"#DIV/0!"},0,0,0,0,0,"VALIDADO"]
[null,{"$f":"INDEX(Sistema_Analisado!$A$3:$F$99,MATCH($D35,Sistema_Analisado!$B$3:$B$99,FALSE),MATCH($B$4,Sistema_Analisado!$A$3:$F$3,FALSE))","v":{"$error":"#N/A"}},{"$f":"INDEX(Sistema_Analisado!$A$3:$F$99,MATCH(D35,Sistema_Analisado!$B$3:$B$99,FALSE),MATCH(\"Seq. Corredor\",Sistema_Analisado!$A$3:$F$3,0))","v":{"$error":"#N/A"}},null,{"$f":"MAX(IF((UdS_data!B:B=D35),UdS_data!G:G,0))","v":{"$error":"#DIV/0!"}},{"$f":"SUMIFS(UdS_data!G:G,UdS_data!B:B,D35,UdS_data!C:C,UdS_data!$I$13)","v":0},{"$f":"SUMIFS(UdS_data!G:G,UdS_data!B:B,D35,UdS_data!C:C,UdS_data!$I$16)","v":0},{"$f":"SUMIFS(UdS_data!E:E,UdS_data!B:B,D35,UdS_data!F:F,0)","v":0},{"$error":"#DIV/0!"},{"$error":"#DIV/0!"},0,0,0,0,0,"VALIDADO"]
[null,{"$f":"INDEX(Sistema_Analisado!$A$3:$F$99,MATCH($D36,Sistema_Analisado!$B$3:$B$99,FALSE),MATCH($B$4,Sistema_Analisado!$A$3:$F$3,FALSE))","v":{"$error":"#N/A"}},{"$f":"INDEX(Sistema_Analisado!$A$3:$F$99,MATCH(D36,Sistema_Analisado!$B$3:$B$99,FALSE),MATCH(\"Seq. Corredor\",Sistema_Analisado!$A$3:$F$3,0))","v":{"$error":"#N/A"}},null,{"$f":"MAX(IF((UdS_data!B:B=D36),UdS_data!G:G,0))","v":{"$error":"#DIV/0!"}},{"$f":"SUMIFS(UdS_data!G:G,UdS_data!B:B,D36,UdS_data!C:C,UdS_data!$I$13)","v":0},{"$f":"SUMIFS(UdS_data!G:G,UdS_data!B:B,D36,UdS_data!C:C,UdS_data!$I$16)","v":0},{"$f":"SUMIFS(UdS_data!E:E,UdS_data!B:B,D36,UdS_data!F:F,0)","v":0},{"$error":"#DIV/0!"},{"$error":"#DIV/0!"},0,0,0,0,0,"VALIDADO"]
[null,{"$f":"INDEX(Sistema_Analisado!$A$3:$F$99,MATCH($D37,Sistema_Analisado!$B$3:$B$99,FALSE),MATCH($B$4,Sistema_Analisado!$A$3:$F$3,FALSE))","v":{"$error":"#N/A"}},{"$f":"INDEX(Sistema_Analisado!$A$3:$F$99,MATCH(D37,Sistema_Analisado!$B$3:$B$99,FALSE),MATCH(\"Seq. Corredor\",Sistema_Analisado!$A$3:$F$3,0))","v":{"$error":"#N/A"}},null,{"$f":"MAX(IF((UdS_data!B:B=D37),UdS_data!G:G,0))","v":{"$error":"#DIV/0!"}},{"$f":"SUMIFS(UdS_data!G:G,UdS_data!B:B,D37,UdS_data!C:C,UdS_data!$I$13)","v":0},{"$f":"SUMIFS(UdS_data!G:G,UdS_data!B:B,D37,UdS_data!C:C,UdS_data!$I$16)","v":0},{"$f":"SUMIFS(UdS_data!E:E,UdS_data!B:B,D37,UdS_data!F:F,0)","v":0},{"$f":"E37","v":{"$error":"#DIV/0!"}},{"$error":"#DIV/0!"},{"$f":"F37","v":0},0,{"$f":"G37","v":0},0,{"$f":"H37","v":0},"VALIDADO"]
[null,{"$f":"INDEX(Sistema_Analisado!$A$3:$F$99,MATCH($D38,Sistema_Analisado!$B$3:$B$99,FALSE),MATCH($B$4,Sistema_Analisado!$A$3:$F$3,FALSE))","v":{"$error":"#N/A"}},{"$f":"INDEX(Sistema_Analisado!$A$3:$F$99,MATCH(D38,Sistema_Analisado!$B$3:$B$99,FALSE),MATCH(\"Seq. Corredor\",Sistema_Analisado!$A$3:$F$3,0))","v":{"$error":"#N/A"}},null,{"$f":"MAX(IF((UdS_data!B:B=D38),UdS_data!G:G,0))","v":{"$error":"#DIV/0!"}},{"$f":"SUMIFS(UdS_data!G:G,UdS_data!B:B,D38,UdS_data!C:C,UdS_data!$I$13)","v":0},{"$f":"SUMIFS(UdS_data!G:G,UdS_data!B:B,D38,UdS_data!C:C,UdS_data!$I$16)","v":0},{"$f":"SUMIFS(UdS_data!E:E,UdS_data!B:B,D38,UdS_data!F:F,0)","v":0},{"$error":"#DIV/0!"},{"$error":"#DIV/0!"},0,0,0,0,0,"VALIDADO"]
[null,{"$f":"INDEX(Sistema_Analisado!$A$3:$F$99,MATCH($D39,Sistema_Analisado!$B$3:$B$99,FALSE),MATCH($B$4,Sistema_Analisado!$A$3:$F$3,FALSE))","v":{"$error":"#N/A"}},{"$f":"INDEX(Sistema_Analisado!$A$3:$F$99,MATCH(D39,Sistema_Analisado!$B$3:$B$99,FALSE),MATCH(\"Seq. Corredor\",Sistema_Analisado!$A$3:$F$3,0))","v":{"$error":"#N/A"}},null,{"$f":"MAX(IF((UdS_data!B:B=D39),UdS_data!G:G,0))","v":{"$error":"#DIV/0!"}},{"$f":"SUMIFS(UdS_data!G:G,UdS_data!B:B,D39,UdS_data!C:C,UdS_data!$I$13)","v":0},{"$f":"SUMIFS(UdS_data!G:G,UdS_data!B:B,D39,UdS_data!C:C,UdS_data!$I$16)","v":0},{"$f":"SUMIFS(UdS_data!E:E,UdS_data!B:B,D39,UdS_data!F:F,0)","v":0},{"$error":"#DIV/0!"},{"$error":"#DIV/0!"},0,0,0,0,0,"VALIDADO"]
[null,{"$f":"INDEX(Sistema_Analisado!$A$3:$F$99,MATCH($D40,Sistema_Analisado!$B$3:$B$99,FALSE),MATCH($B$4,Sistema_Analisado!$A$3:$F$3,FALSE))","v":{"$error":"#N/A"}},{"$f":"INDEX(Sistema_Analisado!$A$3:$F$99,MATCH(D40,Sistema_Analisado!$B$3:$B$99,FALSE),MATCH(\"Seq. Corredor\",Sistema_Analisado!$A$3:$F$3,0))","v":{"$error":"#N/A"}},null,{"$f":"MAX(IF((UdS_data!B:B=D40),UdS_data!G:G,0))","v":{"$error":"#DIV/0!"}},{"$f":"SUMIFS(UdS_data!G:G,UdS_data!B:B,D40,UdS_data!C:C,UdS_data!$I$13)","v":0},{"$f":"SUMIFS(UdS_data!G:G,UdS_data!B:B,D40,UdS_data!C:C,UdS_data!$I$16)","v":0},{"$f":"SUMIFS(UdS_data!E:E,UdS_data!B:B,D40,UdS_data!F:F,0)","v":0},{"$error":"#DIV/0!"},{"$error":"#DIV/0!"},0,0,0,0,0,"VALIDADO"]
[null,{"$f":"INDEX(Sistema_Analisado!$A$3:$F$99,MATCH($D41,Sistema_Analisado!$B$3:$B$99,FALSE),MATCH($B$4,Sistema_Analisado!$A$3:$F$3,FALSE))","v":{"$error":"#N/A"}},{"$f":"INDEX(Sistema_Analisado!$A$3:$F$99,MATCH(D41,Sistema_Analisado!$B$3:$B$99,FALSE),MATCH(\"Seq. Corredor\",Sistema_Analisado!$A$3:$F$3,0))","v":{"$error":"#N/A"}},null,{"$f":"MAX(IF((UdS_data!B:B=D41),UdS_data!G:G,0))","v":{"$error":"#DIV/0!"}},{"$f":"SUMIFS(UdS_data!G:G,UdS_data!B:B,D41,UdS_data!C:C,UdS_data!$I$13)","v":0},{"$f":"SUMIFS(UdS_data!G:G,UdS_data!B:B,D41,UdS_data!C:C,UdS_data!$I$16)","v":0},{"$f":"SUMIFS(UdS_data!E:E,UdS_data!B:B,D41,UdS_data!F:F,0)","v":0},{"$error":"#DIV/0!"},{"$error":"#DIV/0!"},0,0,0,0,0,"VALIDADO"]
[null,{"$f":"INDEX(Sistema_Analisado!$A$3:$F$99,MATCH($D42,Sistema_Analisado!$B$3:$B$99,FALSE),MATCH($B$4,Sistema_Analisado!$A$3:$F$3,FALSE))","v":{"$error":"#N/A"}},{"$f":"INDEX(Sistema_Analisado!$A$3:$F$99,MATCH(D42,Sistema_Analisado!$B$3:$B$99,FALSE),MATCH(\"Seq. Corredor\",Sistema_Analisado!$A$3:$F$3,0))","v":{"$error":"#N/A"}},null,{"$f":"MAX(IF((UdS_data!B:B=D42),UdS_data!G:G,0))","v":{"$error":"#DIV/0!"}},{"$f":"SUMIFS(UdS_data!G:G,UdS_data!B:B,D42,UdS_data!C:C,UdS_data!$I$13)","v":0},{"$f":"SUMIFS(UdS_data!G:G,UdS_data!B:B,D42,UdS_data!C:C,UdS_data!$I$16)","v":0},{"$f":"SUMIFS(UdS_data!E:E,UdS_data!B:B,D42,UdS_data!F:F,0)","v":0},{"$error":"#DIV/0!"},{"$error":"#DIV/0!"},0,0,0,0,0,"VALIDADO"]
[null,{"$f":"INDEX(Sistema_Analisado!$A$3:$F$99,MATCH($D43,Sistema_Analisado!$B$3:$B$99,FALSE),MATCH($B$4,Sistema_Analisado!$A$3:$F$3,FALSE))","v":{"$error":"#N/A"}},{"$f":"INDEX(Sistema_Analisado!$A$3:$F$99,MATCH(D43,Sistema_Analisado!$B$3:$B$99,FALSE),MATCH(\"Seq. Corredor\",Sistema_Analisado!$A$3:$F$3,0))","v":{"$error":"#N/A"}},null,{"$f":"MAX(IF((UdS_data!B:B=D43),UdS_data!G:G,0))","v":{"$error":"#DIV/0!"}},{"$f":"SUMIFS(UdS_data!G:G,UdS_data!B:B,D43,UdS_data!C:C,UdS_data!$I$13)","v":0},{"$f":"SUMIFS(UdS_data!G:G,UdS_data!B:B,D43,UdS_data!C:C,UdS_data!$I$16)","v":0},{"$f":"SUMIFS(UdS_data!E:E,UdS_data!B:B,D43,UdS_data!F:F,0)","v":0},{"$error":"#DIV/0!"},{"$error":"#DIV/0!"},0,0,0,0,0,"VALIDADO"]
[null,{"$f":"INDEX(Sistema_Analisado!$A$3:$F$99,MATCH($D44,Sistema_Analisado!$B$3:$B$99,FALSE),MATCH($B$4,Sistema_Analisado!$A$3:$F$3,FALSE))","v":{"$error":"#N/A"}},{"$f":"INDEX(Sistema_Analisado!$A$3:$F$99,MATCH(D44,Sistema_Analisado!$B$3:$B$99,FALSE),MATCH(\"Seq. Corredor\",Sistema_Analisado!$A$3:$F$3,0))","v":{"$error":"#N/A"}},null,{"$f":"MAX(IF((UdS_data!B:B=D44),UdS_data!G:G,0))","v":{"$error":"#DIV/0!"}},{"$f":"SUMIFS(UdS_data!G:G,UdS_data!B:B,D44,UdS_data!C:C,UdS_data!$I$13)","v":0},{"$f":"SUMIFS(UdS_data!G:G,UdS_data!B:B,D44,UdS_data!C:C,UdS_data!$I$16)","v":0},{"$f":"SUMIFS(UdS_data!E:E,UdS_data!B:B,D44,UdS_data!F:F,0)","v":0},{"$error":"#DIV/0!"},{"$error":"#DIV/0!"},0,0,0,0,0,"VALIDADO"]
[null,{"$f":"INDEX(Sistema_Analisado!$A$3:$F$99,MATCH($D45,Sistema_Analisado!$B$3:$B$99,FALSE),MATCH($B$4,Sistema_Analisado!$A$3:$F$3,FALSE))","v":{"$error":"#N/A"}},{"$f":"INDEX(Sistema_Analisado!$A$3:$F$99,MATCH(D45,Sistema_Analisado!$B$3:$B$99,FALSE),MATCH(\"Seq. Corredor\",Sistema_Analisado!$A$3:$F$3,0))","v":{"$error":"#N/A"}},null,{"$f":"MAX(IF((UdS_data!B:B=D45),UdS_data!G:G,0))","v":{"$error":"#DIV/0!"}},{"$f":"SUMIFS(UdS_data!G:G,UdS_data!B:B,D45,UdS_data!C:C,UdS_data!$I$13)","v":0},{"$f":"SUMIFS(UdS_data!G:G,UdS_data!B:B,D45,UdS_data!C:C,UdS_data!$I$16)","v":0},{"$f":"SUMIFS(UdS_data!E:E,UdS_data!B:B,D45,UdS_data!F:F,0)","v":0},{"$error":"#DIV/0!"},{"$error":"#DIV/0!"},0,0,0,0,0,"VALIDADO"]
[null,{"$f":"INDEX(Sistema_Analisado!$A$3:$F$99,MATCH($D46,Sistema_Analisado!$B$3:$B$99,FALSE),MATCH($B$4,Sistema_Analisado!$A$3:$F$3,FALSE))","v":{"$error":"#N/A"}},{"$f":"INDEX(Sistema_Analisado!$A$3:$F$99,MATCH(D46,Sistema_Analisado!$B$3:$B$99,FALSE),MATCH(\"Seq. Corredor\",Sistema_Analisado!$A$3:$F$3,0))","v":{"$error":"#N/A"}},null,{"$f":"MAX(IF((UdS_data!B:B=D46),UdS_data!G:G,0))","v":{"$error":"#DIV/0!"}},{"$f":"SUMIFS(UdS_data!G:G,UdS_data!B:B,D46,UdS_data!C:C,UdS_data!$I$13)","v":0},{"$f":"SUMIFS(UdS_data!G:G,UdS_data!B:B,D46,UdS_data!C:C,UdS_data!$I$16)","v":0},{"$f":"SUMIFS(UdS_data!E:E,UdS_data!B:B,D46,UdS_data!F:F,0)","v":0},{"$error":"#DIV/0!"},{"$error":"#DIV/0!"},0,0,0,0,0,"VALIDADO"]
[null,{"$f":"INDEX(Sistema_Analisado!$A$3:$F$99,MATCH($D47,Sistema_Analisado!$B$3:$B$99,FALSE),MATCH($B$4,Sistema_Analisado!$A$3:$F$3,FALSE))","v":{"$error":"#N/A"}},{"$f":"INDEX(Sistema_Analisado!$A$3:$F$99,MATCH(D47,Sistema_Analisado!$B$3:$B$99,FALSE),MATCH(\"Seq. Corredor\",Sistema_Analisado!$A$3:$F$3,0))","v":{"$error":"#N/A"}},null,{"$f":"MAX(IF((UdS_data!B:B=D47),UdS_data!G:G,0))","v":{"$error":"#DIV/0!"}},{"$f":"SUMIFS(UdS_data!G:G,UdS_data!B:B,D47,UdS_data!C:C,UdS_data!$I$13)","v":0},{"$f":"SUMIFS(UdS_data!G:G,UdS_data!B:B,D47,UdS_data!C:C,UdS_data!$I$16)","v":0},{"$f":"SUMIFS(UdS_data!E:E,UdS_data!B:B,D47,UdS_data!F:F,0)","v":0},{"$error":"#DIV/0!"},{"$error":"#DIV/0!"},0,0,0,0,0,"VALIDADO"]
[null,{"$f":"INDEX(Sistema_Analisado!$A$3:$F$99,MATCH($D48,Sistema_Analisado!$B$3:$B$99,FALSE),MATCH($B$4,Sistema_Analisado!$A$3:$F$3,FALSE))","v":{"$error":"#N/A"}},{"$f":"INDEX(Sistema_Analisado!$A$3:$F$99,MATCH(D48,Sistema_Analisado!$B$3:$B$99,FALSE),MATCH(\"Seq. Corredor\",Sistema_Analisado!$A$3:$F$3,0))","v":{"$error":"#N/A"}},null,{"$f":"MAX(IF((UdS_data!B:B=D48),UdS_data!G:G,0))","v":{"$error":"#DIV/0!"}},{"$f":"SUMIFS(UdS_data!G:G,UdS_data!B:B,D48,UdS_data!C:C,UdS_data!$I$13)","v":0},{"$f":"SUMIFS(UdS_data!G:G,UdS_data!B:B,D48,UdS_data!C:C,UdS_data!$I$16)","v":0},{"$f":"SUMIFS(UdS_data!E:E,UdS_data!B:B,D48,UdS_data!F:F,0)","v":0},{"$error":"#DIV/0!"},{"$error":"#DIV/0!"},0,0,0,0,0,"VALIDADO"]
[null,{"$f":"INDEX(Sistema_Analisado!$A$3:$F$99,MATCH($D49,Sistema_Analisado!$B$3:$B$99,FALSE),MATCH($B$4,Sistema_Analisado!$A$3:$F$3,FALSE))","v":{"$error":"#N/A"}},{"$f":"INDEX(Sistema_Analisado!$A$3:$F$99,MATCH(D49,Sistema_Analisado!$B$3:$B$99,FALSE),MATCH(\"Seq. Corredor\",Sistema_Analisado!$A$3:$F$3,0))","v":{"$error":"#N/A"}},null,{"$f":"MAX(IF((UdS_data!B:B=D49),UdS_data!G:G,0))","v":{"$error":"#DIV/0!"}},{"$f":"SUMIFS(UdS_data!G:G,UdS_data!B:B,D49,UdS_data!C:C,UdS_data!$I$13)","v":0},{"$f":"SUMIFS(UdS_data!G:G,UdS_data!B:B,D49,UdS_data!C:C,UdS_data!$I$16)","v":0},{"$f":"SUMIFS(UdS_data!E:E,UdS_data!B:B,D49,UdS_data!F:F,0)","v":0},{"$error":"#DIV/0!"},{"$error":"#DIV/0!"},0,0,0,0,0,"VALIDADO"]
[null,{"$f":"INDEX(Sistema_Analisado!$A$3:$F$99,MATCH($D50,Sistema_Analisado!$B$3:$B$99,FALSE),MATCH($B$4,Sistema_Analisado!$A$3:$F$3,FALSE))","v":{"$error":"#N/A"}},{"$f":"INDEX(Sistema_Analisado!$A$3:$F$99,MATCH(D50,Sistema_Analisado!$B$3:$B$99,FALSE),MATCH(\"Seq. Corredor\",Sistema_Analisado!$A$3:$F$3,0))","v":{"$error":"#N/A"}},null,{"$f":"MAX(IF((UdS_data!B:B=D50),UdS_data!G:G,0))","v":{"$error":"#DIV/0!"}},{"$f":"SUMIFS(UdS_data!G:G,UdS_data!B:B,D50,UdS_data!C:C,UdS_data!$I$13)","v":0},{"$f":"SUMIFS(UdS_data!G:G,UdS_data!B:B,D50,UdS_data!C:C,UdS_data!$I$16)","v":0},{"$f":"SUMIFS(UdS_data!E:E,UdS_data!B:B,D50,UdS_data!F:F,0)","v":0},{"$error":"#DIV/0!"},{"$error":"#DIV/0!"},0,0,0,0,0,"VALIDADO"]
[null,{"$f":"INDEX(Sistema_Analisado!$A$3:$F$99,MATCH($D51,Sistema_Analisado!$B$3:$B$99,FALSE),MATCH($B$4,Sistema_Analisado!$A$3:$F$3,FALSE))","v":{"$error":"#N/A"}},{"$f":"INDEX(Sistema_Analisado!$A$3:$F$99,MATCH(D51,Sistema_Analisado!$B$3:$B$99,FALSE),MATCH(\"Seq. Corredor\",Sistema_Analisado!$A$3:$F$3,0))","v":{"$error":"#N/A"}},null,{"$f":"MAX(IF((UdS_data!B:B=D51),UdS_data!G:G,0))","v":{"$error":"#DIV/0!"}},{"$f":"SUMIFS(UdS_data!G:G,UdS_data!B:B,D51,UdS_data!C:C,UdS_data!$I$13)","v":0},{"$f":"SUMIFS(UdS_data!G:G,UdS_data!B:B,D51,UdS_data!C:C,UdS_data!$I$16)","v":0},{"$f":"SUMIFS(UdS_data!E:E,UdS_data!B:B,D51,UdS_data!F:F,0)","v":0},{"$error":"#DIV/0!"},{"$error":"#DIV/0!"},0,0,0,0,0,"VALIDADO"]
[null,{"$f":"INDEX(Sistema_Analisado!$A$3:$F$99,MATCH($D52,Sistema_Analisado!$B$3:$B$99,FALSE),MATCH($B$4,Sistema_Analisado!$A$3:$F$3,FALSE))","v":{"$error":"#N/A"}},{"$f":"INDEX(Sistema_Analisado!$A$3:$F$99,MATCH(D52,Sistema_Analisado!$B$3:$B$99,FALSE),MATCH(\"Seq. Corredor\",Sistema_Analisado!$A$3:$F$3,0))","v":{"$error":"#N/A"}},null,{"$f":"MAX(IF((UdS_data!B:B=D52),UdS_data!G:G,0))","v":{"$error":"#DIV/0!"}},{"$f":"SUMIFS(UdS_data!G:G,UdS_data!B:B,D52,UdS_data!C:C,UdS_data!$I$13)","v":0},{"$f":"SUMIFS(UdS_data!G:G,UdS_data!B:B,D52,UdS_data!C:C,UdS_data!$I$16)","v":0},{"$f":"SUMIFS(UdS_data!E:E,UdS_data!B:B,D52,UdS_data!F:F,0)","v":0},{"$error":"#DIV/0!"},{"$error":"#DIV/0!"},0,0,0,0,0,"VALIDADO"]
[null,{"$f":"INDEX(Sistema_Analisado!$A$3:$F$99,MATCH($D53,Sistema_Analisado!$B$3:$B$99,FALSE),MATCH($B$4,Sistema_Analisado!$A$3:$F$3,FALSE))","v":{"$error":"#N/A"}},{"$f":"INDEX(Sistema_Analisado!$A$3:$F$99,MATCH(D53,Sistema_Analisado!$B$3:$B$99,FALSE),MATCH(\"Seq. Corredor\",Sistema_Analisado!$A$3:$F$3,0))","v":{"$error":"#N/A"}},null,{"$f":"MAX(IF((UdS_data!B:B=D53),UdS_data!G:G,0))","v":{"$error":"#DIV/0!"}},{"$f":"SUMIFS(UdS_data!G:G,UdS_data!B:B,D53,UdS_data!C:C,UdS_data!$I$13)","v":0},{"$f":"SUMIFS(UdS_data!G:G,UdS_data!B:B,D53,UdS_data!C:C,UdS_data!$I$16)","v":0},{"$f":"SUMIFS(UdS_data!E:E,UdS_data!B:B,D53,UdS_data!F:F,0)","v":0},{"$error":"#DIV/0!"},{"$error":"#DIV/0!"},0,0,0,0,0,"VALIDADO"]
[null,{"$f":"INDEX(Sistema_Analisado!$A$3:$F$99,MATCH($D54,Sistema_Analisado!$B$3:$B$99,FALSE),MATCH($B$4,Sistema_Analisado!$A$3:$F$3,FALSE))","v":{"$error":"#N/A"}},{"$f":"INDEX(Sistema_Analisado!$A$3:$F$99,MATCH(D54,Sistema_Analisado!$B$3:$B$99,FALSE),MATCH(\"Seq. Corredor\",Sistema_Analisado!$A$3:$F$3,0))","v":{"$error":"#N/A"}},null,{"$f":"MAX(IF((UdS_data!B:B=D54),UdS_data!G:G,0))","v":{"$error":"#DIV/0!"}},{"$f":"SUMIFS(UdS_data!G:G,UdS_data!B:B,D54,UdS_data!C:C,UdS_data!$I$13)","v":0},{"$f":"SUMIFS(UdS_data!G:G,UdS_data!B:B,D54,UdS_data!C:C,UdS_data!$I$16)","v":0},{"$f":"SUMIFS(UdS_data!E:E,UdS_data!B:B,D54,UdS_data!F:F,0)","v":0},{"$error":"#DIV/0!"},{"$error":"#DIV/0!"},0,0,0,0,0,"VALIDADO"]
[null,{"$f":"INDEX(Sistema_Analisado!$A$3:$F$99,MATCH($D55,Sistema_Analisado!$B$3:$B$99,FALSE),MATCH($B$4,Sistema_Analisado!$A$3:$F$3,FALSE))","v":{"$error":"#N/A"}},{"$f":"INDEX(Sistema_Analisado!$A$3:$F$99,MATCH(D55,Sistema_Analisado!$B$3:$B$99,FALSE),MATCH(\"Seq. Corredor\",Sistema_Analisado!$A$3:$F$3,0))","v":{"$error":"#N/A"}},null,{"$f":"MAX(IF((UdS_data!B:B=D55),UdS_data!G:G,0))","v":{"$error":"#DIV/0!"}},{"$f":"SUMIFS(UdS_data!G:G,UdS_data!B:B,D55,UdS_data!C:C,UdS_data!$I$13)","v":0},{"$f":"SUMIFS(UdS_data!G:G,UdS_data!B:B,D55,UdS_data!C:C,UdS_data!$I$16)","v":0},{"$f":"SUMIFS(UdS_data!E:E,UdS_data!B:B,D55,UdS_data!F:F,0)","v":0},{"$error":"#DIV/0!"},{"$error":"#DIV/0!"},0,0,0,0,0,"VALIDADO"]
[null,{"$f":"INDEX(Sistema_Analisado!$A$3:$F$99,MATCH($D56,Sistema_Analisado!$B$3:$B$99,FALSE),MATCH($B$4,Sistema_Analisado!$A$3:$F$3,FALSE))","v":{"$error":"#N/A"}},{"$f":"INDEX(Sistema_Analisado!$A$3:$F$99,MATCH(D56,Sistema_Analisado!$B$3:$B$99,FALSE),MATCH(\"Seq. Corredor\",Sistema_Analisado!$A$3:$F$3,0))","v":{"$error":"#N/A"}},null,{"$f":"MAX(IF((UdS_data!B:B=D56),UdS_data!G:G,0))","v":{"$error":"#DIV/0!"}},{"$f":"SUMIFS(UdS_data!G:G,UdS_data!B:B,D56,UdS_data!C:C,UdS_data!$I$13)","v":0},{"$f":"SUMIFS(UdS_data!G:G,UdS_data!B:B,D56,UdS_data!C:C,UdS_data!$I$16)","v":0},{"$f":"SUMIFS(UdS_data!E:E,UdS_data!B:B,D56,UdS_data!F:F,0)","v":0},{"$error":"#DIV/0!"},{"$error":"#DIV/0!"},0,0,0,0,0,"VALIDADO"]
[null,{"$f":"INDEX(Sistema_Analisado!$A$3:$F$99,MATCH($D57,Sistema_Analisado!$B$3:$B$99,FALSE),MATCH($B$4,Sistema_Analisado!$A$3:$F$3,FALSE))","v":{"$error":"#N/A"}},{"$f":"INDEX(Sistema_Analisado!$A$3:$F$99,MATCH(D57,Sistema_Analisado!$B$3:$B$99,FALSE),MATCH(\"Seq. Corredor\",Sistema_Analisado!$A$3:$F$3,0))","v":{"$error":"#N/A"}},null,{"$f":"MAX(IF((UdS_data!B:B=D57),UdS_data!G:G,0))","v":{"$error":"#DIV/0!"}},{"$f":"SUMIFS(UdS_data!G:G,UdS_data!B:B,D57,UdS_data!C:C,UdS_data!$I$13)","v":0},{"$f":"SUMIFS(UdS_data!G:G,UdS_data!B:B,D57,UdS_data!C:C,UdS_data!$I$16)","v":0},{"$f":"SUMIFS(UdS_data!E:E,UdS_data!B:B,D57,UdS_data!F:F,0)","v":0},{"$error":"#DIV/0!"},{"$error":"#DIV/0!"},0,0,0,0,0,"VALIDADO"]
[null,{"$f":"INDEX(Sistema_Analisado!$A$3:$F$99,MATCH($D58,Sistema_Analisado!$B$3:$B$99,FALSE),MATCH($B$4,Sistema_Analisado!$A$3:$F$3,FALSE))","v":{"$error":"#N/A"}},{"$f":"INDEX(Sistema_Analisado!$A$3:$F$99,MATCH(D58,Sistema_Analisado!$B$3:$B$99,FALSE),MATCH(\"Seq. Corredor\",Sistema_Analisado!$A$3:$F$3,0))","v":{"$error":"#N/A"}},null,{"$f":"MAX(IF((UdS_data!B:B=D58),UdS_data!G:G,0))","v":{"$error":"#DIV/0!"}},{"$f":"SUMIFS(UdS_data!G:G,UdS_data!B:B,D58,UdS_data!C:C,UdS_data!$I$13)","v":0},{"$f":"SUMIFS(UdS_data!G:G,UdS_data!B:B,D58,UdS_data!C:C,UdS_data!$I$16)","v":0},{"$f":"SUMIFS(UdS_data!E:E,UdS_data!B:B,D58,UdS_data!F:F,0)","v":0},{"$error":"#DIV/0!"},{"$error":"#DIV/0!"},0,0,0,0,0,"VALIDADO"]
[null,{"$f":"INDEX(Sistema_Analisado!$A$3:$F$99,MATCH($D59,Sistema_Analisado!$B$3:$B$99,FALSE),MATCH($B$4,Sistema_Analisado!$A$3:$F$3,FALSE))","v":{"$error":"#N/A"}},{"$f":"INDEX(Sistema_Analisado!$A$3:$F$99,MATCH(D59,Sistema_Analisado!$B$3:$B$99,FALSE),MATCH(\"Seq. Corredor\",Sistema_Analisado!$A$3:$F$3,0))","v":{"$error":"#N/A"}},null,{"$f":"MAX(IF((UdS_data!B:B=D59),UdS_data!G:G,0))","v":{"$error":"#DIV/0!"}},{"$f":"SUMIFS(UdS_data!G:G,UdS_data!B:B,D59,UdS_data!C:C,UdS_data!$I$13)","v":0},{"$f":"SUMIFS(UdS_data!G:G,UdS_data!B:B,D59,UdS_data!C:C,UdS_data!$I$16)","v":0},{"$f":"SUMIFS(UdS_data!E:E,UdS_data!B:B,D59,UdS_data!F:F,0)","v":0},{"$error":"#DIV/0!"},{"$error":"#DIV/0!"},0,0,0,0,0,"VALIDADO"]
[null,{"$f":"INDEX(Sistema_Analisado!$A$3:$F$99,MATCH($D60,Sistema_Analisado!$B$3:$B$99,FALSE),MATCH($B$4,Sistema_Analisado!$A$3:$F$3,FALSE))","v":{"$error":"#N/A"}},{"$f":"INDEX(Sistema_Analisado!$A$3:$F$99,MATCH(D60,Sistema_Analisado!$B$3:$B$99,FALSE),MATCH(\"Seq. Corredor\",Sistema_Analisado!$A$3:$F$3,0))","v":{"$error":"#N/A"}},null,{"$f":"MAX(IF((UdS_data!B:B=D60),UdS_data!G:G,0))","v":{"$error":"#DIV/0!"}},{"$f":"SUMIFS(UdS_data!G:G,UdS_data!B:B,D60,UdS_data!C:C,UdS_data!$I$13)","v":0},{"$f":"SUMIFS(UdS_data!G:G,UdS_data!B:B,D60,UdS_data!C:C,UdS_data!$I$16)","v":0},{"$f":"SUMIFS(UdS_data!E:E,UdS_data!B:B,D60,UdS_data!F:F,0)","v":0},{"$error":"#DIV/0!"},{"$error":"#DIV/0!"},0,0,0,0,0,"VALIDADO"]
[null,{"$f":"INDEX(Sistema_Analisado!$A$3:$F$99,MATCH($D61,Sistema_Analisado!$B$3:$B$99,FALSE),MATCH($B$4,Sistema_Analisado!$A$3:$F$3,FALSE))","v":{"$error":"#N/A"}},{"$f":"INDEX(Sistema_Analisado!$A$3:$F$99,MATCH(D61,Sistema_Analisado!$B$3:$B$99,FALSE),MATCH(\"Seq. Corredor\",Sistema_Analisado!$A$3:$F$3,0))","v":{"$error":"#N/A"}},null,{"$f":"MAX(IF((UdS_data!B:B=D61),UdS_data!G:G,0))","v":{"$error":"#DIV/0!"}},{"$f":"SUMIFS(UdS_data!G:G,UdS_data!B:B,D61,UdS_data!C:C,UdS_data!$I$13)","v":0},{"$f":"SUMIFS(UdS_data!G:G,UdS_data!B:B,D61,UdS_data!C:C,UdS_data!$I$16)","v":0},{"$f":"SUMIFS(UdS_data!E:E,UdS_data!B:B,D61,UdS_data!F:F,0)","v":0},{"$error":"#DIV/0!"},{"$error":"#DIV/0!"},0,0,0,0,0,"VALIDADO"]
[null,{"$f":"INDEX(Sistema_Analisado!$A$3:$F$99,MATCH($D62,Sistema_Analisado!$B$3:$B$99,FALSE),MATCH($B$4,Sistema_Analisado!$A$3:$F$3,FALSE))","v":{"$error":"#N/A"}},{"$f":"INDEX(Sistema_Analisado!$A$3:$F$99,MATCH(D62,Sistema_Analisado!$B$3:$B$99,FALSE),MATCH(\"Seq. Corredor\",Sistema_Analisado!$A$3:$F$3,0))","v":{"$error":"#N/A"}},null,{"$f":"MAX(IF((UdS_data!B:B=D62),UdS_data!G:G,0))","v":{"$error":"#DIV/0!"}},{"$f":"SUMIFS(UdS_data!G:G,UdS_data!B:B,D62,UdS_data!C:C,UdS_data!$I$13)","v":0},{"$f":"SUMIFS(UdS_data!G:G,UdS_data!B:B,D62,UdS_data!C:C,UdS_data!$I$16)","v":0},{"$f":"SUMIFS(UdS_data!E:E,UdS_data!B:B,D62,UdS_data!F:F,0)","v":0},{"$error":"#DIV/0!"},{"$error":"#DIV/0!"},0,0,0,0,0,"VALIDADO"]
[null,{"$f":"INDEX(Sistema_Analisado!$A$3:$F$99,MATCH($D63,Sistema_Analisado!$B$3:$B$99,FALSE),MATCH($B$4,Sistema_Analisado!$A$3:$F$3,FALSE))","v":{"$error":"#N/A"}},{"$f":"INDEX(Sistema_Analisado!$A$3:$F$99,MATCH(D63,Sistema_Analisado!$B$3:$B$99,FALSE),MATCH(\"Seq. Corredor\",Sistema_Analisado!$A$3:$F$3,0))","v":{"$error":"#N/A"}},null,{"$f":"MAX(IF((UdS_data!B:B=D63),UdS_data!G:G,0))","v":{"$error":"#DIV/0!"}},{"$f":"SUMIFS(UdS_data!G:G,UdS_data!B:B,D63,UdS_data!C:C,UdS_data!$I$13)","v":0},{"$f":"SUMIFS(UdS_data!G:G,UdS_data!B:B,D63,UdS_data!C:C,UdS_data!$I$16)","v":0},{"$f":"SUMIFS(UdS_data!E:E,UdS_data!B:B,D63,UdS_data!F:F,0)","v":0},{"$error":"#DIV/0!"},{"$error":"#DIV/0!"},0,0,0,0,0,"VALIDADO"]
[null,{"$f":"INDEX(Sistema_Analisado!$A$3:$F$99,MATCH($D64,Sistema_Analisado!$B$3:$B$99,FALSE),MATCH($B$4,Sistema_Analisado!$A$3:$F$3,FALSE))","v":{"$error":"#N/A"}},{"$f":"INDEX(Sistema_Analisado!$A$3:$F$99,MATCH(D64,Sistema_Analisado!$B$3:$B$99,FALSE),MATCH(\"Seq. Corredor\",Sistema_Analisado!$A$3:$F$3,0))","v":{"$error":"#N/A"}},null,{"$f":"MAX(IF((UdS_data!B:B=D64),UdS_data!G:G,0))","v":{"$error":"#DIV/0!"}},{"$f":"SUMIFS(UdS_data!G:G,UdS_data!B:B,D64,UdS_data!C:C,UdS_data!$I$13)","v":0},{"$f":"SUMIFS(UdS_data!G:G,UdS_data!B:B,D64,UdS_data!C:C,UdS_data!$I$16)","v":0},{"$f":"SUMIFS(UdS_data!E:E,UdS_data!B:B,D64,UdS_data!F:F,0)","v":0},{"$error":"#DIV/0!"},{"$error":"#DIV/0!"},0,0,0,0,0,"VALIDADO"]
[null,{"$f":"INDEX(Sistema_Analisado!$A$3:$F$99,MATCH($D65,Sistema_Analisado!$B$3:$B$99,FALSE),MATCH($B$4,Sistema_Analisado!$A$3:$F$3,FALSE))","v":{"$error":"#N/A"}},{"$f":"INDEX(Sistema_Analisado!$A$3:$F$99,MATCH(D65,Sistema_Analisado!$B$3:$B$99,FALSE),MATCH(\"Seq. Corredor\",Sistema_Analisado!$A$3:$F$3,0))","v":{"$error":"#N/A"}},null,{"$f":"MAX(IF((UdS_data!B:B=D65),UdS_data!G:G,0))","v":{"$error":"#DIV/0!"}},{"$f":"SUMIFS(UdS_data!G:G,UdS_data!B:B,D65,UdS_data!C:C,UdS_data!$I$13)","v":0},{"$f":"SUMIFS(UdS_data!G:G,UdS_data!B:B,D65,UdS_data!C:C,UdS_data!$I$16)","v":0},{"$f":"SUMIFS(UdS_data!E:E,UdS_data!B:B,D65,UdS_data!F:F,0)","v":0},{"$error":"#DIV/0!"},{"$error":"#DIV/0!"},0,0,0,0,0,"VALIDADO"]
[null,{"$f":"INDEX(Sistema_Analisado!$A$3:$F$99,MATCH($D66,Sistema_Analisado!$B$3:$B$99,FALSE),MATCH($B$4,Sistema_Analisado!$A$3:$F$3,FALSE))","v":{"$error":"#N/A"}},{"$f":"INDEX(Sistema_Analisado!$A$3:$F$99,MATCH(D66,Sistema_Analisado!$B$3:$B$99,FALSE),MATCH(\"Seq. Corredor\",Sistema_Analisado!$A$3:$F$3,0))","v":{"$error":"#N/A"}},null,{"$f":"MAX(IF((UdS_data!B:B=D66),UdS_data!G:G,0))","v":{"$error":"#DIV/0!"}},{"$f":"SUMIFS(UdS_data!G:G,UdS_data!B:B,D66,UdS_data!C:C,UdS_data!$I$13)","v":0},{"$f":"SUMIFS(UdS_data!G:G,UdS_data!B:B,D66,UdS_data!C:C,UdS_data!$I$16)","v":0},{"$f":"SUMIFS(UdS_data!E:E,UdS_data!B:B,D66,UdS_data!F:F,0)","v":0},{"$error":"#DIV/0!"},{"$error":"#DIV/0!"},0,0,0,0,0,"VALIDADO"]
[null,{"$f":"INDEX(Sistema_Analisado!$A$3:$F$99,MATCH($D67,Sistema_Analisado!$B$3:$B$99,FALSE),MATCH($B$4,Sistema_Analisado!$A$3:$F$3,FALSE))","v":{"$error":"#N/A"}},{"$f":"INDEX(Sistema_Analisado!$A$3:$F$99,MATCH(D67,Sistema_Analisado!$B$3:$B$99,FALSE),MATCH(\"Seq. Corredor\",Sistema_Analisado!$A$3:$F$3,0))","v":{"$error":"#N/A"}},null,{"$f":"MAX(IF((UdS_data!B:B=D67),UdS_data!G:G,0))","v":{"$error":"#DIV/0!"}},{"$f":"SUMIFS(UdS_data!G:G,UdS_data!B:B,D67,UdS_data!C:C,UdS_data!$I$13)","v":0},{"$f":"SUMIFS(UdS_data!G:G,UdS_data!B:B,D67,UdS_data!C:C,UdS_data!$I$16)","v":0},{"$f":"SUMIFS(UdS_data!E:E,UdS_data!B:B,D67,UdS_data!F:F,0)","v":0},{"$error":"#DIV/0!"},{"$error":"#DIV/0!"},0,0,0,0,0,"VALIDADO"]
[null,{"$f":"INDEX(Sistema_Analisado!$A$3:$F$99,MATCH($D68,Sistema_Analisado!$B$3:$B$99,FALSE),MATCH($B$4,Sistema_Analisado!$A$3:$F$3,FALSE))","v":{"$error":"#N/A"}},{"$f":"INDEX(Sistema_Analisado!$A$3:$F$99,MATCH(D68,Sistema_Analisado!$B$3:$B$99,FALSE),MATCH(\"Seq. Corredor\",Sistema_Analisado!$A$3:$F$3,0))","v":{"$error":"#N/A"}},null,{"$f":"MAX(IF((UdS_data!B:B=D68),UdS_data!G:G,0))","v":{"$error":"#DIV/0!"}},{"$f":"SUMIFS(UdS_data!G:G,UdS_data!B:B,D68,UdS_data!C:C,UdS_data!$I$13)","v":0},{"$f":"SUMIFS(UdS_data!G:G,UdS_data!B:B,D68,UdS_data!C:C,UdS_data!$I$16)","v":0},{"$f":"SUMIFS(UdS_data!E:E,UdS_data!B:B,D68,UdS_data!F:F,0)","v":0},{"$error":"#DIV/0!"},{"$error":"#DIV/0!"},0,0,0,0,0,"VALIDADO"]
[null,{"$f":"INDEX(Sistema_Analisado!$A$3:$F$99,MATCH($D69,Sistema_Analisado!$B$3:$B$99,FALSE),MATCH($B$4,Sistema_Analisado!$A$3:$F$3,FALSE))","v":{"$error":"#N/A"}},{"$f":"INDEX(Sistema_Analisado!$A$3:$F$99,MATCH(D69,Sistema_Analisado!$B$3:$B$99,FALSE),MATCH(\"Seq. Corredor\",Sistema_Analisado!$A$3:$F$3,0))","v":{"$error":"#N/A"}},null,{"$f":"MAX(IF((UdS_data!B:B=D69),UdS_data!G:G,0))","v":{"$error":"#DIV/0!"}},{"$f":"SUMIFS(UdS_data!G:G,UdS_data!B:B,D69,UdS_data!C:C,UdS_data!$I$13)","v":0},{"$f":"SUMIFS(UdS_data!G:G,UdS_data!B:B,D69,UdS_data!C:C,UdS_data!$I$16)","v":0},{"$f":"SUMIFS(UdS_data!E:E,UdS_data!B:B,D69,UdS_data!F:F,0)","v":0},{"$f":"E69","v":{"$error":"#DIV/0!"}},{"$error":"#DIV/0!"},{"$f":"F69","v":0},0,{"$f":"G69","v":0},0,{"$f":"H69","v":0},"VALIDADO"]
[null,{"$f":"INDEX(Sistema_Analisado!$A$3:$F$99,MATCH($D70,Sistema_Analisado!$B$3:$B$99,FALSE),MATCH($B$4,Sistema_Analisado!$A$3:$F$3,FALSE))","v":{"$error":"#N/A"}},{"$f":"INDEX(Sistema_Analisado!$A$3:$F$99,MATCH(D70,Sistema_Analisado!$B$3:$B$99,FALSE),MATCH(\"Seq. Corredor\",Sistema_Analisado!$A$3:$F$3,0))","v":{"$error":"#N/A"}},null,{"$f":"MAX(IF((UdS_data!B:B=D70),UdS_data!G:G,0))","v":{"$error":"#DIV/0!"}},{"$f":"SUMIFS(UdS_data!G:G,UdS_data!B:B,D70,UdS_data!C:C,UdS_data!$I$13)","v":0},{"$f":"SUMIFS(UdS_data!G:G,UdS_data!B:B,D70,UdS_data!C:C,UdS_data!$I$16)","v":0},{"$f":"SUMIFS(UdS_data!E:E,UdS_data!B:B,D70,UdS_data!F:F,0)","v":0},{"$error":"#DIV/0!"},{"$f":"IF($I70<=0.5,5,IF($I70<=0.7,3,IF($I70<=0.8,1,0)))","v":{"$error":"#DIV/0!"}},0,{"$f":"IF($K70>=0.3,5,IF($K70>=0.2,4,IF($K70>=0.1,3,IF($K70>=0.05,2,IF($K70>=0.025,1,0)))))","v":0},0,{"$f":"IF($M70>0.3,5,IF($M70>0.2,4,IF($M70>0.1,3,IF($M70>0.05,2,IF($M70>0.025,1,0)))))","v":0},0,{"$f":"IF(O70>=0.4,\"INVALIDADO\",\"VALIDADO\")","v":"VALIDADO"}]
[null,{"$f":"INDEX(Sistema_Analisado!$A$3:$F$99,MATCH($D71,Sistema_Analisado!$B$3:$B$99,FALSE),MATCH($B$4,Sistema_Analisado!$A$3:$F$3,FALSE))","v":{"$error":"#N/A"}},{"$f":"INDEX(Sistema_Analisado!$A$3:$F$99,MATCH(D71,Sistema_Analisado!$B$3:$B$99,FALSE),MATCH(\"Seq. Corredor\",Sistema_Analisado!$A$3:$F$3,0))","v":{"$error":"#N/A"}},null,{"$f":"MAX(IF((UdS_data!B:B=D71),UdS_data!G:G,0))","v":{"$error":"#DIV/0!"}},{"$f":"SUMIFS(UdS_data!G:G,UdS_data!B:B,D71,UdS_data!C:C,UdS_data!$I$13)","v":0},{"$f":"SUMIFS(UdS_data!G:G,UdS_data!B:B,D71,UdS_data!C:C,UdS_data!$I$16)","v":0},{"$f":"SUMIFS(UdS_data!E:E,UdS_data!B:B,D71,UdS_data!F:F,0)","v":0},{"$error":"#DIV/0!"},{"$error":"#DIV/0!"},0,0,0,0,0,"VALIDADO"]
[null,{"$f":"INDEX(Sistema_Analisado!$A$3:$F$99,MATCH($D72,Sistema_Analisado!$B$3:$B$99,FALSE),MATCH($B$4,Sistema_Analisado!$A$3:$F$3,FALSE))","v":{"$error":"#N/A"}},{"$f":"INDEX(Sistema_Analisado!$A$3:$F$99,MATCH(D72,Sistema_Analisado!$B$3:$B$99,FALSE),MATCH(\"Seq. Corredor\",Sistema_Analisado!$A$3:$F$3,0))","v":{"$error":"#N/A"}},null,{"$f":"MAX(IF((UdS_data!B:B=D72),UdS_data!G:G,0))","v":{"$error":"#DIV/0!"}},{"$f":"SUMIFS(UdS_data!G:G,UdS_data!B:B,D72,UdS_data!C:C,UdS_data!$I$13)","v":0},{"$f":"SUMIFS(UdS_data!G:G,UdS_data!B:B,D72,UdS_data!C:C,UdS_data!$I$16)","v":0},{"$f":"SUMIFS(UdS_data!E:E,UdS_data!B:B,D72,UdS_data!F:F,0)","v":0},{"$error":"#DIV/0!"},{"$error":"#DIV/0!"},0,0,0,0,0,"VALIDADO"]
[null,{"$f":"INDEX(Sistema_Analisado!$A$3:$F$99,MATCH($D73,Sistema_Analisado!$B$3:$B$99,FALSE),MATCH($B$4,Sistema_Analisado!$A$3:$F$3,FALSE))","v":{"$error":"#N/A"}},{"$f":"INDEX(Sistema_Analisado!$A$3:$F$99,MATCH(D73,Sistema_Analisado!$B$3:$B$99,FALSE),MATCH(\"Seq. Corredor\",Sistema_Analisado!$A$3:$F$3,0))","v":{"$error":"#N/A"}},null,{"$f":"MAX(IF((UdS_data!B:B=D73),UdS_data!G:G,0))","v":{"$error":"#DIV/0!"}},{"$f":"SUMIFS(UdS_data!G:G,UdS_data!B:B,D73,UdS_data!C:C,UdS_data!$I$13)","v":0},{"$f":"SUMIFS(UdS_data!G:G,UdS_data!B:B,D73,UdS_data!C:C,UdS_data!$I$16)","v":0},{"$f":"SUMIFS(UdS_data!E:E,UdS_data!B:B,D73,UdS_data!F:F,0)","v":0},{"$error":"#DIV/0!"},{"$error":"#DIV/0!"},0,0,0,0,0,"VALIDADO"]
[null,{"$f":"INDEX(Sistema_Analisado!$A$3:$F$99,MATCH($D74,Sistema_Analisado!$B$3:$B$99,FALSE),MATCH($B$4,Sistema_Analisado!$A$3:$F$3,FALSE))","v":{"$error":"#N/A"}},{"$f":"INDEX(Sistema_Analisado!$A$3:$F$99,MATCH(D74,Sistema_Analisado!$B$3:$B$99,FALSE),MATCH(\"Seq. Corredor\",Sistema_Analisado!$A$3:$F$3,0))","v":{"$error":"#N/A"}},null,{"$f":"MAX(IF((UdS_data!B:B=D74),UdS_data!G:G,0))","v":{"$error":"#DIV/0!"}},{"$f":"SUMIFS(UdS_data!G:G,UdS_data!B:B,D74,UdS_data!C:C,UdS_data!$I$13)","v":0},{"$f":"SUMIFS(UdS_data!G:G,UdS_data!B:B,D74,UdS_data!C:C,UdS_data!$I$16)","v":0},{"$f":"SUMIFS(UdS_data!E:E,UdS_data!B:B,D74,UdS_data!F:F,0)","v":0},{"$error":"#DIV/0!"},{"$error":"#DIV/0!"},0,0,0,0,0,"VALIDADO"]
[null,{"$f":"INDEX(Sistema_Analisado!$A$3:$F$99,MATCH($D75,Sistema_Analisado!$B$3:$B$99,FALSE),MATCH($B$4,Sistema_Analisado!$A$3:$F$3,FALSE))","v":{"$error":"#N/A"}},{"$f":"INDEX(Sistema_Analisado!$A$3:$F$99,MATCH(D75,Sistema_Analisado!$B$3:$B$99,FALSE),MATCH(\"Seq. Corredor\",Sistema_Analisado!$A$3:$F$3,0))","v":{"$error":"#N/A"}},null,{"$f":"MAX(IF((UdS_data!B:B=D75),UdS_data!G:G,0))","v":{"$error":"#DIV/0!"}},{"$f":"SUMIFS(UdS_data!G:G,UdS_data!B:B,D75,UdS_data!C:C,UdS_data!$I$13)","v":0},{"$f":"SUMIFS(UdS_data!G:G,UdS_data!B:B,D75,UdS_data!C:C,UdS_data!$I$16)","v":0},{"$f":"SUMIFS(UdS_data!E:E,UdS_data!B:B,D75,UdS_data!F:F,0)","v":0},{"$error":"#DIV/0!"},{"$error":"#DIV/0!"},0,0,0,0,0,"VALIDADO"]
[null,{"$f":"INDEX(Sistema_Analisado!$A$3:$F$99,MATCH($D76,Sistema_Analisado!$B$3:$B$99,FALSE),MATCH($B$4,Sistema_Analisado!$A$3:$F$3,FALSE))","v":{"$error":"#N/A"}},{"$f":"INDEX(Sistema_Analisado!$A$3:$F$99,MATCH(D76,Sistema_Analisado!$B$3:$B$99,FALSE),MATCH(\"Seq. Corredor\",Sistema_Analisado!$A$3:$F$3,0))","v":{"$error":"#N/A"}},null,{"$f":"MAX(IF((UdS_data!B:B=D76),UdS_data!G:G,0))","v":{"$error":"#DIV/0!"}},{"$f":"SUMIFS(UdS_data!G:G,UdS_data!B:B,D76,UdS_data!C:C,UdS_data!$I$13)","v":0},{"$f":"SUMIFS(UdS_data!G:G,UdS_data!B:B,D76,UdS_data!C:C,UdS_data!$I$16)","v":0},{"$f":"SUMIFS(UdS_data!E:E,UdS_data!B:B,D76,UdS_data!F:F,0)","v":0},{"$error":"#DIV/0!"},{"$error":"#DIV/0!"},0,0,0,0,0,"VALIDADO"]
[null,{"$f":"INDEX(Sistema_Analisado!$A$3:$F$99,MATCH($D77,Sistema_Analisado!$B$3:$B$99,FALSE),MATCH($B$4,Sistema_Analisado!$A$3:$F$3,FALSE))","v":{"$error":"#N/A"}},{"$f":"INDEX(Sistema_Analisado!$A$3:$F$99,MATCH(D77,Sistema_Analisado!$B$3:$B$99,FALSE),MATCH(\"Seq. Corredor\",Sistema_Analisado!$A$3:$F$3,0))","v":{"$error":"#N/A"}},null,{"$f":"MAX(IF((UdS_data!B:B=D77),UdS_data!G:G,0))","v":{"$error":"#DIV/0!"}},{"$f":"SUMIFS(UdS_data!G:G,UdS_data!B:B,D77,UdS_data!C:C,UdS_data!$I$13)","v":0},{"$f":"SUMIFS(UdS_data!G:G,UdS_data!B:B,D77,UdS_data!C:C,UdS_data!$I$16)","v":0},{"$f":"SUMIFS(UdS_data!E:E,UdS_data!B:B,D77,UdS_data!F:F,0)","v":0},{"$error":"#DIV/0!"},{"$error":"#DIV/0!"},0,0,0,0,0,"VALIDADO"]
[null,{"$f":"INDEX(Sistema_Analisado!$A$3:$F$99,MATCH($D78,Sistema_Analisado!$B$3:$B$99,FALSE),MATCH($B$4,Sistema_Analisado!$A$3:$F$3,FALSE))","v":{"$error":"#N/A"}},{"$f":"INDEX(Sistema_Analisado!$A$3:$F$99,MATCH(D78,Sistema_Analisado!$B$3:$B$99,FALSE),MATCH(\"Seq. Corredor\",Sistema_Analisado!$A$3:$F$3,0))","v":{"$error":"#N/A"}},null,{"$f":"MAX(IF((UdS_data!B:B=D78),UdS_data!G:G,0))","v":{"$error":"#DIV/0!"}},{"$f":"SUMIFS(UdS_data!G:G,UdS_data!B:B,D78,UdS_data!C:C,UdS_data!$I$13)","v":0},{"$f":"SUMIFS(UdS_data!G:G,UdS_data!B:B,D78,UdS_data!C:C,UdS_data!$I$16)","v":0},{"$f":"SUMIFS(UdS_data!E:E,UdS_data!B:B,D78,UdS_data!F:F,0)","v":0},{"$error":"#DIV/0!"},{"$error":"#DIV/0!"},0,0,0,0,0,"VALIDADO"]
[null,{"$f":"INDEX(Sistema_Analisado!$A$3:$F$99,MATCH($D79,Sistema_Analisado!$B$3:$B$99,FALSE),MATCH($B$4,Sistema_Analisado!$A$3:$F$3,FALSE))","v":{"$error":"#N/A"}},{"$f":"INDEX(Sistema_Analisado!$A$3:$F$99,MATCH(D79,Sistema_Analisado!$B$3:$B$99,FALSE),MATCH(\"Seq. Corredor\",Sistema_Analisado!$A$3:$F$3,0))","v":{"$error":"#N/A"}},null,{"$f":"MAX(IF((UdS_data!B:B=D79),UdS_data!G:G,0))","v":{"$error":"#DIV/0!"}},{"$f":"SUMIFS(UdS_data!G:G,UdS_data!B:B,D79,UdS_data!C:C,UdS_data!$I$13)","v":0},{"$f":"SUMIFS(UdS_data!G:G,UdS_data!B:B,D79,UdS_data!C:C,UdS_data!$I$16)","v":0},{"$f":"SUMIFS(UdS_data!E:E,UdS_data!B:B,D79,UdS_data!F:F,0)","v":0},{"$error":"#DIV/0!"},{"$error":"#DIV/0!"},0,0,0,0,0,"VALIDADO"]
[null,{"$f":"INDEX(Sistema_Analisado!$A$3:$F$99,MATCH($D80,Sistema_Analisado!$B$3:$B$99,FALSE),MATCH($B$4,Sistema_Analisado!$A$3:$F$3,FALSE))","v":{"$error":"#N/A"}},{"$f":"INDEX(Sistema_Analisado!$A$3:$F$99,MATCH(D80,Sistema_Analisado!$B$3:$B$99,FALSE),MATCH(\"Seq. Corredor\",Sistema_Analisado!$A$3:$F$3,0))","v":{"$error":"#N/A"}},null,{"$f":"MAX(IF((UdS_data!B:B=D80),UdS_data!G:G,0))","v":{"$error":"#DIV/0!"}},{"$f":"SUMIFS(UdS_data!G:G,UdS_data!B:B,D80,UdS_data!C:C,UdS_data!$I$13)","v":0},{"$f":"SUMIFS(UdS_data!G:G,UdS_data!B:B,D80,UdS_data!C:C,UdS_data!$I$16)","v":0},{"$f":"SUMIFS(UdS_data!E:E,UdS_data!B:B,D80,UdS_data!F:F,0)","v":0},{"$error":"#DIV/0!"},{"$error":"#DIV/0!"},0,0,0,0,0,"VALIDADO"]
[null,{"$f":"INDEX(Sistema_Analisado!$A$3:$F$99,MATCH($D81,Sistema_Analisado!$B$3:$B$99,FALSE),MATCH($B$4,Sistema_Analisado!$A$3:$F$3,FALSE))","v":{"$error":"#N/A"}},{"$f":"INDEX(Sistema_Analisado!$A$3:$F$99,MATCH(D81,Sistema_Analisado!$B$3:$B$99,FALSE),MATCH(\"Seq. Corredor\",Sistema_Analisado!$A$3:$F$3,0))","v":{"$error":"#N/A"}},null,{"$f":"MAX(IF((UdS_data!B:B=D81),UdS_data!G:G,0))","v":{"$error":"#DIV/0!"}},{"$f":"SUMIFS(UdS_data!G:G,UdS_data!B:B,D81,UdS_data!C:C,UdS_data!$I$13)","v":0},{"$f":"SUMIFS(UdS_data!G:G,UdS_data!B:B,D81,UdS_data!C:C,UdS_data!$I$16)","v":0},{"$f":"SUMIFS(UdS_data!E:E,UdS_data!B:B,D81,UdS_data!F:F,0)","v":0},{"$error":"#DIV/0!"},{"$error":"#DIV/0!"},0,0,0,0,0,"VALIDADO"]
[null,{"$f":"INDEX(Sistema_Analisado!$A$3:$F$99,MATCH($D82,Sistema_Analisado!$B$3:$B$99,FALSE),MATCH($B$4,Sistema_Analisado!$A$3:$F$3,FALSE))","v":{"$error":"#N/A"}},{"$f":"INDEX(Sistema_Analisado!$A$3:$F$99,MATCH(D82,Sistema_Analisado!$B$3:$B$99,FALSE),MATCH(\"Seq. Corredor\",Sistema_Analisado!$A$3:$F$3,0))","v":{"$error":"#N/A"}},null,{"$f":"MAX(IF((UdS_data!B:B=D82),UdS_data!G:G,0))","v":{"$error":"#DIV/0!"}},{"$f":"SUMIFS(UdS_data!G:G,UdS_data!B:B,D82,UdS_data!C:C,UdS_data!$I$13)","v":0},{"$f":"SUMIFS(UdS_data!G:G,UdS_data!B:B,D82,UdS_data!C:C,UdS_data!$I$16)","v":0},{"$f":"SUMIFS(UdS_data!E:E,UdS_data!B:B,D82,UdS_data!F:F,0)","v":0},{"$error":"#DIV/0!"},{"$error":"#DIV/0!"},0,0,0,0,0,"VALIDADO"]
[null,{"$f":"INDEX(Sistema_Analisado!$A$3:$F$99,MATCH($D83,Sistema_Analisado!$B$3:$B$99,FALSE),MATCH($B$4,Sistema_Analisado!$A$3:$F$3,FALSE))","v":{"$error":"#N/A"}},{"$f":"INDEX(Sistema_Analisado!$A$3:$F$99,MATCH(D83,Sistema_Analisado!$B$3:$B$99,FALSE),MATCH(\"Seq. Corredor\",Sistema_Analisado!$A$3:$F$3,0))","v":{"$error":"#N/A"}},null,{"$f":"MAX(IF((UdS_data!B:B=D83),UdS_data!G:G,0))","v":{"$error":"#DIV/0!"}},{"$f":"SUMIFS(UdS_data!G:G,UdS_data!B:B,D83,UdS_data!C:C,UdS_data!$I$13)","v":0},{"$f":"SUMIFS(UdS_data!G:G,UdS_data!B:B,D83,UdS_data!C:C,UdS_data!$I$16)","v":0},{"$f":"SUMIFS(UdS_data!E:E,UdS_data!B:B,D83,UdS_data!F:F,0)","v":0},{"$error":"#DIV/0!"},{"$error":"#DIV/0!"},0,0,0,0,0,"VALIDADO"]
[null,{"$f":"INDEX(Sistema_Analisado!$A$3:$F$99,MATCH($D84,Sistema_Analisado!$B$3:$B$99,FALSE),MATCH($B$4,Sistema_Analisado!$A$3:$F$3,FALSE))","v":{"$error":"#N/A"}},{"$f":"INDEX(Sistema_Analisado!$A$3:$F$99,MATCH(D84,Sistema_Analisado!$B$3:$B$99,FALSE),MATCH(\"Seq. Corredor\",Sistema_Analisado!$A$3:$F$3,0))","v":{"$error":"#N/A"}},null,{"$f":"MAX(IF((UdS_data!B:B=D84),UdS_data!G:G,0))","v":{"$error":"#DIV/0!"}},{"$f":"SUMIFS(UdS_data!G:G,UdS_data!B:B,D84,UdS_data!C:C,UdS_data!$I$13)","v":0},{"$f":"SUMIFS(UdS_data!G:G,UdS_data!B:B,D84,UdS_data!C:C,UdS_data!$I$16)","v":0},{"$f":"SUMIFS(UdS_data!E:E,UdS_data!B:B,D84,UdS_data!F:F,0)","v":0},{"$error":"#DIV/0!"},{"$error":"#DIV/0!"},0,0,0,0,0,"VALIDADO"]
[null,{"$f":"INDEX(Sistema_Analisado!$A$3:$F$99,MATCH($D85,Sistema_Analisado!$B$3:$B$99,FALSE),MATCH($B$4,Sistema_Analisado!$A$3:$F$3,FALSE))","v":{"$error":"#N/A"}},{"$f":"INDEX(Sistema_Analisado!$A$3:$F$99,MATCH(D85,Sistema_Analisado!$B$3:$B$99,FALSE),MATCH(\"Seq. Corredor\",Sistema_Analisado!$A$3:$F$3,0))","v":{"$error":"#N/A"}},null,{"$f":"MAX(IF((UdS_data!B:B=D85),UdS_data!G:G,0))","v":{"$error":"#DIV/0!"}},{"$f":"SUMIFS(UdS_data!G:G,UdS_data!B:B,D85,UdS_data!C:C,UdS_data!$I$13)","v":0},{"$f":"SUMIFS(UdS_data!G:G,UdS_data!B:B,D85,UdS_data!C:C,UdS_data!$I$16)","v":0},{"$f":"SUMIFS(UdS_data!E:E,UdS_data!B:B,D85,UdS_data!F:F,0)","v":0},{"$error":"#DIV/0!"},{"$error":"#DIV/0!"},0,0,0,0,0,"VALIDADO"]
[null,{"$f":"INDEX(Sistema_Analisado!$A$3:$F$99,MATCH($D86,Sistema_Analisado!$B$3:$B$99,FALSE),MATCH($B$4,Sistema_Analisado!$A$3:$F$3,FALSE))","v":{"$error":"#N/A"}},{"$f":"INDEX(Sistema_Analisado!$A$3:$F$99,MATCH(D86,Sistema_Analisado!$B$3:$B$99,FALSE),MATCH(\"Seq. Corredor\",Sistema_Analisado!$A$3:$F$3,0))","v":{"$error":"#N/A"}},null,{"$f":"MAX(IF((UdS_data!B:B=D86),UdS_data!G:G,0))","v":{"$error":"#DIV/0!"}},{"$f":"SUMIFS(UdS_data!G:G,UdS_data!B:B,D86,UdS_data!C:C,UdS_data!$I$13)","v":0},{"$f":"SUMIFS(UdS_data!G:G,UdS_data!B:B,D86,UdS_data!C:C,UdS_data!$I$16)","v":0},{"$f":"SUMIFS(UdS_data!E:E,UdS_data!B:B,D86,UdS_data!F:F,0)","v":0},{"$error":"#DIV/0!"},{"$error":"#DIV/0!"},0,0,0,0,0,"VALIDADO"]
[null,{"$f":"INDEX(Sistema_Analisado!$A$3:$F$99,MATCH($D87,Sistema_Analisado!$B$3:$B$99,FALSE),MATCH($B$4,Sistema_Analisado!$A$3:$F$3,FALSE))","v":{"$error":"#N/A"}},{"$f":"INDEX(Sistema_Analisado!$A$3:$F$99,MATCH(D87,Sistema_Analisado!$B$3:$B$99,FALSE),MATCH(\"Seq. Corredor\",Sistema_Analisado!$A$3:$F$3,0))","v":{"$error":"#N/A"}},null,{"$f":"MAX(IF((UdS_data!B:B=D87),UdS_data!G:G,0))","v":{"$error":"#DIV/0!"}},{"$f":"SUMIFS(UdS_data!G:G,UdS_data!B:B,D87,UdS_data!C:C,UdS_data!$I$13)","v":0},{"$f":"SUMIFS(UdS_data!G:G,UdS_data!B:B,D87,UdS_data!C:C,UdS_data!$I$16)","v":0},{"$f":"SUMIFS(UdS_data!E:E,UdS_data!B:B,D87,UdS_data!F:F,0)","v":0},{"$error":"#DIV/0!"},{"$error":"#DIV/0!"},0,0,0,0,0,"VALIDADO"]
[null,{"$f":"INDEX(Sistema_Analisado!$A$3:$F$99,MATCH($D88,Sistema_Analisado!$B$3:$B$99,FALSE),MATCH($B$4,Sistema_Analisado!$A$3:$F$3,FALSE))","v":{"$error":"#N/A"}},{"$f":"INDEX(Sistema_Analisado!$A$3:$F$99,MATCH(D88,Sistema_Analisado!$B$3:$B$99,FALSE),MATCH(\"Seq. Corredor\",Sistema_Analisado!$A$3:$F$3,0))","v":{"$error":"#N/A"}},null,{"$f":"MAX(IF((UdS_data!B:B=D88),UdS_data!G:G,0))","v":{"$error":"#DIV/0!"}},{"$f":"SUMIFS(UdS_data!G:G,UdS_data!B:B,D88,UdS_data!C:C,UdS_data!$I$13)","v":0},{"$f":"SUMIFS(UdS_data!G:G,UdS_data!B:B,D88,UdS_data!C:C,UdS_data!$I$16)","v":0},{"$f":"SUMIFS(UdS_data!E:E,UdS_data!B:B,D88,UdS_data!F:F,0)","v":0},{"$error":"#DIV/0!"},{"$error":"#DIV/0!"},0,0,0,0,0,"VALIDADO"]
[null,{"$f":"INDEX(Sistema_Analisado!$A$3:$F$99,MATCH($D89,Sistema_Analisado!$B$3:$B$99,FALSE),MATCH($B$4,Sistema_Analisado!$A$3:$F$3,FALSE))","v":{"$error":"#N/A"}},{"$f":"INDEX(Sistema_Analisado!$A$3:$F$99,MATCH(D89,Sistema_Analisado!$B$3:$B$99,FALSE),MATCH(\"Seq. Corredor\",Sistema_Analisado!$A$3:$F$3,0))","v":{"$error":"#N/A"}},null,{"$f":"MAX(IF((UdS_data!B:B=D89),UdS_data!G:G,0))","v":{"$error":"#DIV/0!"}},{"$f":"SUMIFS(UdS_data!G:G,UdS_data!B:B,D89,UdS_data!C:C,UdS_data!$I$13)","v":0},{"$f":"SUMIFS(UdS_data!G:G,UdS_data!B:B,D89,UdS_data!C:C,UdS_data!$I$16)","v":0},{"$f":"SUMIFS(UdS_data!E:E,UdS_data!B:B,D89,UdS_data!F:F,0)","v":0},{"$error":"#DIV/0!"},{"$error":"#DIV/0!"},0,0,0,0,0,"VALIDADO"]
[null,{"$f":"INDEX(Sistema_Analisado!$A$3:$F$99,MATCH($D90,Sistema_Analisado!$B$3:$B$99,FALSE),MATCH($B$4,Sistema_Analisado!$A$3:$F$3,FALSE))","v":{"$error":"#N/A"}},{"$f":"INDEX(Sistema_Analisado!$A$3:$F$99,MATCH(D90,Sistema_Analisado!$B$3:$B$99,FALSE),MATCH(\"Seq. Corredor\",Sistema_Analisado!$A$3:$F$3,0))","v":{"$error":"#N/A"}},null,{"$f":"MAX(IF((UdS_data!B:B=D90),UdS_data!G:G,0))","v":{"$error":"#DIV/0!"}},{"$f":"SUMIFS(UdS_data!G:G,UdS_data!B:B,D90,UdS_data!C:C,UdS_data!$I$13)","v":0},{"$f":"SUMIFS(UdS_data!G:G,UdS_data!B:B,D90,UdS_data!C:C,UdS_data!$I$16)","v":0},{"$f":"SUMIFS(UdS_data!E:E,UdS_data!B:B,D90,UdS_data!F:F,0)","v":0},{"$error":"#DIV/0!"},{"$error":"#DIV/0!"},0,0,0,0,0,"VALIDADO"]
[null,{"$f":"INDEX(Sistema_Analisado!$A$3:$F$99,MATCH($D91,Sistema_Analisado!$B$3:$B$99,FALSE),MATCH($B$4,Sistema_Analisado!$A$3:$F$3,FALSE))","v":{"$error":"#N/A"}},{"$f":"INDEX(Sistema_Analisado!$A$3:$F$99,MATCH(D91,Sistema_Analisado!$B$3:$B$99,FALSE),MATCH(\"Seq. Corredor\",Sistema_Analisado!$A$3:$F$3,0))","v":{"$error":"#N/A"}},null,{"$f":"MAX(IF((UdS_data!B:B=D91),UdS_data!G:G,0))","v":{"$error":"#DIV/0!"}},{"$f":"SUMIFS(UdS_data!G:G,UdS_data!B:B,D91,UdS_data!C:C,UdS_data!$I$13)","v":0},{"$f":"SUMIFS(UdS_data!G:G,UdS_data!B:B,D91,UdS_data!C:C,UdS_data!$I$16)","v":0},{"$f":"SUMIFS(UdS_data!E:E,UdS_data!B:B,D91,UdS_data!F:F,0)","v":0},{"$error":"#DIV/0!"},{"$error":"#DIV/0!"},0,0,0,0,0,"VALIDADO"]
[null,{"$f":"INDEX(Sistema_Analisado!$A$3:$F$99,MATCH($D92,Sistema_Analisado!$B$3:$B$99,FALSE),MATCH($B$4,Sistema_Analisado!$A$3:$F$3,FALSE))","v":{"$error":"#N/A"}},{"$f":"INDEX(Sistema_Analisado!$A$3:$F$99,MATCH(D92,Sistema_Analisado!$B$3:$B$99,FALSE),MATCH(\"Seq. Corredor\",Sistema_Analisado!$A$3:$F$3,0))","v":{"$error":"#N/A"}},null,{"$f":"MAX(IF((UdS_data!B:B=D92),UdS_data!G:G,0))","v":{"$error":"#DIV/0!"}},{"$f":"SUMIFS(UdS_data!G:G,UdS_data!B:B,D92,UdS_data!C:C,UdS_data!$I$13)","v":0},{"$f":"SUMIFS(UdS_data!G:G,UdS_data!B:B,D92,UdS_data!C:C,UdS_data!$I$16)","v":0},{"$f":"SUMIFS(UdS_data!E:E,UdS_data!B:B,D92,UdS_data!F:F,0)","v":0},{"$error":"#DIV/0!"},{"$error":"#DIV/0!"},0,0,0,0,0,"VALIDADO"]
[null,{"$f":"INDEX(Sistema_Analisado!$A$3:$F$99,MATCH($D93,Sistema_Analisado!$B$3:$B$99,FALSE),MATCH($B$4,Sistema_Analisado!$A$3:$F$3,FALSE))","v":{"$error":"#N/A"}},{"$f":"INDEX(Sistema_Analisado!$A$3:$F$99,MATCH(D93,Sistema_Analisado!$B$3:$B$99,FALSE),MATCH(\"Seq. Corredor\",Sistema_Analisado!$A$3:$F$3,0))","v":{"$error":"#N/A"}},null,{"$f":"MAX(IF((UdS_data!B:B=D93),UdS_data!G:G,0))","v":{"$error":"#DIV/0!"}},{"$f":"SUMIFS(UdS_data!G:G,UdS_data!B:B,D93,UdS_data!C:C,UdS_data!$I$13)","v":0},{"$f":"SUMIFS(UdS_data!G:G,UdS_data!B:B,D93,UdS_data!C:C,UdS_data!$I$16)","v":0},{"$f":"SUMIFS(UdS_data!E:E,UdS_data!B:B,D93,UdS_data!F:F,0)","v":0},{"$error":"#DIV/0!"},{"$error":"#DIV/0!"},0,0,0,0,0,"VALIDADO"]
[null,{"$f":"INDEX(Sistema_Analisado!$A$3:$F$99,MATCH($D94,Sistema_Analisado!$B$3:$B$99,FALSE),MATCH($B$4,Sistema_Analisado!$A$3:$F$3,FALSE))","v":{"$error":"#N/A"}},{"$f":"INDEX(Sistema_Analisado!$A$3:$F$99,MATCH(D94,Sistema_Analisado!$B$3:$B$99,FALSE),MATCH(\"Seq. Corredor\",Sistema_Analisado!$A$3:$F$3,0))","v":{"$error":"#N/A"}},null,{"$f":"MAX(IF((UdS_data!B:B=D94),UdS_data!G:G,0))","v":{"$error":"#DIV/0!"}},{"$f":"SUMIFS(UdS_data!G:G,UdS_data!B:B,D94,UdS_data!C:C,UdS_data!$I$13)","v":0},{"$f":"SUMIFS(UdS_data!G:G,UdS_data!B:B,D94,UdS_data!C:C,UdS_data!$I$16)","v":0},{"$f":"SUMIFS(UdS_data!E:E,UdS_data!B:B,D94,UdS_data!F:F,0)","v":0},{"$error":"#DIV/0!"},{"$error":"#DIV/0!"},0,0,0,0,0,"VALIDADO"]
[null,{"$f":"INDEX(Sistema_Analisado!$A$3:$F$99,MATCH($D95,Sistema_Analisado!$B$3:$B$99,FALSE),MATCH($B$4,Sistema_Analisado!$A$3:$F$3,FALSE))","v":{"$error":"#N/A"}},{"$f":"INDEX(Sistema_Analisado!$A$3:$F$99,MATCH(D95,Sistema_Analisado!$B$3:$B$99,FALSE),MATCH(\"Seq. Corredor\",Sistema_Analisado!$A$3:$F$3,0))","v":{"$error":"#N/A"}},null,{"$f":"MAX(IF((UdS_data!B:B=D95),UdS_data!G:G,0))","v":{"$error":"#DIV/0!"}},{"$f":"SUMIFS(UdS_data!G:G,UdS_data!B:B,D95,UdS_data!C:C,UdS_data!$I$13)","v":0},{"$f":"SUMIFS(UdS_data!G:G,UdS_data!B:B,D95,UdS_data!C:C,UdS_data!$I$16)","v":0},{"$f":"SUMIFS(UdS_data!E:E,UdS_data!B:B,D95,UdS_data!F:F,0)","v":0},{"$error":"#DIV/0!"},{"$error":"#DIV/0!"},0,0,0,0,0,"VALIDADO"]
[null,{"$f":"INDEX(Sistema_Analisado!$A$3:$F$99,MATCH($D96,Sistema_Analisado!$B$3:$B$99,FALSE),MATCH($B$4,Sistema_Analisado!$A$3:$F$3,FALSE))","v":{"$error":"#N/A"}},{"$f":"INDEX(Sistema_Analisado!$A$3:$F$99,MATCH(D96,Sistema_Analisado!$B$3:$B$99,FALSE),MATCH(\"Seq. Corredor\",Sistema_Analisado!$A$3:$F$3,0))","v":{"$error":"#N/A"}},null,{"$f":"MAX(IF((UdS_data!B:B=D96),UdS_data!G:G,0))","v":{"$error":"#DIV/0!"}},{"$f":"SUMIFS(UdS_data!G:G,UdS_data!B:B,D96,UdS_data!C:C,UdS_data!$I$13)","v":0},{"$f":"SUMIFS(UdS_data!G:G,UdS_data!B:B,D96,UdS_data!C:C,UdS_data!$I$16)","v":0},{"$f":"SUMIFS(UdS_data!E:E,UdS_data!B:B,D96,UdS_data!F:F,0)","v":0},{"$error":"#DIV/0!"},{"$error":"#DIV/0!"},0,0,0,0,0,"VALIDADO"]
[null,{"$f":"INDEX(Sistema_Analisado!$A$3:$F$99,MATCH($D97,Sistema_Analisado!$B$3:$B$99,FALSE),MATCH($B$4,Sistema_Analisado!$A$3:$F$3,FALSE))","v":{"$error":"#N/A"}},{"$f":"INDEX(Sistema_Analisado!$A$3:$F$99,MATCH(D97,Sistema_Analisado!$B$3:$B$99,FALSE),MATCH(\"Seq. Corredor\",Sistema_Analisado!$A$3:$F$3,0))","v":{"$error":"#N/A"}},null,{"$f":"MAX(IF((UdS_data!B:B=D97),UdS_data!G:G,0))","v":{"$error":"#DIV/0!"}},{"$f":"SUMIFS(UdS_data!G:G,UdS_data!B:B,D97,UdS_data!C:C,UdS_data!$I$13)","v":0},{"$f":"SUMIFS(UdS_data!G:G,UdS_data!B:B,D97,UdS_data!C:C,UdS_data!$I$16)","v":0},{"$f":"SUMIFS(UdS_data!E:E,UdS_data!B:B,D97,UdS_data!F:F,0)","v":0},{"$error":"#DIV/0!"},{"$error":"#DIV/0!"},0,0,0,0,0,"VALIDADO"]
[null,{"$f":"INDEX(Sistema_Analisado!$A$3:$F$99,MATCH($D98,Sistema_Analisado!$B$3:$B$99,FALSE),MATCH($B$4,Sistema_Analisado!$A$3:$F$3,FALSE))","v":{"$error":"#N/A"}},{"$f":"INDEX(Sistema_Analisado!$A$3:$F$99,MATCH(D98,Sistema_Analisado!$B$3:$B$99,FALSE),MATCH(\"Seq. Corredor\",Sistema_Analisado!$A$3:$F$3,0))","v":{"$error":"#N/A"}},null,{"$f":"MAX(IF((UdS_data!B:B=D98),UdS_data!G:G,0))","v":{"$error":"#DIV/0!"}},{"$f":"SUMIFS(UdS_data!G:G,UdS_data!B:B,D98,UdS_data!C:C,UdS_data!$I$13)","v":0},{"$f":"SUMIFS(UdS_data!G:G,UdS_data!B:B,D98,UdS_data!C:C,UdS_data!$I$16)","v":0},{"$f":"SUMIFS(UdS_data!E:E,UdS_data!B:B,D98,UdS_data!F:F,0)","v":0},{"$error":"#DIV/0!"},{"$error":"#DIV/0!"},0,0,0,0,0,"VALIDADO"]
[null,{"$f":"INDEX(Sistema_Analisado!$A$3:$F$99,MATCH($D99,Sistema_Analisado!$B$3:$B$99,FALSE),MATCH($B$4,Sistema_Analisado!$A$3:$F$3,FALSE))","v":{"$error":"#N/A"}},{"$f":"INDEX(Sistema_Analisado!$A$3:$F$99,MATCH(D99,Sistema_Analisado!$B$3:$B$99,FALSE),MATCH(\"Seq. Corredor\",Sistema_Analisado!$A$3:$F$3,0))","v":{"$error":"#N/A"}},null,{"$f":"MAX(IF((UdS_data!B:B=D99),UdS_data!G:G,0))","v":{"$error":"#DIV/0!"}},{"$f":"SUMIFS(UdS_data!G:G,UdS_data!B:B,D99,UdS_data!C:C,UdS_data!$I$13)","v":0},{"$f":"SUMIFS(UdS_data!G:G,UdS_data!B:B,D99,UdS_data!C:C,UdS_data!$I$16)","v":0},{"$f":"SUMIFS(UdS_data!E:E,UdS_data!B:B,D99,UdS_data!F:F,0)","v":0},{"$error":"#DIV/0!"},{"$error":"#DIV/0!"},0,0,0,0,0,"VALIDADO"]
[null,{"$f":"INDEX(Sistema_Analisado!$A$3:$F$99,MATCH($D100,Sistema_Analisado!$B$3:$B$99,FALSE),MATCH($B$4,Sistema_Analisado!$A$3:$F$3,FALSE))","v":{"$error":"#N/A"}},{"$f":"INDEX(Sistema_Analisado!$A$3:$F$99,MATCH(D100,Sistema_Analisado!$B$3:$B$99,FALSE),MATCH(\"Seq. Corredor\",Sistema_Analisado!$A$3:$F$3,0))","v":{"$error":"#N/A"}},null,{"$f":"MAX(IF((UdS_data!B:B=D100),UdS_data!G:G,0))","v":{"$error":"#DIV/0!"}},{"$f":"SUMIFS(UdS_data!G:G,UdS_data!B:B,D100,UdS_data!C:C,UdS_data!$I$13)","v":0},{"$f":"SUMIFS(UdS_data!G:G,UdS_data!B:B,D100,UdS_data!C:C,UdS_data!$I$16)","v":0},{"$f":"SUMIFS(UdS_data!E:E,UdS_data!B:B,D100,UdS_data!F:F,0)","v":0},{"$error":"#DIV/0!"},{"$error":"#DIV/0!"},0,0,0,0,0,"VALIDADO"]
[null,{"$f":"INDEX(Sistema_Analisado!$A$3:$F$99,MATCH($D101,Sistema_Analisado!$B$3:$B$99,FALSE),MATCH($B$4,Sistema_Analisado!$A$3:$F$3,FALSE))","v":{"$error":"#N/A"}},{"$f":"INDEX(Sistema_Analisado!$A$3:$F$99,MATCH(D101,Sistema_Analisado!$B$3:$B$99,FALSE),MATCH(\"Seq. Corredor\",Sistema_Analisado!$A$3:$F$3,0))","v":{"$error":"#N/A"}},null,{"$f":"MAX(IF((UdS_data!B:B=D101),UdS_data!G:G,0))","v":{"$error":"#DIV/0!"}},{"$f":"SUMIFS(UdS_data!G:G,UdS_data!B:B,D101,UdS_data!C:C,UdS_data!$I$13)","v":0},{"$f":"SUMIFS(UdS_data!G:G,UdS_data!B:B,D101,UdS_data!C:C,UdS_data!$I$16)","v":0},{"$f":"SUMIFS(UdS_data!E:E,UdS_data!B:B,D101,UdS_data!F:F,0)","v":0},{"$f":"E101","v":{"$error":"#DIV/0!"}},{"$error":"#DIV/0!"},{"$f":"F101","v":0},0,{"$f":"G101","v":0},0,{"$f":"H101","v":0},"VALIDADO"]
[null,{"$f":"INDEX(Sistema_Analisado!$A$3:$F$99,MATCH($D102,Sistema_Analisado!$B$3:$B$99,FALSE),MATCH($B$4,Sistema_Analisado!$A$3:$F$3,FALSE))","v":{"$error":"#N/A"}},{"$f":"INDEX(Sistema_Analisado!$A$3:$F$99,MATCH(D102,Sistema_Analisado!$B$3:$B$99,FALSE),MATCH(\"Seq. Corredor\",Sistema_Analisado!$A$3:$F$3,0))","v":{"$error":"#N/A"}},null,{"$f":"MAX(IF((UdS_data!B:B=D102),UdS_data!G:G,0))","v":{"$error":"#DIV/0!"}},{"$f":"SUMIFS(UdS_data!G:G,UdS_data!B:B,D102,UdS_data!C:C,UdS_data!$I$13)","v":0},{"$f":"SUMIFS(UdS_data!G:G,UdS_data!B:B,D102,UdS_data!C:C,UdS_data!$I$16)","v":0},{"$f":"SUMIFS(UdS_data!E:E,UdS_data!B:B,D102,UdS_data!F:F,0)","v":0},{"$error":"#DIV/0!"},{"$error":"#DIV/0!"},0,0,0,0,0,"VALIDADO"]
[null,{"$f":"INDEX(Sistema_Analisado!$A$3:$F$99,MATCH($D103,Sistema_Analisado!$B$3:$B$99,FALSE),MATCH($B$4,Sistema_Analisado!$A$3:$F$3,FALSE))","v":{"$error":"#N/A"}},{"$f":"INDEX(Sistema_Analisado!$A$3:$F$99,MATCH(D103,Sistema_Analisado!$B$3:$B$99,FALSE),MATCH(\"Seq. Corredor\",Sistema_Analisado!$A$3:$F$3,0))","v":{"$error":"#N/A"}},null,{"$f":"MAX(IF((UdS_data!B:B=D103),UdS_data!G:G,0))","v":{"$error":"#DIV/0!"}},{"$f":"SUMIFS(UdS_data!G:G,UdS_data!B:B,D103,UdS_data!C:C,UdS_data!$I$13)","v":0},{"$f":"SUMIFS(UdS_data!G:G,UdS_data!B:B,D103,UdS_data!C:C,UdS_data!$I$16)","v":0},{"$f":"SUMIFS(UdS_data!E:E,UdS_data!B:B,D103,UdS_data!F:F,0)","v":0},{"$error":"#DIV/0!"},{"$error":"#DIV/0!"},0,0,0,0,0,"VALIDADO"]
[null,{"$f":"INDEX(Sistema_Analisado!$A$3:$F$99,MATCH($D104,Sistema_Analisado!$B$3:$B$99,FALSE),MATCH($B$4,Sistema_Analisado!$A$3:$F$3,FALSE))","v":{"$error":"#N/A"}},{"$f":"INDEX(Sistema_Analisado!$A$3:$F$99,MATCH(D104,Sistema_Analisado!$B$3:$B$99,FALSE),MATCH(\"Seq. Corredor\",Sistema_Analisado!$A$3:$F$3,0))","v":{"$error":"#N/A"}},null,{"$f":"MAX(IF((UdS_data!B:B=D104),UdS_data!G:G,0))","v":{"$error":"#DIV/0!"}},{"$f":"SUMIFS(UdS_data!G:G,UdS_data!B:B,D104,UdS_data!C:C,UdS_data!$I$13)","v":0},{"$f":"SUMIFS(UdS_data!G:G,UdS_data!B:B,D104,UdS_data!C:C,UdS_data!$I$16)","v":0},{"$f":"SUMIFS(UdS_data!E:E,UdS_data!B:B,D104,UdS_data!F:F,0)","v":0},{"$error":"#DIV/0!"},{"$error":"#DIV/0!"},0,0,0,0,0,"VALIDADO"]
[null,{"$f":"INDEX(Sistema_Analisado!$A$3:$F$99,MATCH($D105,Sistema_Analisado!$B$3:$B$99,FALSE),MATCH($B$4,Sistema_Analisado!$A$3:$F$3,FALSE))","v":{"$error":"#N/A"}},{"$f":"INDEX(Sistema_Analisado!$A$3:$F$99,MATCH(D105,Sistema_Analisado!$B$3:$B$99,FALSE),MATCH(\"Seq. Corredor\",Sistema_Analisado!$A$3:$F$3,0))","v":{"$error":"#N/A"}},null,{"$f":"MAX(IF((UdS_data!B:B=D105),UdS_data!G:G,0))","v":{"$error":"#DIV/0!"}},{"$f":"SUMIFS(UdS_data!G:G,UdS_data!B:B,D105,UdS_data!C:C,UdS_data!$I$13)","v":0},{"$f":"SUMIFS(UdS_data!G:G,UdS_data!B:B,D105,UdS_data!C:C,UdS_data!$I$16)","v":0},{"$f":"SUMIFS(UdS_data!E:E,UdS_data!B:B,D105,UdS_data!F:F,0)","v":0},{"$error":"#DIV/0!"},{"$error":"#DIV/0!"},0,0,0,0,0,"VALIDADO"]
[null,{"$f":"INDEX(Sistema_Analisado!$A$3:$F$99,MATCH($D106,Sistema_Analisado!$B$3:$B$99,FALSE),MATCH($B$4,Sistema_Analisado!$A$3:$F$3,FALSE))","v":{"$error":"#N/A"}},{"$f":"INDEX(Sistema_Analisado!$A$3:$F$99,MATCH(D106,Sistema_Analisado!$B$3:$B$99,FALSE),MATCH(\"Seq. Corredor\",Sistema_Analisado!$A$3:$F$3,0))","v":{"$error":"#N/A"}},null,{"$f":"MAX(IF((UdS_data!B:B=D106),UdS_data!G:G,0))","v":{"$error":"#DIV/0!"}},{"$f":"SUMIFS(UdS_data!G:G,UdS_data!B:B,D106,UdS_data!C:C,UdS_data!$I$13)","v":0},{"$f":"SUMIFS(UdS_data!G:G,UdS_data!B:B,D106,UdS_data!C:C,UdS_data!$I$16)","v":0},{"$f":"SUMIFS(UdS_data!E:E,UdS_data!B:B,D106,UdS_data!F:F,0)","v":0},{"$error":"#DIV/0!"},{"$error":"#DIV/0!"},0,0,0,0,0,"VALIDADO"]
[null,{"$f":"INDEX(Sistema_Analisado!$A$3:$F$99,MATCH($D107,Sistema_Analisado!$B$3:$B$99,FALSE),MATCH($B$4,Sistema_Analisado!$A$3:$F$3,FALSE))","v":{"$error":"#N/A"}},{"$f":"INDEX(Sistema_Analisado!$A$3:$F$99,MATCH(D107,Sistema_Analisado!$B$3:$B$99,FALSE),MATCH(\"Seq. Corredor\",Sistema_Analisado!$A$3:$F$3,0))","v":{"$error":"#N/A"}},null,{"$f":"MAX(IF((UdS_data!B:B=D107),UdS_data!G:G,0))","v":{"$error":"#DIV/0!"}},{"$f":"SUMIFS(UdS_data!G:G,UdS_data!B:B,D107,UdS_data!C:C,UdS_data!$I$13)","v":0},{"$f":"SUMIFS(UdS_data!G:G,UdS_data!B:B,D107,UdS_data!C:C,UdS_data!$I$16)","v":0},{"$f":"SUMIFS(UdS_data!E:E,UdS_data!B:B,D107,UdS_data!F:F,0)","v":0},{"$error":"#DIV/0!"},{"$error":"#DIV/0!"},0,0,0,0,0,"VALIDADO"]
[null,{"$f":"INDEX(Sistema_Analisado!$A$3:$F$99,MATCH($D108,Sistema_Analisado!$B$3:$B$99,FALSE),MATCH($B$4,Sistema_Analisado!$A$3:$F$3,FALSE))","v":{"$error":"#N/A"}},{"$f":"INDEX(Sistema_Analisado!$A$3:$F$99,MATCH(D108,Sistema_Analisado!$B$3:$B$99,FALSE),MATCH(\"Seq. Corredor\",Sistema_Analisado!$A$3:$F$3,0))","v":{"$error":"#N/A"}},null,{"$f":"MAX(IF((UdS_data!B:B=D108),UdS_data!G:G,0))","v":{"$error":"#DIV/0!"}},{"$f":"SUMIFS(UdS_data!G:G,UdS_data!B:B,D108,UdS_data!C:C,UdS_data!$I$13)","v":0},{"$f":"SUMIFS(UdS_data!G:G,UdS_data!B:B,D108,UdS_data!C:C,UdS_data!$I$16)","v":0},{"$f":"SUMIFS(UdS_data!E:E,UdS_data!B:B,D108,UdS_data!F:F,0)","v":0},{"$error":"#DIV/0!"},{"$error":"#DIV/0!"},0,0,0,0,0,"VALIDADO"]
[null,{"$f":"INDEX(Sistema_Analisado!$A$3:$F$99,MATCH($D109,Sistema_Analisado!$B$3:$B$99,FALSE),MATCH($B$4,Sistema_Analisado!$A$3:$F$3,FALSE))","v":{"$error":"#N/A"}},{"$f":"INDEX(Sistema_Analisado!$A$3:$F$99,MATCH(D109,Sistema_Analisado!$B$3:$B$99,FALSE),MATCH(\"Seq. Corredor\",Sistema_Analisado!$A$3:$F$3,0))","v":{"$error":"#N/A"}},null,{"$f":"MAX(IF((UdS_data!B:B=D109),UdS_data!G:G,0))","v":{"$error":"#DIV/0!"}},{"$f":"SUMIFS(UdS_data!G:G,UdS_data!B:B,D109,UdS_data!C:C,UdS_data!$I$13)","v":0},{"$f":"SUMIFS(UdS_data!G:G,UdS_data!B:B,D109,UdS_data!C:C,UdS_data!$I$16)","v":0},{"$f":"SUMIFS(UdS_data!E:E,UdS_data!B:B,D109,UdS_data!F:F,0)","v":0},{"$error":"#DIV/0!"},{"$error":"#DIV/0!"},0,0,0,0,0,"VALIDADO"]
[null,{"$f":"INDEX(Sistema_Analisado!$A$3:$F$99,MATCH($D110,Sistema_Analisado!$B$3:$B$99,FALSE),MATCH($B$4,Sistema_Analisado!$A$3:$F$3,FALSE))","v":{"$error":"#N/A"}},{"$f":"INDEX(Sistema_Analisado!$A$3:$F$99,MATCH(D110,Sistema_Analisado!$B$3:$B$99,FALSE),MATCH(\"Seq. Corredor\",Sistema_Analisado!$A$3:$F$3,0))","v":{"$error":"#N/A"}},null,{"$f":"MAX(IF((UdS_data!B:B=D110),UdS_data!G:G,0))","v":{"$error":"#DIV/0!"}},{"$f":"SUMIFS(UdS_data!G:G,UdS_data!B:B,D110,UdS_data!C:C,UdS_data!$I$13)","v":0},{"$f":"SUMIFS(UdS_data!G:G,UdS_data!B:B,D110,UdS_data!C:C,UdS_data!$I$16)","v":0},{"$f":"SUMIFS(UdS_data!E:E,UdS_data!B:B,D110,UdS_data!F:F,0)","v":0},{"$error":"#DIV/0!"},{"$error":"#DIV/0!"},0,0,0,0,0,"VALIDADO"]
[null,{"$f":"INDEX(Sistema_Analisado!$A$3:$F$99,MATCH($D111,Sistema_Analisado!$B$3:$B$99,FALSE),MATCH($B$4,Sistema_Analisado!$A$3:$F$3,FALSE))","v":{"$error":"#N/A"}},{"$f":"INDEX(Sistema_Analisado!$A$3:$F$99,MATCH(D111,Sistema_Analisado!$B$3:$B$99,FALSE),MATCH(\"Seq. Corredor\",Sistema_Analisado!$A$3:$F$3,0))","v":{"$error":"#N/A"}},null,{"$f":"MAX(IF((UdS_data!B:B=D111),UdS_data!G:G,0))","v":{"$error":"#DIV/0!"}},{"$f":"SUMIFS(UdS_data!G:G,UdS_data!B:B,D111,UdS_data!C:C,UdS_data!$I$13)","v":0},{"$f":"SUMIFS(UdS_data!G:G,UdS_data!B:B,D111,UdS_data!C:C,UdS_data!$I$16)","v":0},{"$f":"SUMIFS(UdS_data!E:E,UdS_data!B:B,D111,UdS_data!F:F,0)","v":0},{"$error":"#DIV/0!"},{"$error":"#DIV/0!"},0,0,0,0,0,"VALIDADO"]
[null,{"$f":"INDEX(Sistema_Analisado!$A$3:$F$99,MATCH($D112,Sistema_Analisado!$B$3:$B$99,FALSE),MATCH($B$4,Sistema_Analisado!$A$3:$F$3,FALSE))","v":{"$error":"#N/A"}},{"$f":"INDEX(Sistema_Analisado!$A$3:$F$99,MATCH(D112,Sistema_Analisado!$B$3:$B$99,FALSE),MATCH(\"Seq. Corredor\",Sistema_Analisado!$A$3:$F$3,0))","v":{"$error":"#N/A"}},null,{"$f":"MAX(IF((UdS_data!B:B=D112),UdS_data!G:G,0))","v":{"$error":"#DIV/0!"}},{"$f":"SUMIFS(UdS_data!G:G,UdS_data!B:B,D112,UdS_data!C:C,UdS_data!$I$13)","v":0},{"$f":"SUMIFS(UdS_data!G:G,UdS_data!B:B,D112,UdS_data!C:C,UdS_data!$I$16)","v":0},{"$f":"SUMIFS(UdS_data!E:E,UdS_data!B:B,D112,UdS_data!F:F,0)","v":0},{"$error":"#DIV/0!"},{"$error":"#DIV/0!"},0,0,0,0,0,"VALIDADO"]
[null,{"$f":"INDEX(Sistema_Analisado!$A$3:$F$99,MATCH($D113,Sistema_Analisado!$B$3:$B$99,FALSE),MATCH($B$4,Sistema_Analisado!$A$3:$F$3,FALSE))","v":{"$error":"#N/A"}},{"$f":"INDEX(Sistema_Analisado!$A$3:$F$99,MATCH(D113,Sistema_Analisado!$B$3:$B$99,FALSE),MATCH(\"Seq. Corredor\",Sistema_Analisado!$A$3:$F$3,0))","v":{"$error":"#N/A"}},null,{"$f":"MAX(IF((UdS_data!B:B=D113),UdS_data!G:G,0))","v":{"$error":"#DIV/0!"}},{"$f":"SUMIFS(UdS_data!G:G,UdS_data!B:B,D113,UdS_data!C:C,UdS_data!$I$13)","v":0},{"$f":"SUMIFS(UdS_data!G:G,UdS_data!B:B,D113,UdS_data!C:C,UdS_data!$I$16)","v":0},{"$f":"SUMIFS(UdS_data!E:E,UdS_data!B:B,D113,UdS_data!F:F,0)","v":0},{"$error":"#DIV/0!"},{"$error":"#DIV/0!"},0,0,0,0,0,"VALIDADO"]
[null,{"$f":"INDEX(Sistema_Analisado!$A$3:$F$99,MATCH($D114,Sistema_Analisado!$B$3:$B$99,FALSE),MATCH($B$4,Sistema_Analisado!$A$3:$F$3,FALSE))","v":{"$error":"#N/A"}},{"$f":"INDEX(Sistema_Analisado!$A$3:$F$99,MATCH(D114,Sistema_Analisado!$B$3:$B$99,FALSE),MATCH(\"Seq. Corredor\",Sistema_Analisado!$A$3:$F$3,0))","v":{"$error":"#N/A"}},null,{"$f":"MAX(IF((UdS_data!B:B=D114),UdS_data!G:G,0))","v":{"$error":"#DIV/0!"}},{"$f":"SUMIFS(UdS_data!G:G,UdS_data!B:B,D114,UdS_data!C:C,UdS_data!$I$13)","v":0},{"$f":"SUMIFS(UdS_data!G:G,UdS_data!B:B,D114,UdS_data!C:C,UdS_data!$I$16)","v":0},{"$f":"SUMIFS(UdS_data!E:E,UdS_data!B:B,D114,UdS_data!F:F,0)","v":0},{"$error":"#DIV/0!"},{"$error":"#DIV/0!"},0,0,0,0,0,"VALIDADO"]
[null,{"$f":"INDEX(Sistema_Analisado!$A$3:$F$99,MATCH($D115,Sistema_Analisado!$B$3:$B$99,FALSE),MATCH($B$4,Sistema_Analisado!$A$3:$F$3,FALSE))","v":{"$error":"#N/A"}},{"$f":"INDEX(Sistema_Analisado!$A$3:$F$99,MATCH(D115,Sistema_Analisado!$B$3:$B$99,FALSE),MATCH(\"Seq. Corredor\",Sistema_Analisado!$A$3:$F$3,0))","v":{"$error":"#N/A"}},null,{"$f":"MAX(IF((UdS_data!B:B=D115),UdS_data!G:G,0))","v":{"$error":"#DIV/0!"}},{"$f":"SUMIFS(UdS_data!G:G,UdS_data!B:B,D115,UdS_data!C:C,UdS_data!$I$13)","v":0},{"$f":"SUMIFS(UdS_data!G:G,UdS_data!B:B,D115,UdS_data!C:C,UdS_data!$I$16)","v":0},{"$f":"SUMIFS(UdS_data!E:E,UdS_data!B:B,D115,UdS_data!F:F,0)","v":0},{"$error":"#DIV/0!"},{"$error":"#DIV/0!"},0,0,0,0,0,"VALIDADO"]
[null,{"$f":"INDEX(Sistema_Analisado!$A$3:$F$99,MATCH($D116,Sistema_Analisado!$B$3:$B$99,FALSE),MATCH($B$4,Sistema_Analisado!$A$3:$F$3,FALSE))","v":{"$error":"#N/A"}},{"$f":"INDEX(Sistema_Analisado!$A$3:$F$99,MATCH(D116,Sistema_Analisado!$B$3:$B$99,FALSE),MATCH(\"Seq. Corredor\",Sistema_Analisado!$A$3:$F$3,0))","v":{"$error":"#N/A"}},null,{"$f":"MAX(IF((UdS_data!B:B=D116),UdS_data!G:G,0))","v":{"$error":"#DIV/0!"}},{"$f":"SUMIFS(UdS_data!G:G,UdS_data!B:B,D116,UdS_data!C:C,UdS_data!$I$13)","v":0},{"$f":"SUMIFS(UdS_data!G:G,UdS_data!B:B,D116,UdS_data!C:C,UdS_data!$I$16)","v":0},{"$f":"SUMIFS(UdS_data!E:E,UdS_data!B:B,D116,UdS_data!F:F,0)","v":0},{"$error":"#DIV/0!"},{"$error":"#DIV/0!"},0,0,0,0,0,"VALIDADO"]
[null,{"$f":"INDEX(Sistema_Analisado!$A$3:$F$99,MATCH($D117,Sistema_Analisado!$B$3:$B$99,FALSE),MATCH($B$4,Sistema_Analisado!$A$3:$F$3,FALSE))","v":{"$error":"#N/A"}},{"$f":"INDEX(Sistema_Analisado!$A$3:$F$99,MATCH(D117,Sistema_Analisado!$B$3:$B$99,FALSE),MATCH(\"Seq. Corredor\",Sistema_Analisado!$A$3:$F$3,0))","v":{"$error":"#N/A"}},null,{"$f":"MAX(IF((UdS_data!B:B=D117),UdS_data!G:G,0))","v":{"$error":"#DIV/0!"}},{"$f":"SUMIFS(UdS_data!G:G,UdS_data!B:B,D117,UdS_data!C:C,UdS_data!$I$13)","v":0},{"$f":"SUMIFS(UdS_data!G:G,UdS_data!B:B,D117,UdS_data!C:C,UdS_data!$I$16)","v":0},{"$f":"SUMIFS(UdS_data!E:E,UdS_data!B:B,D117,UdS_data!F:F,0)","v":0},{"$error":"#DIV/0!"},{"$error":"#DIV/0!"},0,0,0,0,0,"VALIDADO"]
[null,{"$f":"INDEX(Sistema_Analisado!$A$3:$F$99,MATCH($D118,Sistema_Analisado!$B$3:$B$99,FALSE),MATCH($B$4,Sistema_Analisado!$A$3:$F$3,FALSE))","v":{"$error":"#N/A"}},{"$f":"INDEX(Sistema_Analisado!$A$3:$F$99,MATCH(D118,Sistema_Analisado!$B$3:$B$99,FALSE),MATCH(\"Seq. Corredor\",Sistema_Analisado!$A$3:$F$3,0))","v":{"$error":"#N/A"}},null,{"$f":"MAX(IF((UdS_data!B:B=D118),UdS_data!G:G,0))","v":{"$error":"#DIV/0!"}},{"$f":"SUMIFS(UdS_data!G:G,UdS_data!B:B,D118,UdS_data!C:C,UdS_data!$I$13)","v":0},{"$f":"SUMIFS(UdS_data!G:G,UdS_data!B:B,D118,UdS_data!C:C,UdS_data!$I$16)","v":0},{"$f":"SUMIFS(UdS_data!E:E,UdS_data!B:B,D118,UdS_data!F:F,0)","v":0},{"$error":"#DIV/0!"},{"$error":"#DIV/0!"},0,0,0,0,0,"VALIDADO"]
[null,{"$f":"INDEX(Sistema_Analisado!$A$3:$F$99,MATCH($D119,Sistema_Analisado!$B$3:$B$99,FALSE),MATCH($B$4,Sistema_Analisado!$A$3:$F$3,FALSE))","v":{"$error":"#N/A"}},{"$f":"INDEX(Sistema_Analisado!$A$3:$F$99,MATCH(D119,Sistema_Analisado!$B$3:$B$99,FALSE),MATCH(\"Seq. Corredor\",Sistema_Analisado!$A$3:$F$3,0))","v":{"$error":"#N/A"}},null,{"$f":"MAX(IF((UdS_data!B:B=D119),UdS_data!G:G,0))","v":{"$error":"#DIV/0!"}},{"$f":"SUMIFS(UdS_data!G:G,UdS_data!B:B,D119,UdS_data!C:C,UdS_data!$I$13)","v":0},{"$f":"SUMIFS(UdS_data!G:G,UdS_data!B:B,D119,UdS_data!C:C,UdS_data!$I$16)","v":0},{"$f":"SUMIFS(UdS_data!E:E,UdS_data!B:B,D119,UdS_data!F:F,0)","v":0},{"$error":"#DIV/0!"},{"$error":"#DIV/0!"},0,0,0,0,0,"VALIDADO"]
[null,{"$f":"INDEX(Sistema_Analisado!$A$3:$F$99,MATCH($D120,Sistema_Analisado!$B$3:$B$99,FALSE),MATCH($B$4,Sistema_Analisado!$A$3:$F$3,FALSE))","v":{"$error":"#N/A"}},{"$f":"INDEX(Sistema_Analisado!$A$3:$F$99,MATCH(D120,Sistema_Analisado!$B$3:$B$99,FALSE),MATCH(\"Seq. Corredor\",Sistema_Analisado!$A$3:$F$3,0))","v":{"$error":"#N/A"}},null,{"$f":"MAX(IF((UdS_data!B:B=D120),UdS_data!G:G,0))","v":{"$error":"#DIV/0!"}},{"$f":"SUMIFS(UdS_data!G:G,UdS_data!B:B,D120,UdS_data!C:C,UdS_data!$I$13)","v":0},{"$f":"SUMIFS(UdS_data!G:G,UdS_data!B:B,D120,UdS_data!C:C,UdS_data!$I$16)","v":0},{"$f":"SUMIFS(UdS_data!E:E,UdS_data!B:B,D120,UdS_data!F:F,0)","v":0},{"$error":"#DIV/0!"},{"$error":"#DIV/0!"},0,0,0,0,0,"VALIDADO"]
[null,{"$f":"INDEX(Sistema_Analisado!$A$3:$F$99,MATCH($D121,Sistema_Analisado!$B$3:$B$99,FALSE),MATCH($B$4,Sistema_Analisado!$A$3:$F$3,FALSE))","v":{"$error":"#N/A"}},{"$f":"INDEX(Sistema_Analisado!$A$3:$F$99,MATCH(D121,Sistema_Analisado!$B$3:$B$99,FALSE),MATCH(\"Seq. Corredor\",Sistema_Analisado!$A$3:$F$3,0))","v":{"$error":"#N/A"}},null,{"$f":"MAX(IF((UdS_data!B:B=D121),UdS_data!G:G,0))","v":{"$error":"#DIV/0!"}},{"$f":"SUMIFS(UdS_data!G:G,UdS_data!B:B,D121,UdS_data!C:C,UdS_data!$I$13)","v":0},{"$f":"SUMIFS(UdS_data!G:G,UdS_data!B:B,D121,UdS_data!C:C,UdS_data!$I$16)","v":0},{"$f":"SUMIFS(UdS_data!E:E,UdS_data!B:B,D121,UdS_data!F:F,0)","v":0},{"$error":"#DIV/0!"},{"$error":"#DIV/0!"},0,0,0,0,0,"VALIDADO"]
[null,{"$f":"INDEX(Sistema_Analisado!$A$3:$F$99,MATCH($D122,Sistema_Analisado!$B$3:$B$99,FALSE),MATCH($B$4,Sistema_Analisado!$A$3:$F$3,FALSE))","v":{"$error":"#N/A"}},{"$f":"INDEX(Sistema_Analisado!$A$3:$F$99,MATCH(D122,Sistema_Analisado!$B$3:$B$99,FALSE),MATCH(\"Seq. Corredor\",Sistema_Analisado!$A$3:$F$3,0))","v":{"$error":"#N/A"}},null,{"$f":"MAX(IF((UdS_data!B:B=D122),UdS_data!G:G,0))","v":{"$error":"#DIV/0!"}},{"$f":"SUMIFS(UdS_data!G:G,UdS_data!B:B,D122,UdS_data!C:C,UdS_data!$I$13)","v":0},{"$f":"SUMIFS(UdS_data!G:G,UdS_data!B:B,D122,UdS_data!C:C,UdS_data!$I$16)","v":0},{"$f":"SUMIFS(UdS_data!E:E,UdS_data!B:B,D122,UdS_data!F:F,0)","v":0},{"$error":"#DIV/0!"},{"$error":"#DIV/0!"},0,0,0,0,0,"VALIDADO"]
[null,{"$f":"INDEX(Sistema_Analisado!$A$3:$F$99,MATCH($D123,Sistema_Analisado!$B$3:$B$99,FALSE),MATCH($B$4,Sistema_Analisado!$A$3:$F$3,FALSE))","v":{"$error":"#N/A"}},{"$f":"INDEX(Sistema_Analisado!$A$3:$F$99,MATCH(D123,Sistema_Analisado!$B$3:$B$99,FALSE),MATCH(\"Seq. Corredor\",Sistema_Analisado!$A$3:$F$3,0))","v":{"$error":"#N/A"}},null,{"$f":"MAX(IF((UdS_data!B:B=D123),UdS_data!G:G,0))","v":{"$error":"#DIV/0!"}},{"$f":"SUMIFS(UdS_data!G:G,UdS_data!B:B,D123,UdS_data!C:C,UdS_data!$I$13)","v":0},{"$f":"SUMIFS(UdS_data!G:G,UdS_data!B:B,D123,UdS_data!C:C,UdS_data!$I$16)","v":0},{"$f":"SUMIFS(UdS_data!E:E,UdS_data!B:B,D123,UdS_data!F:F,0)","v":0},{"$error":"#DIV/0!"},{"$error":"#DIV/0!"},0,0,0,0,0,"VALIDADO"]
[null,{"$f":"INDEX(Sistema_Analisado!$A$3:$F$99,MATCH($D124,Sistema_Analisado!$B$3:$B$99,FALSE),MATCH($B$4,Sistema_Analisado!$A$3:$F$3,FALSE))","v":{"$error":"#N/A"}},{"$f":"INDEX(Sistema_Analisado!$A$3:$F$99,MATCH(D124,Sistema_Analisado!$B$3:$B$99,FALSE),MATCH(\"Seq. Corredor\",Sistema_Analisado!$A$3:$F$3,0))","v":{"$error":"#N/A"}},null,{"$f":"MAX(IF((UdS_data!B:B=D124),UdS_data!G:G,0))","v":{"$error":"#DIV/0!"}},{"$f":"SUMIFS(UdS_data!G:G,UdS_data!B:B,D124,UdS_data!C:C,UdS_data!$I$13)","v":0},{"$f":"SUMIFS(UdS_data!G:G,UdS_data!B:B,D124,UdS_data!C:C,UdS_data!$I$16)","v":0},{"$f":"SUMIFS(UdS_data!E:E,UdS_data!B:B,D124,UdS_data!F:F,0)","v":0},{"$error":"#DIV/0!"},{"$error":"#DIV/0!"},0,0,0,0,0,"VALIDADO"]
[null,{"$f":"INDEX(Sistema_Analisado!$A$3:$F$99,MATCH($D125,Sistema_Analisado!$B$3:$B$99,FALSE),MATCH($B$4,Sistema_Analisado!$A$3:$F$3,FALSE))","v":{"$error":"#N/A"}},{"$f":"INDEX(Sistema_Analisado!$A$3:$F$99,MATCH(D125,Sistema_Analisado!$B$3:$B$99,FALSE),MATCH(\"Seq. Corredor\",Sistema_Analisado!$A$3:$F$3,0))","v":{"$error":"#N/A"}},null,{"$f":"MAX(IF((UdS_data!B:B=D125),UdS_data!G:G,0))","v":{"$error":"#DIV/0!"}},{"$f":"SUMIFS(UdS_data!G:G,UdS_data!B:B,D125,UdS_data!C:C,UdS_data!$I$13)","v":0},{"$f":"SUMIFS(UdS_data!G:G,UdS_data!B:B,D125,UdS_data!C:C,UdS_data!$I$16)","v":0},{"$f":"SUMIFS(UdS_data!E:E,UdS_data!B:B,D125,UdS_data!F:F,0)","v":0},{"$error":"#DIV/0!"},{"$error":"#DIV/0!"},0,0,0,0,0,"VALIDADO"]
[null,{"$f":"INDEX(Sistema_Analisado!$A$3:$F$99,MATCH($D126,Sistema_Analisado!$B$3:$B$99,FALSE),MATCH($B$4,Sistema_Analisado!$A$3:$F$3,FALSE))","v":{"$error":"#N/A"}},{"$f":"INDEX(Sistema_Analisado!$A$3:$F$99,MATCH(D126,Sistema_Analisado!$B$3:$B$99,FALSE),MATCH(\"Seq. Corredor\",Sistema_Analisado!$A$3:$F$3,0))","v":{"$error":"#N/A"}},null,{"$f":"MAX(IF((UdS_data!B:B=D126),UdS_data!G:G,0))","v":{"$error":"#DIV/0!"}},{"$f":"SUMIFS(UdS_data!G:G,UdS_data!B:B,D126,UdS_data!C:C,UdS_data!$I$13)","v":0},{"$f":"SUMIFS(UdS_data!G:G,UdS_data!B:B,D126,UdS_data!C:C,UdS_data!$I$16)","v":0},{"$f":"SUMIFS(UdS_data!E:E,UdS_data!B:B,D126,UdS_data!F:F,0)","v":0},{"$error":"#DIV/0!"},{"$error":"#DIV/0!"},0,0,0,0,0,"VALIDADO"]
[null,{"$f":"INDEX(Sistema_Analisado!$A$3:$F$99,MATCH($D127,Sistema_Analisado!$B$3:$B$99,FALSE),MATCH($B$4,Sistema_Analisado!$A$3:$F$3,FALSE))","v":{"$error":"#N/A"}},{"$f":"INDEX(Sistema_Analisado!$A$3:$F$99,MATCH(D127,Sistema_Analisado!$B$3:$B$99,FALSE),MATCH(\"Seq. Corredor\",Sistema_Analisado!$A$3:$F$3,0))","v":{"$error":"#N/A"}},null,{"$f":"MAX(IF((UdS_data!B:B=D127),UdS_data!G:G,0))","v":{"$error":"#DIV/0!"}},{"$f":"SUMIFS(UdS_data!G:G,UdS_data!B:B,D127,UdS_data!C:C,UdS_data!$I$13)","v":0},{"$f":"SUMIFS(UdS_data!G:G,UdS_data!B:B,D127,UdS_data!C:C,UdS_data!$I$16)","v":0},{"$f":"SUMIFS(UdS_data!E:E,UdS_data!B:B,D127,UdS_data!F:F,0)","v":0},{"$error":"#DIV/0!"},{"$error":"#DIV/0!"},0,0,0,0,0,"VALIDADO"]
[null,{"$f":"INDEX(Sistema_Analisado!$A$3:$F$99,MATCH($D128,Sistema_Analisado!$B$3:$B$99,FALSE),MATCH($B$4,Sistema_Analisado!$A$3:$F$3,FALSE))","v":{"$error":"#N/A"}},{"$f":"INDEX(Sistema_Analisado!$A$3:$F$99,MATCH(D128,Sistema_Analisado!$B$3:$B$99,FALSE),MATCH(\"Seq. Corredor\",Sistema_Analisado!$A$3:$F$3,0))","v":{"$error":"#N/A"}},null,{"$f":"MAX(IF((UdS_data!B:B=D128),UdS_data!G:G,0))","v":{"$error":"#DIV/0!"}},{"$f":"SUMIFS(UdS_data!G:G,UdS_data!B:B,D128,UdS_data!C:C,UdS_data!$I$13)","v":0},{"$f":"SUMIFS(UdS_data!G:G,UdS_data!B:B,D128,UdS_data!C:C,UdS_data!$I$16)","v":0},{"$f":"SUMIFS(UdS_data!E:E,UdS_data!B:B,D128,UdS_data!F:F,0)","v":0},{"$error":"#DIV/0!"},{"$error":"#DIV/0!"},0,0,0,0,0,"VALIDADO"]
[null,{"$f":"INDEX(Sistema_Analisado!$A$3:$F$99,MATCH($D129,Sistema_Analisado!$B$3:$B$99,FALSE),MATCH($B$4,Sistema_Analisado!$A$3:$F$3,FALSE))","v":{"$error":"#N/A"}},{"$f":"INDEX(Sistema_Analisado!$A$3:$F$99,MATCH(D129,Sistema_Analisado!$B$3:$B$99,FALSE),MATCH(\"Seq. Corredor\",Sistema_Analisado!$A$3:$F$3,0))","v":{"$error":"#N/A"}},null,{"$f":"MAX(IF((UdS_data!B:B=D129),UdS_data!G:G,0))","v":{"$error":"#DIV/0!"}},{"$f":"SUMIFS(UdS_data!G:G,UdS_data!B:B,D129,UdS_data!C:C,UdS_data!$I$13)","v":0},{"$f":"SUMIFS(UdS_data!G:G,UdS_data!B:B,D129,UdS_data!C:C,UdS_data!$I$16)","v":0},{"$f":"SUMIFS(UdS_data!E:E,UdS_data!B:B,D129,UdS_data!F:F,0)","v":0},{"$error":"#DIV/0!"},{"$error":"#DIV/0!"},0,0,0,0,0,"VALIDADO"]
[null,{"$f":"INDEX(Sistema_Analisado!$A$3:$F$99,MATCH($D130,Sistema_Analisado!$B$3:$B$99,FALSE),MATCH($B$4,Sistema_Analisado!$A$3:$F$3,FALSE))","v":{"$error":"#N/A"}},{"$f":"INDEX(Sistema_Analisado!$A$3:$F$99,MATCH(D130,Sistema_Analisado!$B$3:$B$99,FALSE),MATCH(\"Seq. Corredor\",Sistema_Analisado!$A$3:$F$3,0))","v":{"$error":"#N/A"}},null,{"$f":"MAX(IF((UdS_data!B:B=D130),UdS_data!G:G,0))","v":{"$error":"#DIV/0!"}},{"$f":"SUMIFS(UdS_data!G:G,UdS_data!B:B,D130,UdS_data!C:C,UdS_data!$I$13)","v":0},{"$f":"SUMIFS(UdS_data!G:G,UdS_data!B:B,D130,UdS_data!C:C,UdS_data!$I$16)","v":0},{"$f":"SUMIFS(UdS_data!E:E,UdS_data!B:B,D130,UdS_data!F:F,0)","v":0},{"$error":"#DIV/0!"},{"$error":"#DIV/0!"},0,0,0,0,0,"VALIDADO"]
[null,{"$f":"INDEX(Sistema_Analisado!$A$3:$F$99,MATCH($D131,Sistema_Analisado!$B$3:$B$99,FALSE),MATCH($B$4,Sistema_Analisado!$A$3:$F$3,FALSE))","v":{"$error":"#N/A"}},{"$f":"INDEX(Sistema_Analisado!$A$3:$F$99,MATCH(D131,Sistema_Analisado!$B$3:$B$99,FALSE),MATCH(\"Seq. Corredor\",Sistema_Analisado!$A$3:$F$3,0))","v":{"$error":"#N/A"}},null,{"$f":"MAX(IF((UdS_data!B:B=D131),UdS_data!G:G,0))","v":{"$error":"#DIV/0!"}},{"$f":"SUMIFS(UdS_data!G:G,UdS_data!B:B,D131,UdS_data!C:C,UdS_data!$I$13)","v":0},{"$f":"SUMIFS(UdS_data!G:G,UdS_data!B:B,D131,UdS_data!C:C,UdS_data!$I$16)","v":0},{"$f":"SUMIFS(UdS_data!E:E,UdS_data!B:B,D131,UdS_data!F:F,0)","v":0},{"$error":"#DIV/0!"},{"$error":"#DIV/0!"},0,0,0,0,0,"VALIDADO"]
[null,{"$f":"INDEX(Sistema_Analisado!$A$3:$F$99,MATCH($D132,Sistema_Analisado!$B$3:$B$99,FALSE),MATCH($B$4,Sistema_Analisado!$A$3:$F$3,FALSE))","v":{"$error":"#N/A"}},{"$f":"INDEX(Sistema_Analisado!$A$3:$F$99,MATCH(D132,Sistema_Analisado!$B$3:$B$99,FALSE),MATCH(\"Seq. Corredor\",Sistema_Analisado!$A$3:$F$3,0))","v":{"$error":"#N/A"}},null,{"$f":"MAX(IF((UdS_data!B:B=D132),UdS_data!G:G,0))","v":{"$error":"#DIV/0!"}},{"$f":"SUMIFS(UdS_data!G:G,UdS_data!B:B,D132,UdS_data!C:C,UdS_data!$I$13)","v":0},{"$f":"SUMIFS(UdS_data!G:G,UdS_data!B:B,D132,UdS_data!C:C,UdS_data!$I$16)","v":0},{"$f":"SUMIFS(UdS_data!E:E,UdS_data!B:B,D132,UdS_data!F:F,0)","v":0},{"$error":"#DIV/0!"},{"$error":"#DIV/0!"},0,0,0,0,0,"VALIDADO"]
[null,{"$f":"INDEX(Sistema_Analisado!$A$3:$F$99,MATCH($D133,Sistema_Analisado!$B$3:$B$99,FALSE),MATCH($B$4,Sistema_Analisado!$A$3:$F$3,FALSE))","v":{"$error":"#N/A"}},{"$f":"INDEX(Sistema_Analisado!$A$3:$F$99,MATCH(D133,Sistema_Analisado!$B$3:$B$99,FALSE),MATCH(\"Seq. Corredor\",Sistema_Analisado!$A$3:$F$3,0))","v":{"$error":"#N/A"}},null,{"$f":"MAX(IF((UdS_data!B:B=D133),UdS_data!G:G,0))","v":{"$error":"#DIV/0!"}},{"$f":"SUMIFS(UdS_data!G:G,UdS_data!B:B,D133,UdS_data!C:C,UdS_data!$I$13)","v":0},{"$f":"SUMIFS(UdS_data!G:G,UdS_data!B:B,D133,UdS_data!C:C,UdS_data!$I$16)","v":0},{"$f":"SUMIFS(UdS_data!E:E,UdS_data!B:B,D133,UdS_data!F:F,0)","v":0},{"$f":"E133","v":{"$error":"#DIV/0!"}},{"$error":"#DIV/0!"},{"$f":"F133","v":0},0,{"$f":"G133","v":0},0,{"$f":"H133","v":0},"VALIDADO"]
[null,{"$f":"INDEX(Sistema_Analisado!$A$3:$F$99,MATCH($D134,Sistema_Analisado!$B$3:$B$99,FALSE),MATCH($B$4,Sistema_Analisado!$A$3:$F$3,FALSE))","v":{"$error":"#N/A"}},{"$f":"INDEX(Sistema_Analisado!$A$3:$F$99,MATCH(D134,Sistema_Analisado!$B$3:$B$99,FALSE),MATCH(\"Seq. Corredor\",Sistema_Analisado!$A$3:$F$3,0))","v":{"$error":"#N/A"}},null,{"$f":"MAX(IF((UdS_data!B:B=D134),UdS_data!G:G,0))","v":{"$error":"#DIV/0!"}},{"$f":"SUMIFS(UdS_data!G:G,UdS_data!B:B,D134,UdS_data!C:C,UdS_data!$I$13)","v":0},{"$f":"SUMIFS(UdS_data!G:G,UdS_data!B:B,D134,UdS_data!C:C,UdS_data!$I$16)","v":0},{"$f":"SUMIFS(UdS_data!E:E,UdS_data!B:B,D134,UdS_data!F:F,0)","v":0},{"$error":"#DIV/0!"},{"$f":"IF($I134<=0.5,5,IF($I134<=0.7,3,IF($I134<=0.8,1,0)))","v":{"$error":"#DIV/0!"}},0,{"$f":"IF($K134>=0.3,5,IF($K134>=0.2,4,IF($K134>=0.1,3,IF($K134>=0.05,2,IF($K134>=0.025,1,0)))))","v":0},0,{"$f":"IF($M134>0.3,5,IF($M134>0.2,4,IF($M134>0.1,3,IF($M134>0.05,2,IF($M134>0.025,1,0)))))","v":0},0,{"$f":"IF(O134>=0.4,\"INVALIDADO\",\"VALIDADO\")","v":"VALIDADO"}]
[null,{"$f":"INDEX(Sistema_Analisado!$A$3:$F$99,MATCH($D135,Sistema_Analisado!$B$3:$B$99,FALSE),MATCH($B$4,Sistema_Analisado!$A$3:$F$3,FALSE))","v":{"$error":"#N/A"}},{"$f":"INDEX(Sistema_Analisado!$A$3:$F$99,MATCH(D135,Sistema_Analisado!$B$3:$B$99,FALSE),MATCH(\"Seq. Corredor\",Sistema_Analisado!$A$3:$F$3,0))","v":{"$error":"#N/A"}},null,{"$f":"MAX(IF((UdS_data!B:B=D135),UdS_data!G:G,0))","v":{"$error":"#DIV/0!"}},{"$f":"SUMIFS(UdS_data!G:G,UdS_data!B:B,D135,UdS_data!C:C,UdS_data!$I$13)","v":0},{"$f":"SUMIFS(UdS_data!G:G,UdS_data!B:B,D135,UdS_data!C:C,UdS_data!$I$16)","v":0},{"$f":"SUMIFS(UdS_data!E:E,UdS_data!B:B,D135,UdS_data!F:F,0)","v":0},{"$error":"#DIV/0!"},{"$error":"#DIV/0!"},0,0,0,0,0,"VALIDADO"]
[null,{"$f":"INDEX(Sistema_Analisado!$A$3:$F$99,MATCH($D136,Sistema_Analisado!$B$3:$B$99,FALSE),MATCH($B$4,Sistema_Analisado!$A$3:$F$3,FALSE))","v":{"$error":"#N/A"}},{"$f":"INDEX(Sistema_Analisado!$A$3:$F$99,MATCH(D136,Sistema_Analisado!$B$3:$B$99,FALSE),MATCH(\"Seq. Corredor\",Sistema_Analisado!$A$3:$F$3,0))","v":{"$error":"#N/A"}},null,{"$f":"MAX(IF((UdS_data!B:B=D136),UdS_data!G:G,0))","v":{"$error":"#DIV/0!"}},{"$f":"SUMIFS(UdS_data!G:G,UdS_data!B:B,D136,UdS_data!C:C,UdS_data!$I$13)","v":0},{"$f":"SUMIFS(UdS_data!G:G,UdS_data!B:B,D136,UdS_data!C:C,UdS_data!$I$16)","v":0},{"$f":"SUMIFS(UdS_data!E:E,UdS_data!B:B,D136,UdS_data!F:F,0)","v":0},{"$error":"#DIV/0!"},{"$error":"#DIV/0!"},0,0,0,0,0,"VALIDADO"]
[null,{"$f":"INDEX(Sistema_Analisado!$A$3:$F$99,MATCH($D137,Sistema_Analisado!$B$3:$B$99,FALSE),MATCH($B$4,Sistema_Analisado!$A$3:$F$3,FALSE))","v":{"$error":"#N/A"}},{"$f":"INDEX(Sistema_Analisado!$A$3:$F$99,MATCH(D137,Sistema_Analisado!$B$3:$B$99,FALSE),MATCH(\"Seq. Corredor\",Sistema_Analisado!$A$3:$F$3,0))","v":{"$error":"#N/A"}},null,{"$f":"MAX(IF((UdS_data!B:B=D137),UdS_data!G:G,0))","v":{"$error":"#DIV/0!"}},{"$f":"SUMIFS(UdS_data!G:G,UdS_data!B:B,D137,UdS_data!C:C,UdS_data!$I$13)","v":0},{"$f":"SUMIFS(UdS_data!G:G,UdS_data!B:B,D137,UdS_data!C:C,UdS_data!$I$16)","v":0},{"$f":"SUMIFS(UdS_data!E:E,UdS_data!B:B,D137,UdS_data!F:F,0)","v":0},{"$error":"#DIV/0!"},{"$error":"#DIV/0!"},0,0,0,0,0,"VALIDADO"]
[null,{"$f":"INDEX(Sistema_Analisado!$A$3:$F$99,MATCH($D138,Sistema_Analisado!$B$3:$B$99,FALSE),MATCH($B$4,Sistema_Analisado!$A$3:$F$3,FALSE))","v":{"$error":"#N/A"}},{"$f":"INDEX(Sistema_Analisado!$A$3:$F$99,MATCH(D138,Sistema_Analisado!$B$3:$B$99,FALSE),MATCH(\"Seq. Corredor\",Sistema_Analisado!$A$3:$F$3,0))","v":{"$error":"#N/A"}},null,{"$f":"MAX(IF((UdS_data!B:B=D138),UdS_data!G:G,0))","v":{"$error":"#DIV/0!"}},{"$f":"SUMIFS(UdS_data!G:G,UdS_data!B:B,D138,UdS_data!C:C,UdS_data!$I$13)","v":0},{"$f":"SUMIFS(UdS_data!G:G,UdS_data!B:B,D138,UdS_data!C:C,UdS_data!$I$16)","v":0},{"$f":"SUMIFS(UdS_data!E:E,UdS_data!B:B,D138,UdS_data!F:F,0)","v":0},{"$error":"#DIV/0!"},{"$error":"#DIV/0!"},0,0,0,0,0,"VALIDADO"]
[null,{"$f":"INDEX(Sistema_Analisado!$A$3:$F$99,MATCH($D139,Sistema_Analisado!$B$3:$B$99,FALSE),MATCH($B$4,Sistema_Analisado!$A$3:$F$3,FALSE))","v":{"$error":"#N/A"}},{"$f":"INDEX(Sistema_Analisado!$A$3:$F$99,MATCH(D139,Sistema_Analisado!$B$3:$B$99,FALSE),MATCH(\"Seq. Corredor\",Sistema_Analisado!$A$3:$F$3,0))","v":{"$error":"#N/A"}},null,{"$f":"MAX(IF((UdS_data!B:B=D139),UdS_data!G:G,0))","v":{"$error":"#DIV/0!"}},{"$f":"SUMIFS(UdS_data!G:G,UdS_data!B:B,D139,UdS_data!C:C,UdS_data!$I$13)","v":0},{"$f":"SUMIFS(UdS_data!G:G,UdS_data!B:B,D139,UdS_data!C:C,UdS_data!$I$16)","v":0},{"$f":"SUMIFS(UdS_data!E:E,UdS_data!B:B,D139,UdS_data!F:F,0)","v":0},{"$error":"#DIV/0!"},{"$error":"#DIV/0!"},0,0,0,0,0,"VALIDADO"]
[null,{"$f":"INDEX(Sistema_Analisado!$A$3:$F$99,MATCH($D140,Sistema_Analisado!$B$3:$B$99,FALSE),MATCH($B$4,Sistema_Analisado!$A$3:$F$3,FALSE))","v":{"$error":"#N/A"}},{"$f":"INDEX(Sistema_Analisado!$A$3:$F$99,MATCH(D140,Sistema_Analisado!$B$3:$B$99,FALSE),MATCH(\"Seq. Corredor\",Sistema_Analisado!$A$3:$F$3,0))","v":{"$error":"#N/A"}},null,{"$f":"MAX(IF((UdS_data!B:B=D140),UdS_data!G:G,0))","v":{"$error":"#DIV/0!"}},{"$f":"SUMIFS(UdS_data!G:G,UdS_data!B:B,D140,UdS_data!C:C,UdS_data!$I$13)","v":0},{"$f":"SUMIFS(UdS_data!G:G,UdS_data!B:B,D140,UdS_data!C:C,UdS_data!$I$16)","v":0},{"$f":"SUMIFS(UdS_data!E:E,UdS_data!B:B,D140,UdS_data!F:F,0)","v":0},{"$error":"#DIV/0!"},{"$error":"#DIV/0!"},0,0,0,0,0,"VALIDADO"]
[null,{"$f":"INDEX(Sistema_Analisado!$A$3:$F$99,MATCH($D141,Sistema_Analisado!$B$3:$B$99,FALSE),MATCH($B$4,Sistema_Analisado!$A$3:$F$3,FALSE))","v":{"$error":"#N/A"}},{"$f":"INDEX(Sistema_Analisado!$A$3:$F$99,MATCH(D141,Sistema_Analisado!$B$3:$B$99,FALSE),MATCH(\"Seq. Corredor\",Sistema_Analisado!$A$3:$F$3,0))","v":{"$error":"#N/A"}},null,{"$f":"MAX(IF((UdS_data!B:B=D141),UdS_data!G:G,0))","v":{"$error":"#DIV/0!"}},{"$f":"SUMIFS(UdS_data!G:G,UdS_data!B:B,D141,UdS_data!C:C,UdS_data!$I$13)","v":0},{"$f":"SUMIFS(UdS_data!G:G,UdS_data!B:B,D141,UdS_data!C:C,UdS_data!$I$16)","v":0},{"$f":"SUMIFS(UdS_data!E:E,UdS_data!B:B,D141,UdS_data!F:F,0)","v":0},{"$error":"#DIV/0!"},{"$error":"#DIV/0!"},0,0,0,0,0,"VALIDADO"]
[null,{"$f":"INDEX(Sistema_Analisado!$A$3:$F$99,MATCH($D142,Sistema_Analisado!$B$3:$B$99,FALSE),MATCH($B$4,Sistema_Analisado!$A$3:$F$3,FALSE))","v":{"$error":"#N/A"}},{"$f":"INDEX(Sistema_Analisado!$A$3:$F$99,MATCH(D142,Sistema_Analisado!$B$3:$B$99,FALSE),MATCH(\"Seq. Corredor\",Sistema_Analisado!$A$3:$F$3,0))","v":{"$error":"#N/A"}},null,{"$f":"MAX(IF((UdS_data!B:B=D142),UdS_data!G:G,0))","v":{"$error":"#DIV/0!"}},{"$f":"SUMIFS(UdS_data!G:G,UdS_data!B:B,D142,UdS_data!C:C,UdS_data!$I$13)","v":0},{"$f":"SUMIFS(UdS_data!G:G,UdS_data!B:B,D142,UdS_data!C:C,UdS_data!$I$16)","v":0},{"$f":"SUMIFS(UdS_data!E:E,UdS_data!B:B,D142,UdS_data!F:F,0)","v":0},{"$error":"#DIV/0!"},{"$error":"#DIV/0!"},0,0,0,0,0,"VALIDADO"]
[null,{"$f":"INDEX(Sistema_Analisado!$A$3:$F$99,MATCH($D143,Sistema_Analisado!$B$3:$B$99,FALSE),MATCH($B$4,Sistema_Analisado!$A$3:$F$3,FALSE))","v":{"$error":"#N/A"}},{"$f":"INDEX(Sistema_Analisado!$A$3:$F$99,MATCH(D143,Sistema_Analisado!$B$3:$B$99,FALSE),MATCH(\"Seq. Corredor\",Sistema_Analisado!$A$3:$F$3,0))","v":{"$error":"#N/A"}},null,{"$f":"MAX(IF((UdS_data!B:B=D143),UdS_data!G:G,0))","v":{"$error":"#DIV/0!"}},{"$f":"SUMIFS(UdS_data!G:G,UdS_data!B:B,D143,UdS_data!C:C,UdS_data!$I$13)","v":0},{"$f":"SUMIFS(UdS_data!G:G,UdS_data!B:B,D143,UdS_data!C:C,UdS_data!$I$16)","v":0},{"$f":"SUMIFS(UdS_data!E:E,UdS_data!B:B,D143,UdS_data!F:F,0)","v":0},{"$error":"#DIV/0!"},{"$error":"#DIV/0!"},0,0,0,0,0,"VALIDADO"]
[null,{"$f":"INDEX(Sistema_Analisado!$A$3:$F$99,MATCH($D144,Sistema_Analisado!$B$3:$B$99,FALSE),MATCH($B$4,Sistema_Analisado!$A$3:$F$3,FALSE))","v":{"$error":"#N/A"}},{"$f":"INDEX(Sistema_Analisado!$A$3:$F$99,MATCH(D144,Sistema_Analisado!$B$3:$B$99,FALSE),MATCH(\"Seq. Corredor\",Sistema_Analisado!$A$3:$F$3,0))","v":{"$error":"#N/A"}},null,{"$f":"MAX(IF((UdS_data!B:B=D144),UdS_data!G:G,0))","v":{"$error":"#DIV/0!"}},{"$f":"SUMIFS(UdS_data!G:G,UdS_data!B:B,D144,UdS_data!C:C,UdS_data!$I$13)","v":0},{"$f":"SUMIFS(UdS_data!G:G,UdS_data!B:B,D144,UdS_data!C:C,UdS_data!$I$16)","v":0},{"$f":"SUMIFS(UdS_data!E:E,UdS_data!B:B,D144,UdS_data!F:F,0)","v":0},{"$error":"#DIV/0!"},{"$error":"#DIV/0!"},0,0,0,0,0,"VALIDADO"]
[null,{"$f":"INDEX(Sistema_Analisado!$A$3:$F$99,MATCH($D145,Sistema_Analisado!$B$3:$B$99,FALSE),MATCH($B$4,Sistema_Analisado!$A$3:$F$3,FALSE))","v":{"$error":"#N/A"}},{"$f":"INDEX(Sistema_Analisado!$A$3:$F$99,MATCH(D145,Sistema_Analisado!$B$3:$B$99,FALSE),MATCH(\"Seq. Corredor\",Sistema_Analisado!$A$3:$F$3,0))","v":{"$error":"#N/A"}},null,{"$f":"MAX(IF((UdS_data!B:B=D145),UdS_data!G:G,0))","v":{"$error":"#DIV/0!"}},{"$f":"SUMIFS(UdS_data!G:G,UdS_data!B:B,D145,UdS_data!C:C,UdS_data!$I$13)","v":0},{"$f":"SUMIFS(UdS_data!G:G,UdS_data!B:B,D145,UdS_data!C:C,UdS_data!$I$16)","v":0},{"$f":"SUMIFS(UdS_data!E:E,UdS_data!B:B,D145,UdS_data!F:F,0)","v":0},{"$error":"#DIV/0!"},{"$error":"#DIV/0!"},0,0,0,0,0,"VALIDADO"]
[null,{"$f":"INDEX(Sistema_Analisado!$A$3:$F$99,MATCH($D146,Sistema_Analisado!$B$3:$B$99,FALSE),MATCH($B$4,Sistema_Analisado!$A$3:$F$3,FALSE))","v":{"$error":"#N/A"}},{"$f":"INDEX(Sistema_Analisado!$A$3:$F$99,MATCH(D146,Sistema_Analisado!$B$3:$B$99,FALSE),MATCH(\"Seq. Corredor\",Sistema_Analisado!$A$3:$F$3,0))","v":{"$error":"#N/A"}},null,{"$f":"MAX(IF((UdS_data!B:B=D146),UdS_data!G:G,0))","v":{"$error":"#DIV/0!"}},{"$f":"SUMIFS(UdS_data!G:G,UdS_data!B:B,D146,UdS_data!C:C,UdS_data!$I$13)","v":0},{"$f":"SUMIFS(UdS_data!G:G,UdS_data!B:B,D146,UdS_data!C:C,UdS_data!$I$16)","v":0},{"$f":"SUMIFS(UdS_data!E:E,UdS_data!B:B,D146,UdS_data!F:F,0)","v":0},{"$error":"#DIV/0!"},{"$error":"#DIV/0!"},0,0,0,0,0,"VALIDADO"]
[null,{"$f":"INDEX(Sistema_Analisado!$A$3:$F$99,MATCH($D147,Sistema_Analisado!$B$3:$B$99,FALSE),MATCH($B$4,Sistema_Analisado!$A$3:$F$3,FALSE))","v":{"$error":"#N/A"}},{"$f":"INDEX(Sistema_Analisado!$A$3:$F$99,MATCH(D147,Sistema_Analisado!$B$3:$B$99,FALSE),MATCH(\"Seq. Corredor\",Sistema_Analisado!$A$3:$F$3,0))","v":{"$error":"#N/A"}},null,{"$f":"MAX(IF((UdS_data!B:B=D147),UdS_data!G:G,0))","v":{"$error":"#DIV/0!"}},{"$f":"SUMIFS(UdS_data!G:G,UdS_data!B:B,D147,UdS_data!C:C,UdS_data!$I$13)","v":0},{"$f":"SUMIFS(UdS_data!G:G,UdS_data!B:B,D147,UdS_data!C:C,UdS_data!$I$16)","v":0},{"$f":"SUMIFS(UdS_data!E:E,UdS_data!B:B,D147,UdS_data!F:F,0)","v":0},{"$error":"#DIV/0!"},{"$error":"#DIV/0!"},0,0,0,0,0,"VALIDADO"]
[null,{"$f":"INDEX(Sistema_Analisado!$A$3:$F$99,MATCH($D148,Sistema_Analisado!$B$3:$B$99,FALSE),MATCH($B$4,Sistema_Analisado!$A$3:$F$3,FALSE))","v":{"$error":"#N/A"}},{"$f":"INDEX(Sistema_Analisado!$A$3:$F$99,MATCH(D148,Sistema_Analisado!$B$3:$B$99,FALSE),MATCH(\"Seq. Corredor\",Sistema_Analisado!$A$3:$F$3,0))","v":{"$error":"#N/A"}},null,{"$f":"MAX(IF((UdS_data!B:B=D148),UdS_data!G:G,0))","v":{"$error":"#DIV/0!"}},{"$f":"SUMIFS(UdS_data!G:G,UdS_data!B:B,D148,UdS_data!C:C,UdS_data!$I$13)","v":0},{"$f":"SUMIFS(UdS_data!G:G,UdS_data!B:B,D148,UdS_data!C:C,UdS_data!$I$16)","v":0},{"$f":"SUMIFS(UdS_data!E:E,UdS_data!B:B,D148,UdS_data!F:F,0)","v":0},{"$error":"#DIV/0!"},{"$error":"#DIV/0!"},0,0,0,0,0,"VALIDADO"]
[null,{"$f":"INDEX(Sistema_Analisado!$A$3:$F$99,MATCH($D149,Sistema_Analisado!$B$3:$B$99,FALSE),MATCH($B$4,Sistema_Analisado!$A$3:$F$3,FALSE))","v":{"$error":"#N/A"}},{"$f":"INDEX(Sistema_Analisado!$A$3:$F$99,MATCH(D149,Sistema_Analisado!$B$3:$B$99,FALSE),MATCH(\"Seq. Corredor\",Sistema_Analisado!$A$3:$F$3,0))","v":{"$error":"#N/A"}},null,{"$f":"MAX(IF((UdS_data!B:B=D149),UdS_data!G:G,0))","v":{"$error":"#DIV/0!"}},{"$f":"SUMIFS(UdS_data!G:G,UdS_data!B:B,D149,UdS_data!C:C,UdS_data!$I$13)","v":0},{"$f":"SUMIFS(UdS_data!G:G,UdS_data!B:B,D149,UdS_data!C:C,UdS_data!$I$16)","v":0},{"$f":"SUMIFS(UdS_data!E:E,UdS_data!B:B,D149,UdS_data!F:F,0)","v":0},{"$error":"#DIV/0!"},{"$error":"#DIV/0!"},0,0,0,0,0,"VALIDADO"]
[null,{"$f":"INDEX(Sistema_Analisado!$A$3:$F$99,MATCH($D150,Sistema_Analisado!$B$3:$B$99,FALSE),MATCH($B$4,Sistema_Analisado!$A$3:$F$3,FALSE))","v":{"$error":"#N/A"}},{"$f":"INDEX(Sistema_Analisado!$A$3:$F$99,MATCH(D150,Sistema_Analisado!$B$3:$B$99,FALSE),MATCH(\"Seq. Corredor\",Sistema_Analisado!$A$3:$F$3,0))","v":{"$error":"#N/A"}},null,{"$f":"MAX(IF((UdS_data!B:B=D150),UdS_data!G:G,0))","v":{"$error":"#DIV/0!"}},{"$f":"SUMIFS(UdS_data!G:G,UdS_data!B:B,D150,UdS_data!C:C,UdS_data!$I$13)","v":0},{"$f":"SUMIFS(UdS_data!G:G,UdS_data!B:B,D150,UdS_data!C:C,UdS_data!$I$16)","v":0},{"$f":"SUMIFS(UdS_data!E:E,UdS_data!B:B,D150,UdS_data!F:F,0)","v":0},{"$error":"#DIV/0!"},{"$error":"#DIV/0!"},0,0,0,0,0,"VALIDADO"]
[null,{"$f":"INDEX(Sistema_Analisado!$A$3:$F$99,MATCH($D151,Sistema_Analisado!$B$3:$B$99,FALSE),MATCH($B$4,Sistema_Analisado!$A$3:$F$3,FALSE))","v":{"$error":"#N/A"}},{"$f":"INDEX(Sistema_Analisado!$A$3:$F$99,MATCH(D151,Sistema_Analisado!$B$3:$B$99,FALSE),MATCH(\"Seq. Corredor\",Sistema_Analisado!$A$3:$F$3,0))","v":{"$error":"#N/A"}},null,{"$f":"MAX(IF((UdS_data!B:B=D151),UdS_data!G:G,0))","v":{"$error":"#DIV/0!"}},{"$f":"SUMIFS(UdS_data!G:G,UdS_data!B:B,D151,UdS_data!C:C,UdS_data!$I$13)","v":0},{"$f":"SUMIFS(UdS_data!G:G,UdS_data!B:B,D151,UdS_data!C:C,UdS_data!$I$16)","v":0},{"$f":"SUMIFS(UdS_data!E:E,UdS_data!B:B,D151,UdS_data!F:F,0)","v":0},{"$error":"#DIV/0!"},{"$error":"#DIV/0!"},0,0,0,0,0,"VALIDADO"]
[null,{"$f":"INDEX(Sistema_Analisado!$A$3:$F$99,MATCH($D152,Sistema_Analisado!$B$3:$B$99,FALSE),MATCH($B$4,Sistema_Analisado!$A$3:$F$3,FALSE))","v":{"$error":"#N/A"}},{"$f":"INDEX(Sistema_Analisado!$A$3:$F$99,MATCH(D152,Sistema_Analisado!$B$3:$B$99,FALSE),MATCH(\"Seq. Corredor\",Sistema_Analisado!$A$3:$F$3,0))","v":{"$error":"#N/A"}},null,{"$f":"MAX(IF((UdS_data!B:B=D152),UdS_data!G:G,0))","v":{"$error":"#DIV/0!"}},{"$f":"SUMIFS(UdS_data!G:G,UdS_data!B:B,D152,UdS_data!C:C,UdS_data!$I$13)","v":0},{"$f":"SUMIFS(UdS_data!G:G,UdS_data!B:B,D152,UdS_data!C:C,UdS_data!$I$16)","v":0},{"$f":"SUMIFS(UdS_data!E:E,UdS_data!B:B,D152,UdS_data!F:F,0)","v":0},{"$error":"#DIV/0!"},{"$error":"#DIV/0!"},0,0,0,0,0,"VALIDADO"]
[null,{"$f":"INDEX(Sistema_Analisado!$A$3:$F$99,MATCH($D153,Sistema_Analisado!$B$3:$B$99,FALSE),MATCH($B$4,Sistema_Analisado!$A$3:$F$3,FALSE))","v":{"$error":"#N/A"}},{"$f":"INDEX(Sistema_Analisado!$A$3:$F$99,MATCH(D153,Sistema_Analisado!$B$3:$B$99,FALSE),MATCH(\"Seq. Corredor\",Sistema_Analisado!$A$3:$F$3,0))","v":{"$error":"#N/A"}},null,{"$f":"MAX(IF((UdS_data!B:B=D153),UdS_data!G:G,0))","v":{"$error":"#DIV/0!"}},{"$f":"SUMIFS(UdS_data!G:G,UdS_data!B:B,D153,UdS_data!C:C,UdS_data!$I$13)","v":0},{"$f":"SUMIFS(UdS_data!G:G,UdS_data!B:B,D153,UdS_data!C:C,UdS_data!$I$16)","v":0},{"$f":"SUMIFS(UdS_data!E:E,UdS_data!B:B,D153,UdS_data!F:F,0)","v":0},{"$error":"#DIV/0!"},{"$error":"#DIV/0!"},0,0,0,0,0,"VALIDADO"]
[null,{"$f":"INDEX(Sistema_Analisado!$A$3:$F$99,MATCH($D154,Sistema_Analisado!$B$3:$B$99,FALSE),MATCH($B$4,Sistema_Analisado!$A$3:$F$3,FALSE))","v":{"$error":"#N/A"}},{"$f":"INDEX(Sistema_Analisado!$A$3:$F$99,MATCH(D154,Sistema_Analisado!$B$3:$B$99,FALSE),MATCH(\"Seq. Corredor\",Sistema_Analisado!$A$3:$F$3,0))","v":{"$error":"#N/A"}},null,{"$f":"MAX(IF((UdS_data!B:B=D154),UdS_data!G:G,0))","v":{"$error":"#DIV/0!"}},{"$f":"SUMIFS(UdS_data!G:G,UdS_data!B:B,D154,UdS_data!C:C,UdS_data!$I$13)","v":0},{"$f":"SUMIFS(UdS_data!G:G,UdS_data!B:B,D154,UdS_data!C:C,UdS_data!$I$16)","v":0},{"$f":"SUMIFS(UdS_data!E:E,UdS_data!B:B,D154,UdS_data!F:F,0)","v":0},{"$error":"#DIV/0!"},{"$error":"#DIV/0!"},0,0,0,0,0,"VALIDADO"]
[null,{"$f":"INDEX(Sistema_Analisado!$A$3:$F$99,MATCH($D155,Sistema_Analisado!$B$3:$B$99,FALSE),MATCH($B$4,Sistema_Analisado!$A$3:$F$3,FALSE))","v":{"$error":"#N/A"}},{"$f":"INDEX(Sistema_Analisado!$A$3:$F$99,MATCH(D155,Sistema_Analisado!$B$3:$B$99,FALSE),MATCH(\"Seq. Corredor\",Sistema_Analisado!$A$3:$F$3,0))","v":{"$error":"#N/A"}},null,{"$f":"MAX(IF((UdS_data!B:B=D155),UdS_data!G:G,0))","v":{"$error":"#DIV/0!"}},{"$f":"SUMIFS(UdS_data!G:G,UdS_data!B:B,D155,UdS_data!C:C,UdS_data!$I$13)","v":0},{"$f":"SUMIFS(UdS_data!G:G,UdS_data!B:B,D155,UdS_data!C:C,UdS_data!$I$16)","v":0},{"$f":"SUMIFS(UdS_data!E:E,UdS_data!B:B,D155,UdS_data!F:F,0)","v":0},{"$error":"#DIV/0!"},{"$error":"#DIV/0!"},0,0,0,0,0,"VALIDADO"]
[null,{"$f":"INDEX(Sistema_Analisado!$A$3:$F$99,MATCH($D156,Sistema_Analisado!$B$3:$B$99,FALSE),MATCH($B$4,Sistema_Analisado!$A$3:$F$3,FALSE))","v":{"$error":"#N/A"}},{"$f":"INDEX(Sistema_Analisado!$A$3:$F$99,MATCH(D156,Sistema_Analisado!$B$3:$B$99,FALSE),MATCH(\"Seq. Corredor\",Sistema_Analisado!$A$3:$F$3,0))","v":{"$error":"#N/A"}},null,{"$f":"MAX(IF((UdS_data!B:B=D156),UdS_data!G:G,0))","v":{"$error":"#DIV/0!"}},{"$f":"SUMIFS(UdS_data!G:G,UdS_data!B:B,D156,UdS_data!C:C,UdS_data!$I$13)","v":0},{"$f":"SUMIFS(UdS_data!G:G,UdS_data!B:B,D156,UdS_data!C:C,UdS_data!$I$16)","v":0},{"$f":"SUMIFS(UdS_data!E:E,UdS_data!B:B,D156,UdS_data!F:F,0)","v":0},{"$error":"#DIV/0!"},{"$error":"#DIV/0!"},0,0,0,0,0,"VALIDADO"]
[null,{"$f":"INDEX(Sistema_Analisado!$A$3:$F$99,MATCH($D157,Sistema_Analisado!$B$3:$B$99,FALSE),MATCH($B$4,Sistema_Analisado!$A$3:$F$3,FALSE))","v":{"$error":"#N/A"}},{"$f":"INDEX(Sistema_Analisado!$A$3:$F$99,MATCH(D157,Sistema_Analisado!$B$3:$B$99,FALSE),MATCH(\"Seq. Corredor\",Sistema_Analisado!$A$3:$F$3,0))","v":{"$error":"#N/A"}},null,{"$f":"MAX(IF((UdS_data!B:B=D157),UdS_data!G:G,0))","v":{"$error":"#DIV/0!"}},{"$f":"SUMIFS(UdS_data!G:G,UdS_data!B:B,D157,UdS_data!C:C,UdS_data!$I$13)","v":0},{"$f":"SUMIFS(UdS_data!G:G,UdS_data!B:B,D157,UdS_data!C:C,UdS_data!$I$16)","v":0},{"$f":"SUMIFS(UdS_data!E:E,UdS_data!B:B,D157,UdS_data!F:F,0)","v":0},{"$error":"#DIV/0!"},{"$error":"#DIV/0!"},0,0,0,0,0,"VALIDADO"]
[null,{"$f":"INDEX(Sistema_Analisado!$A$3:$F$99,MATCH($D158,Sistema_Analisado!$B$3:$B$99,FALSE),MATCH($B$4,Sistema_Analisado!$A$3:$F$3,FALSE))","v":{"$error":"#N/A"}},{"$f":"INDEX(Sistema_Analisado!$A$3:$F$99,MATCH(D158,Sistema_Analisado!$B$3:$B$99,FALSE),MATCH(\"Seq. Corredor\",Sistema_Analisado!$A$3:$F$3,0))","v":{"$error":"#N/A"}},null,{"$f":"MAX(IF((UdS_data!B:B=D158),UdS_data!G:G,0))","v":{"$error":"#DIV/0!"}},{"$f":"SUMIFS(UdS_data!G:G,UdS_data!B:B,D158,UdS_data!C:C,UdS_data!$I$13)","v":0},{"$f":"SUMIFS(UdS_data!G:G,UdS_data!B:B,D158,UdS_data!C:C,UdS_data!$I$16)","v":0},{"$f":"SUMIFS(UdS_data!E:E,UdS_data!B:B,D158,UdS_data!F:F,0)","v":0},{"$error":"#DIV/0!"},{"$error":"#DIV/0!"},0,0,0,0,0,"VALIDADO"]
[null,{"$f":"INDEX(Sistema_Analisado!$A$3:$F$99,MATCH($D159,Sistema_Analisado!$B$3:$B$99,FALSE),MATCH($B$4,Sistema_Analisado!$A$3:$F$3,FALSE))","v":{"$error":"#N/A"}},{"$f":"INDEX(Sistema_Analisado!$A$3:$F$99,MATCH(D159,Sistema_Analisado!$B$3:$B$99,FALSE),MATCH(\"Seq. Corredor\",Sistema_Analisado!$A$3:$F$3,0))","v":{"$error":"#N/A"}},null,{"$f":"MAX(IF((UdS_data!B:B=D159),UdS_data!G:G,0))","v":{"$error":"#DIV/0!"}},{"$f":"SUMIFS(UdS_data!G:G,UdS_data!B:B,D159,UdS_data!C:C,UdS_data!$I$13)","v":0},{"$f":"SUMIFS(UdS_data!G:G,UdS_data!B:B,D159,UdS_data!C:C,UdS_data!$I$16)","v":0},{"$f":"SUMIFS(UdS_data!E:E,UdS_data!B:B,D159,UdS_data!F:F,0)","v":0},{"$error":"#DIV/0!"},{"$error":"#DIV/0!"},0,0,0,0,0,"VALIDADO"]
[null,{"$f":"INDEX(Sistema_Analisado!$A$3:$F$99,MATCH($D160,Sistema_Analisado!$B$3:$B$99,FALSE),MATCH($B$4,Sistema_Analisado!$A$3:$F$3,FALSE))","v":{"$error":"#N/A"}},{"$f":"INDEX(Sistema_Analisado!$A$3:$F$99,MATCH(D160,Sistema_Analisado!$B$3:$B$99,FALSE),MATCH(\"Seq. Corredor\",Sistema_Analisado!$A$3:$F$3,0))","v":{"$error":"#N/A"}},null,{"$f":"MAX(IF((UdS_data!B:B=D160),UdS_data!G:G,0))","v":{"$error":"#DIV/0!"}},{"$f":"SUMIFS(UdS_data!G:G,UdS_data!B:B,D160,UdS_data!C:C,UdS_data!$I$13)","v":0},{"$f":"SUMIFS(UdS_data!G:G,UdS_data!B:B,D160,UdS_data!C:C,UdS_data!$I$16)","v":0},{"$f":"SUMIFS(UdS_data!E:E,UdS_data!B:B,D160,UdS_data!F:F,0)","v":0},{"$error":"#DIV/0!"},{"$error":"#DIV/0!"},0,0,0,0,0,"VALIDADO"]

{"sheet":"UdS_TCA_graphs","index":13,"n_rows":766,"n_cols":6,"rows_kept":766,"cut":false,"hidden":true,"merged":[]}
["Estações","Estação (gemea)","Estação sem Caracteres Especiais","Uso do solo","Uso do Solo - nomes originais","Percentual de uso"]
["Aeroporto de Jacarepaguá",{"$f":"A$2","v":"Aeroporto de Jacarepaguá"},{"$f":"VLOOKUP(B2,UdS_agrg!D:D,2,FALSE)","v":{"$error":"#N/A"}},"Afloramentos rochosos e depósitos sedimentares","Afloramentos rochosos e depsitos sedimentares",{"$f":"SUMIFS(UdS_data!E:E,UdS_data!B:B,C2,UdS_data!C:C,E2)","v":0}]
["André Rocha",{"$f":"A$2","v":"Aeroporto de Jacarepaguá"},{"$f":"VLOOKUP(B3,UdS_agrg!D:D,2,FALSE)","v":{"$error":"#N/A"}},"Áreas agrícolas","reas agrcolas",{"$f":"SUMIFS(UdS_data!E:E,UdS_data!B:B,C3,UdS_data!C:C,E3)","v":0}]
["Aracy Cabral","Aeroporto de Jacarepaguá",{"$f":"VLOOKUP(B4,UdS_agrg!D:D,2,FALSE)","v":{"$error":"#N/A"}},"Áreas com cobertura vegetal","Areas com cobertura vegetal",{"$f":"SUMIFS(UdS_data!E:E,UdS_data!B:B,C4,UdS_data!C:C,E4)","v":0}]
["Arroio Pavuna","Aeroporto de Jacarepaguá",{"$f":"VLOOKUP(B5,UdS_agrg!D:D,2,FALSE)","v":{"$error":"#N/A"}},"Áreas de comércio e serviços","reas de comrcio e servios",{"$f":"SUMIFS(UdS_data!E:E,UdS_data!B:B,C5,UdS_data!C:C,E5)","v":0}]
["Campinho","Aeroporto de Jacarepaguá",{"$f":"VLOOKUP(B6,UdS_agrg!D:D,2,FALSE)","v":{"$error":"#N/A"}},"Áreas de educação e saúde","reas de educao e sade",{"$f":"SUMIFS(UdS_data!E:E,UdS_data!B:B,C6,UdS_data!C:C,E6)","v":0}]
["Capitão Menezes","Aeroporto de Jacarepaguá",{"$f":"VLOOKUP(B7,UdS_agrg!D:D,2,FALSE)","v":{"$error":"#N/A"}},"Áreas de exploração mineral","reas de explorao mineral",{"$f":"SUMIFS(UdS_data!E:E,UdS_data!B:B,C7,UdS_data!C:C,E7)","v":0}]
["Cardoso de Moraes - Viva Garcia","Aeroporto de Jacarepaguá",{"$f":"VLOOKUP(B8,UdS_agrg!D:D,2,FALSE)","v":{"$error":"#N/A"}},"Áreas de lazer","reas de lazer",{"$f":"SUMIFS(UdS_data!E:E,UdS_data!B:B,C8,UdS_data!C:C,E8)","v":0}]
["Centro Metropolitano","Aeroporto de Jacarepaguá",{"$f":"VLOOKUP(B9,UdS_agrg!D:D,2,FALSE)","v":{"$error":"#N/A"}},"Áreas de transportes","reas de transporte",{"$f":"SUMIFS(UdS_data!E:E,UdS_data!B:B,C9,UdS_data!C:C,E9)","v":0}]
["Curicica TCA","Aeroporto de Jacarepaguá",{"$f":"VLOOKUP(B10,UdS_agrg!D:D,2,FALSE)","v":{"$error":"#N/A"}},"Áreas industriais","reas industriais",{"$f":"SUMIFS(UdS_data!E:E,UdS_data!B:B,C10,UdS_data!C:C,E10)","v":0}]
["Divina Providência","Aeroporto de Jacarepaguá",{"$f":"VLOOKUP(B11,UdS_agrg!D:D,2,FALSE)","v":{"$error":"#N/A"}},"Áreas institucionais e de infraestrutura pública","reas institucionais e de infraestrutura pblica",{"$f":"SUMIFS(UdS_data!E:E,UdS_data!B:B,C11,UdS_data!C:C,E11)","v":0}]
["Galeão - Tom Jobim 1","Aeroporto de Jacarepaguá",{"$f":"VLOOKUP(B12,UdS_agrg!D:D,2,FALSE)","v":{"$error":"#N/A"}},"Áreas não edificadas ou subutilizadas","reas no edificadas",{"$f":"SUMIFS(UdS_data!E:E,UdS_data!B:B,C12,UdS_data!C:C,E12)","v":0}]
["Galeão - Tom Jobim 2","Aeroporto de Jacarepaguá",{"$f":"VLOOKUP(B13,UdS_agrg!D:D,2,FALSE)","v":{"$error":"#N/A"}},"Áreas residenciais","reas residenciais",{"$f":"SUMIFS(UdS_data!E:E,UdS_data!B:B,C13,UdS_data!C:C,E13)","v":0}]
["Guaporé","Aeroporto de Jacarepaguá",{"$f":"VLOOKUP(B14,UdS_agrg!D:D,2,FALSE)","v":{"$error":"#N/A"}},"Áreas residenciais com atividades complementares","reas residenciais mixtas",{"$f":"SUMIFS(UdS_data!E:E,UdS_data!B:B,C14,UdS_data!C:C,E14)","v":0}]
["Hospital Sarah","Aeroporto de Jacarepaguá",{"$f":"VLOOKUP(B15,UdS_agrg!D:D,2,FALSE)","v":{"$error":"#N/A"}},"Áreas sujeitas à inundação","reas sujeitas  inundao",{"$f":"SUMIFS(UdS_data!E:E,UdS_data!B:B,C15,UdS_data!C:C,E15)","v":0}]
["Ibiapina","Aeroporto de Jacarepaguá",{"$f":"VLOOKUP(B16,UdS_agrg!D:D,2,FALSE)","v":{"$error":"#N/A"}},"Corpos hídricos","Corpos hdricos",{"$f":"SUMIFS(UdS_data!E:E,UdS_data!B:B,C16,UdS_data!C:C,E16)","v":0}]
["IPASE","Aeroporto de Jacarepaguá",{"$f":"VLOOKUP(B17,UdS_agrg!D:D,2,FALSE)","v":{"$error":"#N/A"}},"Favela","Favela",{"$f":"SUMIFS(UdS_data!E:E,UdS_data!B:B,C17,UdS_data!C:C,E17)","v":0}]
["Lourenço Jorge","Aeroporto de Jacarepaguá",{"$f":"VLOOKUP(B18,UdS_agrg!D:D,2,FALSE)","v":{"$error":"#N/A"}},"Unidades de Conservação","Unidades de Conservao",{"$f":"SUMIFS(UdS_data!E:E,UdS_data!B:B,C18,UdS_data!C:C,E18)","v":0}]
["Madureira",{"$f":"A$3","v":"André Rocha"},{"$f":"VLOOKUP(B19,UdS_agrg!D:D,2,FALSE)","v":{"$error":"#N/A"}},"Afloramentos rochosos e depósitos sedimentares","Afloramentos rochosos e depsitos sedimentares",{"$f":"SUMIFS(UdS_data!E:E,UdS_data!B:B,C19,UdS_data!C:C,E19)","v":0}]
["Marambaia",{"$f":"A$3","v":"André Rocha"},{"$f":"VLOOKUP(B20,UdS_agrg!D:D,2,FALSE)","v":{"$error":"#N/A"}},"Áreas agrícolas","reas agrcolas",{"$f":"SUMIFS(UdS_data!E:E,UdS_data!B:B,C20,UdS_data!C:C,E20)","v":0}]
["Maré","André Rocha",{"$f":"VLOOKUP(B21,UdS_agrg!D:D,2,FALSE)","v":{"$error":"#N/A"}},"Áreas com cobertura vegetal","Areas com cobertura vegetal",{"$f":"SUMIFS(UdS_data!E:E,UdS_data!B:B,C21,UdS_data!C:C,E21)","v":0}]
["Mercadão","André Rocha",{"$f":"VLOOKUP(B22,UdS_agrg!D:D,2,FALSE)","v":{"$error":"#N/A"}},"Áreas de comércio e serviços","reas de comrcio e servios",{"$f":"SUMIFS(UdS_data!E:E,UdS_data!B:B,C22,UdS_data!C:C,E22)","v":0}]
["Merck-Santa Efigênia","André Rocha",{"$f":"VLOOKUP(B23,UdS_agrg!D:D,2,FALSE)","v":{"$error":"#N/A"}},"Áreas de educação e saúde","reas de educao e sade",{"$f":"SUMIFS(UdS_data!E:E,UdS_data!B:B,C23,UdS_data!C:C,E23)","v":0}]
["Olaria - Cacique de Ramos","André Rocha",{"$f":"VLOOKUP(B24,UdS_agrg!D:D,2,FALSE)","v":{"$error":"#N/A"}},"Áreas de exploração mineral","reas de explorao mineral",{"$f":"SUMIFS(UdS_data!E:E,UdS_data!B:B,C24,UdS_data!C:C,E24)","v":0}]
["Otaviano","André Rocha",{"$f":"VLOOKUP(B25,UdS_agrg!D:D,2,FALSE)","v":{"$error":"#N/A"}},"Áreas de lazer","reas de lazer",{"$f":"SUMIFS(UdS_data!E:E,UdS_data!B:B,C25,UdS_data!C:C,E25)","v":0}]
["Pastor José Santos","André Rocha",{"$f":"VLOOKUP(B26,UdS_agrg!D:D,2,FALSE)","v":{"$error":"#N/A"}},"Áreas de transportes","reas de transporte",{"$f":"SUMIFS(UdS_data!E:E,UdS_data!B:B,C26,UdS_data!C:C,E26)","v":0}]
["Pedro Correia","André Rocha",{"$f":"VLOOKUP(B27,UdS_agrg!D:D,2,FALSE)","v":{"$error":"#N/A"}},"Áreas industriais","reas industriais",{"$f":"SUMIFS(UdS_data!E:E,UdS_data!B:B,C27,UdS_data!C:C,E27)","v":0}]
["Pedro Taques","André Rocha",{"$f":"VLOOKUP(B28,UdS_agrg!D:D,2,FALSE)","v":{"$error":"#N/A"}},"Áreas institucionais e de infraestrutura pública","reas institucionais e de infraestrutura pblica",{"$f":"SUMIFS(UdS_data!E:E,UdS_data!B:B,C28,UdS_data!C:C,E28)","v":0}]
["Penha","André Rocha",{"$f":"VLOOKUP(B29,UdS_agrg!D:D,2,FALSE)","v":{"$error":"#N/A"}},"Áreas não edificadas ou subutilizadas","reas no edificadas",{"$f":"SUMIFS(UdS_data!E:E,UdS_data!B:B,C29,UdS_data!C:C,E29)","v":0}]
["Pinto Teles","André Rocha",{"$f":"VLOOKUP(B30,UdS_agrg!D:D,2,FALSE)","v":{"$error":"#N/A"}},"Áreas residenciais","reas residenciais",{"$f":"SUMIFS(UdS_data!E:E,UdS_data!B:B,C30,UdS_data!C:C,E30)","v":0}]
["Praça do Bandolim","André Rocha",{"$f":"VLOOKUP(B31,UdS_agrg!D:D,2,FALSE)","v":{"$error":"#N/A"}},"Áreas residenciais com atividades complementares","reas residenciais mixtas",{"$f":"SUMIFS(UdS_data!E:E,UdS_data!B:B,C31,UdS_data!C:C,E31)","v":0}]
["Praça do Carmo","André Rocha",{"$f":"VLOOKUP(B32,UdS_agrg!D:D,2,FALSE)","v":{"$error":"#N/A"}},"Áreas sujeitas à inundação","reas sujeitas  inundao",{"$f":"SUMIFS(UdS_data!E:E,UdS_data!B:B,C32,UdS_data!C:C,E32)","v":0}]
["Praça Seca","André Rocha",{"$f":"VLOOKUP(B33,UdS_agrg!D:D,2,FALSE)","v":{"$error":"#N/A"}},"Corpos hídricos","Corpos hdricos",{"$f":"SUMIFS(UdS_data!E:E,UdS_data!B:B,C33,UdS_data!C:C,E33)","v":0}]
["Recanto das Palmeiras - Jardim São Luiz","André Rocha",{"$f":"VLOOKUP(B34,UdS_agrg!D:D,2,FALSE)","v":{"$error":"#N/A"}},"Favela","Favela",{"$f":"SUMIFS(UdS_data!E:E,UdS_data!B:B,C34,UdS_data!C:C,E34)","v":0}]
["Rio II","André Rocha",{"$f":"VLOOKUP(B35,UdS_agrg!D:D,2,FALSE)","v":{"$error":"#N/A"}},"Unidades de Conservação","Unidades de Conservao",{"$f":"SUMIFS(UdS_data!E:E,UdS_data!B:B,C35,UdS_data!C:C,E35)","v":0}]
["Santa Luzia",{"$f":"A$4","v":"Aracy Cabral"},{"$f":"VLOOKUP(B36,UdS_agrg!D:D,2,FALSE)","v":{"$error":"#N/A"}},"Afloramentos rochosos e depósitos sedimentares","Afloramentos rochosos e depsitos sedimentares",{"$f":"SUMIFS(UdS_data!E:E,UdS_data!B:B,C36,UdS_data!C:C,E36)","v":0}]
["Tanque / Terminal Mestre Candeia",{"$f":"A$4","v":"Aracy Cabral"},{"$f":"VLOOKUP(B37,UdS_agrg!D:D,2,FALSE)","v":{"$error":"#N/A"}},"Áreas agrícolas","reas agrcolas",{"$f":"SUMIFS(UdS_data!E:E,UdS_data!B:B,C37,UdS_data!C:C,E37)","v":0}]
["Taquara","Aracy Cabral",{"$f":"VLOOKUP(B38,UdS_agrg!D:D,2,FALSE)","v":{"$error":"#N/A"}},"Áreas com cobertura vegetal","Areas com cobertura vegetal",{"$f":"SUMIFS(UdS_data!E:E,UdS_data!B:B,C38,UdS_data!C:C,E38)","v":0}]
["Terminal Alvorada TCA","Aracy Cabral",{"$f":"VLOOKUP(B39,UdS_agrg!D:D,2,FALSE)","v":{"$error":"#N/A"}},"Áreas de comércio e serviços","reas de comrcio e servios",{"$f":"SUMIFS(UdS_data!E:E,UdS_data!B:B,C39,UdS_data!C:C,E39)","v":0}]
["Terminal Fundão - Aroldo Melodia","Aracy Cabral",{"$f":"VLOOKUP(B40,UdS_agrg!D:D,2,FALSE)","v":{"$error":"#N/A"}},"Áreas de educação e saúde","reas de educao e sade",{"$f":"SUMIFS(UdS_data!E:E,UdS_data!B:B,C40,UdS_data!C:C,E40)","v":0}]
["Vaz Lobo","Aracy Cabral",{"$f":"VLOOKUP(B41,UdS_agrg!D:D,2,FALSE)","v":{"$error":"#N/A"}},"Áreas de exploração mineral","reas de explorao mineral",{"$f":"SUMIFS(UdS_data!E:E,UdS_data!B:B,C41,UdS_data!C:C,E41)","v":0}]
["Via Parque","Aracy Cabral",{"$f":"VLOOKUP(B42,UdS_agrg!D:D,2,FALSE)","v":{"$error":"#N/A"}},"Áreas de lazer","reas de lazer",{"$f":"SUMIFS(UdS_data!E:E,UdS_data!B:B,C42,UdS_data!C:C,E42)","v":0}]
["Vicente de Carvalho","Aracy Cabral",{"$f":"VLOOKUP(B43,UdS_agrg!D:D,2,FALSE)","v":{"$error":"#N/A"}},"Áreas de transportes","reas de transporte",{"$f":"SUMIFS(UdS_data!E:E,UdS_data!B:B,C43,UdS_data!C:C,E43)","v":0}]
["Vila Kosmos - Nossa Senhora do Carmo","Aracy Cabral",{"$f":"VLOOKUP(B44,UdS_agrg!D:D,2,FALSE)","v":{"$error":"#N/A"}},"Áreas industriais","reas industriais",{"$f":"SUMIFS(UdS_data!E:E,UdS_data!B:B,C44,UdS_data!C:C,E44)","v":0}]
["Vila Queiroz","Aracy Cabral",{"$f":"VLOOKUP(B45,UdS_agrg!D:D,2,FALSE)","v":{"$error":"#N/A"}},"Áreas institucionais e de infraestrutura pública","reas institucionais e de infraestrutura pblica",{"$f":"SUMIFS(UdS_data!E:E,UdS_data!B:B,C45,UdS_data!C:C,E45)","v":0}]
["Vila Sapê - IV Centenário","Aracy Cabral",{"$f":"VLOOKUP(B46,UdS_agrg!D:D,2,FALSE)","v":{"$error":"#N/A"}},"Áreas não edificadas ou subutilizadas","reas no edificadas",{"$f":"SUMIFS(UdS_data!E:E,UdS_data!B:B,C46,UdS_data!C:C,E46)","v":0}]
[null,"Aracy Cabral",{"$f":"VLOOKUP(B47,UdS_agrg!D:D,2,FALSE)","v":{"$error":"#N/A"}},"Áreas residenciais","reas residenciais",{"$f":"SUMIFS(UdS_data!E:E,UdS_data!B:B,C47,UdS_data!C:C,E47)","v":0}]
[null,"Aracy Cabral",{"$f":"VLOOKUP(B48,UdS_agrg!D:D,2,FALSE)","v":{"$error":"#N/A"}},"Áreas residenciais com atividades complementares","reas residenciais mixtas",{"$f":"SUMIFS(UdS_data!E:E,UdS_data!B:B,C48,UdS_data!C:C,E48)","v":0}]
[null,"Aracy Cabral",{"$f":"VLOOKUP(B49,UdS_agrg!D:D,2,FALSE)","v":{"$error":"#N/A"}},"Áreas sujeitas à inundação","reas sujeitas  inundao",{"$f":"SUMIFS(UdS_data!E:E,UdS_data!B:B,C49,UdS_data!C:C,E49)","v":0}]
[null,"Aracy Cabral",{"$f":"VLOOKUP(B50,UdS_agrg!D:D,2,FALSE)","v":{"$error":"#N/A"}},"Corpos hídricos","Corpos hdricos",{"$f":"SUMIFS(UdS_data!E:E,UdS_data!B:B,C50,UdS_data!C:C,E50)","v":0}]
[null,"Aracy Cabral",{"$f":"VLOOKUP(B51,UdS_agrg!D:D,2,FALSE)","v":{"$error":"#N/A"}},"Favela","Favela",{"$f":"SUMIFS(UdS_data!E:E,UdS_data!B:B,C51,UdS_data!C:C,E51)","v":0}]
[null,"Aracy Cabral",{"$f":"VLOOKUP(B52,UdS_agrg!D:D,2,FALSE)","v":{"$error":"#N/A"}},"Unidades de Conservação","Unidades de Conservao",{"$f":"SUMIFS(UdS_data!E:E,UdS_data!B:B,C52,UdS_data!C:C,E52)","v":0}]
[null,{"$f":"A$5","v":"Arroio Pavuna"},{"$f":"VLOOKUP(B53,UdS_agrg!D:D,2,FALSE)","v":{"$error":"#N/A"}},"Afloramentos rochosos e depósitos sedimentares","Afloramentos rochosos e depsitos sedimentares",{"$f":"SUMIFS(UdS_data!E:E,UdS_data!B:B,C53,UdS_data!C:C,E53)","v":0}]
[null,{"$f":"A$5","v":"Arroio Pavuna"},{"$f":"VLOOKUP(B54,UdS_agrg!D:D,2,FALSE)","v":{"$error":"#N/A"}},"Áreas agrícolas","reas agrcolas",{"$f":"SUMIFS(UdS_data!E:E,UdS_data!B:B,C54,UdS_data!C:C,E54)","v":0}]
[null,"Arroio Pavuna",{"$f":"VLOOKUP(B55,UdS_agrg!D:D,2,FALSE)","v":{"$error":"#N/A"}},"Áreas com cobertura vegetal","Areas com cobertura vegetal",{"$f":"SUMIFS(UdS_data!E:E,UdS_data!B:B,C55,UdS_data!C:C,E55)","v":0}]
[null,"Arroio Pavuna",{"$f":"VLOOKUP(B56,UdS_agrg!D:D,2,FALSE)","v":{"$error":"#N/A"}},"Áreas de comércio e serviços","reas de comrcio e servios",{"$f":"SUMIFS(UdS_data!E:E,UdS_data!B:B,C56,UdS_data!C:C,E56)","v":0}]
[null,"Arroio Pavuna",{"$f":"VLOOKUP(B57,UdS_agrg!D:D,2,FALSE)","v":{"$error":"#N/A"}},"Áreas de educação e saúde","reas de educao e sade",{"$f":"SUMIFS(UdS_data!E:E,UdS_data!B:B,C57,UdS_data!C:C,E57)","v":0}]
[null,"Arroio Pavuna",{"$f":"VLOOKUP(B58,UdS_agrg!D:D,2,FALSE)","v":{"$error":"#N/A"}},"Áreas de exploração mineral","reas de explorao mineral",{"$f":"SUMIFS(UdS_data!E:E,UdS_data!B:B,C58,UdS_data!C:C,E58)","v":0}]
[null,"Arroio Pavuna",{"$f":"VLOOKUP(B59,UdS_agrg!D:D,2,FALSE)","v":{"$error":"#N/A"}},"Áreas de lazer","reas de lazer",{"$f":"SUMIFS(UdS_data!E:E,UdS_data!B:B,C59,UdS_data!C:C,E59)","v":0}]
[null,"Arroio Pavuna",{"$f":"VLOOKUP(B60,UdS_agrg!D:D,2,FALSE)","v":{"$error":"#N/A"}},"Áreas de transportes","reas de transporte",{"$f":"SUMIFS(UdS_data!E:E,UdS_data!B:B,C60,UdS_data!C:C,E60)","v":0}]
[null,"Arroio Pavuna",{"$f":"VLOOKUP(B61,UdS_agrg!D:D,2,FALSE)","v":{"$error":"#N/A"}},"Áreas industriais","reas industriais",{"$f":"SUMIFS(UdS_data!E:E,UdS_data!B:B,C61,UdS_data!C:C,E61)","v":0}]
[null,"Arroio Pavuna",{"$f":"VLOOKUP(B62,UdS_agrg!D:D,2,FALSE)","v":{"$error":"#N/A"}},"Áreas institucionais e de infraestrutura pública","reas institucionais e de infraestrutura pblica",{"$f":"SUMIFS(UdS_data!E:E,UdS_data!B:B,C62,UdS_data!C:C,E62)","v":0}]
[null,"Arroio Pavuna",{"$f":"VLOOKUP(B63,UdS_agrg!D:D,2,FALSE)","v":{"$error":"#N/A"}},"Áreas não edificadas ou subutilizadas","reas no edificadas",{"$f":"SUMIFS(UdS_data!E:E,UdS_data!B:B,C63,UdS_data!C:C,E63)","v":0}]
[null,"Arroio Pavuna",{"$f":"VLOOKUP(B64,UdS_agrg!D:D,2,FALSE)","v":{"$error":"#N/A"}},"Áreas residenciais","reas residenciais",{"$f":"SUMIFS(UdS_data!E:E,UdS_data!B:B,C64,UdS_data!C:C,E64)","v":0}]
[null,"Arroio Pavuna",{"$f":"VLOOKUP(B65,UdS_agrg!D:D,2,FALSE)","v":{"$error":"#N/A"}},"Áreas residenciais com atividades complementares","reas residenciais mixtas",{"$f":"SUMIFS(UdS_data!E:E,UdS_data!B:B,C65,UdS_data!C:C,E65)","v":0}]
[null,"Arroio Pavuna",{"$f":"VLOOKUP(B66,UdS_agrg!D:D,2,FALSE)","v":{"$error":"#N/A"}},"Áreas sujeitas à inundação","reas sujeitas  inundao",{"$f":"SUMIFS(UdS_data!E:E,UdS_data!B:B,C66,UdS_data!C:C,E66)","v":0}]
[null,"Arroio Pavuna",{"$f":"VLOOKUP(B67,UdS_agrg!D:D,2,FALSE)","v":{"$error":"#N/A"}},"Corpos hídricos","Corpos hdricos",{"$f":"SUMIFS(UdS_data!E:E,UdS_data!B:B,C67,UdS_data!C:C,E67)","v":0}]
[null,"Arroio Pavuna",{"$f":"VLOOKUP(B68,UdS_agrg!D:D,2,FALSE)","v":{"$error":"#N/A"}},"Favela","Favela",{"$f":"SUMIFS(UdS_data!E:E,UdS_data!B:B,C68,UdS_data!C:C,E68)","v":0}]
[null,"Arroio Pavuna",{"$f":"VLOOKUP(B69,UdS_agrg!D:D,2,FALSE)","v":{"$error":"#N/A"}},"Unidades de Conservação","Unidades de Conservao",{"$f":"SUMIFS(UdS_data!E:E,UdS_data!B:B,C69,UdS_data!C:C,E69)","v":0}]
[null,{"$f":"A$6","v":"Campinho"},{"$f":"VLOOKUP(B70,UdS_agrg!D:D,2,FALSE)","v":{"$error":"#N/A"}},"Afloramentos rochosos e depósitos sedimentares","Afloramentos rochosos e depsitos sedimentares",{"$f":"SUMIFS(UdS_data!E:E,UdS_data!B:B,C70,UdS_data!C:C,E70)","v":0}]
[null,{"$f":"A$6","v":"Campinho"},{"$f":"VLOOKUP(B71,UdS_agrg!D:D,2,FALSE)","v":{"$error":"#N/A"}},"Áreas agrícolas","reas agrcolas",{"$f":"SUMIFS(UdS_data!E:E,UdS_data!B:B,C71,UdS_data!C:C,E71)","v":0}]
[null,"Campinho",{"$f":"VLOOKUP(B72,UdS_agrg!D:D,2,FALSE)","v":{"$error":"#N/A"}},"Áreas com cobertura vegetal","Areas com cobertura vegetal",{"$f":"SUMIFS(UdS_data!E:E,UdS_data!B:B,C72,UdS_data!C:C,E72)","v":0}]
[null,"Campinho",{"$f":"VLOOKUP(B73,UdS_agrg!D:D,2,FALSE)","v":{"$error":"#N/A"}},"Áreas de comércio e serviços","reas de comrcio e servios",{"$f":"SUMIFS(UdS_data!E:E,UdS_data!B:B,C73,UdS_data!C:C,E73)","v":0}]
[null,"Campinho",{"$f":"VLOOKUP(B74,UdS_agrg!D:D,2,FALSE)","v":{"$error":"#N/A"}},"Áreas de educação e saúde","reas de educao e sade",{"$f":"SUMIFS(UdS_data!E:E,UdS_data!B:B,C74,UdS_data!C:C,E74)","v":0}]
[null,"Campinho",{"$f":"VLOOKUP(B75,UdS_agrg!D:D,2,FALSE)","v":{"$error":"#N/A"}},"Áreas de exploração mineral","reas de explorao mineral",{"$f":"SUMIFS(UdS_data!E:E,UdS_data!B:B,C75,UdS_data!C:C,E75)","v":0}]
[null,"Campinho",{"$f":"VLOOKUP(B76,UdS_agrg!D:D,2,FALSE)","v":{"$error":"#N/A"}},"Áreas de lazer","reas de lazer",{"$f":"SUMIFS(UdS_data!E:E,UdS_data!B:B,C76,UdS_data!C:C,E76)","v":0}]
[null,"Campinho",{"$f":"VLOOKUP(B77,UdS_agrg!D:D,2,FALSE)","v":{"$error":"#N/A"}},"Áreas de transportes","reas de transporte",{"$f":"SUMIFS(UdS_data!E:E,UdS_data!B:B,C77,UdS_data!C:C,E77)","v":0}]
[null,"Campinho",{"$f":"VLOOKUP(B78,UdS_agrg!D:D,2,FALSE)","v":{"$error":"#N/A"}},"Áreas industriais","reas industriais",{"$f":"SUMIFS(UdS_data!E:E,UdS_data!B:B,C78,UdS_data!C:C,E78)","v":0}]
[null,"Campinho",{"$f":"VLOOKUP(B79,UdS_agrg!D:D,2,FALSE)","v":{"$error":"#N/A"}},"Áreas institucionais e de infraestrutura pública","reas institucionais e de infraestrutura pblica",{"$f":"SUMIFS(UdS_data!E:E,UdS_data!B:B,C79,UdS_data!C:C,E79)","v":0}]
[null,"Campinho",{"$f":"VLOOKUP(B80,UdS_agrg!D:D,2,FALSE)","v":{"$error":"#N/A"}},"Áreas não edificadas ou subutilizadas","reas no edificadas",{"$f":"SUMIFS(UdS_data!E:E,UdS_data!B:B,C80,UdS_data!C:C,E80)","v":0}]
[null,"Campinho",{"$f":"VLOOKUP(B81,UdS_agrg!D:D,2,FALSE)","v":{"$error":"#N/A"}},"Áreas residenciais","reas residenciais",{"$f":"SUMIFS(UdS_data!E:E,UdS_data!B:B,C81,UdS_data!C:C,E81)","v":0}]
[null,"Campinho",{"$f":"VLOOKUP(B82,UdS_agrg!D:D,2,FALSE)","v":{"$error":"#N/A"}},"Áreas residenciais com atividades complementares","reas residenciais mixtas",{"$f":"SUMIFS(UdS_data!E:E,UdS_data!B:B,C82,UdS_data!C:C,E82)","v":0}]
[null,"Campinho",{"$f":"VLOOKUP(B83,UdS_agrg!D:D,2,FALSE)","v":{"$error":"#N/A"}},"Áreas sujeitas à inundação","reas sujeitas  inundao",{"$f":"SUMIFS(UdS_data!E:E,UdS_data!B:B,C83,UdS_data!C:C,E83)","v":0}]
[null,"Campinho",{"$f":"VLOOKUP(B84,UdS_agrg!D:D,2,FALSE)","v":{"$error":"#N/A"}},"Corpos hídricos","Corpos hdricos",{"$f":"SUMIFS(UdS_data!E:E,UdS_data!B:B,C84,UdS_data!C:C,E84)","v":0}]
[null,"Campinho",{"$f":"VLOOKUP(B85,UdS_agrg!D:D,2,FALSE)","v":{"$error":"#N/A"}},"Favela","Favela",{"$f":"SUMIFS(UdS_data!E:E,UdS_data!B:B,C85,UdS_data!C:C,E85)","v":0}]
[null,"Campinho",{"$f":"VLOOKUP(B86,UdS_agrg!D:D,2,FALSE)","v":{"$error":"#N/A"}},"Unidades de Conservação","Unidades de Conservao",{"$f":"SUMIFS(UdS_data!E:E,UdS_data!B:B,C86,UdS_data!C:C,E86)","v":0}]
[null,{"$f":"A$7","v":"Capitão Menezes"},{"$f":"VLOOKUP(B87,UdS_agrg!D:D,2,FALSE)","v":{"$error":"#N/A"}},"Afloramentos rochosos e depósitos sedimentares","Afloramentos rochosos e depsitos sedimentares",{"$f":"SUMIFS(UdS_data!E:E,UdS_data!B:B,C87,UdS_data!C:C,E87)","v":0}]
[null,{"$f":"A$7","v":"Capitão Menezes"},{"$f":"VLOOKUP(B88,UdS_agrg!D:D,2,FALSE)","v":{"$error":"#N/A"}},"Áreas agrícolas","reas agrcolas",{"$f":"SUMIFS(UdS_data!E:E,UdS_data!B:B,C88,UdS_data!C:C,E88)","v":0}]
[null,"Capitão Menezes",{"$f":"VLOOKUP(B89,UdS_agrg!D:D,2,FALSE)","v":{"$error":"#N/A"}},"Áreas com cobertura vegetal","Areas com cobertura vegetal",{"$f":"SUMIFS(UdS_data!E:E,UdS_data!B:B,C89,UdS_data!C:C,E89)","v":0}]
[null,"Capitão Menezes",{"$f":"VLOOKUP(B90,UdS_agrg!D:D,2,FALSE)","v":{"$error":"#N/A"}},"Áreas de comércio e serviços","reas de comrcio e servios",{"$f":"SUMIFS(UdS_data!E:E,UdS_data!B:B,C90,UdS_data!C:C,E90)","v":0}]
[null,"Capitão Menezes",{"$f":"VLOOKUP(B91,UdS_agrg!D:D,2,FALSE)","v":{"$error":"#N/A"}},"Áreas de educação e saúde","reas de educao e sade",{"$f":"SUMIFS(UdS_data!E:E,UdS_data!B:B,C91,UdS_data!C:C,E91)","v":0}]
[null,"Capitão Menezes",{"$f":"VLOOKUP(B92,UdS_agrg!D:D,2,FALSE)","v":{"$error":"#N/A"}},"Áreas de exploração mineral","reas de explorao mineral",{"$f":"SUMIFS(UdS_data!E:E,UdS_data!B:B,C92,UdS_data!C:C,E92)","v":0}]
[null,"Capitão Menezes",{"$f":"VLOOKUP(B93,UdS_agrg!D:D,2,FALSE)","v":{"$error":"#N/A"}},"Áreas de lazer","reas de lazer",{"$f":"SUMIFS(UdS_data!E:E,UdS_data!B:B,C93,UdS_data!C:C,E93)","v":0}]
[null,"Capitão Menezes",{"$f":"VLOOKUP(B94,UdS_agrg!D:D,2,FALSE)","v":{"$error":"#N/A"}},"Áreas de transportes","reas de transporte",{"$f":"SUMIFS(UdS_data!E:E,UdS_data!B:B,C94,UdS_data!C:C,E94)","v":0}]
[null,"Capitão Menezes",{"$f":"VLOOKUP(B95,UdS_agrg!D:D,2,FALSE)","v":{"$error":"#N/A"}},"Áreas industriais","reas industriais",{"$f":"SUMIFS(UdS_data!E:E,UdS_data!B:B,C95,UdS_data!C:C,E95)","v":0}]
[null,"Capitão Menezes",{"$f":"VLOOKUP(B96,UdS_agrg!D:D,2,FALSE)","v":{"$error":"#N/A"}},"Áreas institucionais e de infraestrutura pública","reas institucionais e de infraestrutura pblica",{"$f":"SUMIFS(UdS_data!E:E,UdS_data!B:B,C96,UdS_data!C:C,E96)","v":0}]
[null,"Capitão Menezes",{"$f":"VLOOKUP(B97,UdS_agrg!D:D,2,FALSE)","v":{"$error":"#N/A"}},"Áreas não edificadas ou subutilizadas","reas no edificadas",{"$f":"SUMIFS(UdS_data!E:E,UdS_data!B:B,C97,UdS_data!C:C,E97)","v":0}]
[null,"Capitão Menezes",{"$f":"VLOOKUP(B98,UdS_agrg!D:D,2,FALSE)","v":{"$error":"#N/A"}},"Áreas residenciais","reas residenciais",{"$f":"SUMIFS(UdS_data!E:E,UdS_data!B:B,C98,UdS_data!C:C,E98)","v":0}]
[null,"Capitão Menezes",{"$f":"VLOOKUP(B99,UdS_agrg!D:D,2,FALSE)","v":{"$error":"#N/A"}},"Áreas residenciais com atividades complementares","reas residenciais mixtas",{"$f":"SUMIFS(UdS_data!E:E,UdS_data!B:B,C99,UdS_data!C:C,E99)","v":0}]
[null,"Capitão Menezes",{"$f":"VLOOKUP(B100,UdS_agrg!D:D,2,FALSE)","v":{"$error":"#N/A"}},"Áreas sujeitas à inundação","reas sujeitas  inundao",{"$f":"SUMIFS(UdS_data!E:E,UdS_data!B:B,C100,UdS_data!C:C,E100)","v":0}]
[null,"Capitão Menezes",{"$f":"VLOOKUP(B101,UdS_agrg!D:D,2,FALSE)","v":{"$error":"#N/A"}},"Corpos hídricos","Corpos hdricos",{"$f":"SUMIFS(UdS_data!E:E,UdS_data!B:B,C101,UdS_data!C:C,E101)","v":0}]
[null,"Capitão Menezes",{"$f":"VLOOKUP(B102,UdS_agrg!D:D,2,FALSE)","v":{"$error":"#N/A"}},"Favela","Favela",{"$f":"SUMIFS(UdS_data!E:E,UdS_data!B:B,C102,UdS_data!C:C,E102)","v":0}]
[null,"Capitão Menezes",{"$f":"VLOOKUP(B103,UdS_agrg!D:D,2,FALSE)","v":{"$error":"#N/A"}},"Unidades de Conservação","Unidades de Conservao",{"$f":"SUMIFS(UdS_data!E:E,UdS_data!B:B,C103,UdS_data!C:C,E103)","v":0}]
[null,{"$f":"A$8","v":"Cardoso de Moraes - Viva Garcia"},{"$f":"VLOOKUP(B104,UdS_agrg!D:D,2,FALSE)","v":{"$error":"#N/A"}},"Afloramentos rochosos e depósitos sedimentares","Afloramentos rochosos e depsitos sedimentares",{"$f":"SUMIFS(UdS_data!E:E,UdS_data!B:B,C104,UdS_data!C:C,E104)","v":0}]
[null,{"$f":"A$8","v":"Cardoso de Moraes - Viva Garcia"},{"$f":"VLOOKUP(B105,UdS_agrg!D:D,2,FALSE)","v":{"$error":"#N/A"}},"Áreas agrícolas","reas agrcolas",{"$f":"SUMIFS(UdS_data!E:E,UdS_data!B:B,C105,UdS_data!C:C,E105)","v":0}]
[null,"Cardoso de Moraes - Viva Garcia",{"$f":"VLOOKUP(B106,UdS_agrg!D:D,2,FALSE)","v":{"$error":"#N/A"}},"Áreas com cobertura vegetal","Areas com cobertura vegetal",{"$f":"SUMIFS(UdS_data!E:E,UdS_data!B:B,C106,UdS_data!C:C,E106)","v":0}]
[null,"Cardoso de Moraes - Viva Garcia",{"$f":"VLOOKUP(B107,UdS_agrg!D:D,2,FALSE)","v":{"$error":"#N/A"}},"Áreas de comércio e serviços","reas de comrcio e servios",{"$f":"SUMIFS(UdS_data!E:E,UdS_data!B:B,C107,UdS_data!C:C,E107)","v":0}]
[null,"Cardoso de Moraes - Viva Garcia",{"$f":"VLOOKUP(B108,UdS_agrg!D:D,2,FALSE)","v":{"$error":"#N/A"}},"Áreas de educação e saúde","reas de educao e sade",{"$f":"SUMIFS(UdS_data!E:E,UdS_data!B:B,C108,UdS_data!C:C,E108)","v":0}]
[null,"Cardoso de Moraes - Viva Garcia",{"$f":"VLOOKUP(B109,UdS_agrg!D:D,2,FALSE)","v":{"$error":"#N/A"}},"Áreas de exploração mineral","reas de explorao mineral",{"$f":"SUMIFS(UdS_data!E:E,UdS_data!B:B,C109,UdS_data!C:C,E109)","v":0}]
[null,"Cardoso de Moraes - Viva Garcia",{"$f":"VLOOKUP(B110,UdS_agrg!D:D,2,FALSE)","v":{"$error":"#N/A"}},"Áreas de lazer","reas de lazer",{"$f":"SUMIFS(UdS_data!E:E,UdS_data!B:B,C110,UdS_data!C:C,E110)","v":0}]
[null,"Cardoso de Moraes - Viva Garcia",{"$f":"VLOOKUP(B111,UdS_agrg!D:D,2,FALSE)","v":{"$error":"#N/A"}},"Áreas de transportes","reas de transporte",{"$f":"SUMIFS(UdS_data!E:E,UdS_data!B:B,C111,UdS_data!C:C,E111)","v":0}]
[null,"Cardoso de Moraes - Viva Garcia",{"$f":"VLOOKUP(B112,UdS_agrg!D:D,2,FALSE)","v":{"$error":"#N/A"}},"Áreas industriais","reas industriais",{"$f":"SUMIFS(UdS_data!E:E,UdS_data!B:B,C112,UdS_data!C:C,E112)","v":0}]
[null,"Cardoso de Moraes - Viva Garcia",{"$f":"VLOOKUP(B113,UdS_agrg!D:D,2,FALSE)","v":{"$error":"#N/A"}},"Áreas institucionais e de infraestrutura pública","reas institucionais e de infraestrutura pblica",{"$f":"SUMIFS(UdS_data!E:E,UdS_data!B:B,C113,UdS_data!C:C,E113)","v":0}]
[null,"Cardoso de Moraes - Viva Garcia",{"$f":"VLOOKUP(B114,UdS_agrg!D:D,2,FALSE)","v":{"$error":"#N/A"}},"Áreas não edificadas ou subutilizadas","reas no edificadas",{"$f":"SUMIFS(UdS_data!E:E,UdS_data!B:B,C114,UdS_data!C:C,E114)","v":0}]
[null,"Cardoso de Moraes - Viva Garcia",{"$f":"VLOOKUP(B115,UdS_agrg!D:D,2,FALSE)","v":{"$error":"#N/A"}},"Áreas residenciais","reas residenciais",{"$f":"SUMIFS(UdS_data!E:E,UdS_data!B:B,C115,UdS_data!C:C,E115)","v":0}]
[null,"Cardoso de Moraes - Viva Garcia",{"$f":"VLOOKUP(B116,UdS_agrg!D:D,2,FALSE)","v":{"$error":"#N/A"}},"Áreas residenciais com atividades complementares","reas residenciais mixtas",{"$f":"SUMIFS(UdS_data!E:E,UdS_data!B:B,C116,UdS_data!C:C,E116)","v":0}]
[null,"Cardoso de Moraes - Viva Garcia",{"$f":"VLOOKUP(B117,UdS_agrg!D:D,2,FALSE)","v":{"$error":"#N/A"}},"Áreas sujeitas à inundação","reas sujeitas  inundao",{"$f":"SUMIFS(UdS_data!E:E,UdS_data!B:B,C117,UdS_data!C:C,E117)","v":0}]
[null,"Cardoso de Moraes - Viva Garcia",{"$f":"VLOOKUP(B118,UdS_agrg!D:D,2,FALSE)","v":{"$error":"#N/A"}},"Corpos hídricos","Corpos hdricos",{"$f":"SUMIFS(UdS_data!E:E,UdS_data!B:B,C118,UdS_data!C:C,E118)","v":0}]
[null,"Cardoso de Moraes - Viva Garcia",{"$f":"VLOOKUP(B119,UdS_agrg!D:D,2,FALSE)","v":{"$error":"#N/A"}},"Favela","Favela",{"$f":"SUMIFS(UdS_data!E:E,UdS_data!B:B,C119,UdS_data!C:C,E119)","v":0}]
[null,"Cardoso de Moraes - Viva Garcia",{"$f":"VLOOKUP(B120,UdS_agrg!D:D,2,FALSE)","v":{"$error":"#N/A"}},"Unidades de Conservação","Unidades de Conservao",{"$f":"SUMIFS(UdS_data!E:E,UdS_data!B:B,C120,UdS_data!C:C,E120)","v":0}]
[null,{"$f":"A$9","v":"Centro Metropolitano"},{"$f":"VLOOKUP(B121,UdS_agrg!D:D,2,FALSE)","v":{"$error":"#N/A"}},"Afloramentos rochosos e depósitos sedimentares","Afloramentos rochosos e depsitos sedimentares",{"$f":"SUMIFS(UdS_data!E:E,UdS_data!B:B,C121,UdS_data!C:C,E121)","v":0}]
[null,{"$f":"A$9","v":"Centro Metropolitano"},{"$f":"VLOOKUP(B122,UdS_agrg!D:D,2,FALSE)","v":{"$error":"#N/A"}},"Áreas agrícolas","reas agrcolas",{"$f":"SUMIFS(UdS_data!E:E,UdS_data!B:B,C122,UdS_data!C:C,E122)","v":0}]
[null,"Centro Metropolitano",{"$f":"VLOOKUP(B123,UdS_agrg!D:D,2,FALSE)","v":{"$error":"#N/A"}},"Áreas com cobertura vegetal","Areas com cobertura vegetal",{"$f":"SUMIFS(UdS_data!E:E,UdS_data!B:B,C123,UdS_data!C:C,E123)","v":0}]
[null,"Centro Metropolitano",{"$f":"VLOOKUP(B124,UdS_agrg!D:D,2,FALSE)","v":{"$error":"#N/A"}},"Áreas de comércio e serviços","reas de comrcio e servios",{"$f":"SUMIFS(UdS_data!E:E,UdS_data!B:B,C124,UdS_data!C:C,E124)","v":0}]
[null,"Centro Metropolitano",{"$f":"VLOOKUP(B125,UdS_agrg!D:D,2,FALSE)","v":{"$error":"#N/A"}},"Áreas de educação e saúde","reas de educao e sade",{"$f":"SUMIFS(UdS_data!E:E,UdS_data!B:B,C125,UdS_data!C:C,E125)","v":0}]
[null,"Centro Metropolitano",{"$f":"VLOOKUP(B126,UdS_agrg!D:D,2,FALSE)","v":{"$error":"#N/A"}},"Áreas de exploração mineral","reas de explorao mineral",{"$f":"SUMIFS(UdS_data!E:E,UdS_data!B:B,C126,UdS_data!C:C,E126)","v":0}]
[null,"Centro Metropolitano",{"$f":"VLOOKUP(B127,UdS_agrg!D:D,2,FALSE)","v":{"$error":"#N/A"}},"Áreas de lazer","reas de lazer",{"$f":"SUMIFS(UdS_data!E:E,UdS_data!B:B,C127,UdS_data!C:C,E127)","v":0}]
[null,"Centro Metropolitano",{"$f":"VLOOKUP(B128,UdS_agrg!D:D,2,FALSE)","v":{"$error":"#N/A"}},"Áreas de transportes","reas de transporte",{"$f":"SUMIFS(UdS_data!E:E,UdS_data!B:B,C128,UdS_data!C:C,E128)","v":0}]
[null,"Centro Metropolitano",{"$f":"VLOOKUP(B129,UdS_agrg!D:D,2,FALSE)","v":{"$error":"#N/A"}},"Áreas industriais","reas industriais",{"$f":"SUMIFS(UdS_data!E:E,UdS_data!B:B,C129,UdS_data!C:C,E129)","v":0}]
[null,"Centro Metropolitano",{"$f":"VLOOKUP(B130,UdS_agrg!D:D,2,FALSE)","v":{"$error":"#N/A"}},"Áreas institucionais e de infraestrutura pública","reas institucionais e de infraestrutura pblica",{"$f":"SUMIFS(UdS_data!E:E,UdS_data!B:B,C130,UdS_data!C:C,E130)","v":0}]
[null,"Centro Metropolitano",{"$f":"VLOOKUP(B131,UdS_agrg!D:D,2,FALSE)","v":{"$error":"#N/A"}},"Áreas não edificadas ou subutilizadas","reas no edificadas",{"$f":"SUMIFS(UdS_data!E:E,UdS_data!B:B,C131,UdS_data!C:C,E131)","v":0}]
[null,"Centro Metropolitano",{"$f":"VLOOKUP(B132,UdS_agrg!D:D,2,FALSE)","v":{"$error":"#N/A"}},"Áreas residenciais","reas residenciais",{"$f":"SUMIFS(UdS_data!E:E,UdS_data!B:B,C132,UdS_data!C:C,E132)","v":0}]
[null,"Centro Metropolitano",{"$f":"VLOOKUP(B133,UdS_agrg!D:D,2,FALSE)","v":{"$error":"#N/A"}},"Áreas residenciais com atividades complementares","reas residenciais mixtas",{"$f":"SUMIFS(UdS_data!E:E,UdS_data!B:B,C133,UdS_data!C:C,E133)","v":0}]
[null,"Centro Metropolitano",{"$f":"VLOOKUP(B134,UdS_agrg!D:D,2,FALSE)","v":{"$error":"#N/A"}},"Áreas sujeitas à inundação","reas sujeitas  inundao",{"$f":"SUMIFS(UdS_data!E:E,UdS_data!B:B,C134,UdS_data!C:C,E134)","v":0}]
[null,"Centro Metropolitano",{"$f":"VLOOKUP(B135,UdS_agrg!D:D,2,FALSE)","v":{"$error":"#N/A"}},"Corpos hídricos","Corpos hdricos",{"$f":"SUMIFS(UdS_data!E:E,UdS_data!B:B,C135,UdS_data!C:C,E135)","v":0}]
[null,"Centro Metropolitano",{"$f":"VLOOKUP(B136,UdS_agrg!D:D,2,FALSE)","v":{"$error":"#N/A"}},"Favela","Favela",{"$f":"SUMIFS(UdS_data!E:E,UdS_data!B:B,C136,UdS_data!C:C,E136)","v":0}]
[null,"Centro Metropolitano",{"$f":"VLOOKUP(B137,UdS_agrg!D:D,2,FALSE)","v":{"$error":"#N/A"}},"Unidades de Conservação","Unidades de Conservao",{"$f":"SUMIFS(UdS_data!E:E,UdS_data!B:B,C137,UdS_data!C:C,E137)","v":0}]
[null,{"$f":"A$10","v":"Curicica TCA"},{"$f":"VLOOKUP(B138,UdS_agrg!D:D,2,FALSE)","v":{"$error":"#N/A"}},"Afloramentos rochosos e depósitos sedimentares","Afloramentos rochosos e depsitos sedimentares",{"$f":"SUMIFS(UdS_data!E:E,UdS_data!B:B,C138,UdS_data!C:C,E138)","v":0}]
[null,{"$f":"A$10","v":"Curicica TCA"},{"$f":"VLOOKUP(B139,UdS_agrg!D:D,2,FALSE)","v":{"$error":"#N/A"}},"Áreas agrícolas","reas agrcolas",{"$f":"SUMIFS(UdS_data!E:E,UdS_data!B:B,C139,UdS_data!C:C,E139)","v":0}]
[null,"Curicica TCA",{"$f":"VLOOKUP(B140,UdS_agrg!D:D,2,FALSE)","v":{"$error":"#N/A"}},"Áreas com cobertura vegetal","Areas com cobertura vegetal",{"$f":"SUMIFS(UdS_data!E:E,UdS_data!B:B,C140,UdS_data!C:C,E140)","v":0}]
[null,"Curicica TCA",{"$f":"VLOOKUP(B141,UdS_agrg!D:D,2,FALSE)","v":{"$error":"#N/A"}},"Áreas de comércio e serviços","reas de comrcio e servios",{"$f":"SUMIFS(UdS_data!E:E,UdS_data!B:B,C141,UdS_data!C:C,E141)","v":0}]
[null,"Curicica TCA",{"$f":"VLOOKUP(B142,UdS_agrg!D:D,2,FALSE)","v":{"$error":"#N/A"}},"Áreas de educação e saúde","reas de educao e sade",{"$f":"SUMIFS(UdS_data!E:E,UdS_data!B:B,C142,UdS_data!C:C,E142)","v":0}]
[null,"Curicica TCA",{"$f":"VLOOKUP(B143,UdS_agrg!D:D,2,FALSE)","v":{"$error":"#N/A"}},"Áreas de exploração mineral","reas de explorao mineral",{"$f":"SUMIFS(UdS_data!E:E,UdS_data!B:B,C143,UdS_data!C:C,E143)","v":0}]
[null,"Curicica TCA",{"$f":"VLOOKUP(B144,UdS_agrg!D:D,2,FALSE)","v":{"$error":"#N/A"}},"Áreas de lazer","reas de lazer",{"$f":"SUMIFS(UdS_data!E:E,UdS_data!B:B,C144,UdS_data!C:C,E144)","v":0}]
[null,"Curicica TCA",{"$f":"VLOOKUP(B145,UdS_agrg!D:D,2,FALSE)","v":{"$error":"#N/A"}},"Áreas de transportes","reas de transporte",{"$f":"SUMIFS(UdS_data!E:E,UdS_data!B:B,C145,UdS_data!C:C,E145)","v":0}]
[null,"Curicica TCA",{"$f":"VLOOKUP(B146,UdS_agrg!D:D,2,FALSE)","v":{"$error":"#N/A"}},"Áreas industriais","reas industriais",{"$f":"SUMIFS(UdS_data!E:E,UdS_data!B:B,C146,UdS_data!C:C,E146)","v":0}]
[null,"Curicica TCA",{"$f":"VLOOKUP(B147,UdS_agrg!D:D,2,FALSE)","v":{"$error":"#N/A"}},"Áreas institucionais e de infraestrutura pública","reas institucionais e de infraestrutura pblica",{"$f":"SUMIFS(UdS_data!E:E,UdS_data!B:B,C147,UdS_data!C:C,E147)","v":0}]
[null,"Curicica TCA",{"$f":"VLOOKUP(B148,UdS_agrg!D:D,2,FALSE)","v":{"$error":"#N/A"}},"Áreas não edificadas ou subutilizadas","reas no edificadas",{"$f":"SUMIFS(UdS_data!E:E,UdS_data!B:B,C148,UdS_data!C:C,E148)","v":0}]
[null,"Curicica TCA",{"$f":"VLOOKUP(B149,UdS_agrg!D:D,2,FALSE)","v":{"$error":"#N/A"}},"Áreas residenciais","reas residenciais",{"$f":"SUMIFS(UdS_data!E:E,UdS_data!B:B,C149,UdS_data!C:C,E149)","v":0}]
[null,"Curicica TCA",{"$f":"VLOOKUP(B150,UdS_agrg!D:D,2,FALSE)","v":{"$error":"#N/A"}},"Áreas residenciais com atividades complementares","reas residenciais mixtas",{"$f":"SUMIFS(UdS_data!E:E,UdS_data!B:B,C150,UdS_data!C:C,E150)","v":0}]
[null,"Curicica TCA",{"$f":"VLOOKUP(B151,UdS_agrg!D:D,2,FALSE)","v":{"$error":"#N/A"}},"Áreas sujeitas à inundação","reas sujeitas  inundao",{"$f":"SUMIFS(UdS_data!E:E,UdS_data!B:B,C151,UdS_data!C:C,E151)","v":0}]
[null,"Curicica TCA",{"$f":"VLOOKUP(B152,UdS_agrg!D:D,2,FALSE)","v":{"$error":"#N/A"}},"Corpos hídricos","Corpos hdricos",{"$f":"SUMIFS(UdS_data!E:E,UdS_data!B:B,C152,UdS_data!C:C,E152)","v":0}]
[null,"Curicica TCA",{"$f":"VLOOKUP(B153,UdS_agrg!D:D,2,FALSE)","v":{"$error":"#N/A"}},"Favela","Favela",{"$f":"SUMIFS(UdS_data!E:E,UdS_data!B:B,C153,UdS_data!C:C,E153)","v":0}]
[null,"Curicica TCA",{"$f":"VLOOKUP(B154,UdS_agrg!D:D,2,FALSE)","v":{"$error":"#N/A"}},"Unidades de Conservação","Unidades de Conservao",{"$f":"SUMIFS(UdS_data!E:E,UdS_data!B:B,C154,UdS_data!C:C,E154)","v":0}]
[null,{"$f":"A$11","v":"Divina Providência"},{"$f":"VLOOKUP(B155,UdS_agrg!D:D,2,FALSE)","v":{"$error":"#N/A"}},"Afloramentos rochosos e depósitos sedimentares","Afloramentos rochosos e depsitos sedimentares",{"$f":"SUMIFS(UdS_data!E:E,UdS_data!B:B,C155,UdS_data!C:C,E155)","v":0}]
[null,{"$f":"A$11","v":"Divina Providência"},{"$f":"VLOOKUP(B156,UdS_agrg!D:D,2,FALSE)","v":{"$error":"#N/A"}},"Áreas agrícolas","reas agrcolas",{"$f":"SUMIFS(UdS_data!E:E,UdS_data!B:B,C156,UdS_data!C:C,E156)","v":0}]
[null,"Divina Providência",{"$f":"VLOOKUP(B157,UdS_agrg!D:D,2,FALSE)","v":{"$error":"#N/A"}},"Áreas com cobertura vegetal","Areas com cobertura vegetal",{"$f":"SUMIFS(UdS_data!E:E,UdS_data!B:B,C157,UdS_data!C:C,E157)","v":0}]
[null,"Divina Providência",{"$f":"VLOOKUP(B158,UdS_agrg!D:D,2,FALSE)","v":{"$error":"#N/A"}},"Áreas de comércio e serviços","reas de comrcio e servios",{"$f":"SUMIFS(UdS_data!E:E,UdS_data!B:B,C158,UdS_data!C:C,E158)","v":0}]
[null,"Divina Providência",{"$f":"VLOOKUP(B159,UdS_agrg!D:D,2,FALSE)","v":{"$error":"#N/A"}},"Áreas de educação e saúde","reas de educao e sade",{"$f":"SUMIFS(UdS_data!E:E,UdS_data!B:B,C159,UdS_data!C:C,E159)","v":0}]
[null,"Divina Providência",{"$f":"VLOOKUP(B160,UdS_agrg!D:D,2,FALSE)","v":{"$error":"#N/A"}},"Áreas de exploração mineral","reas de explorao mineral",{"$f":"SUMIFS(UdS_data!E:E,UdS_data!B:B,C160,UdS_data!C:C,E160)","v":0}]
[null,"Divina Providência",{"$f":"VLOOKUP(B161,UdS_agrg!D:D,2,FALSE)","v":{"$error":"#N/A"}},"Áreas de lazer","reas de lazer",{"$f":"SUMIFS(UdS_data!E:E,UdS_data!B:B,C161,UdS_data!C:C,E161)","v":0}]
[null,"Divina Providência",{"$f":"VLOOKUP(B162,UdS_agrg!D:D,2,FALSE)","v":{"$error":"#N/A"}},"Áreas de transportes","reas de transporte",{"$f":"SUMIFS(UdS_data!E:E,UdS_data!B:B,C162,UdS_data!C:C,E162)","v":0}]
[null,"Divina Providência",{"$f":"VLOOKUP(B163,UdS_agrg!D:D,2,FALSE)","v":{"$error":"#N/A"}},"Áreas industriais","reas industriais",{"$f":"SUMIFS(UdS_data!E:E,UdS_data!B:B,C163,UdS_data!C:C,E163)","v":0}]
[null,"Divina Providência",{"$f":"VLOOKUP(B164,UdS_agrg!D:D,2,FALSE)","v":{"$error":"#N/A"}},"Áreas institucionais e de infraestrutura pública","reas institucionais e de infraestrutura pblica",{"$f":"SUMIFS(UdS_data!E:E,UdS_data!B:B,C164,UdS_data!C:C,E164)","v":0}]
[null,"Divina Providência",{"$f":"VLOOKUP(B165,UdS_agrg!D:D,2,FALSE)","v":{"$error":"#N/A"}},"Áreas não edificadas ou subutilizadas","reas no edificadas",{"$f":"SUMIFS(UdS_data!E:E,UdS_data!B:B,C165,UdS_data!C:C,E165)","v":0}]
[null,"Divina Providência",{"$f":"VLOOKUP(B166,UdS_agrg!D:D,2,FALSE)","v":{"$error":"#N/A"}},"Áreas residenciais","reas residenciais",{"$f":"SUMIFS(UdS_data!E:E,UdS_data!B:B,C166,UdS_data!C:C,E166)","v":0}]
[null,"Divina Providência",{"$f":"VLOOKUP(B167,UdS_agrg!D:D,2,FALSE)","v":{"$error":"#N/A"}},"Áreas residenciais com atividades complementares","reas residenciais mixtas",{"$f":"SUMIFS(UdS_data!E:E,UdS_data!B:B,C167,UdS_data!C:C,E167)","v":0}]
[null,"Divina Providência",{"$f":"VLOOKUP(B168,UdS_agrg!D:D,2,FALSE)","v":{"$error":"#N/A"}},"Áreas sujeitas à inundação","reas sujeitas  inundao",{"$f":"SUMIFS(UdS_data!E:E,UdS_data!B:B,C168,UdS_data!C:C,E168)","v":0}]
[null,"Divina Providência",{"$f":"VLOOKUP(B169,UdS_agrg!D:D,2,FALSE)","v":{"$error":"#N/A"}},"Corpos hídricos","Corpos hdricos",{"$f":"SUMIFS(UdS_data!E:E,UdS_data!B:B,C169,UdS_data!C:C,E169)","v":0}]
[null,"Divina Providência",{"$f":"VLOOKUP(B170,UdS_agrg!D:D,2,FALSE)","v":{"$error":"#N/A"}},"Favela","Favela",{"$f":"SUMIFS(UdS_data!E:E,UdS_data!B:B,C170,UdS_data!C:C,E170)","v":0}]
[null,"Divina Providência",{"$f":"VLOOKUP(B171,UdS_agrg!D:D,2,FALSE)","v":{"$error":"#N/A"}},"Unidades de Conservação","Unidades de Conservao",{"$f":"SUMIFS(UdS_data!E:E,UdS_data!B:B,C171,UdS_data!C:C,E171)","v":0}]
[null,{"$f":"A$12","v":"Galeão - Tom Jobim 1"},{"$f":"VLOOKUP(B172,UdS_agrg!D:D,2,FALSE)","v":{"$error":"#N/A"}},"Afloramentos rochosos e depósitos sedimentares","Afloramentos rochosos e depsitos sedimentares",{"$f":"SUMIFS(UdS_data!E:E,UdS_data!B:B,C172,UdS_data!C:C,E172)","v":0}]
[null,{"$f":"A$12","v":"Galeão - Tom Jobim 1"},{"$f":"VLOOKUP(B173,UdS_agrg!D:D,2,FALSE)","v":{"$error":"#N/A"}},"Áreas agrícolas","reas agrcolas",{"$f":"SUMIFS(UdS_data!E:E,UdS_data!B:B,C173,UdS_data!C:C,E173)","v":0}]
[null,"Galeão - Tom Jobim 1",{"$f":"VLOOKUP(B174,UdS_agrg!D:D,2,FALSE)","v":{"$error":"#N/A"}},"Áreas com cobertura vegetal","Areas com cobertura vegetal",{"$f":"SUMIFS(UdS_data!E:E,UdS_data!B:B,C174,UdS_data!C:C,E174)","v":0}]
[null,"Galeão - Tom Jobim 1",{"$f":"VLOOKUP(B175,UdS_agrg!D:D,2,FALSE)","v":{"$error":"#N/A"}},"Áreas de comércio e serviços","reas de comrcio e servios",{"$f":"SUMIFS(UdS_data!E:E,UdS_data!B:B,C175,UdS_data!C:C,E175)","v":0}]
[null,"Galeão - Tom Jobim 1",{"$f":"VLOOKUP(B176,UdS_agrg!D:D,2,FALSE)","v":{"$error":"#N/A"}},"Áreas de educação e saúde","reas de educao e sade",{"$f":"SUMIFS(UdS_data!E:E,UdS_data!B:B,C176,UdS_data!C:C,E176)","v":0}]
[null,"Galeão - Tom Jobim 1",{"$f":"VLOOKUP(B177,UdS_agrg!D:D,2,FALSE)","v":{"$error":"#N/A"}},"Áreas de exploração mineral","reas de explorao mineral",{"$f":"SUMIFS(UdS_data!E:E,UdS_data!B:B,C177,UdS_data!C:C,E177)","v":0}]
[null,"Galeão - Tom Jobim 1",{"$f":"VLOOKUP(B178,UdS_agrg!D:D,2,FALSE)","v":{"$error":"#N/A"}},"Áreas de lazer","reas de lazer",{"$f":"SUMIFS(UdS_data!E:E,UdS_data!B:B,C178,UdS_data!C:C,E178)","v":0}]
[null,"Galeão - Tom Jobim 1",{"$f":"VLOOKUP(B179,UdS_agrg!D:D,2,FALSE)","v":{"$error":"#N/A"}},"Áreas de transportes","reas de transporte",{"$f":"SUMIFS(UdS_data!E:E,UdS_data!B:B,C179,UdS_data!C:C,E179)","v":0}]
[null,"Galeão - Tom Jobim 1",{"$f":"VLOOKUP(B180,UdS_agrg!D:D,2,FALSE)","v":{"$error":"#N/A"}},"Áreas industriais","reas industriais",{"$f":"SUMIFS(UdS_data!E:E,UdS_data!B:B,C180,UdS_data!C:C,E180)","v":0}]
[null,"Galeão - Tom Jobim 1",{"$f":"VLOOKUP(B181,UdS_agrg!D:D,2,FALSE)","v":{"$error":"#N/A"}},"Áreas institucionais e de infraestrutura pública","reas institucionais e de infraestrutura pblica",{"$f":"SUMIFS(UdS_data!E:E,UdS_data!B:B,C181,UdS_data!C:C,E181)","v":0}]
[null,"Galeão - Tom Jobim 1",{"$f":"VLOOKUP(B182,UdS_agrg!D:D,2,FALSE)","v":{"$error":"#N/A"}},"Áreas não edificadas ou subutilizadas","reas no edificadas",{"$f":"SUMIFS(UdS_data!E:E,UdS_data!B:B,C182,UdS_data!C:C,E182)","v":0}]
[null,"Galeão - Tom Jobim 1",{"$f":"VLOOKUP(B183,UdS_agrg!D:D,2,FALSE)","v":{"$error":"#N/A"}},"Áreas residenciais","reas residenciais",{"$f":"SUMIFS(UdS_data!E:E,UdS_data!B:B,C183,UdS_data!C:C,E183)","v":0}]
[null,"Galeão - Tom Jobim 1",{"$f":"VLOOKUP(B184,UdS_agrg!D:D,2,FALSE)","v":{"$error":"#N/A"}},"Áreas residenciais com atividades complementares","reas residenciais mixtas",{"$f":"SUMIFS(UdS_data!E:E,UdS_data!B:B,C184,UdS_data!C:C,E184)","v":0}]
[null,"Galeão - Tom Jobim 1",{"$f":"VLOOKUP(B185,UdS_agrg!D:D,2,FALSE)","v":{"$error":"#N/A"}},"Áreas sujeitas à inundação","reas sujeitas  inundao",{"$f":"SUMIFS(UdS_data!E:E,UdS_data!B:B,C185,UdS_data!C:C,E185)","v":0}]
[null,"Galeão - Tom Jobim 1",{"$f":"VLOOKUP(B186,UdS_agrg!D:D,2,FALSE)","v":{"$error":"#N/A"}},"Corpos hídricos","Corpos hdricos",{"$f":"SUMIFS(UdS_data!E:E,UdS_data!B:B,C186,UdS_data!C:C,E186)","v":0}]
[null,"Galeão - Tom Jobim 1",{"$f":"VLOOKUP(B187,UdS_agrg!D:D,2,FALSE)","v":{"$error":"#N/A"}},"Favela","Favela",{"$f":"SUMIFS(UdS_data!E:E,UdS_data!B:B,C187,UdS_data!C:C,E187)","v":0}]
[null,"Galeão - Tom Jobim 1",{"$f":"VLOOKUP(B188,UdS_agrg!D:D,2,FALSE)","v":{"$error":"#N/A"}},"Unidades de Conservação","Unidades de Conservao",{"$f":"SUMIFS(UdS_data!E:E,UdS_data!B:B,C188,UdS_data!C:C,E188)","v":0}]
[null,{"$f":"A$13","v":"Galeão - Tom Jobim 2"},{"$f":"VLOOKUP(B189,UdS_agrg!D:D,2,FALSE)","v":{"$error":"#N/A"}},"Afloramentos rochosos e depósitos sedimentares","Afloramentos rochosos e depsitos sedimentares",{"$f":"SUMIFS(UdS_data!E:E,UdS_data!B:B,C189,UdS_data!C:C,E189)","v":0}]
[null,{"$f":"A$13","v":"Galeão - Tom Jobim 2"},{"$f":"VLOOKUP(B190,UdS_agrg!D:D,2,FALSE)","v":{"$error":"#N/A"}},"Áreas agrícolas","reas agrcolas",{"$f":"SUMIFS(UdS_data!E:E,UdS_data!B:B,C190,UdS_data!C:C,E190)","v":0}]
[null,"Galeão - Tom Jobim 2",{"$f":"VLOOKUP(B191,UdS_agrg!D:D,2,FALSE)","v":{"$error":"#N/A"}},"Áreas com cobertura vegetal","Areas com cobertura vegetal",{"$f":"SUMIFS(UdS_data!E:E,UdS_data!B:B,C191,UdS_data!C:C,E191)","v":0}]
[null,"Galeão - Tom Jobim 2",{"$f":"VLOOKUP(B192,UdS_agrg!D:D,2,FALSE)","v":{"$error":"#N/A"}},"Áreas de comércio e serviços","reas de comrcio e servios",{"$f":"SUMIFS(UdS_data!E:E,UdS_data!B:B,C192,UdS_data!C:C,E192)","v":0}]
[null,"Galeão - Tom Jobim 2",{"$f":"VLOOKUP(B193,UdS_agrg!D:D,2,FALSE)","v":{"$error":"#N/A"}},"Áreas de educação e saúde","reas de educao e sade",{"$f":"SUMIFS(UdS_data!E:E,UdS_data!B:B,C193,UdS_data!C:C,E193)","v":0}]
[null,"Galeão - Tom Jobim 2",{"$f":"VLOOKUP(B194,UdS_agrg!D:D,2,FALSE)","v":{"$error":"#N/A"}},"Áreas de exploração mineral","reas de explorao mineral",{"$f":"SUMIFS(UdS_data!E:E,UdS_data!B:B,C194,UdS_data!C:C,E194)","v":0}]
[null,"Galeão - Tom Jobim 2",{"$f":"VLOOKUP(B195,UdS_agrg!D:D,2,FALSE)","v":{"$error":"#N/A"}},"Áreas de lazer","reas de lazer",{"$f":"SUMIFS(UdS_data!E:E,UdS_data!B:B,C195,UdS_data!C:C,E195)","v":0}]
[null,"Galeão - Tom Jobim 2",{"$f":"VLOOKUP(B196,UdS_agrg!D:D,2,FALSE)","v":{"$error":"#N/A"}},"Áreas de transportes","reas de transporte",{"$f":"SUMIFS(UdS_data!E:E,UdS_data!B:B,C196,UdS_data!C:C,E196)","v":0}]
[null,"Galeão - Tom Jobim 2",{"$f":"VLOOKUP(B197,UdS_agrg!D:D,2,FALSE)","v":{"$error":"#N/A"}},"Áreas industriais","reas industriais",{"$f":"SUMIFS(UdS_data!E:E,UdS_data!B:B,C197,UdS_data!C:C,E197)","v":0}]
[null,"Galeão - Tom Jobim 2",{"$f":"VLOOKUP(B198,UdS_agrg!D:D,2,FALSE)","v":{"$error":"#N/A"}},"Áreas institucionais e de infraestrutura pública","reas institucionais e de infraestrutura pblica",{"$f":"SUMIFS(UdS_data!E:E,UdS_data!B:B,C198,UdS_data!C:C,E198)","v":0}]
[null,"Galeão - Tom Jobim 2",{"$f":"VLOOKUP(B199,UdS_agrg!D:D,2,FALSE)","v":{"$error":"#N/A"}},"Áreas não edificadas ou subutilizadas","reas no edificadas",{"$f":"SUMIFS(UdS_data!E:E,UdS_data!B:B,C199,UdS_data!C:C,E199)","v":0}]
[null,"Galeão - Tom Jobim 2",{"$f":"VLOOKUP(B200,UdS_agrg!D:D,2,FALSE)","v":{"$error":"#N/A"}},"Áreas residenciais","reas residenciais",{"$f":"SUMIFS(UdS_data!E:E,UdS_data!B:B,C200,UdS_data!C:C,E200)","v":0}]
[null,"Galeão - Tom Jobim 2",{"$f":"VLOOKUP(B201,UdS_agrg!D:D,2,FALSE)","v":{"$error":"#N/A"}},"Áreas residenciais com atividades complementares","reas residenciais mixtas",{"$f":"SUMIFS(UdS_data!E:E,UdS_data!B:B,C201,UdS_data!C:C,E201)","v":0}]
[null,"Galeão - Tom Jobim 2",{"$f":"VLOOKUP(B202,UdS_agrg!D:D,2,FALSE)","v":{"$error":"#N/A"}},"Áreas sujeitas à inundação","reas sujeitas  inundao",{"$f":"SUMIFS(UdS_data!E:E,UdS_data!B:B,C202,UdS_data!C:C,E202)","v":0}]
[null,"Galeão - Tom Jobim 2",{"$f":"VLOOKUP(B203,UdS_agrg!D:D,2,FALSE)","v":{"$error":"#N/A"}},"Corpos hídricos","Corpos hdricos",{"$f":"SUMIFS(UdS_data!E:E,UdS_data!B:B,C203,UdS_data!C:C,E203)","v":0}]
[null,"Galeão - Tom Jobim 2",{"$f":"VLOOKUP(B204,UdS_agrg!D:D,2,FALSE)","v":{"$error":"#N/A"}},"Favela","Favela",{"$f":"SUMIFS(UdS_data!E:E,UdS_data!B:B,C204,UdS_data!C:C,E204)","v":0}]
[null,"Galeão - Tom Jobim 2",{"$f":"VLOOKUP(B205,UdS_agrg!D:D,2,FALSE)","v":{"$error":"#N/A"}},"Unidades de Conservação","Unidades de Conservao",{"$f":"SUMIFS(UdS_data!E:E,UdS_data!B:B,C205,UdS_data!C:C,E205)","v":0}]
[null,{"$f":"A$14","v":"Guaporé"},{"$f":"VLOOKUP(B206,UdS_agrg!D:D,2,FALSE)","v":{"$error":"#N/A"}},"Afloramentos rochosos e depósitos sedimentares","Afloramentos rochosos e depsitos sedimentares",{"$f":"SUMIFS(UdS_data!E:E,UdS_data!B:B,C206,UdS_data!C:C,E206)","v":0}]
[null,{"$f":"A$14","v":"Guaporé"},{"$f":"VLOOKUP(B207,UdS_agrg!D:D,2,FALSE)","v":{"$error":"#N/A"}},"Áreas agrícolas","reas agrcolas",{"$f":"SUMIFS(UdS_data!E:E,UdS_data!B:B,C207,UdS_data!C:C,E207)","v":0}]
[null,"Guaporé",{"$f":"VLOOKUP(B208,UdS_agrg!D:D,2,FALSE)","v":{"$error":"#N/A"}},"Áreas com cobertura vegetal","Areas com cobertura vegetal",{"$f":"SUMIFS(UdS_data!E:E,UdS_data!B:B,C208,UdS_data!C:C,E208)","v":0}]
[null,"Guaporé",{"$f":"VLOOKUP(B209,UdS_agrg!D:D,2,FALSE)","v":{"$error":"#N/A"}},"Áreas de comércio e serviços","reas de comrcio e servios",{"$f":"SUMIFS(UdS_data!E:E,UdS_data!B:B,C209,UdS_data!C:C,E209)","v":0}]
[null,"Guaporé",{"$f":"VLOOKUP(B210,UdS_agrg!D:D,2,FALSE)","v":{"$error":"#N/A"}},"Áreas de educação e saúde","reas de educao e sade",{"$f":"SUMIFS(UdS_data!E:E,UdS_data!B:B,C210,UdS_data!C:C,E210)","v":0}]
[null,"Guaporé",{"$f":"VLOOKUP(B211,UdS_agrg!D:D,2,FALSE)","v":{"$error":"#N/A"}},"Áreas de exploração mineral","reas de explorao mineral",{"$f":"SUMIFS(UdS_data!E:E,UdS_data!B:B,C211,UdS_data!C:C,E211)","v":0}]
[null,"Guaporé",{"$f":"VLOOKUP(B212,UdS_agrg!D:D,2,FALSE)","v":{"$error":"#N/A"}},"Áreas de lazer","reas de lazer",{"$f":"SUMIFS(UdS_data!E:E,UdS_data!B:B,C212,UdS_data!C:C,E212)","v":0}]
[null,"Guaporé",{"$f":"VLOOKUP(B213,UdS_agrg!D:D,2,FALSE)","v":{"$error":"#N/A"}},"Áreas de transportes","reas de transporte",{"$f":"SUMIFS(UdS_data!E:E,UdS_data!B:B,C213,UdS_data!C:C,E213)","v":0}]
[null,"Guaporé",{"$f":"VLOOKUP(B214,UdS_agrg!D:D,2,FALSE)","v":{"$error":"#N/A"}},"Áreas industriais","reas industriais",{"$f":"SUMIFS(UdS_data!E:E,UdS_data!B:B,C214,UdS_data!C:C,E214)","v":0}]
[null,"Guaporé",{"$f":"VLOOKUP(B215,UdS_agrg!D:D,2,FALSE)","v":{"$error":"#N/A"}},"Áreas institucionais e de infraestrutura pública","reas institucionais e de infraestrutura pblica",{"$f":"SUMIFS(UdS_data!E:E,UdS_data!B:B,C215,UdS_data!C:C,E215)","v":0}]
[null,"Guaporé",{"$f":"VLOOKUP(B216,UdS_agrg!D:D,2,FALSE)","v":{"$error":"#N/A"}},"Áreas não edificadas ou subutilizadas","reas no edificadas",{"$f":"SUMIFS(UdS_data!E:E,UdS_data!B:B,C216,UdS_data!C:C,E216)","v":0}]
[null,"Guaporé",{"$f":"VLOOKUP(B217,UdS_agrg!D:D,2,FALSE)","v":{"$error":"#N/A"}},"Áreas residenciais","reas residenciais",{"$f":"SUMIFS(UdS_data!E:E,UdS_data!B:B,C217,UdS_data!C:C,E217)","v":0}]
[null,"Guaporé",{"$f":"VLOOKUP(B218,UdS_agrg!D:D,2,FALSE)","v":{"$error":"#N/A"}},"Áreas residenciais com atividades complementares","reas residenciais mixtas",{"$f":"SUMIFS(UdS_data!E:E,UdS_data!B:B,C218,UdS_data!C:C,E218)","v":0}]
[null,"Guaporé",{"$f":"VLOOKUP(B219,UdS_agrg!D:D,2,FALSE)","v":{"$error":"#N/A"}},"Áreas sujeitas à inundação","reas sujeitas  inundao",{"$f":"SUMIFS(UdS_data!E:E,UdS_data!B:B,C219,UdS_data!C:C,E219)","v":0}]
[null,"Guaporé",{"$f":"VLOOKUP(B220,UdS_agrg!D:D,2,FALSE)","v":{"$error":"#N/A"}},"Corpos hídricos","Corpos hdricos",{"$f":"SUMIFS(UdS_data!E:E,UdS_data!B:B,C220,UdS_data!C:C,E220)","v":0}]
[null,"Guaporé",{"$f":"VLOOKUP(B221,UdS_agrg!D:D,2,FALSE)","v":{"$error":"#N/A"}},"Favela","Favela",{"$f":"SUMIFS(UdS_data!E:E,UdS_data!B:B,C221,UdS_data!C:C,E221)","v":0}]
[null,"Guaporé",{"$f":"VLOOKUP(B222,UdS_agrg!D:D,2,FALSE)","v":{"$error":"#N/A"}},"Unidades de Conservação","Unidades de Conservao",{"$f":"SUMIFS(UdS_data!E:E,UdS_data!B:B,C222,UdS_data!C:C,E222)","v":0}]
[null,{"$f":"A$15","v":"Hospital Sarah"},{"$f":"VLOOKUP(B223,UdS_agrg!D:D,2,FALSE)","v":{"$error":"#N/A"}},"Afloramentos rochosos e depósitos sedimentares","Afloramentos rochosos e depsitos sedimentares",{"$f":"SUMIFS(UdS_data!E:E,UdS_data!B:B,C223,UdS_data!C:C,E223)","v":0}]
[null,{"$f":"A$15","v":"Hospital Sarah"},{"$f":"VLOOKUP(B224,UdS_agrg!D:D,2,FALSE)","v":{"$error":"#N/A"}},"Áreas agrícolas","reas agrcolas",{"$f":"SUMIFS(UdS_data!E:E,UdS_data!B:B,C224,UdS_data!C:C,E224)","v":0}]
[null,"Hospital Sarah",{"$f":"VLOOKUP(B225,UdS_agrg!D:D,2,FALSE)","v":{"$error":"#N/A"}},"Áreas com cobertura vegetal","Areas com cobertura vegetal",{"$f":"SUMIFS(UdS_data!E:E,UdS_data!B:B,C225,UdS_data!C:C,E225)","v":0}]
[null,"Hospital Sarah",{"$f":"VLOOKUP(B226,UdS_agrg!D:D,2,FALSE)","v":{"$error":"#N/A"}},"Áreas de comércio e serviços","reas de comrcio e servios",{"$f":"SUMIFS(UdS_data!E:E,UdS_data!B:B,C226,UdS_data!C:C,E226)","v":0}]
[null,"Hospital Sarah",{"$f":"VLOOKUP(B227,UdS_agrg!D:D,2,FALSE)","v":{"$error":"#N/A"}},"Áreas de educação e saúde","reas de educao e sade",{"$f":"SUMIFS(UdS_data!E:E,UdS_data!B:B,C227,UdS_data!C:C,E227)","v":0}]
[null,"Hospital Sarah",{"$f":"VLOOKUP(B228,UdS_agrg!D:D,2,FALSE)","v":{"$error":"#N/A"}},"Áreas de exploração mineral","reas de explorao mineral",{"$f":"SUMIFS(UdS_data!E:E,UdS_data!B:B,C228,UdS_data!C:C,E228)","v":0}]
[null,"Hospital Sarah",{"$f":"VLOOKUP(B229,UdS_agrg!D:D,2,FALSE)","v":{"$error":"#N/A"}},"Áreas de lazer","reas de lazer",{"$f":"SUMIFS(UdS_data!E:E,UdS_data!B:B,C229,UdS_data!C:C,E229)","v":0}]
[null,"Hospital Sarah",{"$f":"VLOOKUP(B230,UdS_agrg!D:D,2,FALSE)","v":{"$error":"#N/A"}},"Áreas de transportes","reas de transporte",{"$f":"SUMIFS(UdS_data!E:E,UdS_data!B:B,C230,UdS_data!C:C,E230)","v":0}]
[null,"Hospital Sarah",{"$f":"VLOOKUP(B231,UdS_agrg!D:D,2,FALSE)","v":{"$error":"#N/A"}},"Áreas industriais","reas industriais",{"$f":"SUMIFS(UdS_data!E:E,UdS_data!B:B,C231,UdS_data!C:C,E231)","v":0}]
[null,"Hospital Sarah",{"$f":"VLOOKUP(B232,UdS_agrg!D:D,2,FALSE)","v":{"$error":"#N/A"}},"Áreas institucionais e de infraestrutura pública","reas institucionais e de infraestrutura pblica",{"$f":"SUMIFS(UdS_data!E:E,UdS_data!B:B,C232,UdS_data!C:C,E232)","v":0}]
[null,"Hospital Sarah",{"$f":"VLOOKUP(B233,UdS_agrg!D:D,2,FALSE)","v":{"$error":"#N/A"}},"Áreas não edificadas ou subutilizadas","reas no edificadas",{"$f":"SUMIFS(UdS_data!E:E,UdS_data!B:B,C233,UdS_data!C:C,E233)","v":0}]
[null,"Hospital Sarah",{"$f":"VLOOKUP(B234,UdS_agrg!D:D,2,FALSE)","v":{"$error":"#N/A"}},"Áreas residenciais","reas residenciais",{"$f":"SUMIFS(UdS_data!E:E,UdS_data!B:B,C234,UdS_data!C:C,E234)","v":0}]
[null,"Hospital Sarah",{"$f":"VLOOKUP(B235,UdS_agrg!D:D,2,FALSE)","v":{"$error":"#N/A"}},"Áreas residenciais com atividades complementares","reas residenciais mixtas",{"$f":"SUMIFS(UdS_data!E:E,UdS_data!B:B,C235,UdS_data!C:C,E235)","v":0}]
[null,"Hospital Sarah",{"$f":"VLOOKUP(B236,UdS_agrg!D:D,2,FALSE)","v":{"$error":"#N/A"}},"Áreas sujeitas à inundação","reas sujeitas  inundao",{"$f":"SUMIFS(UdS_data!E:E,UdS_data!B:B,C236,UdS_data!C:C,E236)","v":0}]
[null,"Hospital Sarah",{"$f":"VLOOKUP(B237,UdS_agrg!D:D,2,FALSE)","v":{"$error":"#N/A"}},"Corpos hídricos","Corpos hdricos",{"$f":"SUMIFS(UdS_data!E:E,UdS_data!B:B,C237,UdS_data!C:C,E237)","v":0}]
[null,"Hospital Sarah",{"$f":"VLOOKUP(B238,UdS_agrg!D:D,2,FALSE)","v":{"$error":"#N/A"}},"Favela","Favela",{"$f":"SUMIFS(UdS_data!E:E,UdS_data!B:B,C238,UdS_data!C:C,E238)","v":0}]
[null,"Hospital Sarah",{"$f":"VLOOKUP(B239,UdS_agrg!D:D,2,FALSE)","v":{"$error":"#N/A"}},"Unidades de Conservação","Unidades de Conservao",{"$f":"SUMIFS(UdS_data!E:E,UdS_data!B:B,C239,UdS_data!C:C,E239)","v":0}]
[null,{"$f":"A$16","v":"Ibiapina"},{"$f":"VLOOKUP(B240,UdS_agrg!D:D,2,FALSE)","v":{"$error":"#N/A"}},"Afloramentos rochosos e depósitos sedimentares","Afloramentos rochosos e depsitos sedimentares",{"$f":"SUMIFS(UdS_data!E:E,UdS_data!B:B,C240,UdS_data!C:C,E240)","v":0}]
[null,{"$f":"A$16","v":"Ibiapina"},{"$f":"VLOOKUP(B241,UdS_agrg!D:D,2,FALSE)","v":{"$error":"#N/A"}},"Áreas agrícolas","reas agrcolas",{"$f":"SUMIFS(UdS_data!E:E,UdS_data!B:B,C241,UdS_data!C:C,E241)","v":0}]
[null,"Ibiapina",{"$f":"VLOOKUP(B242,UdS_agrg!D:D,2,FALSE)","v":{"$error":"#N/A"}},"Áreas com cobertura vegetal","Areas com cobertura vegetal",{"$f":"SUMIFS(UdS_data!E:E,UdS_data!B:B,C242,UdS_data!C:C,E242)","v":0}]
[null,"Ibiapina",{"$f":"VLOOKUP(B243,UdS_agrg!D:D,2,FALSE)","v":{"$error":"#N/A"}},"Áreas de comércio e serviços","reas de comrcio e servios",{"$f":"SUMIFS(UdS_data!E:E,UdS_data!B:B,C243,UdS_data!C:C,E243)","v":0}]
[null,"Ibiapina",{"$f":"VLOOKUP(B244,UdS_agrg!D:D,2,FALSE)","v":{"$error":"#N/A"}},"Áreas de educação e saúde","reas de educao e sade",{"$f":"SUMIFS(UdS_data!E:E,UdS_data!B:B,C244,UdS_data!C:C,E244)","v":0}]
[null,"Ibiapina",{"$f":"VLOOKUP(B245,UdS_agrg!D:D,2,FALSE)","v":{"$error":"#N/A"}},"Áreas de exploração mineral","reas de explorao mineral",{"$f":"SUMIFS(UdS_data!E:E,UdS_data!B:B,C245,UdS_data!C:C,E245)","v":0}]
[null,"Ibiapina",{"$f":"VLOOKUP(B246,UdS_agrg!D:D,2,FALSE)","v":{"$error":"#N/A"}},"Áreas de lazer","reas de lazer",{"$f":"SUMIFS(UdS_data!E:E,UdS_data!B:B,C246,UdS_data!C:C,E246)","v":0}]
[null,"Ibiapina",{"$f":"VLOOKUP(B247,UdS_agrg!D:D,2,FALSE)","v":{"$error":"#N/A"}},"Áreas de transportes","reas de transporte",{"$f":"SUMIFS(UdS_data!E:E,UdS_data!B:B,C247,UdS_data!C:C,E247)","v":0}]
[null,"Ibiapina",{"$f":"VLOOKUP(B248,UdS_agrg!D:D,2,FALSE)","v":{"$error":"#N/A"}},"Áreas industriais","reas industriais",{"$f":"SUMIFS(UdS_data!E:E,UdS_data!B:B,C248,UdS_data!C:C,E248)","v":0}]
[null,"Ibiapina",{"$f":"VLOOKUP(B249,UdS_agrg!D:D,2,FALSE)","v":{"$error":"#N/A"}},"Áreas institucionais e de infraestrutura pública","reas institucionais e de infraestrutura pblica",{"$f":"SUMIFS(UdS_data!E:E,UdS_data!B:B,C249,UdS_data!C:C,E249)","v":0}]
[null,"Ibiapina",{"$f":"VLOOKUP(B250,UdS_agrg!D:D,2,FALSE)","v":{"$error":"#N/A"}},"Áreas não edificadas ou subutilizadas","reas no edificadas",{"$f":"SUMIFS(UdS_data!E:E,UdS_data!B:B,C250,UdS_data!C:C,E250)","v":0}]
[null,"Ibiapina",{"$f":"VLOOKUP(B251,UdS_agrg!D:D,2,FALSE)","v":{"$error":"#N/A"}},"Áreas residenciais","reas residenciais",{"$f":"SUMIFS(UdS_data!E:E,UdS_data!B:B,C251,UdS_data!C:C,E251)","v":0}]
[null,"Ibiapina",{"$f":"VLOOKUP(B252,UdS_agrg!D:D,2,FALSE)","v":{"$error":"#N/A"}},"Áreas residenciais com atividades complementares","reas residenciais mixtas",{"$f":"SUMIFS(UdS_data!E:E,UdS_data!B:B,C252,UdS_data!C:C,E252)","v":0}]
[null,"Ibiapina",{"$f":"VLOOKUP(B253,UdS_agrg!D:D,2,FALSE)","v":{"$error":"#N/A"}},"Áreas sujeitas à inundação","reas sujeitas  inundao",{"$f":"SUMIFS(UdS_data!E:E,UdS_data!B:B,C253,UdS_data!C:C,E253)","v":0}]
[null,"Ibiapina",{"$f":"VLOOKUP(B254,UdS_agrg!D:D,2,FALSE)","v":{"$error":"#N/A"}},"Corpos hídricos","Corpos hdricos",{"$f":"SUMIFS(UdS_data!E:E,UdS_data!B:B,C254,UdS_data!C:C,E254)","v":0}]
[null,"Ibiapina",{"$f":"VLOOKUP(B255,UdS_agrg!D:D,2,FALSE)","v":{"$error":"#N/A"}},"Favela","Favela",{"$f":"SUMIFS(UdS_data!E:E,UdS_data!B:B,C255,UdS_data!C:C,E255)","v":0}]
[null,"Ibiapina",{"$f":"VLOOKUP(B256,UdS_agrg!D:D,2,FALSE)","v":{"$error":"#N/A"}},"Unidades de Conservação","Unidades de Conservao",{"$f":"SUMIFS(UdS_data!E:E,UdS_data!B:B,C256,UdS_data!C:C,E256)","v":0}]
[null,{"$f":"A$17","v":"IPASE"},{"$f":"VLOOKUP(B257,UdS_agrg!D:D,2,FALSE)","v":{"$error":"#N/A"}},"Afloramentos rochosos e depósitos sedimentares","Afloramentos rochosos e depsitos sedimentares",{"$f":"SUMIFS(UdS_data!E:E,UdS_data!B:B,C257,UdS_data!C:C,E257)","v":0}]
[null,"IPASE",{"$f":"VLOOKUP(B258,UdS_agrg!D:D,2,FALSE)","v":{"$error":"#N/A"}},"Áreas agrícolas","reas agrcolas",{"$f":"SUMIFS(UdS_data!E:E,UdS_data!B:B,C258,UdS_data!C:C,E258)","v":0}]
[null,"IPASE",{"$f":"VLOOKUP(B259,UdS_agrg!D:D,2,FALSE)","v":{"$error":"#N/A"}},"Áreas com cobertura vegetal","Areas com cobertura vegetal",{"$f":"SUMIFS(UdS_data!E:E,UdS_data!B:B,C259,UdS_data!C:C,E259)","v":0}]
[null,"IPASE",{"$f":"VLOOKUP(B260,UdS_agrg!D:D,2,FALSE)","v":{"$error":"#N/A"}},"Áreas de comércio e serviços","reas de comrcio e servios",{"$f":"SUMIFS(UdS_data!E:E,UdS_data!B:B,C260,UdS_data!C:C,E260)","v":0}]
[null,"IPASE",{"$f":"VLOOKUP(B261,UdS_agrg!D:D,2,FALSE)","v":{"$error":"#N/A"}},"Áreas de educação e saúde","reas de educao e sade",{"$f":"SUMIFS(UdS_data!E:E,UdS_data!B:B,C261,UdS_data!C:C,E261)","v":0}]
[null,"IPASE",{"$f":"VLOOKUP(B262,UdS_agrg!D:D,2,FALSE)","v":{"$error":"#N/A"}},"Áreas de exploração mineral","reas de explorao mineral",{"$f":"SUMIFS(UdS_data!E:E,UdS_data!B:B,C262,UdS_data!C:C,E262)","v":0}]
[null,"IPASE",{"$f":"VLOOKUP(B263,UdS_agrg!D:D,2,FALSE)","v":{"$error":"#N/A"}},"Áreas de lazer","reas de lazer",{"$f":"SUMIFS(UdS_data!E:E,UdS_data!B:B,C263,UdS_data!C:C,E263)","v":0}]
[null,"IPASE",{"$f":"VLOOKUP(B264,UdS_agrg!D:D,2,FALSE)","v":{"$error":"#N/A"}},"Áreas de transportes","reas de transporte",{"$f":"SUMIFS(UdS_data!E:E,UdS_data!B:B,C264,UdS_data!C:C,E264)","v":0}]
[null,"IPASE",{"$f":"VLOOKUP(B265,UdS_agrg!D:D,2,FALSE)","v":{"$error":"#N/A"}},"Áreas industriais","reas industriais",{"$f":"SUMIFS(UdS_data!E:E,UdS_data!B:B,C265,UdS_data!C:C,E265)","v":0}]
[null,"IPASE",{"$f":"VLOOKUP(B266,UdS_agrg!D:D,2,FALSE)","v":{"$error":"#N/A"}},"Áreas institucionais e de infraestrutura pública","reas institucionais e de infraestrutura pblica",{"$f":"SUMIFS(UdS_data!E:E,UdS_data!B:B,C266,UdS_data!C:C,E266)","v":0}]
[null,"IPASE",{"$f":"VLOOKUP(B267,UdS_agrg!D:D,2,FALSE)","v":{"$error":"#N/A"}},"Áreas não edificadas ou subutilizadas","reas no edificadas",{"$f":"SUMIFS(UdS_data!E:E,UdS_data!B:B,C267,UdS_data!C:C,E267)","v":0}]
[null,"IPASE",{"$f":"VLOOKUP(B268,UdS_agrg!D:D,2,FALSE)","v":{"$error":"#N/A"}},"Áreas residenciais","reas residenciais",{"$f":"SUMIFS(UdS_data!E:E,UdS_data!B:B,C268,UdS_data!C:C,E268)","v":0}]
[null,"IPASE",{"$f":"VLOOKUP(B269,UdS_agrg!D:D,2,FALSE)","v":{"$error":"#N/A"}},"Áreas residenciais com atividades complementares","reas residenciais mixtas",{"$f":"SUMIFS(UdS_data!E:E,UdS_data!B:B,C269,UdS_data!C:C,E269)","v":0}]
[null,"IPASE",{"$f":"VLOOKUP(B270,UdS_agrg!D:D,2,FALSE)","v":{"$error":"#N/A"}},"Áreas sujeitas à inundação","reas sujeitas  inundao",{"$f":"SUMIFS(UdS_data!E:E,UdS_data!B:B,C270,UdS_data!C:C,E270)","v":0}]
[null,"IPASE",{"$f":"VLOOKUP(B271,UdS_agrg!D:D,2,FALSE)","v":{"$error":"#N/A"}},"Corpos hídricos","Corpos hdricos",{"$f":"SUMIFS(UdS_data!E:E,UdS_data!B:B,C271,UdS_data!C:C,E271)","v":0}]
[null,"IPASE",{"$f":"VLOOKUP(B272,UdS_agrg!D:D,2,FALSE)","v":{"$error":"#N/A"}},"Favela","Favela",{"$f":"SUMIFS(UdS_data!E:E,UdS_data!B:B,C272,UdS_data!C:C,E272)","v":0}]
[null,"IPASE",{"$f":"VLOOKUP(B273,UdS_agrg!D:D,2,FALSE)","v":{"$error":"#N/A"}},"Unidades de Conservação","Unidades de Conservao",{"$f":"SUMIFS(UdS_data!E:E,UdS_data!B:B,C273,UdS_data!C:C,E273)","v":0}]
[null,{"$f":"A$18","v":"Lourenço Jorge"},{"$f":"VLOOKUP(B274,UdS_agrg!D:D,2,FALSE)","v":{"$error":"#N/A"}},"Afloramentos rochosos e depósitos sedimentares","Afloramentos rochosos e depsitos sedimentares",{"$f":"SUMIFS(UdS_data!E:E,UdS_data!B:B,C274,UdS_data!C:C,E274)","v":0}]
[null,{"$f":"A$18","v":"Lourenço Jorge"},{"$f":"VLOOKUP(B275,UdS_agrg!D:D,2,FALSE)","v":{"$error":"#N/A"}},"Áreas agrícolas","reas agrcolas",{"$f":"SUMIFS(UdS_data!E:E,UdS_data!B:B,C275,UdS_data!C:C,E275)","v":0}]
[null,"Lourenço Jorge",{"$f":"VLOOKUP(B276,UdS_agrg!D:D,2,FALSE)","v":{"$error":"#N/A"}},"Áreas com cobertura vegetal","Areas com cobertura vegetal",{"$f":"SUMIFS(UdS_data!E:E,UdS_data!B:B,C276,UdS_data!C:C,E276)","v":0}]
[null,"Lourenço Jorge",{"$f":"VLOOKUP(B277,UdS_agrg!D:D,2,FALSE)","v":{"$error":"#N/A"}},"Áreas de comércio e serviços","reas de comrcio e servios",{"$f":"SUMIFS(UdS_data!E:E,UdS_data!B:B,C277,UdS_data!C:C,E277)","v":0}]
[null,"Lourenço Jorge",{"$f":"VLOOKUP(B278,UdS_agrg!D:D,2,FALSE)","v":{"$error":"#N/A"}},"Áreas de educação e saúde","reas de educao e sade",{"$f":"SUMIFS(UdS_data!E:E,UdS_data!B:B,C278,UdS_data!C:C,E278)","v":0}]
[null,"Lourenço Jorge",{"$f":"VLOOKUP(B279,UdS_agrg!D:D,2,FALSE)","v":{"$error":"#N/A"}},"Áreas de exploração mineral","reas de explorao mineral",{"$f":"SUMIFS(UdS_data!E:E,UdS_data!B:B,C279,UdS_data!C:C,E279)","v":0}]
[null,"Lourenço Jorge",{"$f":"VLOOKUP(B280,UdS_agrg!D:D,2,FALSE)","v":{"$error":"#N/A"}},"Áreas de lazer","reas de lazer",{"$f":"SUMIFS(UdS_data!E:E,UdS_data!B:B,C280,UdS_data!C:C,E280)","v":0}]
[null,"Lourenço Jorge",{"$f":"VLOOKUP(B281,UdS_agrg!D:D,2,FALSE)","v":{"$error":"#N/A"}},"Áreas de transportes","reas de transporte",{"$f":"SUMIFS(UdS_data!E:E,UdS_data!B:B,C281,UdS_data!C:C,E281)","v":0}]
[null,"Lourenço Jorge",{"$f":"VLOOKUP(B282,UdS_agrg!D:D,2,FALSE)","v":{"$error":"#N/A"}},"Áreas industriais","reas industriais",{"$f":"SUMIFS(UdS_data!E:E,UdS_data!B:B,C282,UdS_data!C:C,E282)","v":0}]
[null,"Lourenço Jorge",{"$f":"VLOOKUP(B283,UdS_agrg!D:D,2,FALSE)","v":{"$error":"#N/A"}},"Áreas institucionais e de infraestrutura pública","reas institucionais e de infraestrutura pblica",{"$f":"SUMIFS(UdS_data!E:E,UdS_data!B:B,C283,UdS_data!C:C,E283)","v":0}]
[null,"Lourenço Jorge",{"$f":"VLOOKUP(B284,UdS_agrg!D:D,2,FALSE)","v":{"$error":"#N/A"}},"Áreas não edificadas ou subutilizadas","reas no edificadas",{"$f":"SUMIFS(UdS_data!E:E,UdS_data!B:B,C284,UdS_data!C:C,E284)","v":0}]
[null,"Lourenço Jorge",{"$f":"VLOOKUP(B285,UdS_agrg!D:D,2,FALSE)","v":{"$error":"#N/A"}},"Áreas residenciais","reas residenciais",{"$f":"SUMIFS(UdS_data!E:E,UdS_data!B:B,C285,UdS_data!C:C,E285)","v":0}]
[null,"Lourenço Jorge",{"$f":"VLOOKUP(B286,UdS_agrg!D:D,2,FALSE)","v":{"$error":"#N/A"}},"Áreas residenciais com atividades complementares","reas residenciais mixtas",{"$f":"SUMIFS(UdS_data!E:E,UdS_data!B:B,C286,UdS_data!C:C,E286)","v":0}]
[null,"Lourenço Jorge",{"$f":"VLOOKUP(B287,UdS_agrg!D:D,2,FALSE)","v":{"$error":"#N/A"}},"Áreas sujeitas à inundação","reas sujeitas  inundao",{"$f":"SUMIFS(UdS_data!E:E,UdS_data!B:B,C287,UdS_data!C:C,E287)","v":0}]
[null,"Lourenço Jorge",{"$f":"VLOOKUP(B288,UdS_agrg!D:D,2,FALSE)","v":{"$error":"#N/A"}},"Corpos hídricos","Corpos hdricos",{"$f":"SUMIFS(UdS_data!E:E,UdS_data!B:B,C288,UdS_data!C:C,E288)","v":0}]
[null,"Lourenço Jorge",{"$f":"VLOOKUP(B289,UdS_agrg!D:D,2,FALSE)","v":{"$error":"#N/A"}},"Favela","Favela",{"$f":"SUMIFS(UdS_data!E:E,UdS_data!B:B,C289,UdS_data!C:C,E289)","v":0}]
[null,"Lourenço Jorge",{"$f":"VLOOKUP(B290,UdS_agrg!D:D,2,FALSE)","v":{"$error":"#N/A"}},"Unidades de Conservação","Unidades de Conservao",{"$f":"SUMIFS(UdS_data!E:E,UdS_data!B:B,C290,UdS_data!C:C,E290)","v":0}]
[null,{"$f":"A$19","v":"Madureira"},{"$f":"VLOOKUP(B291,UdS_agrg!D:D,2,FALSE)","v":{"$error":"#N/A"}},"Afloramentos rochosos e depósitos sedimentares","Afloramentos rochosos e depsitos sedimentares",{"$f":"SUMIFS(UdS_data!E:E,UdS_data!B:B,C291,UdS_data!C:C,E291)","v":0}]
[null,{"$f":"A$19","v":"Madureira"},{"$f":"VLOOKUP(B292,UdS_agrg!D:D,2,FALSE)","v":{"$error":"#N/A"}},"Áreas agrícolas","reas agrcolas",{"$f":"SUMIFS(UdS_data!E:E,UdS_data!B:B,C292,UdS_data!C:C,E292)","v":0}]
[null,"Madureira",{"$f":"VLOOKUP(B293,UdS_agrg!D:D,2,FALSE)","v":{"$error":"#N/A"}},"Áreas com cobertura vegetal","Areas com cobertura vegetal",{"$f":"SUMIFS(UdS_data!E:E,UdS_data!B:B,C293,UdS_data!C:C,E293)","v":0}]
[null,"Madureira",{"$f":"VLOOKUP(B294,UdS_agrg!D:D,2,FALSE)","v":{"$error":"#N/A"}},"Áreas de comércio e serviços","reas de comrcio e servios",{"$f":"SUMIFS(UdS_data!E:E,UdS_data!B:B,C294,UdS_data!C:C,E294)","v":0}]
[null,"Madureira",{"$f":"VLOOKUP(B295,UdS_agrg!D:D,2,FALSE)","v":{"$error":"#N/A"}},"Áreas de educação e saúde","reas de educao e sade",{"$f":"SUMIFS(UdS_data!E:E,UdS_data!B:B,C295,UdS_data!C:C,E295)","v":0}]
[null,"Madureira",{"$f":"VLOOKUP(B296,UdS_agrg!D:D,2,FALSE)","v":{"$error":"#N/A"}},"Áreas de exploração mineral","reas de explorao mineral",{"$f":"SUMIFS(UdS_data!E:E,UdS_data!B:B,C296,UdS_data!C:C,E296)","v":0}]
[null,"Madureira",{"$f":"VLOOKUP(B297,UdS_agrg!D:D,2,FALSE)","v":{"$error":"#N/A"}},"Áreas de lazer","reas de lazer",{"$f":"SUMIFS(UdS_data!E:E,UdS_data!B:B,C297,UdS_data!C:C,E297)","v":0}]
[null,"Madureira",{"$f":"VLOOKUP(B298,UdS_agrg!D:D,2,FALSE)","v":{"$error":"#N/A"}},"Áreas de transportes","reas de transporte",{"$f":"SUMIFS(UdS_data!E:E,UdS_data!B:B,C298,UdS_data!C:C,E298)","v":0}]
[null,"Madureira",{"$f":"VLOOKUP(B299,UdS_agrg!D:D,2,FALSE)","v":{"$error":"#N/A"}},"Áreas industriais","reas industriais",{"$f":"SUMIFS(UdS_data!E:E,UdS_data!B:B,C299,UdS_data!C:C,E299)","v":0}]
[null,"Madureira",{"$f":"VLOOKUP(B300,UdS_agrg!D:D,2,FALSE)","v":{"$error":"#N/A"}},"Áreas institucionais e de infraestrutura pública","reas institucionais e de infraestrutura pblica",{"$f":"SUMIFS(UdS_data!E:E,UdS_data!B:B,C300,UdS_data!C:C,E300)","v":0}]
[null,"Madureira",{"$f":"VLOOKUP(B301,UdS_agrg!D:D,2,FALSE)","v":{"$error":"#N/A"}},"Áreas não edificadas ou subutilizadas","reas no edificadas",{"$f":"SUMIFS(UdS_data!E:E,UdS_data!B:B,C301,UdS_data!C:C,E301)","v":0}]
[null,"Madureira",{"$f":"VLOOKUP(B302,UdS_agrg!D:D,2,FALSE)","v":{"$error":"#N/A"}},"Áreas residenciais","reas residenciais",{"$f":"SUMIFS(UdS_data!E:E,UdS_data!B:B,C302,UdS_data!C:C,E302)","v":0}]
[null,"Madureira",{"$f":"VLOOKUP(B303,UdS_agrg!D:D,2,FALSE)","v":{"$error":"#N/A"}},"Áreas residenciais com atividades complementares","reas residenciais mixtas",{"$f":"SUMIFS(UdS_data!E:E,UdS_data!B:B,C303,UdS_data!C:C,E303)","v":0}]
[null,"Madureira",{"$f":"VLOOKUP(B304,UdS_agrg!D:D,2,FALSE)","v":{"$error":"#N/A"}},"Áreas sujeitas à inundação","reas sujeitas  inundao",{"$f":"SUMIFS(UdS_data!E:E,UdS_data!B:B,C304,UdS_data!C:C,E304)","v":0}]
[null,"Madureira",{"$f":"VLOOKUP(B305,UdS_agrg!D:D,2,FALSE)","v":{"$error":"#N/A"}},"Corpos hídricos","Corpos hdricos",{"$f":"SUMIFS(UdS_data!E:E,UdS_data!B:B,C305,UdS_data!C:C,E305)","v":0}]
[null,"Madureira",{"$f":"VLOOKUP(B306,UdS_agrg!D:D,2,FALSE)","v":{"$error":"#N/A"}},"Favela","Favela",{"$f":"SUMIFS(UdS_data!E:E,UdS_data!B:B,C306,UdS_data!C:C,E306)","v":0}]
[null,"Madureira",{"$f":"VLOOKUP(B307,UdS_agrg!D:D,2,FALSE)","v":{"$error":"#N/A"}},"Unidades de Conservação","Unidades de Conservao",{"$f":"SUMIFS(UdS_data!E:E,UdS_data!B:B,C307,UdS_data!C:C,E307)","v":0}]
[null,{"$f":"A$20","v":"Marambaia"},{"$f":"VLOOKUP(B308,UdS_agrg!D:D,2,FALSE)","v":{"$error":"#N/A"}},"Afloramentos rochosos e depósitos sedimentares","Afloramentos rochosos e depsitos sedimentares",{"$f":"SUMIFS(UdS_data!E:E,UdS_data!B:B,C308,UdS_data!C:C,E308)","v":0}]
[null,{"$f":"A$20","v":"Marambaia"},{"$f":"VLOOKUP(B309,UdS_agrg!D:D,2,FALSE)","v":{"$error":"#N/A"}},"Áreas agrícolas","reas agrcolas",{"$f":"SUMIFS(UdS_data!E:E,UdS_data!B:B,C309,UdS_data!C:C,E309)","v":0}]
[null,"Marambaia",{"$f":"VLOOKUP(B310,UdS_agrg!D:D,2,FALSE)","v":{"$error":"#N/A"}},"Áreas com cobertura vegetal","Areas com cobertura vegetal",{"$f":"SUMIFS(UdS_data!E:E,UdS_data!B:B,C310,UdS_data!C:C,E310)","v":0}]
[null,"Marambaia",{"$f":"VLOOKUP(B311,UdS_agrg!D:D,2,FALSE)","v":{"$error":"#N/A"}},"Áreas de comércio e serviços","reas de comrcio e servios",{"$f":"SUMIFS(UdS_data!E:E,UdS_data!B:B,C311,UdS_data!C:C,E311)","v":0}]
[null,"Marambaia",{"$f":"VLOOKUP(B312,UdS_agrg!D:D,2,FALSE)","v":{"$error":"#N/A"}},"Áreas de educação e saúde","reas de educao e sade",{"$f":"SUMIFS(UdS_data!E:E,UdS_data!B:B,C312,UdS_data!C:C,E312)","v":0}]
[null,"Marambaia",{"$f":"VLOOKUP(B313,UdS_agrg!D:D,2,FALSE)","v":{"$error":"#N/A"}},"Áreas de exploração mineral","reas de explorao mineral",{"$f":"SUMIFS(UdS_data!E:E,UdS_data!B:B,C313,UdS_data!C:C,E313)","v":0}]
[null,"Marambaia",{"$f":"VLOOKUP(B314,UdS_agrg!D:D,2,FALSE)","v":{"$error":"#N/A"}},"Áreas de lazer","reas de lazer",{"$f":"SUMIFS(UdS_data!E:E,UdS_data!B:B,C314,UdS_data!C:C,E314)","v":0}]
[null,"Marambaia",{"$f":"VLOOKUP(B315,UdS_agrg!D:D,2,FALSE)","v":{"$error":"#N/A"}},"Áreas de transportes","reas de transporte",{"$f":"SUMIFS(UdS_data!E:E,UdS_data!B:B,C315,UdS_data!C:C,E315)","v":0}]
[null,"Marambaia",{"$f":"VLOOKUP(B316,UdS_agrg!D:D,2,FALSE)","v":{"$error":"#N/A"}},"Áreas industriais","reas industriais",{"$f":"SUMIFS(UdS_data!E:E,UdS_data!B:B,C316,UdS_data!C:C,E316)","v":0}]
[null,"Marambaia",{"$f":"VLOOKUP(B317,UdS_agrg!D:D,2,FALSE)","v":{"$error":"#N/A"}},"Áreas institucionais e de infraestrutura pública","reas institucionais e de infraestrutura pblica",{"$f":"SUMIFS(UdS_data!E:E,UdS_data!B:B,C317,UdS_data!C:C,E317)","v":0}]
[null,"Marambaia",{"$f":"VLOOKUP(B318,UdS_agrg!D:D,2,FALSE)","v":{"$error":"#N/A"}},"Áreas não edificadas ou subutilizadas","reas no edificadas",{"$f":"SUMIFS(UdS_data!E:E,UdS_data!B:B,C318,UdS_data!C:C,E318)","v":0}]
[null,"Marambaia",{"$f":"VLOOKUP(B319,UdS_agrg!D:D,2,FALSE)","v":{"$error":"#N/A"}},"Áreas residenciais","reas residenciais",{"$f":"SUMIFS(UdS_data!E:E,UdS_data!B:B,C319,UdS_data!C:C,E319)","v":0}]
[null,"Marambaia",{"$f":"VLOOKUP(B320,UdS_agrg!D:D,2,FALSE)","v":{"$error":"#N/A"}},"Áreas residenciais com atividades complementares","reas residenciais mixtas",{"$f":"SUMIFS(UdS_data!E:E,UdS_data!B:B,C320,UdS_data!C:C,E320)","v":0}]
[null,"Marambaia",{"$f":"VLOOKUP(B321,UdS_agrg!D:D,2,FALSE)","v":{"$error":"#N/A"}},"Áreas sujeitas à inundação","reas sujeitas  inundao",{"$f":"SUMIFS(UdS_data!E:E,UdS_data!B:B,C321,UdS_data!C:C,E321)","v":0}]
[null,"Marambaia",{"$f":"VLOOKUP(B322,UdS_agrg!D:D,2,FALSE)","v":{"$error":"#N/A"}},"Corpos hídricos","Corpos hdricos",{"$f":"SUMIFS(UdS_data!E:E,UdS_data!B:B,C322,UdS_data!C:C,E322)","v":0}]
[null,"Marambaia",{"$f":"VLOOKUP(B323,UdS_agrg!D:D,2,FALSE)","v":{"$error":"#N/A"}},"Favela","Favela",{"$f":"SUMIFS(UdS_data!E:E,UdS_data!B:B,C323,UdS_data!C:C,E323)","v":0}]
[null,"Marambaia",{"$f":"VLOOKUP(B324,UdS_agrg!D:D,2,FALSE)","v":{"$error":"#N/A"}},"Unidades de Conservação","Unidades de Conservao",{"$f":"SUMIFS(UdS_data!E:E,UdS_data!B:B,C324,UdS_data!C:C,E324)","v":0}]
[null,{"$f":"A$21","v":"Maré"},{"$f":"VLOOKUP(B325,UdS_agrg!D:D,2,FALSE)","v":{"$error":"#N/A"}},"Afloramentos rochosos e depósitos sedimentares","Afloramentos rochosos e depsitos sedimentares",{"$f":"SUMIFS(UdS_data!E:E,UdS_data!B:B,C325,UdS_data!C:C,E325)","v":0}]
[null,{"$f":"A$21","v":"Maré"},{"$f":"VLOOKUP(B326,UdS_agrg!D:D,2,FALSE)","v":{"$error":"#N/A"}},"Áreas agrícolas","reas agrcolas",{"$f":"SUMIFS(UdS_data!E:E,UdS_data!B:B,C326,UdS_data!C:C,E326)","v":0}]
[null,"Maré",{"$f":"VLOOKUP(B327,UdS_agrg!D:D,2,FALSE)","v":{"$error":"#N/A"}},"Áreas com cobertura vegetal","Areas com cobertura vegetal",{"$f":"SUMIFS(UdS_data!E:E,UdS_data!B:B,C327,UdS_data!C:C,E327)","v":0}]
[null,"Maré",{"$f":"VLOOKUP(B328,UdS_agrg!D:D,2,FALSE)","v":{"$error":"#N/A"}},"Áreas de comércio e serviços","reas de comrcio e servios",{"$f":"SUMIFS(UdS_data!E:E,UdS_data!B:B,C328,UdS_data!C:C,E328)","v":0}]
[null,"Maré",{"$f":"VLOOKUP(B329,UdS_agrg!D:D,2,FALSE)","v":{"$error":"#N/A"}},"Áreas de educação e saúde","reas de educao e sade",{"$f":"SUMIFS(UdS_data!E:E,UdS_data!B:B,C329,UdS_data!C:C,E329)","v":0}]
[null,"Maré",{"$f":"VLOOKUP(B330,UdS_agrg!D:D,2,FALSE)","v":{"$error":"#N/A"}},"Áreas de exploração mineral","reas de explorao mineral",{"$f":"SUMIFS(UdS_data!E:E,UdS_data!B:B,C330,UdS_data!C:C,E330)","v":0}]
[null,"Maré",{"$f":"VLOOKUP(B331,UdS_agrg!D:D,2,FALSE)","v":{"$error":"#N/A"}},"Áreas de lazer","reas de lazer",{"$f":"SUMIFS(UdS_data!E:E,UdS_data!B:B,C331,UdS_data!C:C,E331)","v":0}]
[null,"Maré",{"$f":"VLOOKUP(B332,UdS_agrg!D:D,2,FALSE)","v":{"$error":"#N/A"}},"Áreas de transportes","reas de transporte",{"$f":"SUMIFS(UdS_data!E:E,UdS_data!B:B,C332,UdS_data!C:C,E332)","v":0}]
[null,"Maré",{"$f":"VLOOKUP(B333,UdS_agrg!D:D,2,FALSE)","v":{"$error":"#N/A"}},"Áreas industriais","reas industriais",{"$f":"SUMIFS(UdS_data!E:E,UdS_data!B:B,C333,UdS_data!C:C,E333)","v":0}]
[null,"Maré",{"$f":"VLOOKUP(B334,UdS_agrg!D:D,2,FALSE)","v":{"$error":"#N/A"}},"Áreas institucionais e de infraestrutura pública","reas institucionais e de infraestrutura pblica",{"$f":"SUMIFS(UdS_data!E:E,UdS_data!B:B,C334,UdS_data!C:C,E334)","v":0}]
[null,"Maré",{"$f":"VLOOKUP(B335,UdS_agrg!D:D,2,FALSE)","v":{"$error":"#N/A"}},"Áreas não edificadas ou subutilizadas","reas no edificadas",{"$f":"SUMIFS(UdS_data!E:E,UdS_data!B:B,C335,UdS_data!C:C,E335)","v":0}]
[null,"Maré",{"$f":"VLOOKUP(B336,UdS_agrg!D:D,2,FALSE)","v":{"$error":"#N/A"}},"Áreas residenciais","reas residenciais",{"$f":"SUMIFS(UdS_data!E:E,UdS_data!B:B,C336,UdS_data!C:C,E336)","v":0}]
[null,"Maré",{"$f":"VLOOKUP(B337,UdS_agrg!D:D,2,FALSE)","v":{"$error":"#N/A"}},"Áreas residenciais com atividades complementares","reas residenciais mixtas",{"$f":"SUMIFS(UdS_data!E:E,UdS_data!B:B,C337,UdS_data!C:C,E337)","v":0}]
[null,"Maré",{"$f":"VLOOKUP(B338,UdS_agrg!D:D,2,FALSE)","v":{"$error":"#N/A"}},"Áreas sujeitas à inundação","reas sujeitas  inundao",{"$f":"SUMIFS(UdS_data!E:E,UdS_data!B:B,C338,UdS_data!C:C,E338)","v":0}]
[null,"Maré",{"$f":"VLOOKUP(B339,UdS_agrg!D:D,2,FALSE)","v":{"$error":"#N/A"}},"Corpos hídricos","Corpos hdricos",{"$f":"SUMIFS(UdS_data!E:E,UdS_data!B:B,C339,UdS_data!C:C,E339)","v":0}]
[null,"Maré",{"$f":"VLOOKUP(B340,UdS_agrg!D:D,2,FALSE)","v":{"$error":"#N/A"}},"Favela","Favela",{"$f":"SUMIFS(UdS_data!E:E,UdS_data!B:B,C340,UdS_data!C:C,E340)","v":0}]
[null,"Maré",{"$f":"VLOOKUP(B341,UdS_agrg!D:D,2,FALSE)","v":{"$error":"#N/A"}},"Unidades de Conservação","Unidades de Conservao",{"$f":"SUMIFS(UdS_data!E:E,UdS_data!B:B,C341,UdS_data!C:C,E341)","v":0}]
[null,{"$f":"A$22","v":"Mercadão"},{"$f":"VLOOKUP(B342,UdS_agrg!D:D,2,FALSE)","v":{"$error":"#N/A"}},"Afloramentos rochosos e depósitos sedimentares","Afloramentos rochosos e depsitos sedimentares",{"$f":"SUMIFS(UdS_data!E:E,UdS_data!B:B,C342,UdS_data!C:C,E342)","v":0}]
[null,{"$f":"A$22","v":"Mercadão"},{"$f":"VLOOKUP(B343,UdS_agrg!D:D,2,FALSE)","v":{"$error":"#N/A"}},"Áreas agrícolas","reas agrcolas",{"$f":"SUMIFS(UdS_data!E:E,UdS_data!B:B,C343,UdS_data!C:C,E343)","v":0}]
[null,"Mercadão",{"$f":"VLOOKUP(B344,UdS_agrg!D:D,2,FALSE)","v":{"$error":"#N/A"}},"Áreas com cobertura vegetal","Areas com cobertura vegetal",{"$f":"SUMIFS(UdS_data!E:E,UdS_data!B:B,C344,UdS_data!C:C,E344)","v":0}]
[null,"Mercadão",{"$f":"VLOOKUP(B345,UdS_agrg!D:D,2,FALSE)","v":{"$error":"#N/A"}},"Áreas de comércio e serviços","reas de comrcio e servios",{"$f":"SUMIFS(UdS_data!E:E,UdS_data!B:B,C345,UdS_data!C:C,E345)","v":0}]
[null,"Mercadão",{"$f":"VLOOKUP(B346,UdS_agrg!D:D,2,FALSE)","v":{"$error":"#N/A"}},"Áreas de educação e saúde","reas de educao e sade",{"$f":"SUMIFS(UdS_data!E:E,UdS_data!B:B,C346,UdS_data!C:C,E346)","v":0}]
[null,"Mercadão",{"$f":"VLOOKUP(B347,UdS_agrg!D:D,2,FALSE)","v":{"$error":"#N/A"}},"Áreas de exploração mineral","reas de explorao mineral",{"$f":"SUMIFS(UdS_data!E:E,UdS_data!B:B,C347,UdS_data!C:C,E347)","v":0}]
[null,"Mercadão",{"$f":"VLOOKUP(B348,UdS_agrg!D:D,2,FALSE)","v":{"$error":"#N/A"}},"Áreas de lazer","reas de lazer",{"$f":"SUMIFS(UdS_data!E:E,UdS_data!B:B,C348,UdS_data!C:C,E348)","v":0}]
[null,"Mercadão",{"$f":"VLOOKUP(B349,UdS_agrg!D:D,2,FALSE)","v":{"$error":"#N/A"}},"Áreas de transportes","reas de transporte",{"$f":"SUMIFS(UdS_data!E:E,UdS_data!B:B,C349,UdS_data!C:C,E349)","v":0}]
[null,"Mercadão",{"$f":"VLOOKUP(B350,UdS_agrg!D:D,2,FALSE)","v":{"$error":"#N/A"}},"Áreas industriais","reas industriais",{"$f":"SUMIFS(UdS_data!E:E,UdS_data!B:B,C350,UdS_data!C:C,E350)","v":0}]
[null,"Mercadão",{"$f":"VLOOKUP(B351,UdS_agrg!D:D,2,FALSE)","v":{"$error":"#N/A"}},"Áreas institucionais e de infraestrutura pública","reas institucionais e de infraestrutura pblica",{"$f":"SUMIFS(UdS_data!E:E,UdS_data!B:B,C351,UdS_data!C:C,E351)","v":0}]
[null,"Mercadão",{"$f":"VLOOKUP(B352,UdS_agrg!D:D,2,FALSE)","v":{"$error":"#N/A"}},"Áreas não edificadas ou subutilizadas","reas no edificadas",{"$f":"SUMIFS(UdS_data!E:E,UdS_data!B:B,C352,UdS_data!C:C,E352)","v":0}]
[null,"Mercadão",{"$f":"VLOOKUP(B353,UdS_agrg!D:D,2,FALSE)","v":{"$error":"#N/A"}},"Áreas residenciais","reas residenciais",{"$f":"SUMIFS(UdS_data!E:E,UdS_data!B:B,C353,UdS_data!C:C,E353)","v":0}]
[null,"Mercadão",{"$f":"VLOOKUP(B354,UdS_agrg!D:D,2,FALSE)","v":{"$error":"#N/A"}},"Áreas residenciais com atividades complementares","reas residenciais mixtas",{"$f":"SUMIFS(UdS_data!E:E,UdS_data!B:B,C354,UdS_data!C:C,E354)","v":0}]
[null,"Mercadão",{"$f":"VLOOKUP(B355,UdS_agrg!D:D,2,FALSE)","v":{"$error":"#N/A"}},"Áreas sujeitas à inundação","reas sujeitas  inundao",{"$f":"SUMIFS(UdS_data!E:E,UdS_data!B:B,C355,UdS_data!C:C,E355)","v":0}]
[null,"Mercadão",{"$f":"VLOOKUP(B356,UdS_agrg!D:D,2,FALSE)","v":{"$error":"#N/A"}},"Corpos hídricos","Corpos hdricos",{"$f":"SUMIFS(UdS_data!E:E,UdS_data!B:B,C356,UdS_data!C:C,E356)","v":0}]
[null,"Mercadão",{"$f":"VLOOKUP(B357,UdS_agrg!D:D,2,FALSE)","v":{"$error":"#N/A"}},"Favela","Favela",{"$f":"SUMIFS(UdS_data!E:E,UdS_data!B:B,C357,UdS_data!C:C,E357)","v":0}]
[null,"Mercadão",{"$f":"VLOOKUP(B358,UdS_agrg!D:D,2,FALSE)","v":{"$error":"#N/A"}},"Unidades de Conservação","Unidades de Conservao",{"$f":"SUMIFS(UdS_data!E:E,UdS_data!B:B,C358,UdS_data!C:C,E358)","v":0}]
[null,{"$f":"A$23","v":"Merck-Santa Efigênia"},{"$f":"VLOOKUP(B359,UdS_agrg!D:D,2,FALSE)","v":{"$error":"#N/A"}},"Afloramentos rochosos e depósitos sedimentares","Afloramentos rochosos e depsitos sedimentares",{"$f":"SUMIFS(UdS_data!E:E,UdS_data!B:B,C359,UdS_data!C:C,E359)","v":0}]
[null,{"$f":"A$23","v":"Merck-Santa Efigênia"},{"$f":"VLOOKUP(B360,UdS_agrg!D:D,2,FALSE)","v":{"$error":"#N/A"}},"Áreas agrícolas","reas agrcolas",{"$f":"SUMIFS(UdS_data!E:E,UdS_data!B:B,C360,UdS_data!C:C,E360)","v":0}]
[null,"Merck-Santa Efigênia",{"$f":"VLOOKUP(B361,UdS_agrg!D:D,2,FALSE)","v":{"$error":"#N/A"}},"Áreas com cobertura vegetal","Areas com cobertura vegetal",{"$f":"SUMIFS(UdS_data!E:E,UdS_data!B:B,C361,UdS_data!C:C,E361)","v":0}]
[null,"Merck-Santa Efigênia",{"$f":"VLOOKUP(B362,UdS_agrg!D:D,2,FALSE)","v":{"$error":"#N/A"}},"Áreas de comércio e serviços","reas de comrcio e servios",{"$f":"SUMIFS(UdS_data!E:E,UdS_data!B:B,C362,UdS_data!C:C,E362)","v":0}]
[null,"Merck-Santa Efigênia",{"$f":"VLOOKUP(B363,UdS_agrg!D:D,2,FALSE)","v":{"$error":"#N/A"}},"Áreas de educação e saúde","reas de educao e sade",{"$f":"SUMIFS(UdS_data!E:E,UdS_data!B:B,C363,UdS_data!C:C,E363)","v":0}]
[null,"Merck-Santa Efigênia",{"$f":"VLOOKUP(B364,UdS_agrg!D:D,2,FALSE)","v":{"$error":"#N/A"}},"Áreas de exploração mineral","reas de explorao mineral",{"$f":"SUMIFS(UdS_data!E:E,UdS_data!B:B,C364,UdS_data!C:C,E364)","v":0}]
[null,"Merck-Santa Efigênia",{"$f":"VLOOKUP(B365,UdS_agrg!D:D,2,FALSE)","v":{"$error":"#N/A"}},"Áreas de lazer","reas de lazer",{"$f":"SUMIFS(UdS_data!E:E,UdS_data!B:B,C365,UdS_data!C:C,E365)","v":0}]
[null,"Merck-Santa Efigênia",{"$f":"VLOOKUP(B366,UdS_agrg!D:D,2,FALSE)","v":{"$error":"#N/A"}},"Áreas de transportes","reas de transporte",{"$f":"SUMIFS(UdS_data!E:E,UdS_data!B:B,C366,UdS_data!C:C,E366)","v":0}]
[null,"Merck-Santa Efigênia",{"$f":"VLOOKUP(B367,UdS_agrg!D:D,2,FALSE)","v":{"$error":"#N/A"}},"Áreas industriais","reas industriais",{"$f":"SUMIFS(UdS_data!E:E,UdS_data!B:B,C367,UdS_data!C:C,E367)","v":0}]
[null,"Merck-Santa Efigênia",{"$f":"VLOOKUP(B368,UdS_agrg!D:D,2,FALSE)","v":{"$error":"#N/A"}},"Áreas institucionais e de infraestrutura pública","reas institucionais e de infraestrutura pblica",{"$f":"SUMIFS(UdS_data!E:E,UdS_data!B:B,C368,UdS_data!C:C,E368)","v":0}]
[null,"Merck-Santa Efigênia",{"$f":"VLOOKUP(B369,UdS_agrg!D:D,2,FALSE)","v":{"$error":"#N/A"}},"Áreas não edificadas ou subutilizadas","reas no edificadas",{"$f":"SUMIFS(UdS_data!E:E,UdS_data!B:B,C369,UdS_data!C:C,E369)","v":0}]
[null,"Merck-Santa Efigênia",{"$f":"VLOOKUP(B370,UdS_agrg!D:D,2,FALSE)","v":{"$error":"#N/A"}},"Áreas residenciais","reas residenciais",{"$f":"SUMIFS(UdS_data!E:E,UdS_data!B:B,C370,UdS_data!C:C,E370)","v":0}]
[null,"Merck-Santa Efigênia",{"$f":"VLOOKUP(B371,UdS_agrg!D:D,2,FALSE)","v":{"$error":"#N/A"}},"Áreas residenciais com atividades complementares","reas residenciais mixtas",{"$f":"SUMIFS(UdS_data!E:E,UdS_data!B:B,C371,UdS_data!C:C,E371)","v":0}]
[null,"Merck-Santa Efigênia",{"$f":"VLOOKUP(B372,UdS_agrg!D:D,2,FALSE)","v":{"$error":"#N/A"}},"Áreas sujeitas à inundação","reas sujeitas  inundao",{"$f":"SUMIFS(UdS_data!E:E,UdS_data!B:B,C372,UdS_data!C:C,E372)","v":0}]
[null,"Merck-Santa Efigênia",{"$f":"VLOOKUP(B373,UdS_agrg!D:D,2,FALSE)","v":{"$error":"#N/A"}},"Corpos hídricos","Corpos hdricos",{"$f":"SUMIFS(UdS_data!E:E,UdS_data!B:B,C373,UdS_data!C:C,E373)","v":0}]
[null,"Merck-Santa Efigênia",{"$f":"VLOOKUP(B374,UdS_agrg!D:D,2,FALSE)","v":{"$error":"#N/A"}},"Favela","Favela",{"$f":"SUMIFS(UdS_data!E:E,UdS_data!B:B,C374,UdS_data!C:C,E374)","v":0}]
[null,"Merck-Santa Efigênia",{"$f":"VLOOKUP(B375,UdS_agrg!D:D,2,FALSE)","v":{"$error":"#N/A"}},"Unidades de Conservação","Unidades de Conservao",{"$f":"SUMIFS(UdS_data!E:E,UdS_data!B:B,C375,UdS_data!C:C,E375)","v":0}]
[null,{"$f":"A$24","v":"Olaria - Cacique de Ramos"},{"$f":"VLOOKUP(B376,UdS_agrg!D:D,2,FALSE)","v":{"$error":"#N/A"}},"Afloramentos rochosos e depósitos sedimentares","Afloramentos rochosos e depsitos sedimentares",{"$f":"SUMIFS(UdS_data!E:E,UdS_data!B:B,C376,UdS_data!C:C,E376)","v":0}]
[null,{"$f":"A$24","v":"Olaria - Cacique de Ramos"},{"$f":"VLOOKUP(B377,UdS_agrg!D:D,2,FALSE)","v":{"$error":"#N/A"}},"Áreas agrícolas","reas agrcolas",{"$f":"SUMIFS(UdS_data!E:E,UdS_data!B:B,C377,UdS_data!C:C,E377)","v":0}]
[null,"Olaria - Cacique de Ramos",{"$f":"VLOOKUP(B378,UdS_agrg!D:D,2,FALSE)","v":{"$error":"#N/A"}},"Áreas com cobertura vegetal","Areas com cobertura vegetal",{"$f":"SUMIFS(UdS_data!E:E,UdS_data!B:B,C378,UdS_data!C:C,E378)","v":0}]
[null,"Olaria - Cacique de Ramos",{"$f":"VLOOKUP(B379,UdS_agrg!D:D,2,FALSE)","v":{"$error":"#N/A"}},"Áreas de comércio e serviços","reas de comrcio e servios",{"$f":"SUMIFS(UdS_data!E:E,UdS_data!B:B,C379,UdS_data!C:C,E379)","v":0}]
[null,"Olaria - Cacique de Ramos",{"$f":"VLOOKUP(B380,UdS_agrg!D:D,2,FALSE)","v":{"$error":"#N/A"}},"Áreas de educação e saúde","reas de educao e sade",{"$f":"SUMIFS(UdS_data!E:E,UdS_data!B:B,C380,UdS_data!C:C,E380)","v":0}]
[null,"Olaria - Cacique de Ramos",{"$f":"VLOOKUP(B381,UdS_agrg!D:D,2,FALSE)","v":{"$error":"#N/A"}},"Áreas de exploração mineral","reas de explorao mineral",{"$f":"SUMIFS(UdS_data!E:E,UdS_data!B:B,C381,UdS_data!C:C,E381)","v":0}]
[null,"Olaria - Cacique de Ramos",{"$f":"VLOOKUP(B382,UdS_agrg!D:D,2,FALSE)","v":{"$error":"#N/A"}},"Áreas de lazer","reas de lazer",{"$f":"SUMIFS(UdS_data!E:E,UdS_data!B:B,C382,UdS_data!C:C,E382)","v":0}]
[null,"Olaria - Cacique de Ramos",{"$f":"VLOOKUP(B383,UdS_agrg!D:D,2,FALSE)","v":{"$error":"#N/A"}},"Áreas de transportes","reas de transporte",{"$f":"SUMIFS(UdS_data!E:E,UdS_data!B:B,C383,UdS_data!C:C,E383)","v":0}]
[null,"Olaria - Cacique de Ramos",{"$f":"VLOOKUP(B384,UdS_agrg!D:D,2,FALSE)","v":{"$error":"#N/A"}},"Áreas industriais","reas industriais",{"$f":"SUMIFS(UdS_data!E:E,UdS_data!B:B,C384,UdS_data!C:C,E384)","v":0}]
[null,"Olaria - Cacique de Ramos",{"$f":"VLOOKUP(B385,UdS_agrg!D:D,2,FALSE)","v":{"$error":"#N/A"}},"Áreas institucionais e de infraestrutura pública","reas institucionais e de infraestrutura pblica",{"$f":"SUMIFS(UdS_data!E:E,UdS_data!B:B,C385,UdS_data!C:C,E385)","v":0}]
[null,"Olaria - Cacique de Ramos",{"$f":"VLOOKUP(B386,UdS_agrg!D:D,2,FALSE)","v":{"$error":"#N/A"}},"Áreas não edificadas ou subutilizadas","reas no edificadas",{"$f":"SUMIFS(UdS_data!E:E,UdS_data!B:B,C386,UdS_data!C:C,E386)","v":0}]
[null,"Olaria - Cacique de Ramos",{"$f":"VLOOKUP(B387,UdS_agrg!D:D,2,FALSE)","v":{"$error":"#N/A"}},"Áreas residenciais","reas residenciais",{"$f":"SUMIFS(UdS_data!E:E,UdS_data!B:B,C387,UdS_data!C:C,E387)","v":0}]
[null,"Olaria - Cacique de Ramos",{"$f":"VLOOKUP(B388,UdS_agrg!D:D,2,FALSE)","v":{"$error":"#N/A"}},"Áreas residenciais com atividades complementares","reas residenciais mixtas",{"$f":"SUMIFS(UdS_data!E:E,UdS_data!B:B,C388,UdS_data!C:C,E388)","v":0}]
[null,"Olaria - Cacique de Ramos",{"$f":"VLOOKUP(B389,UdS_agrg!D:D,2,FALSE)","v":{"$error":"#N/A"}},"Áreas sujeitas à inundação","reas sujeitas  inundao",{"$f":"SUMIFS(UdS_data!E:E,UdS_data!B:B,C389,UdS_data!C:C,E389)","v":0}]
[null,"Olaria - Cacique de Ramos",{"$f":"VLOOKUP(B390,UdS_agrg!D:D,2,FALSE)","v":{"$error":"#N/A"}},"Corpos hídricos","Corpos hdricos",{"$f":"SUMIFS(UdS_data!E:E,UdS_data!B:B,C390,UdS_data!C:C,E390)","v":0}]
[null,"Olaria - Cacique de Ramos",{"$f":"VLOOKUP(B391,UdS_agrg!D:D,2,FALSE)","v":{"$error":"#N/A"}},"Favela","Favela",{"$f":"SUMIFS(UdS_data!E:E,UdS_data!B:B,C391,UdS_data!C:C,E391)","v":0}]
[null,"Olaria - Cacique de Ramos",{"$f":"VLOOKUP(B392,UdS_agrg!D:D,2,FALSE)","v":{"$error":"#N/A"}},"Unidades de Conservação","Unidades de Conservao",{"$f":"SUMIFS(UdS_data!E:E,UdS_data!B:B,C392,UdS_data!C:C,E392)","v":0}]
[null,{"$f":"A$25","v":"Otaviano"},{"$f":"VLOOKUP(B393,UdS_agrg!D:D,2,FALSE)","v":{"$error":"#N/A"}},"Afloramentos rochosos e depósitos sedimentares","Afloramentos rochosos e depsitos sedimentares",{"$f":"SUMIFS(UdS_data!E:E,UdS_data!B:B,C393,UdS_data!C:C,E393)","v":0}]
[null,{"$f":"A$25","v":"Otaviano"},{"$f":"VLOOKUP(B394,UdS_agrg!D:D,2,FALSE)","v":{"$error":"#N/A"}},"Áreas agrícolas","reas agrcolas",{"$f":"SUMIFS(UdS_data!E:E,UdS_data!B:B,C394,UdS_data!C:C,E394)","v":0}]
[null,"Otaviano",{"$f":"VLOOKUP(B395,UdS_agrg!D:D,2,FALSE)","v":{"$error":"#N/A"}},"Áreas com cobertura vegetal","Areas com cobertura vegetal",{"$f":"SUMIFS(UdS_data!E:E,UdS_data!B:B,C395,UdS_data!C:C,E395)","v":0}]
[null,"Otaviano",{"$f":"VLOOKUP(B396,UdS_agrg!D:D,2,FALSE)","v":{"$error":"#N/A"}},"Áreas de comércio e serviços","reas de comrcio e servios",{"$f":"SUMIFS(UdS_data!E:E,UdS_data!B:B,C396,UdS_data!C:C,E396)","v":0}]
[null,"Otaviano",{"$f":"VLOOKUP(B397,UdS_agrg!D:D,2,FALSE)","v":{"$error":"#N/A"}},"Áreas de educação e saúde","reas de educao e sade",{"$f":"SUMIFS(UdS_data!E:E,UdS_data!B:B,C397,UdS_data!C:C,E397)","v":0}]
[null,"Otaviano",{"$f":"VLOOKUP(B398,UdS_agrg!D:D,2,FALSE)","v":{"$error":"#N/A"}},"Áreas de exploração mineral","reas de explorao mineral",{"$f":"SUMIFS(UdS_data!E:E,UdS_data!B:B,C398,UdS_data!C:C,E398)","v":0}]
[null,"Otaviano",{"$f":"VLOOKUP(B399,UdS_agrg!D:D,2,FALSE)","v":{"$error":"#N/A"}},"Áreas de lazer","reas de lazer",{"$f":"SUMIFS(UdS_data!E:E,UdS_data!B:B,C399,UdS_data!C:C,E399)","v":0}]
[null,"Otaviano",{"$f":"VLOOKUP(B400,UdS_agrg!D:D,2,FALSE)","v":{"$error":"#N/A"}},"Áreas de transportes","reas de transporte",{"$f":"SUMIFS(UdS_data!E:E,UdS_data!B:B,C400,UdS_data!C:C,E400)","v":0}]
[null,"Otaviano",{"$f":"VLOOKUP(B401,UdS_agrg!D:D,2,FALSE)","v":{"$error":"#N/A"}},"Áreas industriais","reas industriais",{"$f":"SUMIFS(UdS_data!E:E,UdS_data!B:B,C401,UdS_data!C:C,E401)","v":0}]
[null,"Otaviano",{"$f":"VLOOKUP(B402,UdS_agrg!D:D,2,FALSE)","v":{"$error":"#N/A"}},"Áreas institucionais e de infraestrutura pública","reas institucionais e de infraestrutura pblica",{"$f":"SUMIFS(UdS_data!E:E,UdS_data!B:B,C402,UdS_data!C:C,E402)","v":0}]
[null,"Otaviano",{"$f":"VLOOKUP(B403,UdS_agrg!D:D,2,FALSE)","v":{"$error":"#N/A"}},"Áreas não edificadas ou subutilizadas","reas no edificadas",{"$f":"SUMIFS(UdS_data!E:E,UdS_data!B:B,C403,UdS_data!C:C,E403)","v":0}]
[null,"Otaviano",{"$f":"VLOOKUP(B404,UdS_agrg!D:D,2,FALSE)","v":{"$error":"#N/A"}},"Áreas residenciais","reas residenciais",{"$f":"SUMIFS(UdS_data!E:E,UdS_data!B:B,C404,UdS_data!C:C,E404)","v":0}]
[null,"Otaviano",{"$f":"VLOOKUP(B405,UdS_agrg!D:D,2,FALSE)","v":{"$error":"#N/A"}},"Áreas residenciais com atividades complementares","reas residenciais mixtas",{"$f":"SUMIFS(UdS_data!E:E,UdS_data!B:B,C405,UdS_data!C:C,E405)","v":0}]
[null,"Otaviano",{"$f":"VLOOKUP(B406,UdS_agrg!D:D,2,FALSE)","v":{"$error":"#N/A"}},"Áreas sujeitas à inundação","reas sujeitas  inundao",{"$f":"SUMIFS(UdS_data!E:E,UdS_data!B:B,C406,UdS_data!C:C,E406)","v":0}]
[null,"Otaviano",{"$f":"VLOOKUP(B407,UdS_agrg!D:D,2,FALSE)","v":{"$error":"#N/A"}},"Corpos hídricos","Corpos hdricos",{"$f":"SUMIFS(UdS_data!E:E,UdS_data!B:B,C407,UdS_data!C:C,E407)","v":0}]
[null,"Otaviano",{"$f":"VLOOKUP(B408,UdS_agrg!D:D,2,FALSE)","v":{"$error":"#N/A"}},"Favela","Favela",{"$f":"SUMIFS(UdS_data!E:E,UdS_data!B:B,C408,UdS_data!C:C,E408)","v":0}]
[null,"Otaviano",{"$f":"VLOOKUP(B409,UdS_agrg!D:D,2,FALSE)","v":{"$error":"#N/A"}},"Unidades de Conservação","Unidades de Conservao",{"$f":"SUMIFS(UdS_data!E:E,UdS_data!B:B,C409,UdS_data!C:C,E409)","v":0}]
[null,{"$f":"A$26","v":"Pastor José Santos"},{"$f":"VLOOKUP(B410,UdS_agrg!D:D,2,FALSE)","v":{"$error":"#N/A"}},"Afloramentos rochosos e depósitos sedimentares","Afloramentos rochosos e depsitos sedimentares",{"$f":"SUMIFS(UdS_data!E:E,UdS_data!B:B,C410,UdS_data!C:C,E410)","v":0}]
[null,{"$f":"A$26","v":"Pastor José Santos"},{"$f":"VLOOKUP(B411,UdS_agrg!D:D,2,FALSE)","v":{"$error":"#N/A"}},"Áreas agrícolas","reas agrcolas",{"$f":"SUMIFS(UdS_data!E:E,UdS_data!B:B,C411,UdS_data!C:C,E411)","v":0}]
[null,"Pastor José Santos",{"$f":"VLOOKUP(B412,UdS_agrg!D:D,2,FALSE)","v":{"$error":"#N/A"}},"Áreas com cobertura vegetal","Areas com cobertura vegetal",{"$f":"SUMIFS(UdS_data!E:E,UdS_data!B:B,C412,UdS_data!C:C,E412)","v":0}]
[null,"Pastor José Santos",{"$f":"VLOOKUP(B413,UdS_agrg!D:D,2,FALSE)","v":{"$error":"#N/A"}},"Áreas de comércio e serviços","reas de comrcio e servios",{"$f":"SUMIFS(UdS_data!E:E,UdS_data!B:B,C413,UdS_data!C:C,E413)","v":0}]
[null,"Pastor José Santos",{"$f":"VLOOKUP(B414,UdS_agrg!D:D,2,FALSE)","v":{"$error":"#N/A"}},"Áreas de educação e saúde","reas de educao e sade",{"$f":"SUMIFS(UdS_data!E:E,UdS_data!B:B,C414,UdS_data!C:C,E414)","v":0}]
[null,"Pastor José Santos",{"$f":"VLOOKUP(B415,UdS_agrg!D:D,2,FALSE)","v":{"$error":"#N/A"}},"Áreas de exploração mineral","reas de explorao mineral",{"$f":"SUMIFS(UdS_data!E:E,UdS_data!B:B,C415,UdS_data!C:C,E415)","v":0}]
[null,"Pastor José Santos",{"$f":"VLOOKUP(B416,UdS_agrg!D:D,2,FALSE)","v":{"$error":"#N/A"}},"Áreas de lazer","reas de lazer",{"$f":"SUMIFS(UdS_data!E:E,UdS_data!B:B,C416,UdS_data!C:C,E416)","v":0}]
[null,"Pastor José Santos",{"$f":"VLOOKUP(B417,UdS_agrg!D:D,2,FALSE)","v":{"$error":"#N/A"}},"Áreas de transportes","reas de transporte",{"$f":"SUMIFS(UdS_data!E:E,UdS_data!B:B,C417,UdS_data!C:C,E417)","v":0}]
[null,"Pastor José Santos",{"$f":"VLOOKUP(B418,UdS_agrg!D:D,2,FALSE)","v":{"$error":"#N/A"}},"Áreas industriais","reas industriais",{"$f":"SUMIFS(UdS_data!E:E,UdS_data!B:B,C418,UdS_data!C:C,E418)","v":0}]
[null,"Pastor José Santos",{"$f":"VLOOKUP(B419,UdS_agrg!D:D,2,FALSE)","v":{"$error":"#N/A"}},"Áreas institucionais e de infraestrutura pública","reas institucionais e de infraestrutura pblica",{"$f":"SUMIFS(UdS_data!E:E,UdS_data!B:B,C419,UdS_data!C:C,E419)","v":0}]
[null,"Pastor José Santos",{"$f":"VLOOKUP(B420,UdS_agrg!D:D,2,FALSE)","v":{"$error":"#N/A"}},"Áreas não edificadas ou subutilizadas","reas no edificadas",{"$f":"SUMIFS(UdS_data!E:E,UdS_data!B:B,C420,UdS_data!C:C,E420)","v":0}]
[null,"Pastor José Santos",{"$f":"VLOOKUP(B421,UdS_agrg!D:D,2,FALSE)","v":{"$error":"#N/A"}},"Áreas residenciais","reas residenciais",{"$f":"SUMIFS(UdS_data!E:E,UdS_data!B:B,C421,UdS_data!C:C,E421)","v":0}]
[null,"Pastor José Santos",{"$f":"VLOOKUP(B422,UdS_agrg!D:D,2,FALSE)","v":{"$error":"#N/A"}},"Áreas residenciais com atividades complementares","reas residenciais mixtas",{"$f":"SUMIFS(UdS_data!E:E,UdS_data!B:B,C422,UdS_data!C:C,E422)","v":0}]
[null,"Pastor José Santos",{"$f":"VLOOKUP(B423,UdS_agrg!D:D,2,FALSE)","v":{"$error":"#N/A"}},"Áreas sujeitas à inundação","reas sujeitas  inundao",{"$f":"SUMIFS(UdS_data!E:E,UdS_data!B:B,C423,UdS_data!C:C,E423)","v":0}]
[null,"Pastor José Santos",{"$f":"VLOOKUP(B424,UdS_agrg!D:D,2,FALSE)","v":{"$error":"#N/A"}},"Corpos hídricos","Corpos hdricos",{"$f":"SUMIFS(UdS_data!E:E,UdS_data!B:B,C424,UdS_data!C:C,E424)","v":0}]
[null,"Pastor José Santos",{"$f":"VLOOKUP(B425,UdS_agrg!D:D,2,FALSE)","v":{"$error":"#N/A"}},"Favela","Favela",{"$f":"SUMIFS(UdS_data!E:E,UdS_data!B:B,C425,UdS_data!C:C,E425)","v":0}]
[null,"Pastor José Santos",{"$f":"VLOOKUP(B426,UdS_agrg!D:D,2,FALSE)","v":{"$error":"#N/A"}},"Unidades de Conservação","Unidades de Conservao",{"$f":"SUMIFS(UdS_data!E:E,UdS_data!B:B,C426,UdS_data!C:C,E426)","v":0}]
[null,{"$f":"A$27","v":"Pedro Correia"},{"$f":"VLOOKUP(B427,UdS_agrg!D:D,2,FALSE)","v":{"$error":"#N/A"}},"Afloramentos rochosos e depósitos sedimentares","Afloramentos rochosos e depsitos sedimentares",{"$f":"SUMIFS(UdS_data!E:E,UdS_data!B:B,C427,UdS_data!C:C,E427)","v":0}]
[null,{"$f":"A$27","v":"Pedro Correia"},{"$f":"VLOOKUP(B428,UdS_agrg!D:D,2,FALSE)","v":{"$error":"#N/A"}},"Áreas agrícolas","reas agrcolas",{"$f":"SUMIFS(UdS_data!E:E,UdS_data!B:B,C428,UdS_data!C:C,E428)","v":0}]
[null,"Pedro Correia",{"$f":"VLOOKUP(B429,UdS_agrg!D:D,2,FALSE)","v":{"$error":"#N/A"}},"Áreas com cobertura vegetal","Areas com cobertura vegetal",{"$f":"SUMIFS(UdS_data!E:E,UdS_data!B:B,C429,UdS_data!C:C,E429)","v":0}]
[null,"Pedro Correia",{"$f":"VLOOKUP(B430,UdS_agrg!D:D,2,FALSE)","v":{"$error":"#N/A"}},"Áreas de comércio e serviços","reas de comrcio e servios",{"$f":"SUMIFS(UdS_data!E:E,UdS_data!B:B,C430,UdS_data!C:C,E430)","v":0}]
[null,"Pedro Correia",{"$f":"VLOOKUP(B431,UdS_agrg!D:D,2,FALSE)","v":{"$error":"#N/A"}},"Áreas de educação e saúde","reas de educao e sade",{"$f":"SUMIFS(UdS_data!E:E,UdS_data!B:B,C431,UdS_data!C:C,E431)","v":0}]
[null,"Pedro Correia",{"$f":"VLOOKUP(B432,UdS_agrg!D:D,2,FALSE)","v":{"$error":"#N/A"}},"Áreas de exploração mineral","reas de explorao mineral",{"$f":"SUMIFS(UdS_data!E:E,UdS_data!B:B,C432,UdS_data!C:C,E432)","v":0}]
[null,"Pedro Correia",{"$f":"VLOOKUP(B433,UdS_agrg!D:D,2,FALSE)","v":{"$error":"#N/A"}},"Áreas de lazer","reas de lazer",{"$f":"SUMIFS(UdS_data!E:E,UdS_data!B:B,C433,UdS_data!C:C,E433)","v":0}]
[null,"Pedro Correia",{"$f":"VLOOKUP(B434,UdS_agrg!D:D,2,FALSE)","v":{"$error":"#N/A"}},"Áreas de transportes","reas de transporte",{"$f":"SUMIFS(UdS_data!E:E,UdS_data!B:B,C434,UdS_data!C:C,E434)","v":0}]
[null,"Pedro Correia",{"$f":"VLOOKUP(B435,UdS_agrg!D:D,2,FALSE)","v":{"$error":"#N/A"}},"Áreas industriais","reas industriais",{"$f":"SUMIFS(UdS_data!E:E,UdS_data!B:B,C435,UdS_data!C:C,E435)","v":0}]
[null,"Pedro Correia",{"$f":"VLOOKUP(B436,UdS_agrg!D:D,2,FALSE)","v":{"$error":"#N/A"}},"Áreas institucionais e de infraestrutura pública","reas institucionais e de infraestrutura pblica",{"$f":"SUMIFS(UdS_data!E:E,UdS_data!B:B,C436,UdS_data!C:C,E436)","v":0}]
[null,"Pedro Correia",{"$f":"VLOOKUP(B437,UdS_agrg!D:D,2,FALSE)","v":{"$error":"#N/A"}},"Áreas não edificadas ou subutilizadas","reas no edificadas",{"$f":"SUMIFS(UdS_data!E:E,UdS_data!B:B,C437,UdS_data!C:C,E437)","v":0}]
[null,"Pedro Correia",{"$f":"VLOOKUP(B438,UdS_agrg!D:D,2,FALSE)","v":{"$error":"#N/A"}},"Áreas residenciais","reas residenciais",{"$f":"SUMIFS(UdS_data!E:E,UdS_data!B:B,C438,UdS_data!C:C,E438)","v":0}]
[null,"Pedro Correia",{"$f":"VLOOKUP(B439,UdS_agrg!D:D,2,FALSE)","v":{"$error":"#N/A"}},"Áreas residenciais com atividades complementares","reas residenciais mixtas",{"$f":"SUMIFS(UdS_data!E:E,UdS_data!B:B,C439,UdS_data!C:C,E439)","v":0}]
[null,"Pedro Correia",{"$f":"VLOOKUP(B440,UdS_agrg!D:D,2,FALSE)","v":{"$error":"#N/A"}},"Áreas sujeitas à inundação","reas sujeitas  inundao",{"$f":"SUMIFS(UdS_data!E:E,UdS_data!B:B,C440,UdS_data!C:C,E440)","v":0}]
[null,"Pedro Correia",{"$f":"VLOOKUP(B441,UdS_agrg!D:D,2,FALSE)","v":{"$error":"#N/A"}},"Corpos hídricos","Corpos hdricos",{"$f":"SUMIFS(UdS_data!E:E,UdS_data!B:B,C441,UdS_data!C:C,E441)","v":0}]
[null,"Pedro Correia",{"$f":"VLOOKUP(B442,UdS_agrg!D:D,2,FALSE)","v":{"$error":"#N/A"}},"Favela","Favela",{"$f":"SUMIFS(UdS_data!E:E,UdS_data!B:B,C442,UdS_data!C:C,E442)","v":0}]
[null,"Pedro Correia",{"$f":"VLOOKUP(B443,UdS_agrg!D:D,2,FALSE)","v":{"$error":"#N/A"}},"Unidades de Conservação","Unidades de Conservao",{"$f":"SUMIFS(UdS_data!E:E,UdS_data!B:B,C443,UdS_data!C:C,E443)","v":0}]
[null,{"$f":"A$28","v":"Pedro Taques"},{"$f":"VLOOKUP(B444,UdS_agrg!D:D,2,FALSE)","v":{"$error":"#N/A"}},"Afloramentos rochosos e depósitos sedimentares","Afloramentos rochosos e depsitos sedimentares",{"$f":"SUMIFS(UdS_data!E:E,UdS_data!B:B,C444,UdS_data!C:C,E444)","v":0}]
[null,{"$f":"A$28","v":"Pedro Taques"},{"$f":"VLOOKUP(B445,UdS_agrg!D:D,2,FALSE)","v":{"$error":"#N/A"}},"Áreas agrícolas","reas agrcolas",{"$f":"SUMIFS(UdS_data!E:E,UdS_data!B:B,C445,UdS_data!C:C,E445)","v":0}]
[null,"Pedro Taques",{"$f":"VLOOKUP(B446,UdS_agrg!D:D,2,FALSE)","v":{"$error":"#N/A"}},"Áreas com cobertura vegetal","Areas com cobertura vegetal",{"$f":"SUMIFS(UdS_data!E:E,UdS_data!B:B,C446,UdS_data!C:C,E446)","v":0}]
[null,"Pedro Taques",{"$f":"VLOOKUP(B447,UdS_agrg!D:D,2,FALSE)","v":{"$error":"#N/A"}},"Áreas de comércio e serviços","reas de comrcio e servios",{"$f":"SUMIFS(UdS_data!E:E,UdS_data!B:B,C447,UdS_data!C:C,E447)","v":0}]
[null,"Pedro Taques",{"$f":"VLOOKUP(B448,UdS_agrg!D:D,2,FALSE)","v":{"$error":"#N/A"}},"Áreas de educação e saúde","reas de educao e sade",{"$f":"SUMIFS(UdS_data!E:E,UdS_data!B:B,C448,UdS_data!C:C,E448)","v":0}]
[null,"Pedro Taques",{"$f":"VLOOKUP(B449,UdS_agrg!D:D,2,FALSE)","v":{"$error":"#N/A"}},"Áreas de exploração mineral","reas de explorao mineral",{"$f":"SUMIFS(UdS_data!E:E,UdS_data!B:B,C449,UdS_data!C:C,E449)","v":0}]
[null,"Pedro Taques",{"$f":"VLOOKUP(B450,UdS_agrg!D:D,2,FALSE)","v":{"$error":"#N/A"}},"Áreas de lazer","reas de lazer",{"$f":"SUMIFS(UdS_data!E:E,UdS_data!B:B,C450,UdS_data!C:C,E450)","v":0}]
[null,"Pedro Taques",{"$f":"VLOOKUP(B451,UdS_agrg!D:D,2,FALSE)","v":{"$error":"#N/A"}},"Áreas de transportes","reas de transporte",{"$f":"SUMIFS(UdS_data!E:E,UdS_data!B:B,C451,UdS_data!C:C,E451)","v":0}]
[null,"Pedro Taques",{"$f":"VLOOKUP(B452,UdS_agrg!D:D,2,FALSE)","v":{"$error":"#N/A"}},"Áreas industriais","reas industriais",{"$f":"SUMIFS(UdS_data!E:E,UdS_data!B:B,C452,UdS_data!C:C,E452)","v":0}]
[null,"Pedro Taques",{"$f":"VLOOKUP(B453,UdS_agrg!D:D,2,FALSE)","v":{"$error":"#N/A"}},"Áreas institucionais e de infraestrutura pública","reas institucionais e de infraestrutura pblica",{"$f":"SUMIFS(UdS_data!E:E,UdS_data!B:B,C453,UdS_data!C:C,E453)","v":0}]
[null,"Pedro Taques",{"$f":"VLOOKUP(B454,UdS_agrg!D:D,2,FALSE)","v":{"$error":"#N/A"}},"Áreas não edificadas ou subutilizadas","reas no edificadas",{"$f":"SUMIFS(UdS_data!E:E,UdS_data!B:B,C454,UdS_data!C:C,E454)","v":0}]
[null,"Pedro Taques",{"$f":"VLOOKUP(B455,UdS_agrg!D:D,2,FALSE)","v":{"$error":"#N/A"}},"Áreas residenciais","reas residenciais",{"$f":"SUMIFS(UdS_data!E:E,UdS_data!B:B,C455,UdS_data!C:C,E455)","v":0}]
[null,"Pedro Taques",{"$f":"VLOOKUP(B456,UdS_agrg!D:D,2,FALSE)","v":{"$error":"#N/A"}},"Áreas residenciais com atividades complementares","reas residenciais mixtas",{"$f":"SUMIFS(UdS_data!E:E,UdS_data!B:B,C456,UdS_data!C:C,E456)","v":0}]
[null,"Pedro Taques",{"$f":"VLOOKUP(B457,UdS_agrg!D:D,2,FALSE)","v":{"$error":"#N/A"}},"Áreas sujeitas à inundação","reas sujeitas  inundao",{"$f":"SUMIFS(UdS_data!E:E,UdS_data!B:B,C457,UdS_data!C:C,E457)","v":0}]
[null,"Pedro Taques",{"$f":"VLOOKUP(B458,UdS_agrg!D:D,2,FALSE)","v":{"$error":"#N/A"}},"Corpos hídricos","Corpos hdricos",{"$f":"SUMIFS(UdS_data!E:E,UdS_data!B:B,C458,UdS_data!C:C,E458)","v":0}]
[null,"Pedro Taques",{"$f":"VLOOKUP(B459,UdS_agrg!D:D,2,FALSE)","v":{"$error":"#N/A"}},"Favela","Favela",{"$f":"SUMIFS(UdS_data!E:E,UdS_data!B:B,C459,UdS_data!C:C,E459)","v":0}]
[null,"Pedro Taques",{"$f":"VLOOKUP(B460,UdS_agrg!D:D,2,FALSE)","v":{"$error":"#N/A"}},"Unidades de Conservação","Unidades de Conservao",{"$f":"SUMIFS(UdS_data!E:E,UdS_data!B:B,C460,UdS_data!C:C,E460)","v":0}]
[null,{"$f":"A$29","v":"Penha"},{"$f":"VLOOKUP(B461,UdS_agrg!D:D,2,FALSE)","v":{"$error":"#N/A"}},"Afloramentos rochosos e depósitos sedimentares","Afloramentos rochosos e depsitos sedimentares",{"$f":"SUMIFS(UdS_data!E:E,UdS_data!B:B,C461,UdS_data!C:C,E461)","v":0}]
[null,{"$f":"A$29","v":"Penha"},{"$f":"VLOOKUP(B462,UdS_agrg!D:D,2,FALSE)","v":{"$error":"#N/A"}},"Áreas agrícolas","reas agrcolas",{"$f":"SUMIFS(UdS_data!E:E,UdS_data!B:B,C462,UdS_data!C:C,E462)","v":0}]
[null,"Penha",{"$f":"VLOOKUP(B463,UdS_agrg!D:D,2,FALSE)","v":{"$error":"#N/A"}},"Áreas com cobertura vegetal","Areas com cobertura vegetal",{"$f":"SUMIFS(UdS_data!E:E,UdS_data!B:B,C463,UdS_data!C:C,E463)","v":0}]
[null,"Penha",{"$f":"VLOOKUP(B464,UdS_agrg!D:D,2,FALSE)","v":{"$error":"#N/A"}},"Áreas de comércio e serviços","reas de comrcio e servios",{"$f":"SUMIFS(UdS_data!E:E,UdS_data!B:B,C464,UdS_data!C:C,E464)","v":0}]
[null,"Penha",{"$f":"VLOOKUP(B465,UdS_agrg!D:D,2,FALSE)","v":{"$error":"#N/A"}},"Áreas de educação e saúde","reas de educao e sade",{"$f":"SUMIFS(UdS_data!E:E,UdS_data!B:B,C465,UdS_data!C:C,E465)","v":0}]
[null,"Penha",{"$f":"VLOOKUP(B466,UdS_agrg!D:D,2,FALSE)","v":{"$error":"#N/A"}},"Áreas de exploração mineral","reas de explorao mineral",{"$f":"SUMIFS(UdS_data!E:E,UdS_data!B:B,C466,UdS_data!C:C,E466)","v":0}]
[null,"Penha",{"$f":"VLOOKUP(B467,UdS_agrg!D:D,2,FALSE)","v":{"$error":"#N/A"}},"Áreas de lazer","reas de lazer",{"$f":"SUMIFS(UdS_data!E:E,UdS_data!B:B,C467,UdS_data!C:C,E467)","v":0}]
[null,"Penha",{"$f":"VLOOKUP(B468,UdS_agrg!D:D,2,FALSE)","v":{"$error":"#N/A"}},"Áreas de transportes","reas de transporte",{"$f":"SUMIFS(UdS_data!E:E,UdS_data!B:B,C468,UdS_data!C:C,E468)","v":0}]
[null,"Penha",{"$f":"VLOOKUP(B469,UdS_agrg!D:D,2,FALSE)","v":{"$error":"#N/A"}},"Áreas industriais","reas industriais",{"$f":"SUMIFS(UdS_data!E:E,UdS_data!B:B,C469,UdS_data!C:C,E469)","v":0}]
[null,"Penha",{"$f":"VLOOKUP(B470,UdS_agrg!D:D,2,FALSE)","v":{"$error":"#N/A"}},"Áreas institucionais e de infraestrutura pública","reas institucionais e de infraestrutura pblica",{"$f":"SUMIFS(UdS_data!E:E,UdS_data!B:B,C470,UdS_data!C:C,E470)","v":0}]
[null,"Penha",{"$f":"VLOOKUP(B471,UdS_agrg!D:D,2,FALSE)","v":{"$error":"#N/A"}},"Áreas não edificadas ou subutilizadas","reas no edificadas",{"$f":"SUMIFS(UdS_data!E:E,UdS_data!B:B,C471,UdS_data!C:C,E471)","v":0}]
[null,"Penha",{"$f":"VLOOKUP(B472,UdS_agrg!D:D,2,FALSE)","v":{"$error":"#N/A"}},"Áreas residenciais","reas residenciais",{"$f":"SUMIFS(UdS_data!E:E,UdS_data!B:B,C472,UdS_data!C:C,E472)","v":0}]
[null,"Penha",{"$f":"VLOOKUP(B473,UdS_agrg!D:D,2,FALSE)","v":{"$error":"#N/A"}},"Áreas residenciais com atividades complementares","reas residenciais mixtas",{"$f":"SUMIFS(UdS_data!E:E,UdS_data!B:B,C473,UdS_data!C:C,E473)","v":0}]
[null,"Penha",{"$f":"VLOOKUP(B474,UdS_agrg!D:D,2,FALSE)","v":{"$error":"#N/A"}},"Áreas sujeitas à inundação","reas sujeitas  inundao",{"$f":"SUMIFS(UdS_data!E:E,UdS_data!B:B,C474,UdS_data!C:C,E474)","v":0}]
[null,"Penha",{"$f":"VLOOKUP(B475,UdS_agrg!D:D,2,FALSE)","v":{"$error":"#N/A"}},"Corpos hídricos","Corpos hdricos",{"$f":"SUMIFS(UdS_data!E:E,UdS_data!B:B,C475,UdS_data!C:C,E475)","v":0}]
[null,"Penha",{"$f":"VLOOKUP(B476,UdS_agrg!D:D,2,FALSE)","v":{"$error":"#N/A"}},"Favela","Favela",{"$f":"SUMIFS(UdS_data!E:E,UdS_data!B:B,C476,UdS_data!C:C,E476)","v":0}]
[null,"Penha",{"$f":"VLOOKUP(B477,UdS_agrg!D:D,2,FALSE)","v":{"$error":"#N/A"}},"Unidades de Conservação","Unidades de Conservao",{"$f":"SUMIFS(UdS_data!E:E,UdS_data!B:B,C477,UdS_data!C:C,E477)","v":0}]
[null,{"$f":"A$30","v":"Pinto Teles"},{"$f":"VLOOKUP(B478,UdS_agrg!D:D,2,FALSE)","v":{"$error":"#N/A"}},"Afloramentos rochosos e depósitos sedimentares","Afloramentos rochosos e depsitos sedimentares",{"$f":"SUMIFS(UdS_data!E:E,UdS_data!B:B,C478,UdS_data!C:C,E478)","v":0}]
[null,{"$f":"A$30","v":"Pinto Teles"},{"$f":"VLOOKUP(B479,UdS_agrg!D:D,2,FALSE)","v":{"$error":"#N/A"}},"Áreas agrícolas","reas agrcolas",{"$f":"SUMIFS(UdS_data!E:E,UdS_data!B:B,C479,UdS_data!C:C,E479)","v":0}]
[null,"Pinto Teles",{"$f":"VLOOKUP(B480,UdS_agrg!D:D,2,FALSE)","v":{"$error":"#N/A"}},"Áreas com cobertura vegetal","Areas com cobertura vegetal",{"$f":"SUMIFS(UdS_data!E:E,UdS_data!B:B,C480,UdS_data!C:C,E480)","v":0}]
[null,"Pinto Teles",{"$f":"VLOOKUP(B481,UdS_agrg!D:D,2,FALSE)","v":{"$error":"#N/A"}},"Áreas de comércio e serviços","reas de comrcio e servios",{"$f":"SUMIFS(UdS_data!E:E,UdS_data!B:B,C481,UdS_data!C:C,E481)","v":0}]
[null,"Pinto Teles",{"$f":"VLOOKUP(B482,UdS_agrg!D:D,2,FALSE)","v":{"$error":"#N/A"}},"Áreas de educação e saúde","reas de educao e sade",{"$f":"SUMIFS(UdS_data!E:E,UdS_data!B:B,C482,UdS_data!C:C,E482)","v":0}]
[null,"Pinto Teles",{"$f":"VLOOKUP(B483,UdS_agrg!D:D,2,FALSE)","v":{"$error":"#N/A"}},"Áreas de exploração mineral","reas de explorao mineral",{"$f":"SUMIFS(UdS_data!E:E,UdS_data!B:B,C483,UdS_data!C:C,E483)","v":0}]
[null,"Pinto Teles",{"$f":"VLOOKUP(B484,UdS_agrg!D:D,2,FALSE)","v":{"$error":"#N/A"}},"Áreas de lazer","reas de lazer",{"$f":"SUMIFS(UdS_data!E:E,UdS_data!B:B,C484,UdS_data!C:C,E484)","v":0}]
[null,"Pinto Teles",{"$f":"VLOOKUP(B485,UdS_agrg!D:D,2,FALSE)","v":{"$error":"#N/A"}},"Áreas de transportes","reas de transporte",{"$f":"SUMIFS(UdS_data!E:E,UdS_data!B:B,C485,UdS_data!C:C,E485)","v":0}]
[null,"Pinto Teles",{"$f":"VLOOKUP(B486,UdS_agrg!D:D,2,FALSE)","v":{"$error":"#N/A"}},"Áreas industriais","reas industriais",{"$f":"SUMIFS(UdS_data!E:E,UdS_data!B:B,C486,UdS_data!C:C,E486)","v":0}]
[null,"Pinto Teles",{"$f":"VLOOKUP(B487,UdS_agrg!D:D,2,FALSE)","v":{"$error":"#N/A"}},"Áreas institucionais e de infraestrutura pública","reas institucionais e de infraestrutura pblica",{"$f":"SUMIFS(UdS_data!E:E,UdS_data!B:B,C487,UdS_data!C:C,E487)","v":0}]
[null,"Pinto Teles",{"$f":"VLOOKUP(B488,UdS_agrg!D:D,2,FALSE)","v":{"$error":"#N/A"}},"Áreas não edificadas ou subutilizadas","reas no edificadas",{"$f":"SUMIFS(UdS_data!E:E,UdS_data!B:B,C488,UdS_data!C:C,E488)","v":0}]
[null,"Pinto Teles",{"$f":"VLOOKUP(B489,UdS_agrg!D:D,2,FALSE)","v":{"$error":"#N/A"}},"Áreas residenciais","reas residenciais",{"$f":"SUMIFS(UdS_data!E:E,UdS_data!B:B,C489,UdS_data!C:C,E489)","v":0}]
[null,"Pinto Teles",{"$f":"VLOOKUP(B490,UdS_agrg!D:D,2,FALSE)","v":{"$error":"#N/A"}},"Áreas residenciais com atividades complementares","reas residenciais mixtas",{"$f":"SUMIFS(UdS_data!E:E,UdS_data!B:B,C490,UdS_data!C:C,E490)","v":0}]
[null,"Pinto Teles",{"$f":"VLOOKUP(B491,UdS_agrg!D:D,2,FALSE)","v":{"$error":"#N/A"}},"Áreas sujeitas à inundação","reas sujeitas  inundao",{"$f":"SUMIFS(UdS_data!E:E,UdS_data!B:B,C491,UdS_data!C:C,E491)","v":0}]
[null,"Pinto Teles",{"$f":"VLOOKUP(B492,UdS_agrg!D:D,2,FALSE)","v":{"$error":"#N/A"}},"Corpos hídricos","Corpos hdricos",{"$f":"SUMIFS(UdS_data!E:E,UdS_data!B:B,C492,UdS_data!C:C,E492)","v":0}]
[null,"Pinto Teles",{"$f":"VLOOKUP(B493,UdS_agrg!D:D,2,FALSE)","v":{"$error":"#N/A"}},"Favela","Favela",{"$f":"SUMIFS(UdS_data!E:E,UdS_data!B:B,C493,UdS_data!C:C,E493)","v":0}]
[null,"Pinto Teles",{"$f":"VLOOKUP(B494,UdS_agrg!D:D,2,FALSE)","v":{"$error":"#N/A"}},"Unidades de Conservação","Unidades de Conservao",{"$f":"SUMIFS(UdS_data!E:E,UdS_data!B:B,C494,UdS_data!C:C,E494)","v":0}]
[null,{"$f":"A$31","v":"Praça do Bandolim"},{"$f":"VLOOKUP(B495,UdS_agrg!D:D,2,FALSE)","v":{"$error":"#N/A"}},"Afloramentos rochosos e depósitos sedimentares","Afloramentos rochosos e depsitos sedimentares",{"$f":"SUMIFS(UdS_data!E:E,UdS_data!B:B,C495,UdS_data!C:C,E495)","v":0}]
[null,{"$f":"A$31","v":"Praça do Bandolim"},{"$f":"VLOOKUP(B496,UdS_agrg!D:D,2,FALSE)","v":{"$error":"#N/A"}},"Áreas agrícolas","reas agrcolas",{"$f":"SUMIFS(UdS_data!E:E,UdS_data!B:B,C496,UdS_data!C:C,E496)","v":0}]
[null,"Praça do Bandolim",{"$f":"VLOOKUP(B497,UdS_agrg!D:D,2,FALSE)","v":{"$error":"#N/A"}},"Áreas com cobertura vegetal","Areas com cobertura vegetal",{"$f":"SUMIFS(UdS_data!E:E,UdS_data!B:B,C497,UdS_data!C:C,E497)","v":0}]
[null,"Praça do Bandolim",{"$f":"VLOOKUP(B498,UdS_agrg!D:D,2,FALSE)","v":{"$error":"#N/A"}},"Áreas de comércio e serviços","reas de comrcio e servios",{"$f":"SUMIFS(UdS_data!E:E,UdS_data!B:B,C498,UdS_data!C:C,E498)","v":0}]
[null,"Praça do Bandolim",{"$f":"VLOOKUP(B499,UdS_agrg!D:D,2,FALSE)","v":{"$error":"#N/A"}},"Áreas de educação e saúde","reas de educao e sade",{"$f":"SUMIFS(UdS_data!E:E,UdS_data!B:B,C499,UdS_data!C:C,E499)","v":0}]
[null,"Praça do Bandolim",{"$f":"VLOOKUP(B500,UdS_agrg!D:D,2,FALSE)","v":{"$error":"#N/A"}},"Áreas de exploração mineral","reas de explorao mineral",{"$f":"SUMIFS(UdS_data!E:E,UdS_data!B:B,C500,UdS_data!C:C,E500)","v":0}]
[null,"Praça do Bandolim",{"$f":"VLOOKUP(B501,UdS_agrg!D:D,2,FALSE)","v":{"$error":"#N/A"}},"Áreas de lazer","reas de lazer",{"$f":"SUMIFS(UdS_data!E:E,UdS_data!B:B,C501,UdS_data!C:C,E501)","v":0}]
[null,"Praça do Bandolim",{"$f":"VLOOKUP(B502,UdS_agrg!D:D,2,FALSE)","v":{"$error":"#N/A"}},"Áreas de transportes","reas de transporte",{"$f":"SUMIFS(UdS_data!E:E,UdS_data!B:B,C502,UdS_data!C:C,E502)","v":0}]
[null,"Praça do Bandolim",{"$f":"VLOOKUP(B503,UdS_agrg!D:D,2,FALSE)","v":{"$error":"#N/A"}},"Áreas industriais","reas industriais",{"$f":"SUMIFS(UdS_data!E:E,UdS_data!B:B,C503,UdS_data!C:C,E503)","v":0}]
[null,"Praça do Bandolim",{"$f":"VLOOKUP(B504,UdS_agrg!D:D,2,FALSE)","v":{"$error":"#N/A"}},"Áreas institucionais e de infraestrutura pública","reas institucionais e de infraestrutura pblica",{"$f":"SUMIFS(UdS_data!E:E,UdS_data!B:B,C504,UdS_data!C:C,E504)","v":0}]
[null,"Praça do Bandolim",{"$f":"VLOOKUP(B505,UdS_agrg!D:D,2,FALSE)","v":{"$error":"#N/A"}},"Áreas não edificadas ou subutilizadas","reas no edificadas",{"$f":"SUMIFS(UdS_data!E:E,UdS_data!B:B,C505,UdS_data!C:C,E505)","v":0}]
[null,"Praça do Bandolim",{"$f":"VLOOKUP(B506,UdS_agrg!D:D,2,FALSE)","v":{"$error":"#N/A"}},"Áreas residenciais","reas residenciais",{"$f":"SUMIFS(UdS_data!E:E,UdS_data!B:B,C506,UdS_data!C:C,E506)","v":0}]
[null,"Praça do Bandolim",{"$f":"VLOOKUP(B507,UdS_agrg!D:D,2,FALSE)","v":{"$error":"#N/A"}},"Áreas residenciais com atividades complementares","reas residenciais mixtas",{"$f":"SUMIFS(UdS_data!E:E,UdS_data!B:B,C507,UdS_data!C:C,E507)","v":0}]
[null,"Praça do Bandolim",{"$f":"VLOOKUP(B508,UdS_agrg!D:D,2,FALSE)","v":{"$error":"#N/A"}},"Áreas sujeitas à inundação","reas sujeitas  inundao",{"$f":"SUMIFS(UdS_data!E:E,UdS_data!B:B,C508,UdS_data!C:C,E508)","v":0}]
[null,"Praça do Bandolim",{"$f":"VLOOKUP(B509,UdS_agrg!D:D,2,FALSE)","v":{"$error":"#N/A"}},"Corpos hídricos","Corpos hdricos",{"$f":"SUMIFS(UdS_data!E:E,UdS_data!B:B,C509,UdS_data!C:C,E509)","v":0}]
[null,"Praça do Bandolim",{"$f":"VLOOKUP(B510,UdS_agrg!D:D,2,FALSE)","v":{"$error":"#N/A"}},"Favela","Favela",{"$f":"SUMIFS(UdS_data!E:E,UdS_data!B:B,C510,UdS_data!C:C,E510)","v":0}]
[null,"Praça do Bandolim",{"$f":"VLOOKUP(B511,UdS_agrg!D:D,2,FALSE)","v":{"$error":"#N/A"}},"Unidades de Conservação","Unidades de Conservao",{"$f":"SUMIFS(UdS_data!E:E,UdS_data!B:B,C511,UdS_data!C:C,E511)","v":0}]
[null,{"$f":"A$32","v":"Praça do Carmo"},{"$f":"VLOOKUP(B512,UdS_agrg!D:D,2,FALSE)","v":{"$error":"#N/A"}},"Afloramentos rochosos e depósitos sedimentares","Afloramentos rochosos e depsitos sedimentares",{"$f":"SUMIFS(UdS_data!E:E,UdS_data!B:B,C512,UdS_data!C:C,E512)","v":0}]
[null,{"$f":"A$32","v":"Praça do Carmo"},{"$f":"VLOOKUP(B513,UdS_agrg!D:D,2,FALSE)","v":{"$error":"#N/A"}},"Áreas agrícolas","reas agrcolas",{"$f":"SUMIFS(UdS_data!E:E,UdS_data!B:B,C513,UdS_data!C:C,E513)","v":0}]
[null,"Praça do Carmo",{"$f":"VLOOKUP(B514,UdS_agrg!D:D,2,FALSE)","v":{"$error":"#N/A"}},"Áreas com cobertura vegetal","Areas com cobertura vegetal",{"$f":"SUMIFS(UdS_data!E:E,UdS_data!B:B,C514,UdS_data!C:C,E514)","v":0}]
[null,"Praça do Carmo",{"$f":"VLOOKUP(B515,UdS_agrg!D:D,2,FALSE)","v":{"$error":"#N/A"}},"Áreas de comércio e serviços","reas de comrcio e servios",{"$f":"SUMIFS(UdS_data!E:E,UdS_data!B:B,C515,UdS_data!C:C,E515)","v":0}]
[null,"Praça do Carmo",{"$f":"VLOOKUP(B516,UdS_agrg!D:D,2,FALSE)","v":{"$error":"#N/A"}},"Áreas de educação e saúde","reas de educao e sade",{"$f":"SUMIFS(UdS_data!E:E,UdS_data!B:B,C516,UdS_data!C:C,E516)","v":0}]
[null,"Praça do Carmo",{"$f":"VLOOKUP(B517,UdS_agrg!D:D,2,FALSE)","v":{"$error":"#N/A"}},"Áreas de exploração mineral","reas de explorao mineral",{"$f":"SUMIFS(UdS_data!E:E,UdS_data!B:B,C517,UdS_data!C:C,E517)","v":0}]
[null,"Praça do Carmo",{"$f":"VLOOKUP(B518,UdS_agrg!D:D,2,FALSE)","v":{"$error":"#N/A"}},"Áreas de lazer","reas de lazer",{"$f":"SUMIFS(UdS_data!E:E,UdS_data!B:B,C518,UdS_data!C:C,E518)","v":0}]
[null,"Praça do Carmo",{"$f":"VLOOKUP(B519,UdS_agrg!D:D,2,FALSE)","v":{"$error":"#N/A"}},"Áreas de transportes","reas de transporte",{"$f":"SUMIFS(UdS_data!E:E,UdS_data!B:B,C519,UdS_data!C:C,E519)","v":0}]
[null,"Praça do Carmo",{"$f":"VLOOKUP(B520,UdS_agrg!D:D,2,FALSE)","v":{"$error":"#N/A"}},"Áreas industriais","reas industriais",{"$f":"SUMIFS(UdS_data!E:E,UdS_data!B:B,C520,UdS_data!C:C,E520)","v":0}]
[null,"Praça do Carmo",{"$f":"VLOOKUP(B521,UdS_agrg!D:D,2,FALSE)","v":{"$error":"#N/A"}},"Áreas institucionais e de infraestrutura pública","reas institucionais e de infraestrutura pblica",{"$f":"SUMIFS(UdS_data!E:E,UdS_data!B:B,C521,UdS_data!C:C,E521)","v":0}]
[null,"Praça do Carmo",{"$f":"VLOOKUP(B522,UdS_agrg!D:D,2,FALSE)","v":{"$error":"#N/A"}},"Áreas não edificadas ou subutilizadas","reas no edificadas",{"$f":"SUMIFS(UdS_data!E:E,UdS_data!B:B,C522,UdS_data!C:C,E522)","v":0}]
[null,"Praça do Carmo",{"$f":"VLOOKUP(B523,UdS_agrg!D:D,2,FALSE)","v":{"$error":"#N/A"}},"Áreas residenciais","reas residenciais",{"$f":"SUMIFS(UdS_data!E:E,UdS_data!B:B,C523,UdS_data!C:C,E523)","v":0}]
[null,"Praça do Carmo",{"$f":"VLOOKUP(B524,UdS_agrg!D:D,2,FALSE)","v":{"$error":"#N/A"}},"Áreas residenciais com atividades complementares","reas residenciais mixtas",{"$f":"SUMIFS(UdS_data!E:E,UdS_data!B:B,C524,UdS_data!C:C,E524)","v":0}]
[null,"Praça do Carmo",{"$f":"VLOOKUP(B525,UdS_agrg!D:D,2,FALSE)","v":{"$error":"#N/A"}},"Áreas sujeitas à inundação","reas sujeitas  inundao",{"$f":"SUMIFS(UdS_data!E:E,UdS_data!B:B,C525,UdS_data!C:C,E525)","v":0}]
[null,"Praça do Carmo",{"$f":"VLOOKUP(B526,UdS_agrg!D:D,2,FALSE)","v":{"$error":"#N/A"}},"Corpos hídricos","Corpos hdricos",{"$f":"SUMIFS(UdS_data!E:E,UdS_data!B:B,C526,UdS_data!C:C,E526)","v":0}]
[null,"Praça do Carmo",{"$f":"VLOOKUP(B527,UdS_agrg!D:D,2,FALSE)","v":{"$error":"#N/A"}},"Favela","Favela",{"$f":"SUMIFS(UdS_data!E:E,UdS_data!B:B,C527,UdS_data!C:C,E527)","v":0}]
[null,"Praça do Carmo",{"$f":"VLOOKUP(B528,UdS_agrg!D:D,2,FALSE)","v":{"$error":"#N/A"}},"Unidades de Conservação","Unidades de Conservao",{"$f":"SUMIFS(UdS_data!E:E,UdS_data!B:B,C528,UdS_data!C:C,E528)","v":0}]
[null,{"$f":"A$33","v":"Praça Seca"},{"$f":"VLOOKUP(B529,UdS_agrg!D:D,2,FALSE)","v":{"$error":"#N/A"}},"Afloramentos rochosos e depósitos sedimentares","Afloramentos rochosos e depsitos sedimentares",{"$f":"SUMIFS(UdS_data!E:E,UdS_data!B:B,C529,UdS_data!C:C,E529)","v":0}]
[null,{"$f":"A$33","v":"Praça Seca"},{"$f":"VLOOKUP(B530,UdS_agrg!D:D,2,FALSE)","v":{"$error":"#N/A"}},"Áreas agrícolas","reas agrcolas",{"$f":"SUMIFS(UdS_data!E:E,UdS_data!B:B,C530,UdS_data!C:C,E530)","v":0}]
[null,"Praça Seca",{"$f":"VLOOKUP(B531,UdS_agrg!D:D,2,FALSE)","v":{"$error":"#N/A"}},"Áreas com cobertura vegetal","Areas com cobertura vegetal",{"$f":"SUMIFS(UdS_data!E:E,UdS_data!B:B,C531,UdS_data!C:C,E531)","v":0}]
[null,"Praça Seca",{"$f":"VLOOKUP(B532,UdS_agrg!D:D,2,FALSE)","v":{"$error":"#N/A"}},"Áreas de comércio e serviços","reas de comrcio e servios",{"$f":"SUMIFS(UdS_data!E:E,UdS_data!B:B,C532,UdS_data!C:C,E532)","v":0}]
[null,"Praça Seca",{"$f":"VLOOKUP(B533,UdS_agrg!D:D,2,FALSE)","v":{"$error":"#N/A"}},"Áreas de educação e saúde","reas de educao e sade",{"$f":"SUMIFS(UdS_data!E:E,UdS_data!B:B,C533,UdS_data!C:C,E533)","v":0}]
[null,"Praça Seca",{"$f":"VLOOKUP(B534,UdS_agrg!D:D,2,FALSE)","v":{"$error":"#N/A"}},"Áreas de exploração mineral","reas de explorao mineral",{"$f":"SUMIFS(UdS_data!E:E,UdS_data!B:B,C534,UdS_data!C:C,E534)","v":0}]
[null,"Praça Seca",{"$f":"VLOOKUP(B535,UdS_agrg!D:D,2,FALSE)","v":{"$error":"#N/A"}},"Áreas de lazer","reas de lazer",{"$f":"SUMIFS(UdS_data!E:E,UdS_data!B:B,C535,UdS_data!C:C,E535)","v":0}]
[null,"Praça Seca",{"$f":"VLOOKUP(B536,UdS_agrg!D:D,2,FALSE)","v":{"$error":"#N/A"}},"Áreas de transportes","reas de transporte",{"$f":"SUMIFS(UdS_data!E:E,UdS_data!B:B,C536,UdS_data!C:C,E536)","v":0}]
[null,"Praça Seca",{"$f":"VLOOKUP(B537,UdS_agrg!D:D,2,FALSE)","v":{"$error":"#N/A"}},"Áreas industriais","reas industriais",{"$f":"SUMIFS(UdS_data!E:E,UdS_data!B:B,C537,UdS_data!C:C,E537)","v":0}]
[null,"Praça Seca",{"$f":"VLOOKUP(B538,UdS_agrg!D:D,2,FALSE)","v":{"$error":"#N/A"}},"Áreas institucionais e de infraestrutura pública","reas institucionais e de infraestrutura pblica",{"$f":"SUMIFS(UdS_data!E:E,UdS_data!B:B,C538,UdS_data!C:C,E538)","v":0}]
[null,"Praça Seca",{"$f":"VLOOKUP(B539,UdS_agrg!D:D,2,FALSE)","v":{"$error":"#N/A"}},"Áreas não edificadas ou subutilizadas","reas no edificadas",{"$f":"SUMIFS(UdS_data!E:E,UdS_data!B:B,C539,UdS_data!C:C,E539)","v":0}]
[null,"Praça Seca",{"$f":"VLOOKUP(B540,UdS_agrg!D:D,2,FALSE)","v":{"$error":"#N/A"}},"Áreas residenciais","reas residenciais",{"$f":"SUMIFS(UdS_data!E:E,UdS_data!B:B,C540,UdS_data!C:C,E540)","v":0}]
[null,"Praça Seca",{"$f":"VLOOKUP(B541,UdS_agrg!D:D,2,FALSE)","v":{"$error":"#N/A"}},"Áreas residenciais com atividades complementares","reas residenciais mixtas",{"$f":"SUMIFS(UdS_data!E:E,UdS_data!B:B,C541,UdS_data!C:C,E541)","v":0}]
[null,"Praça Seca",{"$f":"VLOOKUP(B542,UdS_agrg!D:D,2,FALSE)","v":{"$error":"#N/A"}},"Áreas sujeitas à inundação","reas sujeitas  inundao",{"$f":"SUMIFS(UdS_data!E:E,UdS_data!B:B,C542,UdS_data!C:C,E542)","v":0}]
[null,"Praça Seca",{"$f":"VLOOKUP(B543,UdS_agrg!D:D,2,FALSE)","v":{"$error":"#N/A"}},"Corpos hídricos","Corpos hdricos",{"$f":"SUMIFS(UdS_data!E:E,UdS_data!B:B,C543,UdS_data!C:C,E543)","v":0}]
[null,"Praça Seca",{"$f":"VLOOKUP(B544,UdS_agrg!D:D,2,FALSE)","v":{"$error":"#N/A"}},"Favela","Favela",{"$f":"SUMIFS(UdS_data!E:E,UdS_data!B:B,C544,UdS_data!C:C,E544)","v":0}]
[null,"Praça Seca",{"$f":"VLOOKUP(B545,UdS_agrg!D:D,2,FALSE)","v":{"$error":"#N/A"}},"Unidades de Conservação","Unidades de Conservao",{"$f":"SUMIFS(UdS_data!E:E,UdS_data!B:B,C545,UdS_data!C:C,E545)","v":0}]
[null,{"$f":"A$34","v":"Recanto das Palmeiras - Jardim São Luiz"},{"$f":"VLOOKUP(B546,UdS_agrg!D:D,2,FALSE)","v":{"$error":"#N/A"}},"Afloramentos rochosos e depósitos sedimentares","Afloramentos rochosos e depsitos sedimentares",{"$f":"SUMIFS(UdS_data!E:E,UdS_data!B:B,C546,UdS_data!C:C,E546)","v":0}]
[null,{"$f":"A$34","v":"Recanto das Palmeiras - Jardim São Luiz"},{"$f":"VLOOKUP(B547,UdS_agrg!D:D,2,FALSE)","v":{"$error":"#N/A"}},"Áreas agrícolas","reas agrcolas",{"$f":"SUMIFS(UdS_data!E:E,UdS_data!B:B,C547,UdS_data!C:C,E547)","v":0}]
[null,"Recanto das Palmeiras - Jardim São Luiz",{"$f":"VLOOKUP(B548,UdS_agrg!D:D,2,FALSE)","v":{"$error":"#N/A"}},"Áreas com cobertura vegetal","Areas com cobertura vegetal",{"$f":"SUMIFS(UdS_data!E:E,UdS_data!B:B,C548,UdS_data!C:C,E548)","v":0}]
[null,"Recanto das Palmeiras - Jardim São Luiz",{"$f":"VLOOKUP(B549,UdS_agrg!D:D,2,FALSE)","v":{"$error":"#N/A"}},"Áreas de comércio e serviços","reas de comrcio e servios",{"$f":"SUMIFS(UdS_data!E:E,UdS_data!B:B,C549,UdS_data!C:C,E549)","v":0}]
[null,"Recanto das Palmeiras - Jardim São Luiz",{"$f":"VLOOKUP(B550,UdS_agrg!D:D,2,FALSE)","v":{"$error":"#N/A"}},"Áreas de educação e saúde","reas de educao e sade",{"$f":"SUMIFS(UdS_data!E:E,UdS_data!B:B,C550,UdS_data!C:C,E550)","v":0}]
[null,"Recanto das Palmeiras - Jardim São Luiz",{"$f":"VLOOKUP(B551,UdS_agrg!D:D,2,FALSE)","v":{"$error":"#N/A"}},"Áreas de exploração mineral","reas de explorao mineral",{"$f":"SUMIFS(UdS_data!E:E,UdS_data!B:B,C551,UdS_data!C:C,E551)","v":0}]
[null,"Recanto das Palmeiras - Jardim São Luiz",{"$f":"VLOOKUP(B552,UdS_agrg!D:D,2,FALSE)","v":{"$error":"#N/A"}},"Áreas de lazer","reas de lazer",{"$f":"SUMIFS(UdS_data!E:E,UdS_data!B:B,C552,UdS_data!C:C,E552)","v":0}]
[null,"Recanto das Palmeiras - Jardim São Luiz",{"$f":"VLOOKUP(B553,UdS_agrg!D:D,2,FALSE)","v":{"$error":"#N/A"}},"Áreas de transportes","reas de transporte",{"$f":"SUMIFS(UdS_data!E:E,UdS_data!B:B,C553,UdS_data!C:C,E553)","v":0}]
[null,"Recanto das Palmeiras - Jardim São Luiz",{"$f":"VLOOKUP(B554,UdS_agrg!D:D,2,FALSE)","v":{"$error":"#N/A"}},"Áreas industriais","reas industriais",{"$f":"SUMIFS(UdS_data!E:E,UdS_data!B:B,C554,UdS_data!C:C,E554)","v":0}]
[null,"Recanto das Palmeiras - Jardim São Luiz",{"$f":"VLOOKUP(B555,UdS_agrg!D:D,2,FALSE)","v":{"$error":"#N/A"}},"Áreas institucionais e de infraestrutura pública","reas institucionais e de infraestrutura pblica",{"$f":"SUMIFS(UdS_data!E:E,UdS_data!B:B,C555,UdS_data!C:C,E555)","v":0}]
[null,"Recanto das Palmeiras - Jardim São Luiz",{"$f":"VLOOKUP(B556,UdS_agrg!D:D,2,FALSE)","v":{"$error":"#N/A"}},"Áreas não edificadas ou subutilizadas","reas no edificadas",{"$f":"SUMIFS(UdS_data!E:E,UdS_data!B:B,C556,UdS_data!C:C,E556)","v":0}]
[null,"Recanto das Palmeiras - Jardim São Luiz",{"$f":"VLOOKUP(B557,UdS_agrg!D:D,2,FALSE)","v":{"$error":"#N/A"}},"Áreas residenciais","reas residenciais",{"$f":"SUMIFS(UdS_data!E:E,UdS_data!B:B,C557,UdS_data!C:C,E557)","v":0}]
[null,"Recanto das Palmeiras - Jardim São Luiz",{"$f":"VLOOKUP(B558,UdS_agrg!D:D,2,FALSE)","v":{"$error":"#N/A"}},"Áreas residenciais com atividades complementares","reas residenciais mixtas",{"$f":"SUMIFS(UdS_data!E:E,UdS_data!B:B,C558,UdS_data!C:C,E558)","v":0}]
[null,"Recanto das Palmeiras - Jardim São Luiz",{"$f":"VLOOKUP(B559,UdS_agrg!D:D,2,FALSE)","v":{"$error":"#N/A"}},"Áreas sujeitas à inundação","reas sujeitas  inundao",{"$f":"SUMIFS(UdS_data!E:E,UdS_data!B:B,C559,UdS_data!C:C,E559)","v":0}]
[null,"Recanto das Palmeiras - Jardim São Luiz",{"$f":"VLOOKUP(B560,UdS_agrg!D:D,2,FALSE)","v":{"$error":"#N/A"}},"Corpos hídricos","Corpos hdricos",{"$f":"SUMIFS(UdS_data!E:E,UdS_data!B:B,C560,UdS_data!C:C,E560)","v":0}]
[null,"Recanto das Palmeiras - Jardim São Luiz",{"$f":"VLOOKUP(B561,UdS_agrg!D:D,2,FALSE)","v":{"$error":"#N/A"}},"Favela","Favela",{"$f":"SUMIFS(UdS_data!E:E,UdS_data!B:B,C561,UdS_data!C:C,E561)","v":0}]
[null,"Recanto das Palmeiras - Jardim São Luiz",{"$f":"VLOOKUP(B562,UdS_agrg!D:D,2,FALSE)","v":{"$error":"#N/A"}},"Unidades de Conservação","Unidades de Conservao",{"$f":"SUMIFS(UdS_data!E:E,UdS_data!B:B,C562,UdS_data!C:C,E562)","v":0}]
[null,{"$f":"A$35","v":"Rio II"},{"$f":"VLOOKUP(B563,UdS_agrg!D:D,2,FALSE)","v":{"$error":"#N/A"}},"Afloramentos rochosos e depósitos sedimentares","Afloramentos rochosos e depsitos sedimentares",{"$f":"SUMIFS(UdS_data!E:E,UdS_data!B:B,C563,UdS_data!C:C,E563)","v":0}]
[null,{"$f":"A$35","v":"Rio II"},{"$f":"VLOOKUP(B564,UdS_agrg!D:D,2,FALSE)","v":{"$error":"#N/A"}},"Áreas agrícolas","reas agrcolas",{"$f":"SUMIFS(UdS_data!E:E,UdS_data!B:B,C564,UdS_data!C:C,E564)","v":0}]
[null,"Rio II",{"$f":"VLOOKUP(B565,UdS_agrg!D:D,2,FALSE)","v":{"$error":"#N/A"}},"Áreas com cobertura vegetal","Areas com cobertura vegetal",{"$f":"SUMIFS(UdS_data!E:E,UdS_data!B:B,C565,UdS_data!C:C,E565)","v":0}]
[null,"Rio II",{"$f":"VLOOKUP(B566,UdS_agrg!D:D,2,FALSE)","v":{"$error":"#N/A"}},"Áreas de comércio e serviços","reas de comrcio e servios",{"$f":"SUMIFS(UdS_data!E:E,UdS_data!B:B,C566,UdS_data!C:C,E566)","v":0}]
[null,"Rio II",{"$f":"VLOOKUP(B567,UdS_agrg!D:D,2,FALSE)","v":{"$error":"#N/A"}},"Áreas de educação e saúde","reas de educao e sade",{"$f":"SUMIFS(UdS_data!E:E,UdS_data!B:B,C567,UdS_data!C:C,E567)","v":0}]
[null,"Rio II",{"$f":"VLOOKUP(B568,UdS_agrg!D:D,2,FALSE)","v":{"$error":"#N/A"}},"Áreas de exploração mineral","reas de explorao mineral",{"$f":"SUMIFS(UdS_data!E:E,UdS_data!B:B,C568,UdS_data!C:C,E568)","v":0}]
[null,"Rio II",{"$f":"VLOOKUP(B569,UdS_agrg!D:D,2,FALSE)","v":{"$error":"#N/A"}},"Áreas de lazer","reas de lazer",{"$f":"SUMIFS(UdS_data!E:E,UdS_data!B:B,C569,UdS_data!C:C,E569)","v":0}]
[null,"Rio II",{"$f":"VLOOKUP(B570,UdS_agrg!D:D,2,FALSE)","v":{"$error":"#N/A"}},"Áreas de transportes","reas de transporte",{"$f":"SUMIFS(UdS_data!E:E,UdS_data!B:B,C570,UdS_data!C:C,E570)","v":0}]
[null,"Rio II",{"$f":"VLOOKUP(B571,UdS_agrg!D:D,2,FALSE)","v":{"$error":"#N/A"}},"Áreas industriais","reas industriais",{"$f":"SUMIFS(UdS_data!E:E,UdS_data!B:B,C571,UdS_data!C:C,E571)","v":0}]
[null,"Rio II",{"$f":"VLOOKUP(B572,UdS_agrg!D:D,2,FALSE)","v":{"$error":"#N/A"}},"Áreas institucionais e de infraestrutura pública","reas institucionais e de infraestrutura pblica",{"$f":"SUMIFS(UdS_data!E:E,UdS_data!B:B,C572,UdS_data!C:C,E572)","v":0}]
[null,"Rio II",{"$f":"VLOOKUP(B573,UdS_agrg!D:D,2,FALSE)","v":{"$error":"#N/A"}},"Áreas não edificadas ou subutilizadas","reas no edificadas",{"$f":"SUMIFS(UdS_data!E:E,UdS_data!B:B,C573,UdS_data!C:C,E573)","v":0}]
[null,"Rio II",{"$f":"VLOOKUP(B574,UdS_agrg!D:D,2,FALSE)","v":{"$error":"#N/A"}},"Áreas residenciais","reas residenciais",{"$f":"SUMIFS(UdS_data!E:E,UdS_data!B:B,C574,UdS_data!C:C,E574)","v":0}]
[null,"Rio II",{"$f":"VLOOKUP(B575,UdS_agrg!D:D,2,FALSE)","v":{"$error":"#N/A"}},"Áreas residenciais com atividades complementares","reas residenciais mixtas",{"$f":"SUMIFS(UdS_data!E:E,UdS_data!B:B,C575,UdS_data!C:C,E575)","v":0}]
[null,"Rio II",{"$f":"VLOOKUP(B576,UdS_agrg!D:D,2,FALSE)","v":{"$error":"#N/A"}},"Áreas sujeitas à inundação","reas sujeitas  inundao",{"$f":"SUMIFS(UdS_data!E:E,UdS_data!B:B,C576,UdS_data!C:C,E576)","v":0}]
[null,"Rio II",{"$f":"VLOOKUP(B577,UdS_agrg!D:D,2,FALSE)","v":{"$error":"#N/A"}},"Corpos hídricos","Corpos hdricos",{"$f":"SUMIFS(UdS_data!E:E,UdS_data!B:B,C577,UdS_data!C:C,E577)","v":0}]
[null,"Rio II",{"$f":"VLOOKUP(B578,UdS_agrg!D:D,2,FALSE)","v":{"$error":"#N/A"}},"Favela","Favela",{"$f":"SUMIFS(UdS_data!E:E,UdS_data!B:B,C578,UdS_data!C:C,E578)","v":0}]
[null,"Rio II",{"$f":"VLOOKUP(B579,UdS_agrg!D:D,2,FALSE)","v":{"$error":"#N/A"}},"Unidades de Conservação","Unidades de Conservao",{"$f":"SUMIFS(UdS_data!E:E,UdS_data!B:B,C579,UdS_data!C:C,E579)","v":0}]
[null,{"$f":"A$36","v":"Santa Luzia"},{"$f":"VLOOKUP(B580,UdS_agrg!D:D,2,FALSE)","v":{"$error":"#N/A"}},"Afloramentos rochosos e depósitos sedimentares","Afloramentos rochosos e depsitos sedimentares",{"$f":"SUMIFS(UdS_data!E:E,UdS_data!B:B,C580,UdS_data!C:C,E580)","v":0}]
[null,{"$f":"A$36","v":"Santa Luzia"},{"$f":"VLOOKUP(B581,UdS_agrg!D:D,2,FALSE)","v":{"$error":"#N/A"}},"Áreas agrícolas","reas agrcolas",{"$f":"SUMIFS(UdS_data!E:E,UdS_data!B:B,C581,UdS_data!C:C,E581)","v":0}]
[null,"Santa Luzia",{"$f":"VLOOKUP(B582,UdS_agrg!D:D,2,FALSE)","v":{"$error":"#N/A"}},"Áreas com cobertura vegetal","Areas com cobertura vegetal",{"$f":"SUMIFS(UdS_data!E:E,UdS_data!B:B,C582,UdS_data!C:C,E582)","v":0}]
[null,"Santa Luzia",{"$f":"VLOOKUP(B583,UdS_agrg!D:D,2,FALSE)","v":{"$error":"#N/A"}},"Áreas de comércio e serviços","reas de comrcio e servios",{"$f":"SUMIFS(UdS_data!E:E,UdS_data!B:B,C583,UdS_data!C:C,E583)","v":0}]
[null,"Santa Luzia",{"$f":"VLOOKUP(B584,UdS_agrg!D:D,2,FALSE)","v":{"$error":"#N/A"}},"Áreas de educação e saúde","reas de educao e sade",{"$f":"SUMIFS(UdS_data!E:E,UdS_data!B:B,C584,UdS_data!C:C,E584)","v":0}]
[null,"Santa Luzia",{"$f":"VLOOKUP(B585,UdS_agrg!D:D,2,FALSE)","v":{"$error":"#N/A"}},"Áreas de exploração mineral","reas de explorao mineral",{"$f":"SUMIFS(UdS_data!E:E,UdS_data!B:B,C585,UdS_data!C:C,E585)","v":0}]
[null,"Santa Luzia",{"$f":"VLOOKUP(B586,UdS_agrg!D:D,2,FALSE)","v":{"$error":"#N/A"}},"Áreas de lazer","reas de lazer",{"$f":"SUMIFS(UdS_data!E:E,UdS_data!B:B,C586,UdS_data!C:C,E586)","v":0}]
[null,"Santa Luzia",{"$f":"VLOOKUP(B587,UdS_agrg!D:D,2,FALSE)","v":{"$error":"#N/A"}},"Áreas de transportes","reas de transporte",{"$f":"SUMIFS(UdS_data!E:E,UdS_data!B:B,C587,UdS_data!C:C,E587)","v":0}]
[null,"Santa Luzia",{"$f":"VLOOKUP(B588,UdS_agrg!D:D,2,FALSE)","v":{"$error":"#N/A"}},"Áreas industriais","reas industriais",{"$f":"SUMIFS(UdS_data!E:E,UdS_data!B:B,C588,UdS_data!C:C,E588)","v":0}]
[null,"Santa Luzia",{"$f":"VLOOKUP(B589,UdS_agrg!D:D,2,FALSE)","v":{"$error":"#N/A"}},"Áreas institucionais e de infraestrutura pública","reas institucionais e de infraestrutura pblica",{"$f":"SUMIFS(UdS_data!E:E,UdS_data!B:B,C589,UdS_data!C:C,E589)","v":0}]
[null,"Santa Luzia",{"$f":"VLOOKUP(B590,UdS_agrg!D:D,2,FALSE)","v":{"$error":"#N/A"}},"Áreas não edificadas ou subutilizadas","reas no edificadas",{"$f":"SUMIFS(UdS_data!E:E,UdS_data!B:B,C590,UdS_data!C:C,E590)","v":0}]
[null,"Santa Luzia",{"$f":"VLOOKUP(B591,UdS_agrg!D:D,2,FALSE)","v":{"$error":"#N/A"}},"Áreas residenciais","reas residenciais",{"$f":"SUMIFS(UdS_data!E:E,UdS_data!B:B,C591,UdS_data!C:C,E591)","v":0}]
[null,"Santa Luzia",{"$f":"VLOOKUP(B592,UdS_agrg!D:D,2,FALSE)","v":{"$error":"#N/A"}},"Áreas residenciais com atividades complementares","reas residenciais mixtas",{"$f":"SUMIFS(UdS_data!E:E,UdS_data!B:B,C592,UdS_data!C:C,E592)","v":0}]
[null,"Santa Luzia",{"$f":"VLOOKUP(B593,UdS_agrg!D:D,2,FALSE)","v":{"$error":"#N/A"}},"Áreas sujeitas à inundação","reas sujeitas  inundao",{"$f":"SUMIFS(UdS_data!E:E,UdS_data!B:B,C593,UdS_data!C:C,E593)","v":0}]
[null,"Santa Luzia",{"$f":"VLOOKUP(B594,UdS_agrg!D:D,2,FALSE)","v":{"$error":"#N/A"}},"Corpos hídricos","Corpos hdricos",{"$f":"SUMIFS(UdS_data!E:E,UdS_data!B:B,C594,UdS_data!C:C,E594)","v":0}]
[null,"Santa Luzia",{"$f":"VLOOKUP(B595,UdS_agrg!D:D,2,FALSE)","v":{"$error":"#N/A"}},"Favela","Favela",{"$f":"SUMIFS(UdS_data!E:E,UdS_data!B:B,C595,UdS_data!C:C,E595)","v":0}]
[null,"Santa Luzia",{"$f":"VLOOKUP(B596,UdS_agrg!D:D,2,FALSE)","v":{"$error":"#N/A"}},"Unidades de Conservação","Unidades de Conservao",{"$f":"SUMIFS(UdS_data!E:E,UdS_data!B:B,C596,UdS_data!C:C,E596)","v":0}]
[null,{"$f":"A$37","v":"Tanque / Terminal Mestre Candeia"},{"$f":"VLOOKUP(B597,UdS_agrg!D:D,2,FALSE)","v":{"$error":"#N/A"}},"Afloramentos rochosos e depósitos sedimentares","Afloramentos rochosos e depsitos sedimentares",{"$f":"SUMIFS(UdS_data!E:E,UdS_data!B:B,C597,UdS_data!C:C,E597)","v":0}]
[null,{"$f":"A$37","v":"Tanque / Terminal Mestre Candeia"},{"$f":"VLOOKUP(B598,UdS_agrg!D:D,2,FALSE)","v":{"$error":"#N/A"}},"Áreas agrícolas","reas agrcolas",{"$f":"SUMIFS(UdS_data!E:E,UdS_data!B:B,C598,UdS_data!C:C,E598)","v":0}]
[null,"Tanque / Terminal Mestre Candeia",{"$f":"VLOOKUP(B599,UdS_agrg!D:D,2,FALSE)","v":{"$error":"#N/A"}},"Áreas com cobertura vegetal","Areas com cobertura vegetal",{"$f":"SUMIFS(UdS_data!E:E,UdS_data!B:B,C599,UdS_data!C:C,E599)","v":0}]
[null,"Tanque / Terminal Mestre Candeia",{"$f":"VLOOKUP(B600,UdS_agrg!D:D,2,FALSE)","v":{"$error":"#N/A"}},"Áreas de comércio e serviços","reas de comrcio e servios",{"$f":"SUMIFS(UdS_data!E:E,UdS_data!B:B,C600,UdS_data!C:C,E600)","v":0}]
[null,"Tanque / Terminal Mestre Candeia",{"$f":"VLOOKUP(B601,UdS_agrg!D:D,2,FALSE)","v":{"$error":"#N/A"}},"Áreas de educação e saúde","reas de educao e sade",{"$f":"SUMIFS(UdS_data!E:E,UdS_data!B:B,C601,UdS_data!C:C,E601)","v":0}]
[null,"Tanque / Terminal Mestre Candeia",{"$f":"VLOOKUP(B602,UdS_agrg!D:D,2,FALSE)","v":{"$error":"#N/A"}},"Áreas de exploração mineral","reas de explorao mineral",{"$f":"SUMIFS(UdS_data!E:E,UdS_data!B:B,C602,UdS_data!C:C,E602)","v":0}]
[null,"Tanque / Terminal Mestre Candeia",{"$f":"VLOOKUP(B603,UdS_agrg!D:D,2,FALSE)","v":{"$error":"#N/A"}},"Áreas de lazer","reas de lazer",{"$f":"SUMIFS(UdS_data!E:E,UdS_data!B:B,C603,UdS_data!C:C,E603)","v":0}]
[null,"Tanque / Terminal Mestre Candeia",{"$f":"VLOOKUP(B604,UdS_agrg!D:D,2,FALSE)","v":{"$error":"#N/A"}},"Áreas de transportes","reas de transporte",{"$f":"SUMIFS(UdS_data!E:E,UdS_data!B:B,C604,UdS_data!C:C,E604)","v":0}]
[null,"Tanque / Terminal Mestre Candeia",{"$f":"VLOOKUP(B605,UdS_agrg!D:D,2,FALSE)","v":{"$error":"#N/A"}},"Áreas industriais","reas industriais",{"$f":"SUMIFS(UdS_data!E:E,UdS_data!B:B,C605,UdS_data!C:C,E605)","v":0}]
[null,"Tanque / Terminal Mestre Candeia",{"$f":"VLOOKUP(B606,UdS_agrg!D:D,2,FALSE)","v":{"$error":"#N/A"}},"Áreas institucionais e de infraestrutura pública","reas institucionais e de infraestrutura pblica",{"$f":"SUMIFS(UdS_data!E:E,UdS_data!B:B,C606,UdS_data!C:C,E606)","v":0}]
[null,"Tanque / Terminal Mestre Candeia",{"$f":"VLOOKUP(B607,UdS_agrg!D:D,2,FALSE)","v":{"$error":"#N/A"}},"Áreas não edificadas ou subutilizadas","reas no edificadas",{"$f":"SUMIFS(UdS_data!E:E,UdS_data!B:B,C607,UdS_data!C:C,E607)","v":0}]
[null,"Tanque / Terminal Mestre Candeia",{"$f":"VLOOKUP(B608,UdS_agrg!D:D,2,FALSE)","v":{"$error":"#N/A"}},"Áreas residenciais","reas residenciais",{"$f":"SUMIFS(UdS_data!E:E,UdS_data!B:B,C608,UdS_data!C:C,E608)","v":0}]
[null,"Tanque / Terminal Mestre Candeia",{"$f":"VLOOKUP(B609,UdS_agrg!D:D,2,FALSE)","v":{"$error":"#N/A"}},"Áreas residenciais com atividades complementares","reas residenciais mixtas",{"$f":"SUMIFS(UdS_data!E:E,UdS_data!B:B,C609,UdS_data!C:C,E609)","v":0}]
[null,"Tanque / Terminal Mestre Candeia",{"$f":"VLOOKUP(B610,UdS_agrg!D:D,2,FALSE)","v":{"$error":"#N/A"}},"Áreas sujeitas à inundação","reas sujeitas  inundao",{"$f":"SUMIFS(UdS_data!E:E,UdS_data!B:B,C610,UdS_data!C:C,E610)","v":0}]
[null,"Tanque / Terminal Mestre Candeia",{"$f":"VLOOKUP(B611,UdS_agrg!D:D,2,FALSE)","v":{"$error":"#N/A"}},"Corpos hídricos","Corpos hdricos",{"$f":"SUMIFS(UdS_data!E:E,UdS_data!B:B,C611,UdS_data!C:C,E611)","v":0}]
[null,"Tanque / Terminal Mestre Candeia",{"$f":"VLOOKUP(B612,UdS_agrg!D:D,2,FALSE)","v":{"$error":"#N/A"}},"Favela","Favela",{"$f":"SUMIFS(UdS_data!E:E,UdS_data!B:B,C612,UdS_data!C:C,E612)","v":0}]
[null,"Tanque / Terminal Mestre Candeia",{"$f":"VLOOKUP(B613,UdS_agrg!D:D,2,FALSE)","v":{"$error":"#N/A"}},"Unidades de Conservação","Unidades de Conservao",{"$f":"SUMIFS(UdS_data!E:E,UdS_data!B:B,C613,UdS_data!C:C,E613)","v":0}]
[null,{"$f":"A$38","v":"Taquara"},{"$f":"VLOOKUP(B614,UdS_agrg!D:D,2,FALSE)","v":{"$error":"#N/A"}},"Afloramentos rochosos e depósitos sedimentares","Afloramentos rochosos e depsitos sedimentares",{"$f":"SUMIFS(UdS_data!E:E,UdS_data!B:B,C614,UdS_data!C:C,E614)","v":0}]
[null,{"$f":"A$38","v":"Taquara"},{"$f":"VLOOKUP(B615,UdS_agrg!D:D,2,FALSE)","v":{"$error":"#N/A"}},"Áreas agrícolas","reas agrcolas",{"$f":"SUMIFS(UdS_data!E:E,UdS_data!B:B,C615,UdS_data!C:C,E615)","v":0}]
[null,"Taquara",{"$f":"VLOOKUP(B616,UdS_agrg!D:D,2,FALSE)","v":{"$error":"#N/A"}},"Áreas com cobertura vegetal","Areas com cobertura vegetal",{"$f":"SUMIFS(UdS_data!E:E,UdS_data!B:B,C616,UdS_data!C:C,E616)","v":0}]
[null,"Taquara",{"$f":"VLOOKUP(B617,UdS_agrg!D:D,2,FALSE)","v":{"$error":"#N/A"}},"Áreas de comércio e serviços","reas de comrcio e servios",{"$f":"SUMIFS(UdS_data!E:E,UdS_data!B:B,C617,UdS_data!C:C,E617)","v":0}]
[null,"Taquara",{"$f":"VLOOKUP(B618,UdS_agrg!D:D,2,FALSE)","v":{"$error":"#N/A"}},"Áreas de educação e saúde","reas de educao e sade",{"$f":"SUMIFS(UdS_data!E:E,UdS_data!B:B,C618,UdS_data!C:C,E618)","v":0}]
[null,"Taquara",{"$f":"VLOOKUP(B619,UdS_agrg!D:D,2,FALSE)","v":{"$error":"#N/A"}},"Áreas de exploração mineral","reas de explorao mineral",{"$f":"SUMIFS(UdS_data!E:E,UdS_data!B:B,C619,UdS_data!C:C,E619)","v":0}]
[null,"Taquara",{"$f":"VLOOKUP(B620,UdS_agrg!D:D,2,FALSE)","v":{"$error":"#N/A"}},"Áreas de lazer","reas de lazer",{"$f":"SUMIFS(UdS_data!E:E,UdS_data!B:B,C620,UdS_data!C:C,E620)","v":0}]
[null,"Taquara",{"$f":"VLOOKUP(B621,UdS_agrg!D:D,2,FALSE)","v":{"$error":"#N/A"}},"Áreas de transportes","reas de transporte",{"$f":"SUMIFS(UdS_data!E:E,UdS_data!B:B,C621,UdS_data!C:C,E621)","v":0}]
[null,"Taquara",{"$f":"VLOOKUP(B622,UdS_agrg!D:D,2,FALSE)","v":{"$error":"#N/A"}},"Áreas industriais","reas industriais",{"$f":"SUMIFS(UdS_data!E:E,UdS_data!B:B,C622,UdS_data!C:C,E622)","v":0}]
[null,"Taquara",{"$f":"VLOOKUP(B623,UdS_agrg!D:D,2,FALSE)","v":{"$error":"#N/A"}},"Áreas institucionais e de infraestrutura pública","reas institucionais e de infraestrutura pblica",{"$f":"SUMIFS(UdS_data!E:E,UdS_data!B:B,C623,UdS_data!C:C,E623)","v":0}]
[null,"Taquara",{"$f":"VLOOKUP(B624,UdS_agrg!D:D,2,FALSE)","v":{"$error":"#N/A"}},"Áreas não edificadas ou subutilizadas","reas no edificadas",{"$f":"SUMIFS(UdS_data!E:E,UdS_data!B:B,C624,UdS_data!C:C,E624)","v":0}]
[null,"Taquara",{"$f":"VLOOKUP(B625,UdS_agrg!D:D,2,FALSE)","v":{"$error":"#N/A"}},"Áreas residenciais","reas residenciais",{"$f":"SUMIFS(UdS_data!E:E,UdS_data!B:B,C625,UdS_data!C:C,E625)","v":0}]
[null,"Taquara",{"$f":"VLOOKUP(B626,UdS_agrg!D:D,2,FALSE)","v":{"$error":"#N/A"}},"Áreas residenciais com atividades complementares","reas residenciais mixtas",{"$f":"SUMIFS(UdS_data!E:E,UdS_data!B:B,C626,UdS_data!C:C,E626)","v":0}]
[null,"Taquara",{"$f":"VLOOKUP(B627,UdS_agrg!D:D,2,FALSE)","v":{"$error":"#N/A"}},"Áreas sujeitas à inundação","reas sujeitas  inundao",{"$f":"SUMIFS(UdS_data!E:E,UdS_data!B:B,C627,UdS_data!C:C,E627)","v":0}]
[null,"Taquara",{"$f":"VLOOKUP(B628,UdS_agrg!D:D,2,FALSE)","v":{"$error":"#N/A"}},"Corpos hídricos","Corpos hdricos",{"$f":"SUMIFS(UdS_data!E:E,UdS_data!B:B,C628,UdS_data!C:C,E628)","v":0}]
[null,"Taquara",{"$f":"VLOOKUP(B629,UdS_agrg!D:D,2,FALSE)","v":{"$error":"#N/A"}},"Favela","Favela",{"$f":"SUMIFS(UdS_data!E:E,UdS_data!B:B,C629,UdS_data!C:C,E629)","v":0}]
[null,"Taquara",{"$f":"VLOOKUP(B630,UdS_agrg!D:D,2,FALSE)","v":{"$error":"#N/A"}},"Unidades de Conservação","Unidades de Conservao",{"$f":"SUMIFS(UdS_data!E:E,UdS_data!B:B,C630,UdS_data!C:C,E630)","v":0}]
[null,{"$f":"A$39","v":"Terminal Alvorada TCA"},{"$f":"VLOOKUP(B631,UdS_agrg!D:D,2,FALSE)","v":{"$error":"#N/A"}},"Afloramentos rochosos e depósitos sedimentares","Afloramentos rochosos e depsitos sedimentares",{"$f":"SUMIFS(UdS_data!E:E,UdS_data!B:B,C631,UdS_data!C:C,E631)","v":0}]
[null,{"$f":"A$39","v":"Terminal Alvorada TCA"},{"$f":"VLOOKUP(B632,UdS_agrg!D:D,2,FALSE)","v":{"$error":"#N/A"}},"Áreas agrícolas","reas agrcolas",{"$f":"SUMIFS(UdS_data!E:E,UdS_data!B:B,C632,UdS_data!C:C,E632)","v":0}]
[null,"Terminal Alvorada TCA",{"$f":"VLOOKUP(B633,UdS_agrg!D:D,2,FALSE)","v":{"$error":"#N/A"}},"Áreas com cobertura vegetal","Areas com cobertura vegetal",{"$f":"SUMIFS(UdS_data!E:E,UdS_data!B:B,C633,UdS_data!C:C,E633)","v":0}]
[null,"Terminal Alvorada TCA",{"$f":"VLOOKUP(B634,UdS_agrg!D:D,2,FALSE)","v":{"$error":"#N/A"}},"Áreas de comércio e serviços","reas de comrcio e servios",{"$f":"SUMIFS(UdS_data!E:E,UdS_data!B:B,C634,UdS_data!C:C,E634)","v":0}]
[null,"Terminal Alvorada TCA",{"$f":"VLOOKUP(B635,UdS_agrg!D:D,2,FALSE)","v":{"$error":"#N/A"}},"Áreas de educação e saúde","reas de educao e sade",{"$f":"SUMIFS(UdS_data!E:E,UdS_data!B:B,C635,UdS_data!C:C,E635)","v":0}]
[null,"Terminal Alvorada TCA",{"$f":"VLOOKUP(B636,UdS_agrg!D:D,2,FALSE)","v":{"$error":"#N/A"}},"Áreas de exploração mineral","reas de explorao mineral",{"$f":"SUMIFS(UdS_data!E:E,UdS_data!B:B,C636,UdS_data!C:C,E636)","v":0}]
[null,"Terminal Alvorada TCA",{"$f":"VLOOKUP(B637,UdS_agrg!D:D,2,FALSE)","v":{"$error":"#N/A"}},"Áreas de lazer","reas de lazer",{"$f":"SUMIFS(UdS_data!E:E,UdS_data!B:B,C637,UdS_data!C:C,E637)","v":0}]
[null,"Terminal Alvorada TCA",{"$f":"VLOOKUP(B638,UdS_agrg!D:D,2,FALSE)","v":{"$error":"#N/A"}},"Áreas de transportes","reas de transporte",{"$f":"SUMIFS(UdS_data!E:E,UdS_data!B:B,C638,UdS_data!C:C,E638)","v":0}]
[null,"Terminal Alvorada TCA",{"$f":"VLOOKUP(B639,UdS_agrg!D:D,2,FALSE)","v":{"$error":"#N/A"}},"Áreas industriais","reas industriais",{"$f":"SUMIFS(UdS_data!E:E,UdS_data!B:B,C639,UdS_data!C:C,E639)","v":0}]
[null,"Terminal Alvorada TCA",{"$f":"VLOOKUP(B640,UdS_agrg!D:D,2,FALSE)","v":{"$error":"#N/A"}},"Áreas institucionais e de infraestrutura pública","reas institucionais e de infraestrutura pblica",{"$f":"SUMIFS(UdS_data!E:E,UdS_data!B:B,C640,UdS_data!C:C,E640)","v":0}]
[null,"Terminal Alvorada TCA",{"$f":"VLOOKUP(B641,UdS_agrg!D:D,2,FALSE)","v":{"$error":"#N/A"}},"Áreas não edificadas ou subutilizadas","reas no edificadas",{"$f":"SUMIFS(UdS_data!E:E,UdS_data!B:B,C641,UdS_data!C:C,E641)","v":0}]
[null,"Terminal Alvorada TCA",{"$f":"VLOOKUP(B642,UdS_agrg!D:D,2,FALSE)","v":{"$error":"#N/A"}},"Áreas residenciais","reas residenciais",{"$f":"SUMIFS(UdS_data!E:E,UdS_data!B:B,C642,UdS_data!C:C,E642)","v":0}]
[null,"Terminal Alvorada TCA",{"$f":"VLOOKUP(B643,UdS_agrg!D:D,2,FALSE)","v":{"$error":"#N/A"}},"Áreas residenciais com atividades complementares","reas residenciais mixtas",{"$f":"SUMIFS(UdS_data!E:E,UdS_data!B:B,C643,UdS_data!C:C,E643)","v":0}]
[null,"Terminal Alvorada TCA",{"$f":"VLOOKUP(B644,UdS_agrg!D:D,2,FALSE)","v":{"$error":"#N/A"}},"Áreas sujeitas à inundação","reas sujeitas  inundao",{"$f":"SUMIFS(UdS_data!E:E,UdS_data!B:B,C644,UdS_data!C:C,E644)","v":0}]
[null,"Terminal Alvorada TCA",{"$f":"VLOOKUP(B645,UdS_agrg!D:D,2,FALSE)","v":{"$error":"#N/A"}},"Corpos hídricos","Corpos hdricos",{"$f":"SUMIFS(UdS_data!E:E,UdS_data!B:B,C645,UdS_data!C:C,E645)","v":0}]
[null,"Terminal Alvorada TCA",{"$f":"VLOOKUP(B646,UdS_agrg!D:D,2,FALSE)","v":{"$error":"#N/A"}},"Favela","Favela",{"$f":"SUMIFS(UdS_data!E:E,UdS_data!B:B,C646,UdS_data!C:C,E646)","v":0}]
[null,"Terminal Alvorada TCA",{"$f":"VLOOKUP(B647,UdS_agrg!D:D,2,FALSE)","v":{"$error":"#N/A"}},"Unidades de Conservação","Unidades de Conservao",{"$f":"SUMIFS(UdS_data!E:E,UdS_data!B:B,C647,UdS_data!C:C,E647)","v":0}]
[null,{"$f":"A$40","v":"Terminal Fundão - Aroldo Melodia"},{"$f":"VLOOKUP(B648,UdS_agrg!D:D,2,FALSE)","v":{"$error":"#N/A"}},"Afloramentos rochosos e depósitos sedimentares","Afloramentos rochosos e depsitos sedimentares",{"$f":"SUMIFS(UdS_data!E:E,UdS_data!B:B,C648,UdS_data!C:C,E648)","v":0}]
[null,{"$f":"A$40","v":"Terminal Fundão - Aroldo Melodia"},{"$f":"VLOOKUP(B649,UdS_agrg!D:D,2,FALSE)","v":{"$error":"#N/A"}},"Áreas agrícolas","reas agrcolas",{"$f":"SUMIFS(UdS_data!E:E,UdS_data!B:B,C649,UdS_data!C:C,E649)","v":0}]
[null,"Terminal Fundão - Aroldo Melodia",{"$f":"VLOOKUP(B650,UdS_agrg!D:D,2,FALSE)","v":{"$error":"#N/A"}},"Áreas com cobertura vegetal","Areas com cobertura vegetal",{"$f":"SUMIFS(UdS_data!E:E,UdS_data!B:B,C650,UdS_data!C:C,E650)","v":0}]
[null,"Terminal Fundão - Aroldo Melodia",{"$f":"VLOOKUP(B651,UdS_agrg!D:D,2,FALSE)","v":{"$error":"#N/A"}},"Áreas de comércio e serviços","reas de comrcio e servios",{"$f":"SUMIFS(UdS_data!E:E,UdS_data!B:B,C651,UdS_data!C:C,E651)","v":0}]
[null,"Terminal Fundão - Aroldo Melodia",{"$f":"VLOOKUP(B652,UdS_agrg!D:D,2,FALSE)","v":{"$error":"#N/A"}},"Áreas de educação e saúde","reas de educao e sade",{"$f":"SUMIFS(UdS_data!E:E,UdS_data!B:B,C652,UdS_data!C:C,E652)","v":0}]
[null,"Terminal Fundão - Aroldo Melodia",{"$f":"VLOOKUP(B653,UdS_agrg!D:D,2,FALSE)","v":{"$error":"#N/A"}},"Áreas de exploração mineral","reas de explorao mineral",{"$f":"SUMIFS(UdS_data!E:E,UdS_data!B:B,C653,UdS_data!C:C,E653)","v":0}]
[null,"Terminal Fundão - Aroldo Melodia",{"$f":"VLOOKUP(B654,UdS_agrg!D:D,2,FALSE)","v":{"$error":"#N/A"}},"Áreas de lazer","reas de lazer",{"$f":"SUMIFS(UdS_data!E:E,UdS_data!B:B,C654,UdS_data!C:C,E654)","v":0}]
[null,"Terminal Fundão - Aroldo Melodia",{"$f":"VLOOKUP(B655,UdS_agrg!D:D,2,FALSE)","v":{"$error":"#N/A"}},"Áreas de transportes","reas de transporte",{"$f":"SUMIFS(UdS_data!E:E,UdS_data!B:B,C655,UdS_data!C:C,E655)","v":0}]
[null,"Terminal Fundão - Aroldo Melodia",{"$f":"VLOOKUP(B656,UdS_agrg!D:D,2,FALSE)","v":{"$error":"#N/A"}},"Áreas industriais","reas industriais",{"$f":"SUMIFS(UdS_data!E:E,UdS_data!B:B,C656,UdS_data!C:C,E656)","v":0}]
[null,"Terminal Fundão - Aroldo Melodia",{"$f":"VLOOKUP(B657,UdS_agrg!D:D,2,FALSE)","v":{"$error":"#N/A"}},"Áreas institucionais e de infraestrutura pública","reas institucionais e de infraestrutura pblica",{"$f":"SUMIFS(UdS_data!E:E,UdS_data!B:B,C657,UdS_data!C:C,E657)","v":0}]
[null,"Terminal Fundão - Aroldo Melodia",{"$f":"VLOOKUP(B658,UdS_agrg!D:D,2,FALSE)","v":{"$error":"#N/A"}},"Áreas não edificadas ou subutilizadas","reas no edificadas",{"$f":"SUMIFS(UdS_data!E:E,UdS_data!B:B,C658,UdS_data!C:C,E658)","v":0}]
[null,"Terminal Fundão - Aroldo Melodia",{"$f":"VLOOKUP(B659,UdS_agrg!D:D,2,FALSE)","v":{"$error":"#N/A"}},"Áreas residenciais","reas residenciais",{"$f":"SUMIFS(UdS_data!E:E,UdS_data!B:B,C659,UdS_data!C:C,E659)","v":0}]
[null,"Terminal Fundão - Aroldo Melodia",{"$f":"VLOOKUP(B660,UdS_agrg!D:D,2,FALSE)","v":{"$error":"#N/A"}},"Áreas residenciais com atividades complementares","reas residenciais mixtas",{"$f":"SUMIFS(UdS_data!E:E,UdS_data!B:B,C660,UdS_data!C:C,E660)","v":0}]
[null,"Terminal Fundão - Aroldo Melodia",{"$f":"VLOOKUP(B661,UdS_agrg!D:D,2,FALSE)","v":{"$error":"#N/A"}},"Áreas sujeitas à inundação","reas sujeitas  inundao",{"$f":"SUMIFS(UdS_data!E:E,UdS_data!B:B,C661,UdS_data!C:C,E661)","v":0}]
[null,"Terminal Fundão - Aroldo Melodia",{"$f":"VLOOKUP(B662,UdS_agrg!D:D,2,FALSE)","v":{"$error":"#N/A"}},"Corpos hídricos","Corpos hdricos",{"$f":"SUMIFS(UdS_data!E:E,UdS_data!B:B,C662,UdS_data!C:C,E662)","v":0}]
[null,"Terminal Fundão - Aroldo Melodia",{"$f":"VLOOKUP(B663,UdS_agrg!D:D,2,FALSE)","v":{"$error":"#N/A"}},"Favela","Favela",{"$f":"SUMIFS(UdS_data!E:E,UdS_data!B:B,C663,UdS_data!C:C,E663)","v":0}]
[null,"Terminal Fundão - Aroldo Melodia",{"$f":"VLOOKUP(B664,UdS_agrg!D:D,2,FALSE)","v":{"$error":"#N/A"}},"Unidades de Conservação","Unidades de Conservao",{"$f":"SUMIFS(UdS_data!E:E,UdS_data!B:B,C664,UdS_data!C:C,E664)","v":0}]
[null,{"$f":"A$41","v":"Vaz Lobo"},{"$f":"VLOOKUP(B665,UdS_agrg!D:D,2,FALSE)","v":{"$error":"#N/A"}},"Afloramentos rochosos e depósitos sedimentares","Afloramentos rochosos e depsitos sedimentares",{"$f":"SUMIFS(UdS_data!E:E,UdS_data!B:B,C665,UdS_data!C:C,E665)","v":0}]
[null,{"$f":"A$41","v":"Vaz Lobo"},{"$f":"VLOOKUP(B666,UdS_agrg!D:D,2,FALSE)","v":{"$error":"#N/A"}},"Áreas agrícolas","reas agrcolas",{"$f":"SUMIFS(UdS_data!E:E,UdS_data!B:B,C666,UdS_data!C:C,E666)","v":0}]
[null,"Vaz Lobo",{"$f":"VLOOKUP(B667,UdS_agrg!D:D,2,FALSE)","v":{"$error":"#N/A"}},"Áreas com cobertura vegetal","Areas com cobertura vegetal",{"$f":"SUMIFS(UdS_data!E:E,UdS_data!B:B,C667,UdS_data!C:C,E667)","v":0}]
[null,"Vaz Lobo",{"$f":"VLOOKUP(B668,UdS_agrg!D:D,2,FALSE)","v":{"$error":"#N/A"}},"Áreas de comércio e serviços","reas de comrcio e servios",{"$f":"SUMIFS(UdS_data!E:E,UdS_data!B:B,C668,UdS_data!C:C,E668)","v":0}]
[null,"Vaz Lobo",{"$f":"VLOOKUP(B669,UdS_agrg!D:D,2,FALSE)","v":{"$error":"#N/A"}},"Áreas de educação e saúde","reas de educao e sade",{"$f":"SUMIFS(UdS_data!E:E,UdS_data!B:B,C669,UdS_data!C:C,E669)","v":0}]
[null,"Vaz Lobo",{"$f":"VLOOKUP(B670,UdS_agrg!D:D,2,FALSE)","v":{"$error":"#N/A"}},"Áreas de exploração mineral","reas de explorao mineral",{"$f":"SUMIFS(UdS_data!E:E,UdS_data!B:B,C670,UdS_data!C:C,E670)","v":0}]
[null,"Vaz Lobo",{"$f":"VLOOKUP(B671,UdS_agrg!D:D,2,FALSE)","v":{"$error":"#N/A"}},"Áreas de lazer","reas de lazer",{"$f":"SUMIFS(UdS_data!E:E,UdS_data!B:B,C671,UdS_data!C:C,E671)","v":0}]
[null,"Vaz Lobo",{"$f":"VLOOKUP(B672,UdS_agrg!D:D,2,FALSE)","v":{"$error":"#N/A"}},"Áreas de transportes","reas de transporte",{"$f":"SUMIFS(UdS_data!E:E,UdS_data!B:B,C672,UdS_data!C:C,E672)","v":0}]
[null,"Vaz Lobo",{"$f":"VLOOKUP(B673,UdS_agrg!D:D,2,FALSE)","v":{"$error":"#N/A"}},"Áreas industriais","reas industriais",{"$f":"SUMIFS(UdS_data!E:E,UdS_data!B:B,C673,UdS_data!C:C,E673)","v":0}]
[null,"Vaz Lobo",{"$f":"VLOOKUP(B674,UdS_agrg!D:D,2,FALSE)","v":{"$error":"#N/A"}},"Áreas institucionais e de infraestrutura pública","reas institucionais e de infraestrutura pblica",{"$f":"SUMIFS(UdS_data!E:E,UdS_data!B:B,C674,UdS_data!C:C,E674)","v":0}]
[null,"Vaz Lobo",{"$f":"VLOOKUP(B675,UdS_agrg!D:D,2,FALSE)","v":{"$error":"#N/A"}},"Áreas não edificadas ou subutilizadas","reas no edificadas",{"$f":"SUMIFS(UdS_data!E:E,UdS_data!B:B,C675,UdS_data!C:C,E675)","v":0}]
[null,"Vaz Lobo",{"$f":"VLOOKUP(B676,UdS_agrg!D:D,2,FALSE)","v":{"$error":"#N/A"}},"Áreas residenciais","reas residenciais",{"$f":"SUMIFS(UdS_data!E:E,UdS_data!B:B,C676,UdS_data!C:C,E676)","v":0}]
[null,"Vaz Lobo",{"$f":"VLOOKUP(B677,UdS_agrg!D:D,2,FALSE)","v":{"$error":"#N/A"}},"Áreas residenciais com atividades complementares","reas residenciais mixtas",{"$f":"SUMIFS(UdS_data!E:E,UdS_data!B:B,C677,UdS_data!C:C,E677)","v":0}]
[null,"Vaz Lobo",{"$f":"VLOOKUP(B678,UdS_agrg!D:D,2,FALSE)","v":{"$error":"#N/A"}},"Áreas sujeitas à inundação","reas sujeitas  inundao",{"$f":"SUMIFS(UdS_data!E:E,UdS_data!B:B,C678,UdS_data!C:C,E678)","v":0}]
[null,"Vaz Lobo",{"$f":"VLOOKUP(B679,UdS_agrg!D:D,2,FALSE)","v":{"$error":"#N/A"}},"Corpos hídricos","Corpos hdricos",{"$f":"SUMIFS(UdS_data!E:E,UdS_data!B:B,C679,UdS_data!C:C,E679)","v":0}]
[null,"Vaz Lobo",{"$f":"VLOOKUP(B680,UdS_agrg!D:D,2,FALSE)","v":{"$error":"#N/A"}},"Favela","Favela",{"$f":"SUMIFS(UdS_data!E:E,UdS_data!B:B,C680,UdS_data!C:C,E680)","v":0}]
[null,"Vaz Lobo",{"$f":"VLOOKUP(B681,UdS_agrg!D:D,2,FALSE)","v":{"$error":"#N/A"}},"Unidades de Conservação","Unidades de Conservao",{"$f":"SUMIFS(UdS_data!E:E,UdS_data!B:B,C681,UdS_data!C:C,E681)","v":0}]
[null,{"$f":"A$42","v":"Via Parque"},{"$f":"VLOOKUP(B682,UdS_agrg!D:D,2,FALSE)","v":{"$error":"#N/A"}},"Afloramentos rochosos e depósitos sedimentares","Afloramentos rochosos e depsitos sedimentares",{"$f":"SUMIFS(UdS_data!E:E,UdS_data!B:B,C682,UdS_data!C:C,E682)","v":0}]
[null,{"$f":"A$42","v":"Via Parque"},{"$f":"VLOOKUP(B683,UdS_agrg!D:D,2,FALSE)","v":{"$error":"#N/A"}},"Áreas agrícolas","reas agrcolas",{"$f":"SUMIFS(UdS_data!E:E,UdS_data!B:B,C683,UdS_data!C:C,E683)","v":0}]
[null,"Via Parque",{"$f":"VLOOKUP(B684,UdS_agrg!D:D,2,FALSE)","v":{"$error":"#N/A"}},"Áreas com cobertura vegetal","Areas com cobertura vegetal",{"$f":"SUMIFS(UdS_data!E:E,UdS_data!B:B,C684,UdS_data!C:C,E684)","v":0}]
[null,"Via Parque",{"$f":"VLOOKUP(B685,UdS_agrg!D:D,2,FALSE)","v":{"$error":"#N/A"}},"Áreas de comércio e serviços","reas de comrcio e servios",{"$f":"SUMIFS(UdS_data!E:E,UdS_data!B:B,C685,UdS_data!C:C,E685)","v":0}]
[null,"Via Parque",{"$f":"VLOOKUP(B686,UdS_agrg!D:D,2,FALSE)","v":{"$error":"#N/A"}},"Áreas de educação e saúde","reas de educao e sade",{"$f":"SUMIFS(UdS_data!E:E,UdS_data!B:B,C686,UdS_data!C:C,E686)","v":0}]
[null,"Via Parque",{"$f":"VLOOKUP(B687,UdS_agrg!D:D,2,FALSE)","v":{"$error":"#N/A"}},"Áreas de exploração mineral","reas de explorao mineral",{"$f":"SUMIFS(UdS_data!E:E,UdS_data!B:B,C687,UdS_data!C:C,E687)","v":0}]
[null,"Via Parque",{"$f":"VLOOKUP(B688,UdS_agrg!D:D,2,FALSE)","v":{"$error":"#N/A"}},"Áreas de lazer","reas de lazer",{"$f":"SUMIFS(UdS_data!E:E,UdS_data!B:B,C688,UdS_data!C:C,E688)","v":0}]
[null,"Via Parque",{"$f":"VLOOKUP(B689,UdS_agrg!D:D,2,FALSE)","v":{"$error":"#N/A"}},"Áreas de transportes","reas de transporte",{"$f":"SUMIFS(UdS_data!E:E,UdS_data!B:B,C689,UdS_data!C:C,E689)","v":0}]
[null,"Via Parque",{"$f":"VLOOKUP(B690,UdS_agrg!D:D,2,FALSE)","v":{"$error":"#N/A"}},"Áreas industriais","reas industriais",{"$f":"SUMIFS(UdS_data!E:E,UdS_data!B:B,C690,UdS_data!C:C,E690)","v":0}]
[null,"Via Parque",{"$f":"VLOOKUP(B691,UdS_agrg!D:D,2,FALSE)","v":{"$error":"#N/A"}},"Áreas institucionais e de infraestrutura pública","reas institucionais e de infraestrutura pblica",{"$f":"SUMIFS(UdS_data!E:E,UdS_data!B:B,C691,UdS_data!C:C,E691)","v":0}]
[null,"Via Parque",{"$f":"VLOOKUP(B692,UdS_agrg!D:D,2,FALSE)","v":{"$error":"#N/A"}},"Áreas não edificadas ou subutilizadas","reas no edificadas",{"$f":"SUMIFS(UdS_data!E:E,UdS_data!B:B,C692,UdS_data!C:C,E692)","v":0}]
[null,"Via Parque",{"$f":"VLOOKUP(B693,UdS_agrg!D:D,2,FALSE)","v":{"$error":"#N/A"}},"Áreas residenciais","reas residenciais",{"$f":"SUMIFS(UdS_data!E:E,UdS_data!B:B,C693,UdS_data!C:C,E693)","v":0}]
[null,"Via Parque",{"$f":"VLOOKUP(B694,UdS_agrg!D:D,2,FALSE)","v":{"$error":"#N/A"}},"Áreas residenciais com atividades complementares","reas residenciais mixtas",{"$f":"SUMIFS(UdS_data!E:E,UdS_data!B:B,C694,UdS_data!C:C,E694)","v":0}]
[null,"Via Parque",{"$f":"VLOOKUP(B695,UdS_agrg!D:D,2,FALSE)","v":{"$error":"#N/A"}},"Áreas sujeitas à inundação","reas sujeitas  inundao",{"$f":"SUMIFS(UdS_data!E:E,UdS_data!B:B,C695,UdS_data!C:C,E695)","v":0}]
[null,"Via Parque",{"$f":"VLOOKUP(B696,UdS_agrg!D:D,2,FALSE)","v":{"$error":"#N/A"}},"Corpos hídricos","Corpos hdricos",{"$f":"SUMIFS(UdS_data!E:E,UdS_data!B:B,C696,UdS_data!C:C,E696)","v":0}]
[null,"Via Parque",{"$f":"VLOOKUP(B697,UdS_agrg!D:D,2,FALSE)","v":{"$error":"#N/A"}},"Favela","Favela",{"$f":"SUMIFS(UdS_data!E:E,UdS_data!B:B,C697,UdS_data!C:C,E697)","v":0}]
[null,"Via Parque",{"$f":"VLOOKUP(B698,UdS_agrg!D:D,2,FALSE)","v":{"$error":"#N/A"}},"Unidades de Conservação","Unidades de Conservao",{"$f":"SUMIFS(UdS_data!E:E,UdS_data!B:B,C698,UdS_data!C:C,E698)","v":0}]
[null,{"$f":"A$43","v":"Vicente de Carvalho"},{"$f":"VLOOKUP(B699,UdS_agrg!D:D,2,FALSE)","v":{"$error":"#N/A"}},"Afloramentos rochosos e depósitos sedimentares","Afloramentos rochosos e depsitos sedimentares",{"$f":"SUMIFS(UdS_data!E:E,UdS_data!B:B,C699,UdS_data!C:C,E699)","v":0}]
[null,{"$f":"A$43","v":"Vicente de Carvalho"},{"$f":"VLOOKUP(B700,UdS_agrg!D:D,2,FALSE)","v":{"$error":"#N/A"}},"Áreas agrícolas","reas agrcolas",{"$f":"SUMIFS(UdS_data!E:E,UdS_data!B:B,C700,UdS_data!C:C,E700)","v":0}]
[null,"Vicente de Carvalho",{"$f":"VLOOKUP(B701,UdS_agrg!D:D,2,FALSE)","v":{"$error":"#N/A"}},"Áreas com cobertura vegetal","Areas com cobertura vegetal",{"$f":"SUMIFS(UdS_data!E:E,UdS_data!B:B,C701,UdS_data!C:C,E701)","v":0}]
[null,"Vicente de Carvalho",{"$f":"VLOOKUP(B702,UdS_agrg!D:D,2,FALSE)","v":{"$error":"#N/A"}},"Áreas de comércio e serviços","reas de comrcio e servios",{"$f":"SUMIFS(UdS_data!E:E,UdS_data!B:B,C702,UdS_data!C:C,E702)","v":0}]
[null,"Vicente de Carvalho",{"$f":"VLOOKUP(B703,UdS_agrg!D:D,2,FALSE)","v":{"$error":"#N/A"}},"Áreas de educação e saúde","reas de educao e sade",{"$f":"SUMIFS(UdS_data!E:E,UdS_data!B:B,C703,UdS_data!C:C,E703)","v":0}]
[null,"Vicente de Carvalho",{"$f":"VLOOKUP(B704,UdS_agrg!D:D,2,FALSE)","v":{"$error":"#N/A"}},"Áreas de exploração mineral","reas de explorao mineral",{"$f":"SUMIFS(UdS_data!E:E,UdS_data!B:B,C704,UdS_data!C:C,E704)","v":0}]
[null,"Vicente de Carvalho",{"$f":"VLOOKUP(B705,UdS_agrg!D:D,2,FALSE)","v":{"$error":"#N/A"}},"Áreas de lazer","reas de lazer",{"$f":"SUMIFS(UdS_data!E:E,UdS_data!B:B,C705,UdS_data!C:C,E705)","v":0}]
[null,"Vicente de Carvalho",{"$f":"VLOOKUP(B706,UdS_agrg!D:D,2,FALSE)","v":{"$error":"#N/A"}},"Áreas de transportes","reas de transporte",{"$f":"SUMIFS(UdS_data!E:E,UdS_data!B:B,C706,UdS_data!C:C,E706)","v":0}]
[null,"Vicente de Carvalho",{"$f":"VLOOKUP(B707,UdS_agrg!D:D,2,FALSE)","v":{"$error":"#N/A"}},"Áreas industriais","reas industriais",{"$f":"SUMIFS(UdS_data!E:E,UdS_data!B:B,C707,UdS_data!C:C,E707)","v":0}]
[null,"Vicente de Carvalho",{"$f":"VLOOKUP(B708,UdS_agrg!D:D,2,FALSE)","v":{"$error":"#N/A"}},"Áreas institucionais e de infraestrutura pública","reas institucionais e de infraestrutura pblica",{"$f":"SUMIFS(UdS_data!E:E,UdS_data!B:B,C708,UdS_data!C:C,E708)","v":0}]
[null,"Vicente de Carvalho",{"$f":"VLOOKUP(B709,UdS_agrg!D:D,2,FALSE)","v":{"$error":"#N/A"}},"Áreas não edificadas ou subutilizadas","reas no edificadas",{"$f":"SUMIFS(UdS_data!E:E,UdS_data!B:B,C709,UdS_data!C:C,E709)","v":0}]
[null,"Vicente de Carvalho",{"$f":"VLOOKUP(B710,UdS_agrg!D:D,2,FALSE)","v":{"$error":"#N/A"}},"Áreas residenciais","reas residenciais",{"$f":"SUMIFS(UdS_data!E:E,UdS_data!B:B,C710,UdS_data!C:C,E710)","v":0}]
[null,"Vicente de Carvalho",{"$f":"VLOOKUP(B711,UdS_agrg!D:D,2,FALSE)","v":{"$error":"#N/A"}},"Áreas residenciais com atividades complementares","reas residenciais mixtas",{"$f":"SUMIFS(UdS_data!E:E,UdS_data!B:B,C711,UdS_data!C:C,E711)","v":0}]
[null,"Vicente de Carvalho",{"$f":"VLOOKUP(B712,UdS_agrg!D:D,2,FALSE)","v":{"$error":"#N/A"}},"Áreas sujeitas à inundação","reas sujeitas  inundao",{"$f":"SUMIFS(UdS_data!E:E,UdS_data!B:B,C712,UdS_data!C:C,E712)","v":0}]
[null,"Vicente de Carvalho",{"$f":"VLOOKUP(B713,UdS_agrg!D:D,2,FALSE)","v":{"$error":"#N/A"}},"Corpos hídricos","Corpos hdricos",{"$f":"SUMIFS(UdS_data!E:E,UdS_data!B:B,C713,UdS_data!C:C,E713)","v":0}]
[null,"Vicente de Carvalho",{"$f":"VLOOKUP(B714,UdS_agrg!D:D,2,FALSE)","v":{"$error":"#N/A"}},"Favela","Favela",{"$f":"SUMIFS(UdS_data!E:E,UdS_data!B:B,C714,UdS_data!C:C,E714)","v":0}]
[null,"Vicente de Carvalho",{"$f":"VLOOKUP(B715,UdS_agrg!D:D,2,FALSE)","v":{"$error":"#N/A"}},"Unidades de Conservação","Unidades de Conservao",{"$f":"SUMIFS(UdS_data!E:E,UdS_data!B:B,C715,UdS_data!C:C,E715)","v":0}]
[null,{"$f":"A$44","v":"Vila Kosmos - Nossa Senhora do Carmo"},{"$f":"VLOOKUP(B716,UdS_agrg!D:D,2,FALSE)","v":{"$error":"#N/A"}},"Afloramentos rochosos e depósitos sedimentares","Afloramentos rochosos e depsitos sedimentares",{"$f":"SUMIFS(UdS_data!E:E,UdS_data!B:B,C716,UdS_data!C:C,E716)","v":0}]
[null,{"$f":"A$44","v":"Vila Kosmos - Nossa Senhora do Carmo"},{"$f":"VLOOKUP(B717,UdS_agrg!D:D,2,FALSE)","v":{"$error":"#N/A"}},"Áreas agrícolas","reas agrcolas",{"$f":"SUMIFS(UdS_data!E:E,UdS_data!B:B,C717,UdS_data!C:C,E717)","v":0}]
[null,"Vila Kosmos - Nossa Senhora do Carmo",{"$f":"VLOOKUP(B718,UdS_agrg!D:D,2,FALSE)","v":{"$error":"#N/A"}},"Áreas com cobertura vegetal","Areas com cobertura vegetal",{"$f":"SUMIFS(UdS_data!E:E,UdS_data!B:B,C718,UdS_data!C:C,E718)","v":0}]
[null,"Vila Kosmos - Nossa Senhora do Carmo",{"$f":"VLOOKUP(B719,UdS_agrg!D:D,2,FALSE)","v":{"$error":"#N/A"}},"Áreas de comércio e serviços","reas de comrcio e servios",{"$f":"SUMIFS(UdS_data!E:E,UdS_data!B:B,C719,UdS_data!C:C,E719)","v":0}]
[null,"Vila Kosmos - Nossa Senhora do Carmo",{"$f":"VLOOKUP(B720,UdS_agrg!D:D,2,FALSE)","v":{"$error":"#N/A"}},"Áreas de educação e saúde","reas de educao e sade",{"$f":"SUMIFS(UdS_data!E:E,UdS_data!B:B,C720,UdS_data!C:C,E720)","v":0}]
[null,"Vila Kosmos - Nossa Senhora do Carmo",{"$f":"VLOOKUP(B721,UdS_agrg!D:D,2,FALSE)","v":{"$error":"#N/A"}},"Áreas de exploração mineral","reas de explorao mineral",{"$f":"SUMIFS(UdS_data!E:E,UdS_data!B:B,C721,UdS_data!C:C,E721)","v":0}]
[null,"Vila Kosmos - Nossa Senhora do Carmo",{"$f":"VLOOKUP(B722,UdS_agrg!D:D,2,FALSE)","v":{"$error":"#N/A"}},"Áreas de lazer","reas de lazer",{"$f":"SUMIFS(UdS_data!E:E,UdS_data!B:B,C722,UdS_data!C:C,E722)","v":0}]
[null,"Vila Kosmos - Nossa Senhora do Carmo",{"$f":"VLOOKUP(B723,UdS_agrg!D:D,2,FALSE)","v":{"$error":"#N/A"}},"Áreas de transportes","reas de transporte",{"$f":"SUMIFS(UdS_data!E:E,UdS_data!B:B,C723,UdS_data!C:C,E723)","v":0}]
[null,"Vila Kosmos - Nossa Senhora do Carmo",{"$f":"VLOOKUP(B724,UdS_agrg!D:D,2,FALSE)","v":{"$error":"#N/A"}},"Áreas industriais","reas industriais",{"$f":"SUMIFS(UdS_data!E:E,UdS_data!B:B,C724,UdS_data!C:C,E724)","v":0}]
[null,"Vila Kosmos - Nossa Senhora do Carmo",{"$f":"VLOOKUP(B725,UdS_agrg!D:D,2,FALSE)","v":{"$error":"#N/A"}},"Áreas institucionais e de infraestrutura pública","reas institucionais e de infraestrutura pblica",{"$f":"SUMIFS(UdS_data!E:E,UdS_data!B:B,C725,UdS_data!C:C,E725)","v":0}]
[null,"Vila Kosmos - Nossa Senhora do Carmo",{"$f":"VLOOKUP(B726,UdS_agrg!D:D,2,FALSE)","v":{"$error":"#N/A"}},"Áreas não edificadas ou subutilizadas","reas no edificadas",{"$f":"SUMIFS(UdS_data!E:E,UdS_data!B:B,C726,UdS_data!C:C,E726)","v":0}]
[null,"Vila Kosmos - Nossa Senhora do Carmo",{"$f":"VLOOKUP(B727,UdS_agrg!D:D,2,FALSE)","v":{"$error":"#N/A"}},"Áreas residenciais","reas residenciais",{"$f":"SUMIFS(UdS_data!E:E,UdS_data!B:B,C727,UdS_data!C:C,E727)","v":0}]
[null,"Vila Kosmos - Nossa Senhora do Carmo",{"$f":"VLOOKUP(B728,UdS_agrg!D:D,2,FALSE)","v":{"$error":"#N/A"}},"Áreas residenciais com atividades complementares","reas residenciais mixtas",{"$f":"SUMIFS(UdS_data!E:E,UdS_data!B:B,C728,UdS_data!C:C,E728)","v":0}]
[null,"Vila Kosmos - Nossa Senhora do Carmo",{"$f":"VLOOKUP(B729,UdS_agrg!D:D,2,FALSE)","v":{"$error":"#N/A"}},"Áreas sujeitas à inundação","reas sujeitas  inundao",{"$f":"SUMIFS(UdS_data!E:E,UdS_data!B:B,C729,UdS_data!C:C,E729)","v":0}]
[null,"Vila Kosmos - Nossa Senhora do Carmo",{"$f":"VLOOKUP(B730,UdS_agrg!D:D,2,FALSE)","v":{"$error":"#N/A"}},"Corpos hídricos","Corpos hdricos",{"$f":"SUMIFS(UdS_data!E:E,UdS_data!B:B,C730,UdS_data!C:C,E730)","v":0}]
[null,"Vila Kosmos - Nossa Senhora do Carmo",{"$f":"VLOOKUP(B731,UdS_agrg!D:D,2,FALSE)","v":{"$error":"#N/A"}},"Favela","Favela",{"$f":"SUMIFS(UdS_data!E:E,UdS_data!B:B,C731,UdS_data!C:C,E731)","v":0}]
[null,"Vila Kosmos - Nossa Senhora do Carmo",{"$f":"VLOOKUP(B732,UdS_agrg!D:D,2,FALSE)","v":{"$error":"#N/A"}},"Unidades de Conservação","Unidades de Conservao",{"$f":"SUMIFS(UdS_data!E:E,UdS_data!B:B,C732,UdS_data!C:C,E732)","v":0}]
[null,{"$f":"A$45","v":"Vila Queiroz"},{"$f":"VLOOKUP(B733,UdS_agrg!D:D,2,FALSE)","v":{"$error":"#N/A"}},"Afloramentos rochosos e depósitos sedimentares","Afloramentos rochosos e depsitos sedimentares",{"$f":"SUMIFS(UdS_data!E:E,UdS_data!B:B,C733,UdS_data!C:C,E733)","v":0}]
[null,{"$f":"A$45","v":"Vila Queiroz"},{"$f":"VLOOKUP(B734,UdS_agrg!D:D,2,FALSE)","v":{"$error":"#N/A"}},"Áreas agrícolas","reas agrcolas",{"$f":"SUMIFS(UdS_data!E:E,UdS_data!B:B,C734,UdS_data!C:C,E734)","v":0}]
[null,"Vila Queiroz",{"$f":"VLOOKUP(B735,UdS_agrg!D:D,2,FALSE)","v":{"$error":"#N/A"}},"Áreas com cobertura vegetal","Areas com cobertura vegetal",{"$f":"SUMIFS(UdS_data!E:E,UdS_data!B:B,C735,UdS_data!C:C,E735)","v":0}]
[null,"Vila Queiroz",{"$f":"VLOOKUP(B736,UdS_agrg!D:D,2,FALSE)","v":{"$error":"#N/A"}},"Áreas de comércio e serviços","reas de comrcio e servios",{"$f":"SUMIFS(UdS_data!E:E,UdS_data!B:B,C736,UdS_data!C:C,E736)","v":0}]
[null,"Vila Queiroz",{"$f":"VLOOKUP(B737,UdS_agrg!D:D,2,FALSE)","v":{"$error":"#N/A"}},"Áreas de educação e saúde","reas de educao e sade",{"$f":"SUMIFS(UdS_data!E:E,UdS_data!B:B,C737,UdS_data!C:C,E737)","v":0}]
[null,"Vila Queiroz",{"$f":"VLOOKUP(B738,UdS_agrg!D:D,2,FALSE)","v":{"$error":"#N/A"}},"Áreas de exploração mineral","reas de explorao mineral",{"$f":"SUMIFS(UdS_data!E:E,UdS_data!B:B,C738,UdS_data!C:C,E738)","v":0}]
[null,"Vila Queiroz",{"$f":"VLOOKUP(B739,UdS_agrg!D:D,2,FALSE)","v":{"$error":"#N/A"}},"Áreas de lazer","reas de lazer",{"$f":"SUMIFS(UdS_data!E:E,UdS_data!B:B,C739,UdS_data!C:C,E739)","v":0}]
[null,"Vila Queiroz",{"$f":"VLOOKUP(B740,UdS_agrg!D:D,2,FALSE)","v":{"$error":"#N/A"}},"Áreas de transportes","reas de transporte",{"$f":"SUMIFS(UdS_data!E:E,UdS_data!B:B,C740,UdS_data!C:C,E740)","v":0}]
[null,"Vila Queiroz",{"$f":"VLOOKUP(B741,UdS_agrg!D:D,2,FALSE)","v":{"$error":"#N/A"}},"Áreas industriais","reas industriais",{"$f":"SUMIFS(UdS_data!E:E,UdS_data!B:B,C741,UdS_data!C:C,E741)","v":0}]
[null,"Vila Queiroz",{"$f":"VLOOKUP(B742,UdS_agrg!D:D,2,FALSE)","v":{"$error":"#N/A"}},"Áreas institucionais e de infraestrutura pública","reas institucionais e de infraestrutura pblica",{"$f":"SUMIFS(UdS_data!E:E,UdS_data!B:B,C742,UdS_data!C:C,E742)","v":0}]
[null,"Vila Queiroz",{"$f":"VLOOKUP(B743,UdS_agrg!D:D,2,FALSE)","v":{"$error":"#N/A"}},"Áreas não edificadas ou subutilizadas","reas no edificadas",{"$f":"SUMIFS(UdS_data!E:E,UdS_data!B:B,C743,UdS_data!C:C,E743)","v":0}]
[null,"Vila Queiroz",{"$f":"VLOOKUP(B744,UdS_agrg!D:D,2,FALSE)","v":{"$error":"#N/A"}},"Áreas residenciais","reas residenciais",{"$f":"SUMIFS(UdS_data!E:E,UdS_data!B:B,C744,UdS_data!C:C,E744)","v":0}]
[null,"Vila Queiroz",{"$f":"VLOOKUP(B745,UdS_agrg!D:D,2,FALSE)","v":{"$error":"#N/A"}},"Áreas residenciais com atividades complementares","reas residenciais mixtas",{"$f":"SUMIFS(UdS_data!E:E,UdS_data!B:B,C745,UdS_data!C:C,E745)","v":0}]
[null,"Vila Queiroz",{"$f":"VLOOKUP(B746,UdS_agrg!D:D,2,FALSE)","v":{"$error":"#N/A"}},"Áreas sujeitas à inundação","reas sujeitas  inundao",{"$f":"SUMIFS(UdS_data!E:E,UdS_data!B:B,C746,UdS_data!C:C,E746)","v":0}]
[null,"Vila Queiroz",{"$f":"VLOOKUP(B747,UdS_agrg!D:D,2,FALSE)","v":{"$error":"#N/A"}},"Corpos hídricos","Corpos hdricos",{"$f":"SUMIFS(UdS_data!E:E,UdS_data!B:B,C747,UdS_data!C:C,E747)","v":0}]
[null,"Vila Queiroz",{"$f":"VLOOKUP(B748,UdS_agrg!D:D,2,FALSE)","v":{"$error":"#N/A"}},"Favela","Favela",{"$f":"SUMIFS(UdS_data!E:E,UdS_data!B:B,C748,UdS_data!C:C,E748)","v":0}]
[null,"Vila Queiroz",{"$f":"VLOOKUP(B749,UdS_agrg!D:D,2,FALSE)","v":{"$error":"#N/A"}},"Unidades de Conservação","Unidades de Conservao",{"$f":"SUMIFS(UdS_data!E:E,UdS_data!B:B,C749,UdS_data!C:C,E749)","v":0}]
[null,{"$f":"A$46","v":"Vila Sapê - IV Centenário"},{"$f":"VLOOKUP(B750,UdS_agrg!D:D,2,FALSE)","v":{"$error":"#N/A"}},"Afloramentos rochosos e depósitos sedimentares","Afloramentos rochosos e depsitos sedimentares",{"$f":"SUMIFS(UdS_data!E:E,UdS_data!B:B,C750,UdS_data!C:C,E750)","v":0}]
[null,{"$f":"A$46","v":"Vila Sapê - IV Centenário"},{"$f":"VLOOKUP(B751,UdS_agrg!D:D,2,FALSE)","v":{"$error":"#N/A"}},"Áreas agrícolas","reas agrcolas",{"$f":"SUMIFS(UdS_data!E:E,UdS_data!B:B,C751,UdS_data!C:C,E751)","v":0}]
[null,"Vila Sapê - IV Centenário",{"$f":"VLOOKUP(B752,UdS_agrg!D:D,2,FALSE)","v":{"$error":"#N/A"}},"Áreas com cobertura vegetal","Areas com cobertura vegetal",{"$f":"SUMIFS(UdS_data!E:E,UdS_data!B:B,C752,UdS_data!C:C,E752)","v":0}]
[null,"Vila Sapê - IV Centenário",{"$f":"VLOOKUP(B753,UdS_agrg!D:D,2,FALSE)","v":{"$error":"#N/A"}},"Áreas de comércio e serviços","reas de comrcio e servios",{"$f":"SUMIFS(UdS_data!E:E,UdS_data!B:B,C753,UdS_data!C:C,E753)","v":0}]
[null,"Vila Sapê - IV Centenário",{"$f":"VLOOKUP(B754,UdS_agrg!D:D,2,FALSE)","v":{"$error":"#N/A"}},"Áreas de educação e saúde","reas de educao e sade",{"$f":"SUMIFS(UdS_data!E:E,UdS_data!B:B,C754,UdS_data!C:C,E754)","v":0}]
[null,"Vila Sapê - IV Centenário",{"$f":"VLOOKUP(B755,UdS_agrg!D:D,2,FALSE)","v":{"$error":"#N/A"}},"Áreas de exploração mineral","reas de explorao mineral",{"$f":"SUMIFS(UdS_data!E:E,UdS_data!B:B,C755,UdS_data!C:C,E755)","v":0}]
[null,"Vila Sapê - IV Centenário",{"$f":"VLOOKUP(B756,UdS_agrg!D:D,2,FALSE)","v":{"$error":"#N/A"}},"Áreas de lazer","reas de lazer",{"$f":"SUMIFS(UdS_data!E:E,UdS_data!B:B,C756,UdS_data!C:C,E756)","v":0}]
[null,"Vila Sapê - IV Centenário",{"$f":"VLOOKUP(B757,UdS_agrg!D:D,2,FALSE)","v":{"$error":"#N/A"}},"Áreas de transportes","reas de transporte",{"$f":"SUMIFS(UdS_data!E:E,UdS_data!B:B,C757,UdS_data!C:C,E757)","v":0}]
[null,"Vila Sapê - IV Centenário",{"$f":"VLOOKUP(B758,UdS_agrg!D:D,2,FALSE)","v":{"$error":"#N/A"}},"Áreas industriais","reas industriais",{"$f":"SUMIFS(UdS_data!E:E,UdS_data!B:B,C758,UdS_data!C:C,E758)","v":0}]
[null,"Vila Sapê - IV Centenário",{"$f":"VLOOKUP(B759,UdS_agrg!D:D,2,FALSE)","v":{"$error":"#N/A"}},"Áreas institucionais e de infraestrutura pública","reas institucionais e de infraestrutura pblica",{"$f":"SUMIFS(UdS_data!E:E,UdS_data!B:B,C759,UdS_data!C:C,E759)","v":0}]
[null,"Vila Sapê - IV Centenário",{"$f":"VLOOKUP(B760,UdS_agrg!D:D,2,FALSE)","v":{"$error":"#N/A"}},"Áreas não edificadas ou subutilizadas","reas no edificadas",{"$f":"SUMIFS(UdS_data!E:E,UdS_data!B:B,C760,UdS_data!C:C,E760)","v":0}]
[null,"Vila Sapê - IV Centenário",{"$f":"VLOOKUP(B761,UdS_agrg!D:D,2,FALSE)","v":{"$error":"#N/A"}},"Áreas residenciais","reas residenciais",{"$f":"SUMIFS(UdS_data!E:E,UdS_data!B:B,C761,UdS_data!C:C,E761)","v":0}]
[null,"Vila Sapê - IV Centenário",{"$f":"VLOOKUP(B762,UdS_agrg!D:D,2,FALSE)","v":{"$error":"#N/A"}},"Áreas residenciais com atividades complementares","reas residenciais mixtas",{"$f":"SUMIFS(UdS_data!E:E,UdS_data!B:B,C762,UdS_data!C:C,E762)","v":0}]
[null,"Vila Sapê - IV Centenário",{"$f":"VLOOKUP(B763,UdS_agrg!D:D,2,FALSE)","v":{"$error":"#N/A"}},"Áreas sujeitas à inundação","reas sujeitas  inundao",{"$f":"SUMIFS(UdS_data!E:E,UdS_data!B:B,C763,UdS_data!C:C,E763)","v":0}]
[null,"Vila Sapê - IV Centenário",{"$f":"VLOOKUP(B764,UdS_agrg!D:D,2,FALSE)","v":{"$error":"#N/A"}},"Corpos hídricos","Corpos hdricos",{"$f":"SUMIFS(UdS_data!E:E,UdS_data!B:B,C764,UdS_data!C:C,E764)","v":0}]
[null,"Vila Sapê - IV Centenário",{"$f":"VLOOKUP(B765,UdS_agrg!D:D,2,FALSE)","v":{"$error":"#N/A"}},"Favela","Favela",{"$f":"SUMIFS(UdS_data!E:E,UdS_data!B:B,C765,UdS_data!C:C,E765)","v":0}]
[null,"Vila Sapê - IV Centenário",{"$f":"VLOOKUP(B766,UdS_agrg!D:D,2,FALSE)","v":{"$error":"#N/A"}},"Unidades de Conservação","Unidades de Conservao",{"$f":"SUMIFS(UdS_data!E:E,UdS_data!B:B,C766,UdS_data!C:C,E766)","v":0}]

{"sheet":"SEE_data","index":14,"n_rows":6,"n_cols":55,"rows_kept":6,"cut":false,"hidden":false,"merged":[]}
["Base de Dados no nível de Setores Censitários"]
["Abaixo se encontra um extrato de base de dados  do Piloto de BRT TransCarioca para exemplo."]
["ID Estação","Nome Estação","Corredor","SEE cod.","ar_km2","ar_int_km2","ratio","bd_B_V2","bd_E1_V1","bd_E1_V20","bd_E1_V22","bd_E1_V24","bd_E1_V8","bd_E1_V10","bd_E1_V12","bd_E1_V44","bd_E1_V46","bd_E1_V48","bd_D1_V2","bd_D1_V12","bd_D1_V17","bd_PR_V67","bd_PR_V68","bd_PR_V69","bd_PR_V70","bd_PR_V71","bd_PR_V72","bd_PR_V73","bd_PR_V74","bd_PR_V75","bd_PR_V87","rt_B_V2","rt_E1_V1","rt_E1_V20","rt_E1_V22","rt_E1_V24","rt_E1_V8","rt_E1_V10","rt_E1_V12","rt_E1_V44","rt_E1_V46","rt_E1_V48","rt_D1_V2","rt_D1_V12","rt_D1_V17","rt_PR_V67","rt_PR_V68","rt_PR_V69","rt_PR_V70","rt_PR_V71","rt_PR_V72","rt_PR_V73","rt_PR_V74","rt_PR_V75","rt_PR_V87"]
[1,"Parque Vitria","TransBrasil",330455705060001,1800251.2797900001,23844.97998,1.325E-2,791,264,118,61,1,10,1,0,30,1,4,264,264,264,2,192,215,36,17,8,1,0,0,471,{"$f":"H4*$G4","v":10.48075},{"$f":"I4*$G4","v":3.4979999999999998},1.5634999999999999,0.80825000000000002,1.325E-2,0.13250000000000001,1.325E-2,0,0.39749999999999996,1.325E-2,{"$f":"R4*$G4","v":5.2999999999999999E-2},3.4979999999999998,3.4979999999999998,3.4979999999999998,2.6499999999999999E-2,2.544,2.8487499999999999,0.47699999999999998,0.22525000000000001,0.106,{"$f":"AB4*$G4","v":1.325E-2},0,0,{"$f":"AE4*$G4","v":6.2407500000000002}]
[2,"So Francisco","TransBrasil",330455705060009,744043.85889000003,247581.22899999999,0.33274999999999999,615,205,14,7,0,0,0,0,8,4,0,205,205,205,2,71,127,53,65,33,1,3,1,356,204.64124999999999,68.213750000000005,4.6585000000000001,2.32925,0,0,0,0,2.6619999999999999,1.331,0,68.213750000000005,68.213750000000005,68.213750000000005,0.66549999999999998,23.625249999999998,42.259250000000002,17.635749999999998,21.62875,10.98075,0.33274999999999999,0.99824999999999997,0.33274999999999999,{"$f":"AE5*$G5","v":118.459}]
[1,"Parque Vitria","TransBrasil",330455705060013,13315.994140000001,1134.2910199999999,8.5180000000000006E-2,920,286,0,0,0,0,0,0,0,0,0,286,286,286,7,268,132,25,9,2,0,0,0,443,78.365600000000001,24.36148,0,0,0,0,0,0,0,0,0,24.36148,24.36148,24.36148,0.59626000000000001,22.828240000000001,11.24376,2.1295000000000002,0.76662000000000008,0.17036000000000001,0,0,0,{"$f":"AE6*$G6","v":37.734740000000002}]

{"sheet":"QD_data","index":15,"n_rows":5,"n_cols":6,"rows_kept":5,"cut":false,"hidden":false,"merged":[]}
["Base de Dados no nível de Quadras"]
["Abaixo se encontra um extrato de base de dados  do Piloto de BRT TransCarioca para exemplo."]
["ID Estação","Nome Estação","Quadra cod.","ar_km2","ar_int_km2","ratio"]
[3,"Vila Sapê - IV Centenário","285D17241",3764.6538099999998,3764.6538099999998,1]
[3,"Vila Sapê - IV Centenário","286C19742",18400.294430000002,18352.07861,0.99738000000000004]

{"sheet":"UdS_data","index":16,"n_rows":110,"n_cols":16,"rows_kept":110,"cut":false,"hidden":false,"merged":[]}
["Base de Dados no nível de Uso do Solo"]
["Abaixo se encontra um extrato de base de dados  do Piloto de BRT TransCarioca para exemplo."]
["ID Estação","Nome Estação","Uso do Solo","ar_uso_km2","% Uso","Uso Compatível","% Uso (só Compatíveis)",null,"Uso do Solo Incompatível",null,null,null,"Criterio",0]
[1,"Aeroporto de Jacarepagu","Áreas de transporte",136053.39464280859,{"$f":"D4/SUMIFS(D:D,B:B,B4)","v":0.92356256288895311},{"$f":"IF(ISNUMBER(MATCH(C4,$I$4:$I$10,FALSE)),0,1)","v":1},{"$f":"E4*F4","v":0.92356256288895311},null,"Afloramentos rochosos e depósitos sedimentares"]
[1,"Aeroporto de Jacarepagu","Áreas institucionais e de infraestrutura pública",11260.279719679969,7.643743711104696E-2,1,{"$f":"E5*F5","v":7.643743711104696E-2},null,"Áreas com cobertura vegetal",null,null,null,"Soma de % Uso","Rótulos de Coluna"]
[null,null,null,null,{"$error":"#DIV/0!"},1,{"$error":"#DIV/0!"},null,"Áreas de conservação",null,null,null,"Rótulos de Linha",0,1,"Total Geral"]
[null,null,null,null,{"$error":"#DIV/0!"},1,{"$error":"#DIV/0!"},null,"Áreas sujeitas à inundação",null,null,null,"TransBrasil",0.65738023568018944,0.34261976431981056,1]
[null,null,null,null,{"$error":"#DIV/0!"},1,{"$error":"#DIV/0!"},null,"Áreas de exploração mineral",null,null,null,"Terminal Margaridas",0.65738023568018944,0.34261976431981056,1]
[null,null,null,null,{"$error":"#DIV/0!"},1,{"$error":"#DIV/0!"},null,"Áreas agrícolas",null,null,null,"Areas com cobertura vegetal",null,0.32534015498280788,0.32534015498280788]
[null,null,null,null,{"$error":"#DIV/0!"},1,{"$error":"#DIV/0!"},null,"Corpos hídricos",null,null,null,"Corpos hdricos",null,1.7279609337002705E-2,1.7279609337002705E-2]
[null,null,null,null,{"$error":"#DIV/0!"},1,{"$error":"#DIV/0!"},null,null,null,null,null,"reas de comrcio e servios",5.8746321344229635E-3,null,5.8746321344229635E-3]
[null,null,null,null,{"$error":"#DIV/0!"},1,{"$error":"#DIV/0!"},null,"Uso Misto",null,null,null,"reas industriais",2.5245885864679473E-2,null,2.5245885864679473E-2]
[null,null,null,null,{"$error":"#DIV/0!"},1,{"$error":"#DIV/0!"},null,"Áreas Residenciais com Atividades Complementares",null,null,null,"reas institucionais e de infraestrutura pblica",0.11013365479613672,null,0.11013365479613672]
[null,null,null,null,{"$error":"#DIV/0!"},1,{"$error":"#DIV/0!"},null,null,null,null,null,"reas residenciais",0.51612606288495022,null,0.51612606288495022]
[null,null,null,null,{"$error":"#DIV/0!"},1,{"$error":"#DIV/0!"},null,"Área Subutilizada",null,null,null,"TransCarioca",0.69032714861709188,0.30967285138290823,1]
[null,null,null,null,{"$error":"#DIV/0!"},1,{"$error":"#DIV/0!"},null,"Área não edificada ou subutilizada",null,null,null,"Rio II",0.69032714861709188,0.30967285138290823,1]
[null,null,null,null,{"$error":"#DIV/0!"},1,{"$error":"#DIV/0!"},null,null,null,null,null,"Areas com cobertura vegetal",null,7.6460063390618532E-2,7.6460063390618532E-2]
[null,null,null,null,{"$error":"#DIV/0!"},1,{"$error":"#DIV/0!"},null,null,null,null,null,"Corpos hdricos",null,0.23321278799228973,0.23321278799228973]
[null,null,null,null,{"$error":"#DIV/0!"},1,{"$error":"#DIV/0!"},null,null,null,null,null,"reas de comrcio e servios",4.8588456074927469E-2,null,4.8588456074927469E-2]
[null,null,null,null,{"$error":"#DIV/0!"},1,{"$error":"#DIV/0!"},null,null,null,null,null,"reas de lazer",8.7251087211073761E-2,null,8.7251087211073761E-2]
[null,null,null,null,{"$error":"#DIV/0!"},1,{"$error":"#DIV/0!"},null,null,null,null,null,"reas de transporte",0.10196310617439301,null,0.10196310617439301]
[null,null,null,null,{"$error":"#DIV/0!"},1,{"$error":"#DIV/0!"},null,null,null,null,null,"reas no edificadas",6.2770828720014521E-2,null,6.2770828720014521E-2]
[null,null,null,null,{"$error":"#DIV/0!"},1,{"$error":"#DIV/0!"},null,null,null,null,null,"reas residenciais",0.38975367043668302,null,0.38975367043668302]
[null,null,null,null,{"$error":"#DIV/0!"},1,{"$error":"#DIV/0!"},null,null,null,null,null,"TransOeste",5.2455343873873401,2.7544656126126599,8.0000000000000018]
[null,null,null,null,{"$error":"#DIV/0!"},1,{"$error":"#DIV/0!"},null,null,null,null,null,"Ilha de Guaratiba",0.66760472665816328,0.33239527334183661,0.99999999999999978]
[null,null,null,null,{"$error":"#DIV/0!"},1,{"$error":"#DIV/0!"},null,null,null,null,null,"Areas com cobertura vegetal",null,0.25173501814748001,0.25173501814748001]
[null,null,null,null,{"$error":"#DIV/0!"},1,{"$error":"#DIV/0!"},null,null,null,null,null,"Areas de conservacao",null,5.7750869187802145E-2,5.7750869187802145E-2]
[null,null,null,null,{"$error":"#DIV/0!"},1,{"$error":"#DIV/0!"},null,null,null,null,null,"Favela",0.11584301847796979,null,0.11584301847796979]
[null,null,null,null,{"$error":"#DIV/0!"},1,{"$error":"#DIV/0!"},null,null,null,null,null,"reas agrcolas",null,2.2909386006554466E-2,2.2909386006554466E-2]
[null,null,null,null,{"$error":"#DIV/0!"},1,{"$error":"#DIV/0!"},null,null,null,null,null,"reas no edificadas",7.572160397182498E-2,null,7.572160397182498E-2]
[null,null,null,null,{"$error":"#DIV/0!"},1,{"$error":"#DIV/0!"},null,null,null,null,null,"reas residenciais",0.47604010420836845,null,0.47604010420836845]
[null,null,null,null,{"$error":"#DIV/0!"},1,{"$error":"#DIV/0!"},null,null,null,null,null,"Inhoaba",0.66786142844029595,0.33213857155970422,1]
[null,null,null,null,{"$error":"#DIV/0!"},1,{"$error":"#DIV/0!"},null,null,null,null,null,"Areas com cobertura vegetal",null,0.33213857155970422,0.33213857155970422]
[null,null,null,null,{"$error":"#DIV/0!"},1,{"$error":"#DIV/0!"},null,null,null,null,null,"Favela",5.8844299129253992E-2,null,5.8844299129253992E-2]
[null,null,null,null,{"$error":"#DIV/0!"},1,{"$error":"#DIV/0!"},null,null,null,null,null,"reas de educao e sade",7.1175520634687017E-2,null,7.1175520634687017E-2]
[null,null,null,null,{"$f":"D36/SUMIFS(D:D,B:B,B36)","v":{"$error":"#DIV/0!"}},{"$f":"IF(ISNUMBER(MATCH(C36,$I$4:$I$10,FALSE)),0,1)","v":1},{"$error":"#DIV/0!"},null,null,null,null,null,"reas de lazer",3.6647173857807323E-2,null,3.6647173857807323E-2]
[null,null,null,null,{"$error":"#DIV/0!"},1,{"$error":"#DIV/0!"},null,null,null,null,null,"reas institucionais e de infraestrutura pblica",2.2708107143564735E-2,null,2.2708107143564735E-2]
[null,null,null,null,{"$error":"#DIV/0!"},1,{"$error":"#DIV/0!"},null,null,null,null,null,"reas no edificadas",0.114883957238021,null,0.114883957238021]
[null,null,null,null,{"$error":"#DIV/0!"},1,{"$error":"#DIV/0!"},null,null,null,null,null,"reas residenciais",0.36360237043696181,null,0.36360237043696181]
[null,null,null,null,{"$error":"#DIV/0!"},1,{"$error":"#DIV/0!"},null,null,null,null,null,"Largo do Corra",0.66053173223687223,0.33946826776312788,1.0000000000000002]
[null,null,null,null,{"$error":"#DIV/0!"},1,{"$error":"#DIV/0!"},null,null,null,null,null,"Areas com cobertura vegetal",null,0.32839519970154074,0.32839519970154074]
[null,null,null,null,{"$error":"#DIV/0!"},1,{"$error":"#DIV/0!"},null,null,null,null,null,"Favela",0.37843951233287343,null,0.37843951233287343]
[null,null,null,null,{"$error":"#DIV/0!"},1,{"$error":"#DIV/0!"},null,null,null,null,null,"reas de explorao mineral",null,1.1073068061587163E-2,1.1073068061587163E-2]
[null,null,null,null,{"$error":"#DIV/0!"},1,{"$error":"#DIV/0!"},null,null,null,null,null,"reas de lazer",0.12393188991750312,null,0.12393188991750312]
[null,null,null,null,{"$error":"#DIV/0!"},1,{"$error":"#DIV/0!"},null,null,null,null,null,"reas institucionais e de infraestrutura pblica",9.480254957578085E-3,null,9.480254957578085E-3]
[null,null,null,null,{"$error":"#DIV/0!"},1,{"$error":"#DIV/0!"},null,null,null,null,null,"reas no edificadas",6.2577964654797216E-2,null,6.2577964654797216E-2]
[null,null,null,null,{"$error":"#DIV/0!"},1,{"$error":"#DIV/0!"},null,null,null,null,null,"reas residenciais",8.6102110374120328E-2,null,8.6102110374120328E-2]
[null,null,null,null,{"$error":"#DIV/0!"},1,{"$error":"#DIV/0!"},null,null,null,null,null,"Pingo D'gua",0.63986292531610389,0.36013707468389605,1]
[null,null,null,null,{"$error":"#DIV/0!"},1,{"$error":"#DIV/0!"},null,null,null,null,null,"Areas com cobertura vegetal",null,0.36013707468389605,0.36013707468389605]
[null,null,null,null,{"$error":"#DIV/0!"},1,{"$error":"#DIV/0!"},null,null,null,null,null,"Favela",4.1591049204845031E-3,null,4.1591049204845031E-3]
[null,null,null,null,{"$error":"#DIV/0!"},1,{"$error":"#DIV/0!"},null,null,null,null,null,"reas de comrcio e servios",4.0464476703241027E-2,null,4.0464476703241027E-2]
[null,null,null,null,{"$error":"#DIV/0!"},1,{"$error":"#DIV/0!"},null,null,null,null,null,"reas de lazer",0.17310329855733728,null,0.17310329855733728]
[null,null,null,null,{"$error":"#DIV/0!"},1,{"$error":"#DIV/0!"},null,null,null,null,null,"reas no edificadas",0.14124514584469944,null,0.14124514584469944]
[null,null,null,null,{"$error":"#DIV/0!"},1,{"$error":"#DIV/0!"},null,null,null,null,null,"reas residenciais",0.28089089929034167,null,0.28089089929034167]
[null,null,null,null,{"$error":"#DIV/0!"},1,{"$error":"#DIV/0!"},null,null,null,null,null,"Pontal",0.65070438179602685,0.34929561820397298,1]
[null,null,null,null,{"$error":"#DIV/0!"},1,{"$error":"#DIV/0!"},null,null,null,null,null,"Areas com cobertura vegetal",null,0.33281967871883755,0.33281967871883755]
[null,null,null,null,{"$error":"#DIV/0!"},1,{"$error":"#DIV/0!"},null,null,null,null,null,"Favela",1.5693039138564447E-2,null,1.5693039138564447E-2]
[null,null,null,null,{"$error":"#DIV/0!"},1,{"$error":"#DIV/0!"},null,null,null,null,null,"reas de comrcio e servios",0.16979225319092756,null,0.16979225319092756]
[null,null,null,null,{"$error":"#DIV/0!"},1,{"$error":"#DIV/0!"},null,null,null,null,null,"reas de lazer",1.4531646010859397E-2,null,1.4531646010859397E-2]
[null,null,null,null,{"$error":"#DIV/0!"},1,{"$error":"#DIV/0!"},null,null,null,null,null,"reas no edificadas",0.24448236326594153,null,0.24448236326594153]
[null,null,null,null,{"$error":"#DIV/0!"},1,{"$error":"#DIV/0!"},null,null,null,null,null,"reas residenciais",0.20620508018973391,null,0.20620508018973391]
[null,null,null,null,{"$error":"#DIV/0!"},1,{"$error":"#DIV/0!"},null,null,null,null,null,"reas sujeitas  inundao",null,1.6475939485135444E-2,1.6475939485135444E-2]
[null,null,null,null,{"$error":"#DIV/0!"},1,{"$error":"#DIV/0!"},null,null,null,null,null,"Recanto das Garas",0.63476459347489556,0.36523540652510439,1]
[null,null,null,null,{"$error":"#DIV/0!"},1,{"$error":"#DIV/0!"},null,null,null,null,null,"Areas com cobertura vegetal",null,3.3092067171884482E-2,3.3092067171884482E-2]
[null,null,null,null,{"$error":"#DIV/0!"},1,{"$error":"#DIV/0!"},null,null,null,null,null,"Corpos hdricos",null,7.8985163493900085E-2,7.8985163493900085E-2]
[null,null,null,null,{"$error":"#DIV/0!"},1,{"$error":"#DIV/0!"},null,null,null,null,null,"Favela",5.5144827732998697E-3,null,5.5144827732998697E-3]
[null,null,null,null,{"$error":"#DIV/0!"},1,{"$error":"#DIV/0!"},null,null,null,null,null,"reas de comrcio e servios",1.0333534478199298E-2,null,1.0333534478199298E-2]
[null,null,null,null,{"$f":"D68/SUMIFS(D:D,B:B,B68)","v":{"$error":"#DIV/0!"}},{"$f":"IF(ISNUMBER(MATCH(C68,$I$4:$I$10,FALSE)),0,1)","v":1},{"$error":"#DIV/0!"},null,null,null,null,null,"reas institucionais e de infraestrutura pblica",3.9691000593391878E-3,null,3.9691000593391878E-3]
[null,null,null,null,{"$error":"#DIV/0!"},1,{"$f":"E69*F69","v":{"$error":"#DIV/0!"}},null,null,null,null,null,"reas no edificadas",0.1297703328187815,null,0.1297703328187815]
[null,null,null,null,{"$error":"#DIV/0!"},1,{"$error":"#DIV/0!"},null,null,null,null,null,"reas residenciais",0.48517714334527573,null,0.48517714334527573]
[null,null,null,null,{"$error":"#DIV/0!"},1,{"$error":"#DIV/0!"},null,null,null,null,null,"reas sujeitas  inundao",null,0.25315817585931982,0.25315817585931982]
[null,null,null,null,{"$error":"#DIV/0!"},1,{"$error":"#DIV/0!"},null,null,null,null,null,"Vendas de Varanda",0.63110355978143207,0.36889644021856799,1]
[null,null,null,null,{"$error":"#DIV/0!"},1,{"$error":"#DIV/0!"},null,null,null,null,null,"Areas com cobertura vegetal",null,0.36880606029254798,0.36880606029254798]
[null,null,null,null,{"$error":"#DIV/0!"},1,{"$error":"#DIV/0!"},null,null,null,null,null,"reas agrcolas",null,9.0379926020029601E-5,9.0379926020029601E-5]
[null,null,null,null,{"$error":"#DIV/0!"},1,{"$error":"#DIV/0!"},null,null,null,null,null,"reas de lazer",6.9144739299276323E-2,null,6.9144739299276323E-2]
[null,null,null,null,{"$error":"#DIV/0!"},1,{"$error":"#DIV/0!"},null,null,null,null,null,"reas industriais",0.11530402264702257,null,0.11530402264702257]
[null,null,null,null,{"$error":"#DIV/0!"},1,{"$error":"#DIV/0!"},null,null,null,null,null,"reas no edificadas",0.10397334636108294,null,0.10397334636108294]
[null,null,null,null,{"$error":"#DIV/0!"},1,{"$error":"#DIV/0!"},null,null,null,null,null,"reas residenciais",0.34268145147405021,null,0.34268145147405021]
[null,null,null,null,{"$error":"#DIV/0!"},1,{"$error":"#DIV/0!"},null,null,null,null,null,"Vila Pacincia",0.69310103968355063,0.30689896031644931,0.99999999999999989]
[null,null,null,null,{"$error":"#DIV/0!"},1,{"$error":"#DIV/0!"},null,null,null,null,null,"Areas com cobertura vegetal",null,0.2227752781531174,0.2227752781531174]
[null,null,null,null,{"$error":"#DIV/0!"},1,{"$error":"#DIV/0!"},null,null,null,null,null,"Favela",2.6040269007941878E-2,null,2.6040269007941878E-2]
[null,null,null,null,{"$error":"#DIV/0!"},1,{"$error":"#DIV/0!"},null,null,null,null,null,"reas de educao e sade",6.0523391740004998E-2,null,6.0523391740004998E-2]
[null,null,null,null,{"$error":"#DIV/0!"},1,{"$error":"#DIV/0!"},null,null,null,null,null,"reas de lazer",6.1220782330577948E-3,null,6.1220782330577948E-3]
[null,null,null,null,{"$error":"#DIV/0!"},1,{"$error":"#DIV/0!"},null,null,null,null,null,"reas industriais",1.2006360657826386E-2,null,1.2006360657826386E-2]
[null,null,null,null,{"$error":"#DIV/0!"},1,{"$error":"#DIV/0!"},null,null,null,null,null,"reas no edificadas",1.531424327856459E-2,null,1.531424327856459E-2]
[null,null,null,null,{"$error":"#DIV/0!"},1,{"$error":"#DIV/0!"},null,null,null,null,null,"reas residenciais",0.57309469676615499,null,0.57309469676615499]
[null,null,null,null,{"$error":"#DIV/0!"},1,{"$error":"#DIV/0!"},null,null,null,null,null,"reas sujeitas  inundao",null,8.4123682163331909E-2,8.4123682163331909E-2]
[null,null,null,null,{"$error":"#DIV/0!"},1,{"$error":"#DIV/0!"},null,null,null,null,null,"TransOlmpica",2.0262681201370016,0.97373187986299881,3.0000000000000004]
[null,null,null,null,{"$error":"#DIV/0!"},1,{"$error":"#DIV/0!"},null,null,null,null,null,"Colonia Juliano Moreira",0.63880044941501168,0.36119955058498837,1]
[null,null,null,null,{"$error":"#DIV/0!"},1,{"$error":"#DIV/0!"},null,null,null,null,null,"Afloramentos rochosos e depsitos sedimentares",null,1.0103967027979596E-2,1.0103967027979596E-2]
[null,null,null,null,{"$error":"#DIV/0!"},1,{"$error":"#DIV/0!"},null,null,null,null,null,"Areas com cobertura vegetal",null,0.33103990568922786,0.33103990568922786]
[null,null,null,null,{"$error":"#DIV/0!"},1,{"$error":"#DIV/0!"},null,null,null,null,null,"Favela",4.8554468619483307E-3,null,4.8554468619483307E-3]
[null,null,null,null,{"$error":"#DIV/0!"},1,{"$error":"#DIV/0!"},null,null,null,null,null,"reas agrcolas",null,2.00556778677809E-2,2.00556778677809E-2]
[null,null,null,null,{"$error":"#DIV/0!"},1,{"$error":"#DIV/0!"},null,null,null,null,null,"reas de lazer",3.4057989198637059E-3,null,3.4057989198637059E-3]
[null,null,null,null,{"$error":"#DIV/0!"},1,{"$error":"#DIV/0!"},null,null,null,null,null,"reas industriais",2.7107515227472966E-2,null,2.7107515227472966E-2]
[null,null,null,null,{"$error":"#DIV/0!"},1,{"$error":"#DIV/0!"},null,null,null,null,null,"reas no edificadas",5.306203103166908E-3,null,5.306203103166908E-3]
[null,null,null,null,{"$error":"#DIV/0!"},1,{"$error":"#DIV/0!"},null,null,null,null,null,"reas residenciais",0.59812548530255982,null,0.59812548530255982]
[null,null,null,null,{"$error":"#DIV/0!"},1,{"$error":"#DIV/0!"},null,null,null,null,null,"Estaao 4",0.69324894018046312,0.30675105981953715,1.0000000000000002]
[null,null,null,null,{"$error":"#DIV/0!"},1,{"$error":"#DIV/0!"},null,null,null,null,null,"Areas com cobertura vegetal",null,0.17749904533353222,0.17749904533353222]
[null,null,null,null,{"$f":"D100/SUMIFS(D:D,B:B,B100)","v":{"$error":"#DIV/0!"}},{"$f":"IF(ISNUMBER(MATCH(C100,$I$4:$I$10,FALSE)),0,1)","v":1},{"$error":"#DIV/0!"},null,null,null,null,null,"Favela",9.6500229077563171E-2,null,9.6500229077563171E-2]
[null,null,null,null,{"$error":"#DIV/0!"},1,{"$error":"#DIV/0!"},null,null,null,null,null,"reas no edificadas",0.24870901371764081,null,0.24870901371764081]
[null,null,null,null,{"$error":"#DIV/0!"},1,{"$error":"#DIV/0!"},null,null,null,null,null,"reas residenciais",0.34803969738525914,null,0.34803969738525914]
[null,null,null,null,{"$error":"#DIV/0!"},1,{"$error":"#DIV/0!"},null,null,null,null,null,"reas sujeitas  inundao",null,0.12925201448600493,0.12925201448600493]
[null,null,null,null,{"$error":"#DIV/0!"},1,{"$error":"#DIV/0!"},null,null,null,null,null,"RioCentro",0.69421873054152694,0.30578126945847312,0.99999999999999989]
[null,null,null,null,{"$error":"#DIV/0!"},1,{"$error":"#DIV/0!"},null,null,null,null,null,"Areas com cobertura vegetal",null,2.9059766039614035E-2,2.9059766039614035E-2]
[null,null,null,null,{"$error":"#DIV/0!"},1,{"$error":"#DIV/0!"},null,null,null,null,null,"Corpos hdricos",null,0.27672150341885909,0.27672150341885909]
[null,null,null,null,{"$error":"#DIV/0!"},1,{"$error":"#DIV/0!"},null,null,null,null,null,"reas de lazer",0.45387550103349017,null,0.45387550103349017]
[null,null,null,null,{"$error":"#DIV/0!"},1,{"$error":"#DIV/0!"},null,null,null,null,null,"reas no edificadas",0.14320038405441787,null,0.14320038405441787]
[null,null,null,null,{"$error":"#DIV/0!"},1,{"$error":"#DIV/0!"},null,null,null,null,null,"reas residenciais",9.714284545361887E-2,null,9.714284545361887E-2]
[null,null,null,null,{"$error":"#DIV/0!"},1,{"$error":"#DIV/0!"},null,null,null,null,null,"Total Geral",8.6195098918216235,4.3804901081783765,12.999999999999998]

{"sheet":"SEE_IBGE_fonte","index":17,"n_rows":33,"n_cols":4,"rows_kept":33,"cut":false,"hidden":false,"merged":[[19,0,20,0],[19,1,22,1],[21,0,22,0],[23,0,32,0],[23,1,32,1],[4,0,5,0],[4,1,4,2],[4,3,5,3],[7,0,10,0],[7,1,18,1],[11,0,14,0],[15,0,18,0]]}
["Tabela de Referência das Variáveis Utilizadas a nível de Setor Censitário do Censo Demográfico do IBGE"]
["Base de Dados do IBGE (Estatísticas):","http://downloads.ibge.gov.br/downloads_estatisticas.htm"]
["Base Cartográfica Vetorial (Geociências):","http://downloads.ibge.gov.br/downloads_geociencias.htm"]
[]
["Variável metodologia","Referência na base de dados",null,"Descrição da variável na base de dados"]
[null,"Planilha","Variável"]
["Densidade demográfica","Basico","V002","Moradores em domicílios particulares permanentes ou população residente em domicílios particulares permanentes "]
["Percentual de domicílios com calçadas no entorno","Entorno01","V020","Domicílios particulares permanentes próprios – Existe calçada"]
[null,null,"V022","Domicílios particulares permanentes alugados – Existe calçada"]
[null,null,"V024","Domicílios particulares permanentes cedidos – Existe calçada"]
[null,null,"V001","Domicílios particulares permanentes"]
["Percentual de domicílios com iluminação pública no entorno",null,"V008","Domicílios particulares permanentes próprios – Existe iluminação pública"]
[null,null,"V010","Domicílios particulares permanentes alugados – Existe iluminação pública"]
[null,null,"V012","Domicílios particulares permanentes cedidos – Existe iluminação pública"]
[null,null,"V001","Domicílios particulares permanentes"]
["Percentual de domicílios com arborização no entorno ",null,"V044","Domicílios particulares permanentes próprios - Existe arborização"]
[null,null,"V046","Domicílios particulares permanentes alugados – Existe arborização"]
[null,null,"V048","Domicílios particulares permanentes cedidos – Existe arborização"]
[null,null,"V001","Domicílios particulares permanentes"]
["Percentual de domicílios ligados a rede geral de abastecimento de água","Domicilio01","V012","Domicílios particulares permanentes com abastecimento de água da rede geral "]
[null,null,"V002","Domicílios particulares permanentes"]
["Percentual de domicílios ligados a rede geral de coleta de esgoto",null,"V017","Domicílios particulares permanentes com banheiro de uso exclusivo dos moradores ou sanitário e esgotamento sanitário via rede geral de esgoto ou pluvial"]
[null,null,"V002","Domicílios particulares permanentes"]
["Distribuição de renda das pessoas residentes na área de estação","PessoaRenda","V067","Pessoas de 10 anos ou mais de idade moradoras em domicílios particulares permanentes com rendimento nominal mensal de até 1/2 salário mínimo "]
[null,null,"V068","Pessoas de 10 anos ou mais de idade moradoras em domicílios particulares permanentes com rendimento nominal mensal de mais de 1/2 a 1 salário mínimo "]
[null,null,"V069","Pessoas de 10 anos ou mais de idade moradoras em domicílios particulares permanentes com rendimento nominal mensal de mais de 1 a 2 salários mínimos "]
[null,null,"V070","Pessoas de 10 anos ou mais de idade moradoras em domicílios particulares permanentes com rendimento nominal mensal de mais de 2 a 3 salários mínimos "]
[null,null,"V071","Pessoas de 10 anos ou mais de idade moradoras em domicílios particulares permanentes com rendimento nominal mensal de mais de 3 a 5 salários mínimos "]
[null,null,"V072","Pessoas de 10 anos ou mais de idade moradoras em domicílios particulares permanentes com rendimento nominal mensal de mais de 5 a 10 salários mínimos "]
[null,null,"V073","Pessoas respode 10 anos ou mais de idade moradoras em domicílios particulares permanentes com rendimento nominal mensal de mais de 10 a 15 salários mínimos "]
[null,null,"V074","Pessoas de 10 anos ou mais de idade moradoras em domicílios particulares permanentes com rendimento nominal mensal de mais de 15 a 20 salários mínimos "]
[null,null,"V075","Pessoas de 10 anos ou mais de idade moradoras em domicílios particulares permanentes com rendimento nominal mensal de mais de 20 salários mínimos "]
[null,null,"V087","Pessoas de 10 anos ou mais de idade moradoras em domicílios particulares permanentes com rendimento positivo "]